{"text_format":"1","workbook":"xlsx","n_sheets":4,"sheets":["Component calculations","side work","Prob.","Changes"],"not_rendered":{"charts":0,"images":0,"macros":0,"external_links":2,"defined_names":0,"comments":0,"pivot_tables":0},"unopened":[],"bounds":{"document_bytes":16777216,"sheet_cells":100000,"rows_first":2000,"rows_last":500,"rows_between":2000,"halvings":0,"cell_chars":16384,"cell_head_chars":4096},"cells_cut":0,"cells_raw":0,"read":"whole","date_system":"1900"}

{"sheet":"Component calculations","index":0,"n_rows":63,"n_cols":21,"rows_kept":63,"cut":false,"hidden":false,"merged":[[62,17,62,18]]}
["Sr. #","Component","Numbers","Type(s) of failure","Leak pressure (psig)","Leak temperature (K)","Area (in2)","Diameter squared (in^2)","Flow density (lb/ft3)","Flow rate (lb/hr)","Flow rate SCFM (R')","Flow rate for further calcs (R') scfm","Total ventilation rate (Q) (cfm)","Oxygen concentration - perfect mixing, fan blowing fresh air in, at steady state (%)","Fatality factor (FFvent,i)","FFi [higher filter]","Probability of failure/hr (Pi)","Pvent,i","Pno_vent,i","ODH Fatality Rate with ventilation FR  (1/hr)","ODH Fatality rate with no ventilation [FR] (1/hr)"]
[1,"ODH fan",1,"      (i)            Failure to start on signal (interlock).","_","_","_","_","_"]
[null,null,1,"    (ii)            Start on demand but fails while running.","_","_","_","_","_"]
[2,"ODH fan interlock",1,"      (i)            Failure on demand","_","_","_","_","_"]
[3,"Cryogenic line C NPS ½” Sch 10",3,"      (i)            Small leak, 10mm2.",36.75,5,1.55E-2,{"$f":"G5*4/PI()","v":1.9735212943395024E-2},{"$f":"[1]!hecalc(3,0,1,((E5+14.7)*101325/14.7),2,F5,1)/16.0185","v":7.5886022008420166},{"$f":"1891*H5*1*SQRT(E5*I5)","v":623.22219425329206},{"$f":"((J5/I5)/60)*((E5+15)/15)*(300/F5)","v":283.33499546665985},{"$f":"IF(K5>'side work'!$I$11,'side work'!$I$11,K5)","v":283.33499546665985},4000,{"$f":"0.21*M5*100/(M5+L5)","v":19.610887331694304},{"$f":"10^(6.5-0.76*N5)","v":3.942081764293955E-9},{"$f":"IF(O5>1,1,O5)","v":3.942081764293955E-9},4.9999999999999998E-7,{"$f":"1-S5","v":0.99683502160000004},{"$f":"Prob.!$E$12","v":3.1649783999999999E-3},{"$f":"R5*C5*Q5*P5","v":5.8944077409883961E-15},{"$f":"1*Q5*S5*C5","v":4.7474675999999996E-9}]
[null,null,15,"    (ii)            Small leak weld failure",36.75,5,1.55E-2,{"$f":"G6*4/PI()","v":1.9735212943395024E-2},{"$f":"[1]!hecalc(3,0,1,((E6+14.7)*101325/14.7),2,F6,1)/16.0185","v":7.5886022008420166},{"$f":"1891*H6*1*SQRT(E6*I6)","v":623.22219425329206},{"$f":"((J6/I6)/60)*((E6+15)/15)*(300/F6)","v":283.33499546665985},{"$f":"IF(K6>'side work'!$I$11,'side work'!$I$11,K6)","v":283.33499546665985},{"$f":"M5","v":4000},{"$f":"0.21*M6*100/(M6+L6)","v":19.610887331694304},{"$f":"10^(6.5-0.76*N6)","v":3.942081764293955E-9},{"$f":"IF(O6>1,1,O6)","v":3.942081764293955E-9},{"$f":"0.00000000002*(0.84/0.083)","v":2.0240963855421684E-10},{"$f":"1-S6","v":0.99683502160000004},{"$f":"Prob.!$E$12","v":3.1649783999999999E-3},{"$f":"R6*C6*Q6*P6","v":1.1930849403446391E-17},{"$f":"1*Q6*S6*C6","v":9.6093320096385526E-12}]
[null,null,3,"    (iii)            Rupture.",275,5,0.35680000000000001,{"$f":"G7*4/PI()","v":0.45429186956150608},{"$f":"[1]!hecalc(3,0,1,((E7+14.7)*101325/14.7),2,F7,1)/16.0185","v":9.915828626143032},{"$f":"1891*H7*1*SQRT(E7*I7)","v":44859.801366817541},87465.155539820582,{"$f":"IF(K7>'side work'!$I$11,'side work'!$I$11,K7)","v":1546.5742370871478},{"$f":"M6","v":4000},{"$f":"0.21*M7*100/(M7+L7)","v":15.144483136696218},{"$f":"10^(6.5-0.76*N7)","v":9.7767118667007482E-6},9.7767118667007482E-6,2E-8,0.99919999999999998,{"$f":"$S$5","v":3.1649783999999999E-3},{"$f":"R7*C7*Q7*P7","v":5.8613342983244317E-13},1.8989870400000001E-10]
[4,"Cryogenic line D NPS ½” Sch 10",4,"      (i)            Small leak, 10mm2.",36.75,8,1.55E-2,1.9735212943395024E-2,{"$f":"[1]!hecalc(3,0,1,((E8+14.7)*101325/14.7),2,F8,1)/16.0185","v":1.6483096763724627},290.45671510449313,379.96336545350789,{"$f":"IF(K8>'side work'!$I$11,'side work'!$I$11,K8)","v":379.96336545350789},4000,19.178242599593641,8.4049594847607161E-9,8.4049594847607161E-9,4.9999999999999998E-7,0.99919999999999998,{"$f":"$S$5","v":3.1649783999999999E-3},1.6796471034345814E-14,6.3299567999999997E-9]
[null,null,20,"    (ii)            Small leak weld failure",36.75,8,1.55E-2,{"$f":"G9*4/PI()","v":1.9735212943395024E-2},{"$f":"[1]!hecalc(3,0,1,((E9+14.7)*101325/14.7),2,F9,1)/16.0185","v":1.6483096763724627},{"$f":"1891*H9*1*SQRT(E9*I9)","v":290.45671510449313},379.96336545350789,{"$f":"IF(K9>'side work'!$I$11,'side work'!$I$11,K9)","v":379.96336545350789},4000,{"$f":"0.21*M9*100/(M9+L9)","v":19.178242599593641},{"$f":"10^(6.5-0.76*N9)","v":8.4049594847607161E-9},{"$f":"IF(O9>1,1,O9)","v":8.4049594847607161E-9},{"$f":"0.00000000002*(0.84/0.083)","v":2.0240963855421684E-10},0.99919999999999998,{"$f":"$S$5","v":3.1649783999999999E-3},3.3997676310483084E-17,1.281244267951807E-11]
[null,null,4,"    (iii)            Rupture.",275,8,0.35680000000000001,0.45429186956150608,{"$f":"[1]!hecalc(3,0,1,((E10+14.7)*101325/14.7),2,F10,1)/16.0185","v":8.2436831763723788},40902.842165845315,59954.108569723277,{"$f":"IF(K10>'side work'!$I$11,'side work'!$I$11,K10)","v":1546.5742370871478},4000,15.144483136696218,9.7767118667007482E-6,9.7767118667007482E-6,2E-8,0.99919999999999998,{"$f":"$S$5","v":3.1649783999999999E-3},7.8151123977659095E-13,2.53198272E-10]
[5,"Cryogenic line E NPS 3/4” Sch 10",4,"      (i)            Small leak, 10mm2.",162,40,1.55E-2,1.9735212943395024E-2,{"$f":"[1]!hecalc(3,0,1,((E11+14.7)*101325/14.7),2,F11,1)/16.0185","v":0.88636008756543516},447.19398021997637,744.17962866109951,{"$f":"IF(K11>'side work'!$I$11,'side work'!$I$11,K11)","v":744.17962866109951},4000,17.705906305176402,1.1053789961114154E-7,1.1053789961114154E-7,4.9999999999999998E-7,0.99919999999999998,3.1649783999999999E-3,2.2089893858290523E-13,6.3299567999999997E-9]
[null,null,20,"    (ii)            Small leak weld failure",162,40,1.55E-2,{"$f":"G12*4/PI()","v":1.9735212943395024E-2},{"$f":"[1]!hecalc(3,0,1,((E12+14.7)*101325/14.7),2,F12,1)/16.0185","v":0.88636008756543516},{"$f":"1891*H12*1*SQRT(E12*I12)","v":447.19398021997637},744.17962866109951,{"$f":"IF(K12>'side work'!$I$11,'side work'!$I$11,K12)","v":744.17962866109951},4000,{"$f":"0.21*M12*100/(M12+L12)","v":17.705906305176402},{"$f":"10^(6.5-0.76*N12)","v":1.1053789961114154E-7},{"$f":"IF(O12>1,1,O12)","v":1.1053789961114154E-7},{"$f":"0.00000000002*(1.05/0.083)","v":2.5301204819277106E-10},0.99919999999999998,3.1649783999999999E-3,{"$f":"R12*C12*Q12*P12","v":5.5890092894469994E-16},1.601555334939759E-11]
[null,null,4,"    (iii)            Rupture.",275,40,0.61370000000000002,0.78138710860396943,{"$f":"[1]!hecalc(3,0,1,((E13+14.7)*101325/14.7),2,F13,1)/16.0185","v":1.4234815573874946},29234.794141900155,49632.362388492664,{"$f":"IF(K13>'side work'!$I$11,'side work'!$I$11,K13)","v":1546.5742370871478},4000,15.144483136696218,9.7767118667007482E-6,9.7767118667007482E-6,2E-8,0.99919999999999998,3.1649783999999999E-3,7.8151123977659095E-13,2.53198272E-10]
[6,"Cryogenic line F NPS 1” Sch 10",2,"      (i)            Small leak, 10mm2.",162,80,1.55E-2,1.9735212943395024E-2,{"$f":"[1]!hecalc(3,0,1,((E14+14.7)*101325/14.7),2,F14,1)/16.0185","v":0.44783020096197168},317.86853629536819,523.47529267625464,{"$f":"IF(K14>'side work'!$I$11,'side work'!$I$11,K14)","v":523.47529267625464},4000,18.569793038551673,2.437571091462742E-8,2.437571091462742E-8,4.9999999999999998E-7,0.99919999999999998,3.1649783999999999E-3,2.4356210345895717E-14,3.1649783999999999E-9]
[null,null,20,"    (ii)            Small leak weld failure",162,80,1.55E-2,{"$f":"G15*4/PI()","v":1.9735212943395024E-2},{"$f":"[1]!hecalc(3,0,1,((E15+14.7)*101325/14.7),2,F15,1)/16.0185","v":0.44783020096197168},{"$f":"1891*H15*1*SQRT(E15*I15)","v":317.86853629536819},523.47529267625464,{"$f":"IF(K15>'side work'!$I$11,'side work'!$I$11,K15)","v":523.47529267625464},4000,{"$f":"0.21*M15*100/(M15+L15)","v":18.569793038551673},{"$f":"10^(6.5-0.76*N15)","v":2.437571091462742E-8},{"$f":"IF(O15>1,1,O15)","v":2.437571091462742E-8},{"$f":"0.00000000002*(1.315/0.109)","v":2.4128440366972477E-10},0.99919999999999998,3.1649783999999999E-3,1.1753547377927656E-16,1.5273198517431194E-11]
[null,null,2,"    (iii)            Rupture.",175,80,0.94520000000000004,1.2034660176836758,{"$f":"[1]!hecalc(3,0,1,((E16+14.7)*101325/14.7),2,F16,1)/16.0185","v":0.48002856228404878},20858.252685648742,34399.585094620728,{"$f":"IF(K16>'side work'!$I$11,'side work'!$I$11,K16)","v":1546.5742370871478},4000,15.144483136696218,9.7767118667007482E-6,9.7767118667007482E-6,2E-8,0.99919999999999998,3.1649783999999999E-3,3.9075561988829548E-13,1.26599136E-10]
[7,"Cryogenic line F NPS 3/4” Sch 10",3,"      (i)            Small leak, 10mm2.",162,80,1.55E-2,1.9735212943395024E-2,{"$f":"[1]!hecalc(3,0,1,((E17+14.7)*101325/14.7),2,F17,1)/16.0185","v":0.44783020096197168},317.86853629536819,523.47529267625464,{"$f":"IF(K17>'side work'!$I$11,'side work'!$I$11,K17)","v":523.47529267625464},4000,18.569793038551673,2.437571091462742E-8,2.437571091462742E-8,4.9999999999999998E-7,0.99919999999999998,3.1649783999999999E-3,3.6534315518843576E-14,{"$f":"1*Q17*S17*C17","v":4.7474675999999996E-9}]
[null,null,20,"    (ii)            Small leak weld failure",162,80,1.55E-2,{"$f":"G18*4/PI()","v":1.9735212943395024E-2},{"$f":"[1]!hecalc(3,0,1,((E18+14.7)*101325/14.7),2,F18,1)/16.0185","v":0.44783020096197168},{"$f":"1891*H18*1*SQRT(E18*I18)","v":317.86853629536819},523.47529267625464,{"$f":"IF(K18>'side work'!$I$11,'side work'!$I$11,K18)","v":523.47529267625464},4000,{"$f":"0.21*M18*100/(M18+L18)","v":18.569793038551673},{"$f":"10^(6.5-0.76*N18)","v":2.437571091462742E-8},{"$f":"IF(O18>1,1,O18)","v":2.437571091462742E-8},{"$f":"0.00000000002*(1.05/0.083)","v":2.5301204819277106E-10},0.99919999999999998,3.1649783999999999E-3,1.2324829331658073E-16,1.601555334939759E-11]
[null,null,3,"    (iii)            Rupture.",175,80,0.61370000000000002,0.78138710860396943,{"$f":"[1]!hecalc(3,0,1,((E19+14.7)*101325/14.7),2,F19,1)/16.0185","v":0.48002856228404878},13542.858308487763,22334.982408557709,{"$f":"IF(K19>'side work'!$I$11,'side work'!$I$11,K19)","v":1546.5742370871478},4000,15.144483136696218,9.7767118667007482E-6,9.7767118667007482E-6,2E-8,0.99919999999999998,3.1649783999999999E-3,5.8613342983244317E-13,1.8989870400000001E-10]
[8,"Cryogenic line B NPS 4” Sch 10",3,"      (i)            Small leak, 10mm2.",10,4.5,1.55E-2,1.9735212943395024E-2,{"$f":"[1]!hecalc(3,0,1,((E20+14.7)*101325/14.7),2,F20,1)/16.0185","v":7.6319280141721615},326.02468076435252,79.108373100707766,{"$f":"IF(K20>'side work'!$I$11,'side work'!$I$11,K20)","v":79.108373100707766},4000,20.592735548270795,7.0716536716335139E-10,7.0716536716335139E-10,4.9999999999999998E-7,0.99919999999999998,3.1649783999999999E-3,1.059899452304431E-15,4.7474675999999996E-9]
[null,null,15,"    (ii)            Small leak weld failure",10,4.5,1.55E-2,{"$f":"G21*4/PI()","v":1.9735212943395024E-2},{"$f":"[1]!hecalc(3,0,1,((E21+14.7)*101325/14.7),2,F21,1)/16.0185","v":7.6319280141721615},{"$f":"1891*H21*1*SQRT(E21*I21)","v":326.02468076435252},79.108373100707766,{"$f":"IF(K21>'side work'!$I$11,'side work'!$I$11,K21)","v":79.108373100707766},4000,{"$f":"0.21*M21*100/(M21+L21)","v":20.592735548270795},{"$f":"10^(6.5-0.76*N21)","v":7.0716536716335139E-10},{"$f":"IF(O21>1,1,O21)","v":7.0716536716335139E-10},{"$f":"0.00000000002*(4.5/0.12)","v":7.5E-10},0.99919999999999998,3.1649783999999999E-3,7.9492458922832327E-18,3.5606007000000002E-11]
[null,null,3,"    (iii)            Rupture.",40,5,14.25,18.143663512476071,{"$f":"[1]!hecalc(3,0,1,((E22+14.7)*101325/14.7),2,F22,1)/16.0185","v":7.6749851443955999},601153.36058300897,287196.51534621278,{"$f":"IF(K22>'side work'!$I$11,'side work'!$I$11,K22)","v":1546.5742370871478},4000,15.144483136696218,9.7767118667007482E-6,9.7767118667007482E-6,5.0000000000000003E-10,0.99919999999999998,3.1649783999999999E-3,1.4653335745811082E-14,4.7474676E-12]
[9,"Cryogenic line B NPS 2½” Sch 10",2,"      (i)            Small leak, 10mm2.",10,4.5,1.55E-2,1.9735212943395024E-2,{"$f":"[1]!hecalc(3,0,1,((E23+14.7)*101325/14.7),2,F23,1)/16.0185","v":7.6319280141721615},326.02468076435252,79.108373100707766,{"$f":"IF(K23>'side work'!$I$11,'side work'!$I$11,K23)","v":79.108373100707766},4000,20.592735548270795,7.0716536716335139E-10,7.0716536716335139E-10,4.9999999999999998E-7,0.99919999999999998,3.1649783999999999E-3,7.0659963486962067E-16,3.1649783999999999E-9]
[null,null,15,"    (ii)            Small leak weld failure",10,4.5,1.55E-2,{"$f":"G24*4/PI()","v":1.9735212943395024E-2},{"$f":"[1]!hecalc(3,0,1,((E24+14.7)*101325/14.7),2,F24,1)/16.0185","v":7.6319280141721615},{"$f":"1891*H24*1*SQRT(E24*I24)","v":326.02468076435252},79.108373100707766,{"$f":"IF(K24>'side work'!$I$11,'side work'!$I$11,K24)","v":79.108373100707766},4000,{"$f":"0.21*M24*100/(M24+L24)","v":20.592735548270795},{"$f":"10^(6.5-0.76*N24)","v":7.0716536716335139E-10},{"$f":"IF(O24>1,1,O24)","v":7.0716536716335139E-10},{"$f":"0.00000000002*(2.375/0.109)","v":4.3577981651376148E-10},0.99919999999999998,3.1649783999999999E-3,4.6188278884826125E-18,2.0688505596330276E-11]
[null,null,2,"    (iii)            Rupture.",40,5,5.4530000000000003,6.9429752374408427,{"$f":"[1]!hecalc(3,0,1,((E25+14.7)*101325/14.7),2,F25,1)/16.0185","v":7.6749851443955999},230041.35264976474,109900.53320581742,{"$f":"IF(K25>'side work'!$I$11,'side work'!$I$11,K25)","v":1546.5742370871478},4000,15.144483136696218,9.7767118667007482E-6,9.7767118667007482E-6,5.0000000000000003E-10,0.99919999999999998,3.1649783999999999E-3,9.7688904972073882E-15,3.1649784E-12]
[10,"Safety valve SV  610,611,612 613, 620 621, 622 623 (Line C, D) on bayonets",10,"  (iii)            Rupture",275,5,0.13200000000000001,0.16806761990504149,{"$f":"[1]!hecalc(3,0,1,((E26+14.7)*101325/14.7),2,F26,1)/16.0185","v":9.915828626143032},16596.114855436983,32358.185345449321,{"$f":"IF(K26>'side work'!$I$11,'side work'!$I$11,K26)","v":1546.5742370871478},4000,{"$f":"0.21*M26*100/(M26+L26)","v":15.144483136696218},9.7767118667007482E-6,9.7767118667007482E-6,5.0000000000000003E-10,0.99919999999999998,3.1649783999999999E-3,4.8844452486036935E-14,1.5824892E-11]
[11,"Safety valve SV 614,615, 616 617, 624 625, 626, 627 (Line E, F) on bayonets",12,"  (iii)            Rupture",275,60,0.13200000000000001,0.16806761990504149,{"$f":"[1]!hecalc(3,0,1,((E27+14.7)*101325/14.7),2,F27,1)/16.0185","v":0.95777442123122469},5157.9074216132385,8676.3247930144607,{"$f":"IF(K27>'side work'!$I$11,'side work'!$I$11,K27)","v":1546.5742370871478},4000,15.144483136696218,9.7767118667007482E-6,9.7767118667007482E-6,5.0000000000000003E-10,0.99919999999999998,3.1649783999999999E-3,5.8613342983244329E-14,1.89898704E-11]
[12,"Safety valve SV 710, 711 (Line F) on bayonets (HWR)",2,"  (iii)            Rupture",275,80,0.13200000000000001,0.16806761990504149,{"$f":"[1]!hecalc(3,0,1,((E28+14.7)*101325/14.7),2,F28,1)/16.0185","v":0.72440080934009832},{"$f":"1891*H28*1*SQRT(E28*I28)","v":4485.7120234192398},7482.3706596479515,{"$f":"IF(K28>'side work'!$I$11,'side work'!$I$11,K28)","v":1546.5742370871478},4000,15.144483136696218,9.7767118667007482E-6,9.7767118667007482E-6,5.0000000000000003E-10,0.99919999999999998,3.1649783999999999E-3,9.7688904972073882E-15,3.1649784E-12]
[13,"Safety valve SV 608, 609, 618, 619 (Line B) at valve box",4,"    (i)     External leak",10,4.5,0.05,6.3661977236758135E-2,{"$f":"[1]!hecalc(3,0,1,((E29+14.7)*101325/14.7),2,F29,1)/16.0185","v":7.6319280141721615},1051.6925185946855,255.18830032486375,{"$f":"IF(K29>'side work'!$I$11,'side work'!$I$11,K29)","v":255.18830032486375},4000,19.740607012288265,3.1415116215415913E-9,3.1415116215415913E-9,1E-8,0.99919999999999998,3.1649783999999999E-3,1.2555993648977432E-16,1.26599136E-10]
[null,null,4,"   (ii)     Rupture",40,5,0.61370000000000002,0.78138710860396943,{"$f":"[1]!hecalc(3,0,1,((E30+14.7)*101325/14.7),2,F30,1)/16.0185","v":7.6749851443955999},25889.67139577492,12368.596594243565,{"$f":"IF(K30>'side work'!$I$11,'side work'!$I$11,K30)","v":1546.5742370871478},4000,15.144483136696218,9.7767118667007482E-6,9.7767118667007482E-6,5.0000000000000003E-10,0.99919999999999998,3.1649783999999999E-3,1.9537780994414776E-14,6.3299568E-12]
[14,"Safety valve SV 606, 611 (Line C, D) at valve box",4,"    (i)     External leak",36.75,6,0.05,6.3661977236758135E-2,{"$f":"[1]!hecalc(3,0,1,((E31+14.7)*101325/14.7),2,F31,1)/16.0185","v":3.9068823463467357},1442.4988977214955,1061.5073512073552,{"$f":"IF(K31>'side work'!$I$11,'side work'!$I$11,K31)","v":1061.5073512073552},4000,16.595846685861854,7.711813509949514E-7,7.711813509949514E-7,1E-8,0.99919999999999998,3.1649783999999999E-3,3.0822576236566213E-14,1.26599136E-10]
[null,null,4,"   (ii)     Rupture",275,6,0.61370000000000002,0.78138710860396943,{"$f":"[1]!hecalc(3,0,1,((E32+14.7)*101325/14.7),2,F32,1)/16.0185","v":9.4415711137322855},75291.55243973709,128477.61802274217,{"$f":"IF(K32>'side work'!$I$11,'side work'!$I$11,K32)","v":1546.5742370871478},4000,15.144483136696218,9.7767118667007482E-6,9.7767118667007482E-6,5.0000000000000003E-10,0.99919999999999998,3.1649783999999999E-3,1.9537780994414776E-14,6.3299568E-12]
[15,"Safety valve SV 608, 613 (Line E, F) at valve box",4,"    (i)     External leak",162,60,0.05,6.3661977236758135E-2,{"$f":"[1]!hecalc(3,0,1,((E33+14.7)*101325/14.7),2,F33,1)/16.0185","v":0.59402926012611712},1180.9542620704146,1954.9065491982003,{"$f":"IF(K33>'side work'!$I$11,'side work'!$I$11,K33)","v":1546.5742370871478},4000,15.144483136696218,9.7767118667007482E-6,9.7767118667007482E-6,1E-8,0.99919999999999998,3.1649783999999999E-3,3.9075561988829548E-13,1.26599136E-10]
[null,null,4,"   (ii)     Rupture",275,60,0.61370000000000002,0.78138710860396943,{"$f":"[1]!hecalc(3,0,1,((E34+14.7)*101325/14.7),2,F34,1)/16.0185","v":0.95777442123122469},23980.362004879124,40338.337314189201,{"$f":"IF(K34>'side work'!$I$11,'side work'!$I$11,K34)","v":1546.5742370871478},4000,15.144483136696218,9.7767118667007482E-6,9.7767118667007482E-6,5.0000000000000003E-10,0.99919999999999998,3.1649783999999999E-3,1.9537780994414776E-14,6.3299568E-12]
[16,"Bayonets (Line B)",2,"      (i)            U-tube change (dia 3.09) small event",10,4.5,7.5,9.5492965855137211,{"$f":"[1]!hecalc(3,0,1,((E35+14.7)*101325/14.7),2,F35,1)/16.0185","v":7.6319280141721615},{"$f":"1891*H35*1*SQRT(E35*I35)","v":157753.87778920284},38278.245048729572,{"$f":"IF(K35>'side work'!$I$11,'side work'!$I$11,K35)","v":1546.5742370871478},4000,15.144483136696218,9.7767118667007482E-6,9.7767118667007482E-6,{"$f":"0.03/168","v":1.7857142857142857E-4},0.99919999999999998,3.1649783999999999E-3,3.4888894632883527E-9,1.1303494285714285E-6]
[17,"Bayonets (line C, D)",4,"      (i)            U-tube change - small event",36.75,6,1.601,2.0384565111209954,{"$f":"[1]!hecalc(3,0,1,((E36+14.7)*101325/14.7),2,F36,1)/16.0185","v":3.9068823463467357},46188.814705042285,33989.465385659511,{"$f":"IF(K36>'side work'!$I$11,'side work'!$I$11,K36)","v":1546.5742370871478},4000,15.144483136696218,9.7767118667007482E-6,9.7767118667007482E-6,{"$f":"0.03/168","v":1.7857142857142857E-4},0.99919999999999998,3.1649783999999999E-3,6.9777789265767054E-9,2.260698857142857E-6]
[18,"Bayonets (Line E, F)",5,"      (i)            U-tube change - small event",162,60,1.601,2.0384565111209954,{"$f":"[1]!hecalc(3,0,1,((E37+14.7)*101325/14.7),2,F37,1)/16.0185","v":0.59402926012611712},37814.155471494669,62596.107705326365,{"$f":"IF(K37>'side work'!$I$11,'side work'!$I$11,K37)","v":1546.5742370871478},4000,15.144483136696218,9.7767118667007482E-6,9.7767118667007482E-6,{"$f":"0.03/168","v":1.7857142857142857E-4},0.99919999999999998,3.1649783999999999E-3,8.7222236582208812E-9,2.825873571428571E-6]
[19,"Manual valves on instrumentation",6,"      (i)            External leak.",10,4.5,0.13200000000000001,0.16806761990504149,{"$f":"[1]!hecalc(3,0,1,((E38+14.7)*101325/14.7),2,F38,1)/16.0185","v":7.6319280141721615},2776.46824908997,673.69711285764038,{"$f":"IF(K38>'side work'!$I$11,'side work'!$I$11,K38)","v":673.69711285764038},4000,17.972923356310492,6.9275273522986717E-8,6.9275273522986717E-8,1E-8,0.99919999999999998,3.1649783999999999E-3,4.1531911982500988E-15,1.8989870400000001E-10]
[null,null,6,"     (ii)            Rupture.",40,5,0.13200000000000001,0.16806761990504149,{"$f":"[1]!hecalc(3,0,1,((E39+14.7)*101325/14.7),2,F39,1)/16.0185","v":7.6749851443955999},5568.5784980320832,2660.3466684701812,{"$f":"IF(K39>'side work'!$I$11,'side work'!$I$11,K39)","v":1546.5742370871478},4000,15.144483136696218,9.7767118667007482E-6,9.7767118667007482E-6,5.0000000000000003E-10,0.99919999999999998,3.1649783999999999E-3,2.9306671491622165E-14,9.4949352E-12]
[20,"Cryogenic valves (Line B) Cooldown return+ other",4,"      (i)            External leak.",10,4.5,1.55E-2,1.9735212943395024E-2,{"$f":"[1]!hecalc(3,0,1,((E40+14.7)*101325/14.7),2,F40,1)/16.0185","v":7.6319280141721615},326.02468076435252,79.108373100707766,{"$f":"IF(K40>'side work'!$I$11,'side work'!$I$11,K40)","v":79.108373100707766},4000,20.592735548270795,7.0716536716335139E-10,7.0716536716335139E-10,1E-8,0.99919999999999998,3.1649783999999999E-3,2.8263985394784829E-17,1.26599136E-10]
[null,null,4,"     (ii)            Rupture.",40,5,0.61370000000000002,0.78138710860396943,{"$f":"[1]!hecalc(3,0,1,((E41+14.7)*101325/14.7),2,F41,1)/16.0185","v":7.6749851443955999},25889.67139577492,12368.596594243565,{"$f":"IF(K41>'side work'!$I$11,'side work'!$I$11,K41)","v":1546.5742370871478},4000,15.144483136696218,9.7767118667007482E-6,9.7767118667007482E-6,5.0000000000000003E-10,0.99919999999999998,3.1649783999999999E-3,1.9537780994414776E-14,6.3299568E-12]
[21,"Cryogenic valves (Line D) Cooldown return + other",6,"      (i)            External leak.",36.75,8,1.55E-2,1.9735212943395024E-2,{"$f":"[1]!hecalc(3,0,1,((E42+14.7)*101325/14.7),2,F42,1)/16.0185","v":1.6483096763724627},290.45671510449313,379.96336545350789,{"$f":"IF(K42>'side work'!$I$11,'side work'!$I$11,K42)","v":379.96336545350789},4000,19.178242599593641,8.4049594847607161E-9,8.4049594847607161E-9,1E-8,0.99919999999999998,3.1649783999999999E-3,5.0389413103037435E-16,1.8989870400000001E-10]
[null,null,6,"    (ii)            Rupture.",275,8,0.61370000000000002,0.78138710860396943,{"$f":"[1]!hecalc(3,0,1,((E43+14.7)*101325/14.7),2,F43,1)/16.0185","v":8.2436831763723788},70353.347077296159,103121.73887118601,{"$f":"IF(K43>'side work'!$I$11,'side work'!$I$11,K43)","v":1546.5742370871478},4000,15.144483136696218,9.7767118667007482E-6,9.7767118667007482E-6,5.0000000000000003E-10,0.99919999999999998,3.1649783999999999E-3,2.9306671491622165E-14,9.4949352E-12]
[22,"Cryogenic valves (Line F) Cooldown return + other",5,"     (i)            External leak.",162,80,1.55E-2,1.9735212943395024E-2,{"$f":"[1]!hecalc(3,0,1,((E44+14.7)*101325/14.7),2,F44,1)/16.0185","v":0.44783020096197168},317.86853629536819,523.47529267625464,{"$f":"IF(K44>'side work'!$I$11,'side work'!$I$11,K44)","v":523.47529267625464},4000,18.569793038551673,2.437571091462742E-8,2.437571091462742E-8,1E-8,0.99919999999999998,3.1649783999999999E-3,1.2178105172947858E-15,1.5824891999999999E-10]
[null,null,5,"    (ii)            Rupture.",275,80,0.61370000000000002,0.78138710860396943,{"$f":"[1]!hecalc(3,0,1,((E45+14.7)*101325/14.7),2,F45,1)/16.0185","v":0.72440080934009832},20855.162642215058,34787.355104742033,{"$f":"IF(K45>'side work'!$I$11,'side work'!$I$11,K45)","v":1546.5742370871478},4000,15.144483136696218,9.7767118667007482E-6,9.7767118667007482E-6,5.0000000000000003E-10,0.99919999999999998,3.1649783999999999E-3,2.4422226243018467E-14,7.912446E-12]
[23,"Liquid helium bath in HWR",1,"    (i)            Vacuum loss + pipe rupture",53,6.9,"_","_",{"$f":"[1]!hecalc(3,0,1,((E46+14.7)*101325/14.7),2,F46,1)/16.0185","v":3.4913835848862504},{"$f":"6.35*2.2046*3600/I46","v":14434.723305156955},13581.554008423174,{"$f":"IF(K46>'side work'!$I$11,'side work'!$I$11,K46)","v":1546.5742370871478},4000,15.144483136696218,9.7767118667007482E-6,9.7767118667007482E-6,1E-14,0.99919999999999998,3.1649783999999999E-3,9.7688904972073878E-20,3.1649784000000001E-17]
[null,null,0,"   (ii)         rupture disk initial",15,6.9,"_","_",{"$f":"[1]!hecalc(3,0,1,((E47+14.7)*101325/14.7),2,F47,1)/16.0185","v":1.0678184844479217},47196.369733247397,"---",{"$f":"IF(K47>'side work'!$I$11,'side work'!$I$11,K47)","v":1546.5742370871478},4000,{"$f":"'side work'!B18","v":19.077893533281532},{"$f":"10^(6.5-0.76*N47)","v":1.0018458757980472E-8},{"$f":"IF(O47>1,1,O47)","v":1.0018458757980472E-8},3.0000000000000001E-3,0.99919999999999998,{"$f":"$S$5","v":3.1649783999999999E-3},0,0]
[null,null,0,"(iii) rupture disk after initial failure",15,6.9,"--","--",{"$f":"[1]!hecalc(3,0,1,((E48+14.7)*101325/14.7),2,F48,1)/16.0185","v":1.0678184844479217},47196.369733247397,64056.332458648336,{"$f":"IF(K48>'side work'!$I$11,'side work'!$I$11,K48)","v":1546.5742370871478},4000,{"$f":"(N47/100)*M48*100/(M48+L48)","v":13.758325566593713},{"$f":"10^(6.5-0.76*N48)","v":1.1057897739689858E-4},{"$f":"IF(O48>1,1,O48)","v":1.1057897739689858E-4},3.0000000000000001E-3,0.99919999999999998,{"$f":"$S$5","v":3.1649783999999999E-3},0,0]
[24,"Liquid helium bath in SSR1",1,"    (i)            Vacuum loss + pipe rupture",53,6.9,"_","_",{"$f":"[1]!hecalc(3,0,1,((E49+14.7)*101325/14.7),2,F49,1)/16.0185","v":3.4913835848862504},{"$f":"6.35*2.2046*3600/I49","v":14434.723305156955},{"$f":"((J49/I49)/60)*((E49+15)/15)*(300/F49)","v":13581.554008423174},{"$f":"IF(K49>'side work'!$I$11,'side work'!$I$11,K49)","v":1546.5742370871478},4000,{"$f":"0.21*M49*100/(M49+L49)","v":15.144483136696218},9.7767118667007482E-6,9.7767118667007482E-6,1E-14,0.99919999999999998,3.1649783999999999E-3,{"$f":"R49*C49*Q49*P49","v":9.7688904972073878E-20},{"$f":"1*Q49*S49*C49","v":3.1649784000000001E-17}]
[null,null,1,"   (ii)         rupture disk + pipe rupture",15,6.9,"--","--",{"$f":"[1]!hecalc(3,0,1,((E50+14.7)*101325/14.7),2,F50,1)/16.0185","v":1.0678184844479217},47196.369733247397,64056.332458648336,{"$f":"IF(K50>'side work'!$I$11,'side work'!$I$11,K50)","v":1546.5742370871478},4000,{"$f":"0.21*M50*100/(M50+L50)","v":15.144483136696218},{"$f":"10^(6.5-0.76*N50)","v":9.7767118667007482E-6},{"$f":"IF(O50>1,1,O50)","v":9.7767118667007482E-6},{"$f":"0.003*0.0000000005","v":1.5000000000000001E-12},0.99919999999999998,{"$f":"$S$5","v":3.1649783999999999E-3},1.4653335745811082E-17,4.7474676000000002E-15]
[25,"LP header warm 6\" NPS",10,"   (i)    Small leak, 10mm2",10,300,1.55E-2,1.9735212943395024E-2,{"$f":"[1]!hecalc(3,0,1,((E51+14.7)*101325/14.7),2,F51,1)/16.0185","v":1.7042453511089978E-2},15.406337397584565,25.11104497489697,{"$f":"IF(K51>'side work'!$I$11,'side work'!$I$11,K51)","v":25.11104497489697},{"$f":"M48","v":4000},20.868989466730071,4.3608184381885459E-10,4.3608184381885459E-10,1.4999999999999999E-8,0.99919999999999998,3.1649783999999999E-3,6.5359946751569905E-17,4.7474675999999998E-10]
[null,null,10,"   (ii)   Large leak, 1000mm2",10,300,1.55,1.9735212943395024,{"$f":"[1]!hecalc(3,0,1,((E52+14.7)*101325/14.7),2,F52,1)/16.0185","v":1.7042453511089978E-2},1540.6337397584564,2511.1044974896972,{"$f":"IF(K52>'side work'!$I$11,'side work'!$I$11,K52)","v":1546.5742370871478},4000,15.144483136696218,9.7767118667007482E-6,9.7767118667007482E-6,1.5E-9,0.99919999999999998,3.1649783999999999E-3,1.4653335745811079E-13,4.7474676000000003E-11]
[null,null,10,"   (iii)  Rupture",275,300,31.74,40.41262314989406,{"$f":"[1]!hecalc(3,0,1,((E53+14.7)*101325/14.7),2,F53,1)/16.0185","v":0.198231372092151},564236.41352446482,917158.11228927341,{"$f":"IF(K53>'side work'!$I$11,'side work'!$I$11,K53)","v":1546.5742370871478},4000,15.144483136696218,9.7767118667007482E-6,9.7767118667007482E-6,4.5E-10,0.99919999999999998,3.1649783999999999E-3,4.3960007237433237E-14,1.42424028E-11]
[26,"Nitrogen header",13,"   (i)    Small leak, 10mm2",65,300,1.55E-2,{"$f":"G54*4/PI()","v":1.9735212943395024E-2},{"$f":"[2]!Density(\"nitrogen\",\"PT\",\"E\",((E54+14.7)*101325/14.7),F54)","v":89.389499787120073},{"$f":"1891*H54*1*SQRT(E54*I54)","v":2844.6790704584673},2.8287479225268521,{"$f":"IF(K54>'side work'!$I$11,'side work'!$I$11,K54)","v":2.8287479225268521},4000,{"$f":"0.21*M54*100/(M54+L54)","v":20.985159568366772},{"$f":"10^(6.5-0.76*N54)","v":3.5585963424084261E-10},{"$f":"IF(O54>1,1,O54)","v":3.5585963424084261E-10},1.4999999999999999E-8,0.99919999999999998,3.1649783999999999E-3,6.9337114574022727E-17,6.1717078799999996E-10]
[null,null,13,"   (ii)  Rupture",65,300,0.35680000000000001,{"$f":"G55*4/PI()","v":0.45429186956150608},{"$f":"[2]!Density(\"nitrogen\",\"PT\",\"E\",((E55+14.7)*101325/14.7),F55)","v":89.389499787120073},65482.67692513427,65.115952177908454,{"$f":"IF(K55>'side work'!$I$11,'side work'!$I$11,K55)","v":65.115952177908454},4000,20.663617222282806,6.2467037651266497E-10,6.2467037651266497E-10,4.5E-10,0.99919999999999998,3.1649783999999999E-3,3.6513982452370105E-18,1.8515123639999999E-11]
[null,null,6,"(iii) manual valve external leak",65,300,{"$f":"G54","v":1.55E-2},{"$f":"G56*4/PI()","v":1.9735212943395024E-2},{"$f":"[2]!Density(\"nitrogen\",\"PT\",\"E\",((E56+14.7)*101325/14.7),F56)","v":89.389499787120073},{"$f":"1891*H56*1*SQRT(E56*I56)","v":2844.6790704584673},2.8287479225268521,{"$f":"IF(K56>'side work'!$I$11,'side work'!$I$11,K56)","v":2.8287479225268521},4000,{"$f":"0.21*M56*100/(M56+L56)","v":20.985159568366772},{"$f":"10^(6.5-0.76*N56)","v":3.5585963424084261E-10},{"$f":"IF(O56>1,1,O56)","v":3.5585963424084261E-10},4.5E-10,0.99919999999999998,3.1649783999999999E-3,9.6005235564031487E-19,8.54544168E-12]
[null,null,6,"(iv) Manual valve rupture",65,300,{"$f":"0.5^2*PI()*0.25","v":0.19634954084936207},0.25,{"$f":"[2]!Density(\"nitrogen\",\"PT\",\"E\",((E57+14.7)*101325/14.7),F57)","v":89.389499787120073},36035.576086987749,35.833764888176404,{"$f":"IF(K57>'side work'!$I$11,'side work'!$I$11,K57)","v":35.833764888176404},4000,20.813543097538222,4.8051532805331913E-10,4.8051532805331913E-10,4.5E-10,0.99919999999999998,3.1649783999999999E-3,1.2963534726353665E-18,8.54544168E-12]
[]
[]
[]
[null,null,null,null,null,null,null,null,null,null,null,null,null,null,null,null,null,"sum column",null,{"$f":"SUM(T5:T57)","v":1.9193246289408226E-8},{"$f":"SUM(U5:U57)","v":6.2536247466703244E-6}]
[null,null,null,null,null,null,null,null,null,null,null,null,null,null,null,null,null,"Total result",null,{"$f":"SUM(T61:U61)","v":6.2728179929597327E-6}]
[null,null,null,null,null,null,null,null,null,null,null,null,null,null,null,null,null,"ODH Class",null,{"$f":"IF(T62<=0.0000001,0,IF(T62<=0.00001,1,IF(T62<=0.001,2,\"Error\")))","v":1}]

{"sheet":"side work","index":1,"n_rows":18,"n_cols":56,"rows_kept":18,"cut":false,"hidden":false,"merged":[]}
["HWR Rupture disk flow analysis",null,null,null,null,null,null,null,null,null,null,null,null,null,null,null,null,null,null,null,null,null,null,null,null,null,null,null,null,null,30,"psi"]
["Vcave",590,"m3","Volume of the cave",30,"psia",null,null,"Max flow from compressors",null,null,null,null,null,null,null,null,null,null,null,null,"M-dot",25,"g/s","total flow",null,null,null,null,null,{"$f":"AE1*6894.76","v":206842.80000000002},"Pa",null,null,null,null,null,null,null,null,"3/4\"",null,null,null,null,null,null,"1/2\"",null,null,null,null,null,"4\""]
[null,{"$f":"B2*35.3147","v":20835.673000000003},"ft3",null,{"$f":"E2*6894.76","v":206842.80000000002},"Pa",null,"m-dot",60,"g/s","max compressor flow",null,null,null,null,null,null,null,null,null,null,"M-dot",{"$f":"W2*0.132277","v":3.3069250000000001},"lbm/min","total flow",null,null,null,null,null,5,"K",null,null,null,null,null,null,null,null,"P",{"$f":"'Component calculations'!E11+15","v":177},"psi",null,null,null,null,"P",{"$f":"'Component calculations'!E7+15","v":290},"psi",null,null,null,"P",{"$f":"'Component calculations'!E22+15","v":55},"psi"]
["Vstore",478,"L","LHe in HWR",5,"K",null,null,2,"# of compress",null,null,null,null,null,null,null,null,null,null,null,"P",100,"psia","flow pressure",null,null,null,null,null,null,null,null,null,null,null,null,null,null,null,"T",{"$f":"'Component calculations'!F11*(9/5)","v":72},"R",null,null,null,null,"T",{"$f":"'Component calculations'!F7*9/5","v":9},"R",null,null,null,"T",{"$f":"'Component calculations'!F22*9/5","v":9},"R"]
[null,{"$f":"B4*0.001","v":0.47800000000000004},"m3",null,null,null,null,"M-dot",{"$f":"I4*I3","v":120},"g/s","total flow",null,null,null,null,null,null,null,null,null,null,"T",9,"R","flow temp",null,null,null,null,null,null,null,null,null,null,null,null,null,null,null,"rho",{"$f":"[1]!hecalc(3,0,1,AP3,2,AP4,4)","v":0.88805560633670932},"lbm/ft3",null,null,null,null,"rho",{"$f":"[1]!hecalc(3,0,1,AW3,2,AW4,4)","v":9.9178235730057143},"lbm/ft3",null,null,null,"rho",{"$f":"[1]!hecalc(3,0,1,BC3,2,BC4,4)","v":7.6829914906817791},"lbm/ft3"]
[null,{"$f":"B5*35.3147","v":16.880426600000003},"ft3",null,null,null,null,"M-dot",{"$f":"I5*0.132277","v":15.873240000000001},"lbm/min","total flow",null,null,null,null,null,null,null,null,null,null,"rho",{"$f":"[1]!hecalc(3,0,1,W4,2,W5,4)","v":8.4638719829036138},"lbm/ft3","density",null,null,null,null,null,null,null,null,null,null,null,null,null,null,null,1.05,"in ","OD",null,null,null,null,0.84,"in ","OD",null,null,null,0.84,"in ","OD"]
["Vevent",6.5,"kg/s","Mass flow rate",null,null,null,"P",300,"psia","flow pressure",null,null,null,null,null,null,null,null,null,null,"Vdot",{"$f":"W3/W6","v":0.3907106589844152},"cfm",null,null,null,null,null,null,null,null,null,null,null,null,null,null,null,null,8.3000000000000004E-2,"in ","t",null,null,null,null,8.3000000000000004E-2,"in ","t",null,null,null,8.3000000000000004E-2,"in ","t"]
[null,{"$f":"B7*132.277","v":859.80049999999994},"lbm/min",null,null,null,null,"T",540,"R","flow temp",null,null,null,null,null,null,null,null,null,null,"V'dot",{"$f":"W7*(W4/15)*(540/W5)","v":156.2842635937661},"scfm",null,null,null,null,null,null,null,null,null,null,null,null,null,null,null,null,{"$f":"AO6-(2*AO7)","v":0.88400000000000001},"in ","ID",null,null,null,null,{"$f":"AV6-(2*AV7)","v":0.67399999999999993},"in ","ID",null,null,null,{"$f":"BB6-(2*BB7)","v":0.67399999999999993},"in ","ID"]
["flow density",{"$f":"[1]!hecalc(3,0,1,E3,2,E4,1)","v":104.8394344937448},"kg/m3",null,null,null,null,"rho",{"$f":"[1]!hecalc(3,0,1,I7,2,I8,4)","v":0.2052696808126846},"lbm/ft3","density",null,null,null,null,null,null,null,null,null,null,null,null,null,null,null,null,null,null,null,null,null,null,null,null,null,null,null,null,null,100,"ft","L",null,null,null,null,{"$f":"AO9","v":100},"ft","L",null,null,null,{"$f":"AO9","v":100},"ft","L"]
[null,{"$f":"B9*0.062428","v":6.5449162165755004},"lbm/ft3",null,null,null,null,"Vdot",{"$f":"I6/I9","v":77.328711854357394},"cfm",null,null,null,null,null,null,null,null,null,null,null,"40K",null,null,null,null,null,null,null,null,null,null,null,null,null,null,null,null,null,"V",{"$f":"PI()*(AO8/12)^2*0.25*AO9*2","v":0.85243625996655048},"ft3","V*2 for both runs",null,null,null,"V",{"$f":"PI()*(AV8/12)^2*0.25*AV9*2","v":0.49553824454935991},"ft3","V*2 for both runs",null,null,"V",{"$f":"PI()*(BB8/12)^2*0.25*BB9*2","v":0.49553824454935991},"ft3","V*2 for both runs"]
[null,null,null,null,null,null,null,"V'dot",{"$f":"I10*(I7/15)*(540/I8)","v":1546.5742370871478},"scfm",null,null,null,null,null,null,null,null,null,null,null,"M-dot",100,"g/s","total flow",null,null,null,null,null,null,null,null,null,null,null,null,null,null,"t",{"$f":"AO10/('Component calculations'!J16/AP5)","v":3.6293107151244915E-5},"hr",null,null,null,null,"t",{"$f":"AV10/('Component calculations'!J7/AW5)","v":1.0955601080197493E-4},"hr",null,null,null,"t",{"$f":"BB10/('Component calculations'!J22/BC5)","v":6.3331861149171893E-6},"hr"]
["R",{"$f":"B7/B9","v":6.1999571357739626E-2},"m3/s","Volumetric flow rate",null,null,null,null,null,null,null,null,null,null,null,null,null,null,null,null,null,"M-dot",{"$f":"W11*0.132277","v":13.2277},"lbm/min","total flow",null,null,null,null,null,null,null,null,null,null,null,null,null,null,"t",{"$f":"AO11*3600","v":0.13065518574448171},"seconds",null,null,null,null,"t",{"$f":"AV11*3600","v":0.39440163888710977},"seconds",null,null,null,"t",{"$f":"BB11*3600","v":2.2799470013701882E-2},"seconds"]
[null,{"$f":"B12*35.3147*60","v":131.36977575763007},"cfm",null,null,null,null,null,null,null,null,null,null,null,null,null,null,null,null,null,null,"P",200,"psia","flow pressure"]
["R'",{"$f":"B13*((E2/15))*(300/E4)","v":15764.373090915607},"scfm",null,null,null,null,null,null,null,null,null,null,null,null,null,null,null,null,null,null,"T",72,"R","flow temp",null,null,null,null,null,null,null,null,null,null,null,null,null,null,"C(t)",{"$f":"(0.21/(B15+'Component calculations'!K13))*(B15+'Component calculations'!K13*EXP(-((B15+'Component calculations'!K19)/B3)*(AO12/60)))","v":0.20946585312561264},null,null,null,null,null,"C(t)",{"$f":"(0.21/($B$15+'Component calculations'!K7))*($B$15+'Component calculations'!K7*EXP(-(($B$15+'Component calculations'!K7)/$B$3)*(AV12/60)))","v":0.20428806351652548},null,null,null,null,"C(t)",{"$f":"(0.21/($B$15+'Component calculations'!K22))*($B$15+'Component calculations'!K22*EXP(-(($B$15+'Component calculations'!K22)/$B$3)*(BB12/60)))","v":0.20890298709931243}]
["Q",4000,"cfm","Ventilation Vdot",null,null,null,null,null,null,null,null,null,null,null,null,null,null,null,null,null,"rho",{"$f":"[1]!hecalc(3,0,1,W13,2,W14,4)","v":0.99926252289741457},"lbm/ft3","density",null,null,null,null,null,null,null,null,null,null,null,null,null,null,null,{"$f":"AO14*100","v":20.946585312561265},null,null,null,null,null,null,{"$f":"AV14*100","v":20.428806351652547},null,null,null,null,null,{"$f":"BB14*100","v":20.890298709931244}]
["t",{"$f":"B5/B12","v":7.7097307212323107},"sec","time to empty HWR",null,null,null,null,null,null,null,null,null,null,null,null,null,null,null,null,null,"Vdot",{"$f":"W12/W15","v":13.237462325361292},"cfm"]
["C(t)",{"$f":"(0.21/($B$15+B14))*($B$15+B14*EXP(-(($B$15+B14)/$B$3)*(B16/60)))","v":0.19077893533281531},null,null,null,null,null,null,null,null,null,null,null,null,null,null,null,null,null,null,null,"V'dot",{"$f":"W16*(W13/15)*(540/W14)","v":1323.7462325361294},"scfm"]
[null,{"$f":"B17*100","v":19.077893533281532},"%","FESHM4240 Case A"]

{"sheet":"Prob.","index":2,"n_rows":14,"n_cols":6,"rows_kept":14,"cut":false,"hidden":false,"merged":[[3,3,3,4]]}
["po"]
[]
[]
[null,null,null,"Ventilation Probability",null,"Sources"]
[null,null,null,"Ppower [1/hr]",2.9999999999999997E-4,"FESHM4240TA, Table 1"]
[null,null,null,"Pgenerator [1/hr]",0.03,"FESHM4240TA, Table 1: Electrical Power Failure- Demand rate"]
[null,null,null,"λfan [1/hr]",9.0000000000000002E-6,"FESHM4240TA, Table 2"]
[null,null,null,"PODH ",2.3999999999999998E-3]
[null,null,null,"Tp [hr]",{"$f":"7*24","v":168},"Test period: 1 week"]
[null,null,null,"P1o1 [-]",{"$f":"0.5*E7*E9","v":7.5600000000000005E-4},"0.5*Tp*λfan: FESHM4240TA page 44"]
[null,null,null,"Prelay [-]",1E-4]
[null,null,null,"Pno,vent [-]",{"$f":"(E5*E6)+(1-E5*E6)*E8+E10","v":3.1649783999999999E-3}]
[null,null,null,"Pvent [-]",{"$f":"1-E12","v":0.99683502160000004}]
[null,null,null,"Pno_monitor [-]",{"$f":"(E8+(1-E8)*E10)*E11","v":3.1541855999999997E-7}]

{"sheet":"Changes","index":3,"n_rows":5,"n_cols":5,"rows_kept":5,"cut":false,"hidden":false,"merged":[[1,1,1,3],[4,1,4,3],[4,4,4,14],[2,1,2,3],[2,4,2,14],[3,4,3,13],[3,1,3,3]]}
[]
["#","Change",null,null,"Comment"]
[1,"U-tube change probability",null,null,"change was calculated as a daily change. (Pi/24 hrs).  At best this will be a weekly event (Pi/168 hrs)"]
[2,"Cold trapped volume removal",null,null,"Removed cold trapped volume rates.  When valve is opened it is a neglibible abount of helium."]
[3,"Safety valve prematuely open",null,null,"Removed,  Safetly valves will not be open inside th cave.  Rupture of valves mantained."]