{"text_format":"1","workbook":"xlsx","n_sheets":8,"sheets":["PFMEA Template","DFMEA Template","EFMEA Template","Severity Matrix","Probability Matrix","Detection Matrix","Risk Assessment Actions","Look-up Tables"],"not_rendered":{"charts":0,"images":0,"macros":1,"external_links":0,"defined_names":5,"comments":2,"pivot_tables":0},"unopened":[],"bounds":{"document_bytes":16777216,"sheet_cells":100000,"rows_first":2000,"rows_last":500,"rows_between":2000,"halvings":0,"cell_chars":16384,"cell_head_chars":4096},"cells_cut":0,"cells_raw":0,"read":"whole","date_system":"1900"}

{"sheet":"PFMEA Template","index":0,"n_rows":231,"n_cols":28,"rows_kept":231,"cut":false,"hidden":false,"merged":[[8,0,9,0],[6,7,7,7],[6,17,7,17],[6,18,7,18],[6,3,7,3],[6,10,7,10],[4,2,4,11],[4,12,4,14],[6,8,7,8],[0,0,0,26],[2,2,2,4],[3,2,3,4],[6,0,7,0],[6,1,7,1],[6,2,7,2],[6,4,7,4],[6,5,7,5],[6,19,6,26],[6,11,7,11],[6,12,7,12],[6,14,7,14],[6,16,7,16]]}
["Process Failure Modes and Effects Analysis (PFMECA)"]
[]
[null,"Process:","Vacuum Systems",null,null,null,null,null,"L2 WBS (select first):","L2 WBS:","Accelerator Systems",null,null,null,"PFMEA Date (Orig):",null,"2021-11-15"]
[null,"Author:","Alex Chen, Dan Lambert, Kyle Kendziora, Ron Kellet, Richard Andrews, Raul Campos",null,null,null,null,null,"L3 WBS:","L3 WBS: ","Vacuum",null,null,null,"Doc #:"]
[null,"Core Team:","Alex Chen, Dan Lambert, Richard Andrews, Raul Campos",null,null,null,null,null,null,null,null,null,"Rev:",null,"Rev:"]
[]
["#","Process Step","Potential Failure Mode","Potentially Impacted External Systems","Potential Effect(s) of Failure","Severity",null,"Potential Cause(s)/Mechanism(s) of Failure","Probability",null,"Current Controls\n(Prevention)","Current Controls \n(Detection)","Detection",null,"Risk",null,"Recommended Action (s)","Responsibility","Target Date","Action Results"]
[null,null,null,null,null,null,"Hidden Column",null,null,"Hidden Column",null,null,null,"Hidden Column",null,"Hidden Column",null,null,null,"Actions Taken","Severity","Hidden Column","Probability","Hidden Column","Detection","Hidden Column","Risk","Hidden Column"]
[null,"Vacuum Systems Fabrication","Bellows leak",null,"Project schedule delay, assembly  leaks","Minimal",{"$f":"IF(F9='Look-up Tables'!$A$3,5,IF(F9='Look-up Tables'!$A$4,4,IF(F9='Look-up Tables'!$A$5,3,IF(F9='Look-up Tables'!$A$6,2,IF(F9='Look-up Tables'!$A$7,1)))))","v":1},"Impurity in bellows material, poor quality of welds from vendor, or leak develops during assembly","Likely",{"$f":"IF(I9='Look-up Tables'!$B$3,5,IF(I9='Look-up Tables'!$B$4,4,IF(I9='Look-up Tables'!$B$5,3,IF(I9='Look-up Tables'!$B$6,2,IF(I9='Look-up Tables'!$B$7,1)))))","v":4},"Follow UHV standard","Visual inspection and leak check, certification","Moderate",{"$f":"IF(M9='Look-up Tables'!$C$3,5,IF(M9='Look-up Tables'!$C$4,4,IF(M9='Look-up Tables'!$C$5,3,IF(M9='Look-up Tables'!$C$6,2,IF(M9='Look-up Tables'!$C$7,1)))))","v":3},{"$f":"IFERROR(VLOOKUP(P9,'Look-up Tables'!$D$3:$E$127,2),\"\")","v":"Minor"},{"$f":"G9*J9*N9","v":12},"Develop QC  ",null,null,null,null,{"$f":"IF(U9='Look-up Tables'!$A$3,5,IF(U9='Look-up Tables'!$A$4,4,IF(U9='Look-up Tables'!$A$5,3,IF(U9='Look-up Tables'!$A$6,2,IF(U9='Look-up Tables'!$A$7,1)))))","v":false},null,{"$f":"IF(W9='Look-up Tables'!$B$3,5,IF(W9='Look-up Tables'!$B$4,4,IF(W9='Look-up Tables'!$B$5,3,IF(W9='Look-up Tables'!$B$6,2,IF(W9='Look-up Tables'!$B$7,1)))))","v":false},null,{"$f":"IF(Y9='Look-up Tables'!$C$3,5,IF(Y9='Look-up Tables'!$C$4,4,IF(Y9='Look-up Tables'!$C$5,3,IF(Y9='Look-up Tables'!$C$6,2,IF(Y9='Look-up Tables'!$C$7,1)))))","v":false},{"$f":"IFERROR(VLOOKUP(AB9,'Look-up Tables'!$D$3:$E$127,2),\"\")","v":""},{"$f":"V9*X9*Z9","v":0}]
[null,"Vacuum Systems Fabrication","Cleanliness is not mainained",null,"Schedule delay, assembly does not meet vacuum level requirement","Minimal",{"$f":"IF(F10='Look-up Tables'!$A$3,5,IF(F10='Look-up Tables'!$A$4,4,IF(F10='Look-up Tables'!$A$5,3,IF(F10='Look-up Tables'!$A$6,2,IF(F10='Look-up Tables'!$A$7,1)))))","v":1},"UHV procedure is not defined or followed","Possible",{"$f":"IF(I10='Look-up Tables'!$B$3,5,IF(I10='Look-up Tables'!$B$4,4,IF(I10='Look-up Tables'!$B$5,3,IF(I10='Look-up Tables'!$B$6,2,IF(I10='Look-up Tables'!$B$7,1)))))","v":3},"Follow UHV standard","Leak checks, certification","Low",{"$f":"IF(M10='Look-up Tables'!$C$3,5,IF(M10='Look-up Tables'!$C$4,4,IF(M10='Look-up Tables'!$C$5,3,IF(M10='Look-up Tables'!$C$6,2,IF(M10='Look-up Tables'!$C$7,1)))))","v":4},{"$f":"IFERROR(VLOOKUP(P10,'Look-up Tables'!$D$3:$E$127,2),\"\")","v":"Minor"},12,"Follow UHV procedure, QC documentation, and travelers",null,null,null,null,{"$f":"IF(U10='Look-up Tables'!$A$3,5,IF(U10='Look-up Tables'!$A$4,4,IF(U10='Look-up Tables'!$A$5,3,IF(U10='Look-up Tables'!$A$6,2,IF(U10='Look-up Tables'!$A$7,1)))))","v":false},null,{"$f":"IF(W10='Look-up Tables'!$B$3,5,IF(W10='Look-up Tables'!$B$4,4,IF(W10='Look-up Tables'!$B$5,3,IF(W10='Look-up Tables'!$B$6,2,IF(W10='Look-up Tables'!$B$7,1)))))","v":false},null,{"$f":"IF(Y10='Look-up Tables'!$C$3,5,IF(Y10='Look-up Tables'!$C$4,4,IF(Y10='Look-up Tables'!$C$5,3,IF(Y10='Look-up Tables'!$C$6,2,IF(Y10='Look-up Tables'!$C$7,1)))))","v":false},{"$f":"IFERROR(VLOOKUP(AB10,'Look-up Tables'!$D$3:$E$127,2),\"\")","v":""},0]
[null,"Vacuum Systems Fabrication","Bellows leak",null,"Project schedule delay, assembly  leaks","Minimal",{"$f":"IF(F11='Look-up Tables'!$A$3,5,IF(F11='Look-up Tables'!$A$4,4,IF(F11='Look-up Tables'!$A$5,3,IF(F11='Look-up Tables'!$A$6,2,IF(F11='Look-up Tables'!$A$7,1)))))","v":1},"Restraint is not used when vacuum is pulled. When vacuum is pulled, bellows extend in directions not intended by bellows design","Likely",{"$f":"IF(I11='Look-up Tables'!$B$3,5,IF(I11='Look-up Tables'!$B$4,4,IF(I11='Look-up Tables'!$B$5,3,IF(I11='Look-up Tables'!$B$6,2,IF(I11='Look-up Tables'!$B$7,1)))))","v":4},"Technician experience","Leak checks, certification","Moderate",{"$f":"IF(M11='Look-up Tables'!$C$3,5,IF(M11='Look-up Tables'!$C$4,4,IF(M11='Look-up Tables'!$C$5,3,IF(M11='Look-up Tables'!$C$6,2,IF(M11='Look-up Tables'!$C$7,1)))))","v":3},{"$f":"IFERROR(VLOOKUP(P11,'Look-up Tables'!$D$3:$E$127,2),\"\")","v":"Minor"},12,null,null,null,null,null,{"$f":"IF(U11='Look-up Tables'!$A$3,5,IF(U11='Look-up Tables'!$A$4,4,IF(U11='Look-up Tables'!$A$5,3,IF(U11='Look-up Tables'!$A$6,2,IF(U11='Look-up Tables'!$A$7,1)))))","v":false},null,{"$f":"IF(W11='Look-up Tables'!$B$3,5,IF(W11='Look-up Tables'!$B$4,4,IF(W11='Look-up Tables'!$B$5,3,IF(W11='Look-up Tables'!$B$6,2,IF(W11='Look-up Tables'!$B$7,1)))))","v":false},null,{"$f":"IF(Y11='Look-up Tables'!$C$3,5,IF(Y11='Look-up Tables'!$C$4,4,IF(Y11='Look-up Tables'!$C$5,3,IF(Y11='Look-up Tables'!$C$6,2,IF(Y11='Look-up Tables'!$C$7,1)))))","v":false},{"$f":"IFERROR(VLOOKUP(AB11,'Look-up Tables'!$D$3:$E$127,2),\"\")","v":""},0]
[null,"Vacuum Systems Fabrication","Bellows leak",null,"Project schedule delay, assembly  leaks","Minimal",{"$f":"IF(F12='Look-up Tables'!$A$3,5,IF(F12='Look-up Tables'!$A$4,4,IF(F12='Look-up Tables'!$A$5,3,IF(F12='Look-up Tables'!$A$6,2,IF(F12='Look-up Tables'!$A$7,1)))))","v":1},"Damage from handling, use of tools","Likely",{"$f":"IF(I12='Look-up Tables'!$B$3,5,IF(I12='Look-up Tables'!$B$4,4,IF(I12='Look-up Tables'!$B$5,3,IF(I12='Look-up Tables'!$B$6,2,IF(I12='Look-up Tables'!$B$7,1)))))","v":4},"Technician experience","Leak checks, certification","Moderate",{"$f":"IF(M12='Look-up Tables'!$C$3,5,IF(M12='Look-up Tables'!$C$4,4,IF(M12='Look-up Tables'!$C$5,3,IF(M12='Look-up Tables'!$C$6,2,IF(M12='Look-up Tables'!$C$7,1)))))","v":3},{"$f":"IFERROR(VLOOKUP(P12,'Look-up Tables'!$D$3:$E$127,2),\"\")","v":"Minor"},{"$f":"G18*J18*N18","v":9},"Cover bellows with rubber protectors (worked well in Main Injector) or foam insulation",null,null,null,null,{"$f":"IF(U12='Look-up Tables'!$A$3,5,IF(U12='Look-up Tables'!$A$4,4,IF(U12='Look-up Tables'!$A$5,3,IF(U12='Look-up Tables'!$A$6,2,IF(U12='Look-up Tables'!$A$7,1)))))","v":false},null,{"$f":"IF(W12='Look-up Tables'!$B$3,5,IF(W12='Look-up Tables'!$B$4,4,IF(W12='Look-up Tables'!$B$5,3,IF(W12='Look-up Tables'!$B$6,2,IF(W12='Look-up Tables'!$B$7,1)))))","v":false},null,{"$f":"IF(Y12='Look-up Tables'!$C$3,5,IF(Y12='Look-up Tables'!$C$4,4,IF(Y12='Look-up Tables'!$C$5,3,IF(Y12='Look-up Tables'!$C$6,2,IF(Y12='Look-up Tables'!$C$7,1)))))","v":false},{"$f":"IFERROR(VLOOKUP(AB12,'Look-up Tables'!$D$3:$E$127,2),\"\")","v":""},0]
[null,"Vacuum Systems Fabrication","In-house assembly welds leak",null,"Project schedule delay, assembly  leaks","Minimal",{"$f":"IF(F13='Look-up Tables'!$A$3,5,IF(F13='Look-up Tables'!$A$4,4,IF(F13='Look-up Tables'!$A$5,3,IF(F13='Look-up Tables'!$A$6,2,IF(F13='Look-up Tables'!$A$7,1)))))","v":1},"Parts are not cleaned before welding, temeprature requirement not met (welding requirements not met)","Possible",{"$f":"IF(I13='Look-up Tables'!$B$3,5,IF(I13='Look-up Tables'!$B$4,4,IF(I13='Look-up Tables'!$B$5,3,IF(I13='Look-up Tables'!$B$6,2,IF(I13='Look-up Tables'!$B$7,1)))))","v":3},"Welder experience","Leak checks, certification","Moderate",{"$f":"IF(M13='Look-up Tables'!$C$3,5,IF(M13='Look-up Tables'!$C$4,4,IF(M13='Look-up Tables'!$C$5,3,IF(M13='Look-up Tables'!$C$6,2,IF(M13='Look-up Tables'!$C$7,1)))))","v":3},{"$f":"IFERROR(VLOOKUP(P13,'Look-up Tables'!$D$3:$E$127,2),\"\")","v":"Minor"},{"$f":"G19*J19*N19","v":9},null,null,null,null,null,{"$f":"IF(U13='Look-up Tables'!$A$3,5,IF(U13='Look-up Tables'!$A$4,4,IF(U13='Look-up Tables'!$A$5,3,IF(U13='Look-up Tables'!$A$6,2,IF(U13='Look-up Tables'!$A$7,1)))))","v":false},null,{"$f":"IF(W13='Look-up Tables'!$B$3,5,IF(W13='Look-up Tables'!$B$4,4,IF(W13='Look-up Tables'!$B$5,3,IF(W13='Look-up Tables'!$B$6,2,IF(W13='Look-up Tables'!$B$7,1)))))","v":false},null,{"$f":"IF(Y13='Look-up Tables'!$C$3,5,IF(Y13='Look-up Tables'!$C$4,4,IF(Y13='Look-up Tables'!$C$5,3,IF(Y13='Look-up Tables'!$C$6,2,IF(Y13='Look-up Tables'!$C$7,1)))))","v":false},{"$f":"IFERROR(VLOOKUP(AB13,'Look-up Tables'!$D$3:$E$127,2),\"\")","v":""},0]
[null,"Vacuum Systems Fabrication","Other vacuum HW leak at welds",null,"Project schedule delay, assembly  leaks","Minimal",{"$f":"IF(F14='Look-up Tables'!$A$3,5,IF(F14='Look-up Tables'!$A$4,4,IF(F14='Look-up Tables'!$A$5,3,IF(F14='Look-up Tables'!$A$6,2,IF(F14='Look-up Tables'!$A$7,1)))))","v":1},"Poor quality of welds from vendor, or during assembly","Possible",{"$f":"IF(I14='Look-up Tables'!$B$3,5,IF(I14='Look-up Tables'!$B$4,4,IF(I14='Look-up Tables'!$B$5,3,IF(I14='Look-up Tables'!$B$6,2,IF(I14='Look-up Tables'!$B$7,1)))))","v":3},"QC visual inspections","Leak checks, certification","Moderate",{"$f":"IF(M14='Look-up Tables'!$C$3,5,IF(M14='Look-up Tables'!$C$4,4,IF(M14='Look-up Tables'!$C$5,3,IF(M14='Look-up Tables'!$C$6,2,IF(M14='Look-up Tables'!$C$7,1)))))","v":3},{"$f":"IFERROR(VLOOKUP(P14,'Look-up Tables'!$D$3:$E$127,2),\"\")","v":"Minor"},{"$f":"G20*J20*N20","v":12},null,null,null,null,null,{"$f":"IF(U14='Look-up Tables'!$A$3,5,IF(U14='Look-up Tables'!$A$4,4,IF(U14='Look-up Tables'!$A$5,3,IF(U14='Look-up Tables'!$A$6,2,IF(U14='Look-up Tables'!$A$7,1)))))","v":false},null,{"$f":"IF(W14='Look-up Tables'!$B$3,5,IF(W14='Look-up Tables'!$B$4,4,IF(W14='Look-up Tables'!$B$5,3,IF(W14='Look-up Tables'!$B$6,2,IF(W14='Look-up Tables'!$B$7,1)))))","v":false},null,{"$f":"IF(Y14='Look-up Tables'!$C$3,5,IF(Y14='Look-up Tables'!$C$4,4,IF(Y14='Look-up Tables'!$C$5,3,IF(Y14='Look-up Tables'!$C$6,2,IF(Y14='Look-up Tables'!$C$7,1)))))","v":false},{"$f":"IFERROR(VLOOKUP(AB14,'Look-up Tables'!$D$3:$E$127,2),\"\")","v":""},0]
[null,"Vacuum Systems Fabrication","Vacuum connection leaks",null,"Project schedule delay, assembly  leaks","Minimal",{"$f":"IF(F15='Look-up Tables'!$A$3,5,IF(F15='Look-up Tables'!$A$4,4,IF(F15='Look-up Tables'!$A$5,3,IF(F15='Look-up Tables'!$A$6,2,IF(F15='Look-up Tables'!$A$7,1)))))","v":1},"Damaged mating face of device, damage of seal (scratch of gasket), missalignment, undetightening","Likely",{"$f":"IF(I15='Look-up Tables'!$B$3,5,IF(I15='Look-up Tables'!$B$4,4,IF(I15='Look-up Tables'!$B$5,3,IF(I15='Look-up Tables'!$B$6,2,IF(I15='Look-up Tables'!$B$7,1)))))","v":4},"Technician experience","Leak checks, certification","Moderate",{"$f":"IF(M15='Look-up Tables'!$C$3,5,IF(M15='Look-up Tables'!$C$4,4,IF(M15='Look-up Tables'!$C$5,3,IF(M15='Look-up Tables'!$C$6,2,IF(M15='Look-up Tables'!$C$7,1)))))","v":3},{"$f":"IFERROR(VLOOKUP(P15,'Look-up Tables'!$D$3:$E$127,2),\"\")","v":"Minor"},{"$f":"G23*J23*N23","v":9},"Visual inspection",null,null,null,null,{"$f":"IF(U15='Look-up Tables'!$A$3,5,IF(U15='Look-up Tables'!$A$4,4,IF(U15='Look-up Tables'!$A$5,3,IF(U15='Look-up Tables'!$A$6,2,IF(U15='Look-up Tables'!$A$7,1)))))","v":false},null,{"$f":"IF(W15='Look-up Tables'!$B$3,5,IF(W15='Look-up Tables'!$B$4,4,IF(W15='Look-up Tables'!$B$5,3,IF(W15='Look-up Tables'!$B$6,2,IF(W15='Look-up Tables'!$B$7,1)))))","v":false},null,{"$f":"IF(Y15='Look-up Tables'!$C$3,5,IF(Y15='Look-up Tables'!$C$4,4,IF(Y15='Look-up Tables'!$C$5,3,IF(Y15='Look-up Tables'!$C$6,2,IF(Y15='Look-up Tables'!$C$7,1)))))","v":false},{"$f":"IFERROR(VLOOKUP(AB15,'Look-up Tables'!$D$3:$E$127,2),\"\")","v":""},0]
[null,"Vacuum Systems Fabrication","Complete subassebly leaks",null,"Project schedule delay, assembly  leaks","Minimal",{"$f":"IF(F16='Look-up Tables'!$A$3,5,IF(F16='Look-up Tables'!$A$4,4,IF(F16='Look-up Tables'!$A$5,3,IF(F16='Look-up Tables'!$A$6,2,IF(F16='Look-up Tables'!$A$7,1)))))","v":1},"Damaged mating face of device, damage of seal (scratch of gasket), missalignment, undetightening","Likely",{"$f":"IF(I16='Look-up Tables'!$B$3,5,IF(I16='Look-up Tables'!$B$4,4,IF(I16='Look-up Tables'!$B$5,3,IF(I16='Look-up Tables'!$B$6,2,IF(I16='Look-up Tables'!$B$7,1)))))","v":4},"Technician experience","Leak checks, certification","Moderate",{"$f":"IF(M16='Look-up Tables'!$C$3,5,IF(M16='Look-up Tables'!$C$4,4,IF(M16='Look-up Tables'!$C$5,3,IF(M16='Look-up Tables'!$C$6,2,IF(M16='Look-up Tables'!$C$7,1)))))","v":3},{"$f":"IFERROR(VLOOKUP(P16,'Look-up Tables'!$D$3:$E$127,2),\"\")","v":"Negligible"},{"$f":"G24*J24*N24","v":6},"Subassembly leak check and certification",null,null,null,null,{"$f":"IF(U16='Look-up Tables'!$A$3,5,IF(U16='Look-up Tables'!$A$4,4,IF(U16='Look-up Tables'!$A$5,3,IF(U16='Look-up Tables'!$A$6,2,IF(U16='Look-up Tables'!$A$7,1)))))","v":false},null,{"$f":"IF(W16='Look-up Tables'!$B$3,5,IF(W16='Look-up Tables'!$B$4,4,IF(W16='Look-up Tables'!$B$5,3,IF(W16='Look-up Tables'!$B$6,2,IF(W16='Look-up Tables'!$B$7,1)))))","v":false},null,{"$f":"IF(Y16='Look-up Tables'!$C$3,5,IF(Y16='Look-up Tables'!$C$4,4,IF(Y16='Look-up Tables'!$C$5,3,IF(Y16='Look-up Tables'!$C$6,2,IF(Y16='Look-up Tables'!$C$7,1)))))","v":false},{"$f":"IFERROR(VLOOKUP(AB16,'Look-up Tables'!$D$3:$E$127,2),\"\")","v":""},0]
[null,null,null,null,null,null,null,null,null,null,null,null,null,null,null,{"$f":"#REF!*#REF!*#REF!","v":{"$error":"#REF!"}},null,null,null,null,null,{"$f":"IF(U17='Look-up Tables'!$A$3,5,IF(U17='Look-up Tables'!$A$4,4,IF(U17='Look-up Tables'!$A$5,3,IF(U17='Look-up Tables'!$A$6,2,IF(U17='Look-up Tables'!$A$7,1)))))","v":false},null,{"$f":"IF(W17='Look-up Tables'!$B$3,5,IF(W17='Look-up Tables'!$B$4,4,IF(W17='Look-up Tables'!$B$5,3,IF(W17='Look-up Tables'!$B$6,2,IF(W17='Look-up Tables'!$B$7,1)))))","v":false},null,{"$f":"IF(Y17='Look-up Tables'!$C$3,5,IF(Y17='Look-up Tables'!$C$4,4,IF(Y17='Look-up Tables'!$C$5,3,IF(Y17='Look-up Tables'!$C$6,2,IF(Y17='Look-up Tables'!$C$7,1)))))","v":false},{"$f":"IFERROR(VLOOKUP(AB17,'Look-up Tables'!$D$3:$E$127,2),\"\")","v":""},0]
[null,"Vacuum Systems Installation","Cleanliness is not mainained",null,"Vacuum level falls below requirements","Minimal",{"$f":"IF(F18='Look-up Tables'!$A$3,5,IF(F18='Look-up Tables'!$A$4,4,IF(F18='Look-up Tables'!$A$5,3,IF(F18='Look-up Tables'!$A$6,2,IF(F18='Look-up Tables'!$A$7,1)))))","v":1},"UHV procedure is not fully defined or followed","Possible",{"$f":"IF(I18='Look-up Tables'!$B$3,5,IF(I18='Look-up Tables'!$B$4,4,IF(I18='Look-up Tables'!$B$5,3,IF(I18='Look-up Tables'!$B$6,2,IF(I18='Look-up Tables'!$B$7,1)))))","v":3},"Current UHV procedure","Leak checks, certification","Moderate",{"$f":"IF(M18='Look-up Tables'!$C$3,5,IF(M18='Look-up Tables'!$C$4,4,IF(M18='Look-up Tables'!$C$5,3,IF(M18='Look-up Tables'!$C$6,2,IF(M18='Look-up Tables'!$C$7,1)))))","v":3},{"$f":"IFERROR(VLOOKUP(P18,'Look-up Tables'!$D$3:$E$127,2),\"\")","v":"Minor"},{"$f":"G18*J18*N18","v":9},null,null,null,null,null,{"$f":"IF(U18='Look-up Tables'!$A$3,5,IF(U18='Look-up Tables'!$A$4,4,IF(U18='Look-up Tables'!$A$5,3,IF(U18='Look-up Tables'!$A$6,2,IF(U18='Look-up Tables'!$A$7,1)))))","v":false},null,{"$f":"IF(W18='Look-up Tables'!$B$3,5,IF(W18='Look-up Tables'!$B$4,4,IF(W18='Look-up Tables'!$B$5,3,IF(W18='Look-up Tables'!$B$6,2,IF(W18='Look-up Tables'!$B$7,1)))))","v":false},null,{"$f":"IF(Y18='Look-up Tables'!$C$3,5,IF(Y18='Look-up Tables'!$C$4,4,IF(Y18='Look-up Tables'!$C$5,3,IF(Y18='Look-up Tables'!$C$6,2,IF(Y18='Look-up Tables'!$C$7,1)))))","v":false},{"$f":"IFERROR(VLOOKUP(AB18,'Look-up Tables'!$D$3:$E$127,2),\"\")","v":""},{"$f":"V18*X18*Z18","v":0}]
[null,"Vacuum Systems Installation","Bellows leak","Damage from tools","Vacuum level falls below requirements","Minimal",{"$f":"IF(F19='Look-up Tables'!$A$3,5,IF(F19='Look-up Tables'!$A$4,4,IF(F19='Look-up Tables'!$A$5,3,IF(F19='Look-up Tables'!$A$6,2,IF(F19='Look-up Tables'!$A$7,1)))))","v":1},"Damage from tools","Possible",{"$f":"IF(I19='Look-up Tables'!$B$3,5,IF(I19='Look-up Tables'!$B$4,4,IF(I19='Look-up Tables'!$B$5,3,IF(I19='Look-up Tables'!$B$6,2,IF(I19='Look-up Tables'!$B$7,1)))))","v":3},"Technician experience","Leak checks, certification","Moderate",{"$f":"IF(M19='Look-up Tables'!$C$3,5,IF(M19='Look-up Tables'!$C$4,4,IF(M19='Look-up Tables'!$C$5,3,IF(M19='Look-up Tables'!$C$6,2,IF(M19='Look-up Tables'!$C$7,1)))))","v":3},{"$f":"IFERROR(VLOOKUP(P19,'Look-up Tables'!$D$3:$E$127,2),\"\")","v":"Minor"},{"$f":"G19*J19*N19","v":9},null,null,null,null,null,{"$f":"IF(U19='Look-up Tables'!$A$3,5,IF(U19='Look-up Tables'!$A$4,4,IF(U19='Look-up Tables'!$A$5,3,IF(U19='Look-up Tables'!$A$6,2,IF(U19='Look-up Tables'!$A$7,1)))))","v":false},null,{"$f":"IF(W19='Look-up Tables'!$B$3,5,IF(W19='Look-up Tables'!$B$4,4,IF(W19='Look-up Tables'!$B$5,3,IF(W19='Look-up Tables'!$B$6,2,IF(W19='Look-up Tables'!$B$7,1)))))","v":false},null,{"$f":"IF(Y19='Look-up Tables'!$C$3,5,IF(Y19='Look-up Tables'!$C$4,4,IF(Y19='Look-up Tables'!$C$5,3,IF(Y19='Look-up Tables'!$C$6,2,IF(Y19='Look-up Tables'!$C$7,1)))))","v":false},{"$f":"IFERROR(VLOOKUP(AB19,'Look-up Tables'!$D$3:$E$127,2),\"\")","v":""},0]
[null,"Vacuum Systems Installation","Ceramic feedthroughs leak",null,"Vacuum level falls below requirements","Minimal",{"$f":"IF(F20='Look-up Tables'!$A$3,5,IF(F20='Look-up Tables'!$A$4,4,IF(F20='Look-up Tables'!$A$5,3,IF(F20='Look-up Tables'!$A$6,2,IF(F20='Look-up Tables'!$A$7,1)))))","v":1},"Accidental drops, incorrect cleaning, incorrect hanlding","Possible",{"$f":"IF(I20='Look-up Tables'!$B$3,5,IF(I20='Look-up Tables'!$B$4,4,IF(I20='Look-up Tables'!$B$5,3,IF(I20='Look-up Tables'!$B$6,2,IF(I20='Look-up Tables'!$B$7,1)))))","v":3},"Technician experience","Leak checks, certification","Low",{"$f":"IF(M20='Look-up Tables'!$C$3,5,IF(M20='Look-up Tables'!$C$4,4,IF(M20='Look-up Tables'!$C$5,3,IF(M20='Look-up Tables'!$C$6,2,IF(M20='Look-up Tables'!$C$7,1)))))","v":4},{"$f":"IFERROR(VLOOKUP(P20,'Look-up Tables'!$D$3:$E$127,2),\"\")","v":"Minor"},{"$f":"G20*J20*N20","v":12},null,null,null,null,null,{"$f":"IF(U20='Look-up Tables'!$A$3,5,IF(U20='Look-up Tables'!$A$4,4,IF(U20='Look-up Tables'!$A$5,3,IF(U20='Look-up Tables'!$A$6,2,IF(U20='Look-up Tables'!$A$7,1)))))","v":false},null,{"$f":"IF(W20='Look-up Tables'!$B$3,5,IF(W20='Look-up Tables'!$B$4,4,IF(W20='Look-up Tables'!$B$5,3,IF(W20='Look-up Tables'!$B$6,2,IF(W20='Look-up Tables'!$B$7,1)))))","v":false},null,{"$f":"IF(Y20='Look-up Tables'!$C$3,5,IF(Y20='Look-up Tables'!$C$4,4,IF(Y20='Look-up Tables'!$C$5,3,IF(Y20='Look-up Tables'!$C$6,2,IF(Y20='Look-up Tables'!$C$7,1)))))","v":false},{"$f":"IFERROR(VLOOKUP(AB20,'Look-up Tables'!$D$3:$E$127,2),\"\")","v":""},0]
[null,"Vacuum Systems Installation","Vacuum connection leaks",null,"Vacuum level falls below requirements","Minimal",{"$f":"IF(F21='Look-up Tables'!$A$3,5,IF(F21='Look-up Tables'!$A$4,4,IF(F21='Look-up Tables'!$A$5,3,IF(F21='Look-up Tables'!$A$6,2,IF(F21='Look-up Tables'!$A$7,1)))))","v":1},"Damaged mating face of device, damage of seal (scratch of gasket), missalignment, undetightening, cleanliness is not maintained","Possible",{"$f":"IF(I21='Look-up Tables'!$B$3,5,IF(I21='Look-up Tables'!$B$4,4,IF(I21='Look-up Tables'!$B$5,3,IF(I21='Look-up Tables'!$B$6,2,IF(I21='Look-up Tables'!$B$7,1)))))","v":3},"Technician experience","Leak checks, certification","Moderate",{"$f":"IF(M21='Look-up Tables'!$C$3,5,IF(M21='Look-up Tables'!$C$4,4,IF(M21='Look-up Tables'!$C$5,3,IF(M21='Look-up Tables'!$C$6,2,IF(M21='Look-up Tables'!$C$7,1)))))","v":3},{"$f":"IFERROR(VLOOKUP(P21,'Look-up Tables'!$D$3:$E$127,2),\"\")","v":"Minor"},{"$f":"G21*J21*N21","v":9},null,null,null,null,null,{"$f":"IF(U21='Look-up Tables'!$A$3,5,IF(U21='Look-up Tables'!$A$4,4,IF(U21='Look-up Tables'!$A$5,3,IF(U21='Look-up Tables'!$A$6,2,IF(U21='Look-up Tables'!$A$7,1)))))","v":false},null,{"$f":"IF(W21='Look-up Tables'!$B$3,5,IF(W21='Look-up Tables'!$B$4,4,IF(W21='Look-up Tables'!$B$5,3,IF(W21='Look-up Tables'!$B$6,2,IF(W21='Look-up Tables'!$B$7,1)))))","v":false},null,{"$f":"IF(Y21='Look-up Tables'!$C$3,5,IF(Y21='Look-up Tables'!$C$4,4,IF(Y21='Look-up Tables'!$C$5,3,IF(Y21='Look-up Tables'!$C$6,2,IF(Y21='Look-up Tables'!$C$7,1)))))","v":false},{"$f":"IFERROR(VLOOKUP(AB21,'Look-up Tables'!$D$3:$E$127,2),\"\")","v":""},0]
[]
[null,"Operations","Bellows fail",null,"Vacuum level falls below requirements ","Minimal",{"$f":"IF(F23='Look-up Tables'!$A$3,5,IF(F23='Look-up Tables'!$A$4,4,IF(F23='Look-up Tables'!$A$5,3,IF(F23='Look-up Tables'!$A$6,2,IF(F23='Look-up Tables'!$A$7,1)))))","v":1},"Beam hits bellows","Possible",{"$f":"IF(I23='Look-up Tables'!$B$3,5,IF(I23='Look-up Tables'!$B$4,4,IF(I23='Look-up Tables'!$B$5,3,IF(I23='Look-up Tables'!$B$6,2,IF(I23='Look-up Tables'!$B$7,1)))))","v":3},"Technician experience","Vacuum level data logging and alarms","Moderate",{"$f":"IF(M23='Look-up Tables'!$C$3,5,IF(M23='Look-up Tables'!$C$4,4,IF(M23='Look-up Tables'!$C$5,3,IF(M23='Look-up Tables'!$C$6,2,IF(M23='Look-up Tables'!$C$7,1)))))","v":3},{"$f":"IFERROR(VLOOKUP(P23,'Look-up Tables'!$D$3:$E$127,2),\"\")","v":"Minor"},9,null,null,null,null,null,{"$f":"IF(U23='Look-up Tables'!$A$3,5,IF(U23='Look-up Tables'!$A$4,4,IF(U23='Look-up Tables'!$A$5,3,IF(U23='Look-up Tables'!$A$6,2,IF(U23='Look-up Tables'!$A$7,1)))))","v":false},null,{"$f":"IF(W23='Look-up Tables'!$B$3,5,IF(W23='Look-up Tables'!$B$4,4,IF(W23='Look-up Tables'!$B$5,3,IF(W23='Look-up Tables'!$B$6,2,IF(W23='Look-up Tables'!$B$7,1)))))","v":false},null,{"$f":"IF(Y23='Look-up Tables'!$C$3,5,IF(Y23='Look-up Tables'!$C$4,4,IF(Y23='Look-up Tables'!$C$5,3,IF(Y23='Look-up Tables'!$C$6,2,IF(Y23='Look-up Tables'!$C$7,1)))))","v":false},{"$f":"IFERROR(VLOOKUP(AB23,'Look-up Tables'!$D$3:$E$127,2),\"\")","v":""},0]
[null,"Operations","Vacuum windows fail",null,"CMs are compromised","Medium",{"$f":"IF(F24='Look-up Tables'!$A$3,5,IF(F24='Look-up Tables'!$A$4,4,IF(F24='Look-up Tables'!$A$5,3,IF(F24='Look-up Tables'!$A$6,2,IF(F24='Look-up Tables'!$A$7,1)))))","v":3},"Thermomechanical fatigue, thermal expansion due to energy deposition from beam","Unlikely",{"$f":"IF(I24='Look-up Tables'!$B$3,5,IF(I24='Look-up Tables'!$B$4,4,IF(I24='Look-up Tables'!$B$5,3,IF(I24='Look-up Tables'!$B$6,2,IF(I24='Look-up Tables'!$B$7,1)))))","v":2},"Engineering Note review","Vacuum level data logging and alarms","Almost Certain",{"$f":"IF(M24='Look-up Tables'!$C$3,5,IF(M24='Look-up Tables'!$C$4,4,IF(M24='Look-up Tables'!$C$5,3,IF(M24='Look-up Tables'!$C$6,2,IF(M24='Look-up Tables'!$C$7,1)))))","v":1},{"$f":"IFERROR(VLOOKUP(P24,'Look-up Tables'!$D$3:$E$127,2),\"\")","v":"Negligible"},6,null,null,null,null,null,{"$f":"IF(U24='Look-up Tables'!$A$3,5,IF(U24='Look-up Tables'!$A$4,4,IF(U24='Look-up Tables'!$A$5,3,IF(U24='Look-up Tables'!$A$6,2,IF(U24='Look-up Tables'!$A$7,1)))))","v":false},null,{"$f":"IF(W24='Look-up Tables'!$B$3,5,IF(W24='Look-up Tables'!$B$4,4,IF(W24='Look-up Tables'!$B$5,3,IF(W24='Look-up Tables'!$B$6,2,IF(W24='Look-up Tables'!$B$7,1)))))","v":false},null,{"$f":"IF(Y24='Look-up Tables'!$C$3,5,IF(Y24='Look-up Tables'!$C$4,4,IF(Y24='Look-up Tables'!$C$5,3,IF(Y24='Look-up Tables'!$C$6,2,IF(Y24='Look-up Tables'!$C$7,1)))))","v":false},{"$f":"IFERROR(VLOOKUP(AB24,'Look-up Tables'!$D$3:$E$127,2),\"\")","v":""},0]
[null,"Operations","Leak develops over time",null,"Vacuum level falls below requirements","Minimal",{"$f":"IF(F25='Look-up Tables'!$A$3,5,IF(F25='Look-up Tables'!$A$4,4,IF(F25='Look-up Tables'!$A$5,3,IF(F25='Look-up Tables'!$A$6,2,IF(F25='Look-up Tables'!$A$7,1)))))","v":1},"Vacuum joint not fully sealed","Possible",{"$f":"IF(I25='Look-up Tables'!$B$3,5,IF(I25='Look-up Tables'!$B$4,4,IF(I25='Look-up Tables'!$B$5,3,IF(I25='Look-up Tables'!$B$6,2,IF(I25='Look-up Tables'!$B$7,1)))))","v":3},"Technician experience","Vacuum level data logging and alarms","Moderate",{"$f":"IF(M25='Look-up Tables'!$C$3,5,IF(M25='Look-up Tables'!$C$4,4,IF(M25='Look-up Tables'!$C$5,3,IF(M25='Look-up Tables'!$C$6,2,IF(M25='Look-up Tables'!$C$7,1)))))","v":3},{"$f":"IFERROR(VLOOKUP(P25,'Look-up Tables'!$D$3:$E$127,2),\"\")","v":"Minor"},9,null,null,null,null,null,{"$f":"IF(U25='Look-up Tables'!$A$3,5,IF(U25='Look-up Tables'!$A$4,4,IF(U25='Look-up Tables'!$A$5,3,IF(U25='Look-up Tables'!$A$6,2,IF(U25='Look-up Tables'!$A$7,1)))))","v":false},null,{"$f":"IF(W25='Look-up Tables'!$B$3,5,IF(W25='Look-up Tables'!$B$4,4,IF(W25='Look-up Tables'!$B$5,3,IF(W25='Look-up Tables'!$B$6,2,IF(W25='Look-up Tables'!$B$7,1)))))","v":false},null,{"$f":"IF(Y25='Look-up Tables'!$C$3,5,IF(Y25='Look-up Tables'!$C$4,4,IF(Y25='Look-up Tables'!$C$5,3,IF(Y25='Look-up Tables'!$C$6,2,IF(Y25='Look-up Tables'!$C$7,1)))))","v":false},{"$f":"IFERROR(VLOOKUP(AB25,'Look-up Tables'!$D$3:$E$127,2),\"\")","v":""},0]
[null,"Operations","Electrical arcing  at ion pump connectors",null,"Ion pump leaks, pump is damaged","Minimal",{"$f":"IF(F26='Look-up Tables'!$A$3,5,IF(F26='Look-up Tables'!$A$4,4,IF(F26='Look-up Tables'!$A$5,3,IF(F26='Look-up Tables'!$A$6,2,IF(F26='Look-up Tables'!$A$7,1)))))","v":1},"Incorrect connector is used for ion pump","Possible",{"$f":"IF(I26='Look-up Tables'!$B$3,5,IF(I26='Look-up Tables'!$B$4,4,IF(I26='Look-up Tables'!$B$5,3,IF(I26='Look-up Tables'!$B$6,2,IF(I26='Look-up Tables'!$B$7,1)))))","v":3},"Current QC practices during assembly","Vacuum level data logging and alarms","Moderate",{"$f":"IF(M26='Look-up Tables'!$C$3,5,IF(M26='Look-up Tables'!$C$4,4,IF(M26='Look-up Tables'!$C$5,3,IF(M26='Look-up Tables'!$C$6,2,IF(M26='Look-up Tables'!$C$7,1)))))","v":3},{"$f":"IFERROR(VLOOKUP(P26,'Look-up Tables'!$D$3:$E$127,2),\"\")","v":"Minor"},9,null,null,null,null,null,{"$f":"IF(U26='Look-up Tables'!$A$3,5,IF(U26='Look-up Tables'!$A$4,4,IF(U26='Look-up Tables'!$A$5,3,IF(U26='Look-up Tables'!$A$6,2,IF(U26='Look-up Tables'!$A$7,1)))))","v":false},null,{"$f":"IF(W26='Look-up Tables'!$B$3,5,IF(W26='Look-up Tables'!$B$4,4,IF(W26='Look-up Tables'!$B$5,3,IF(W26='Look-up Tables'!$B$6,2,IF(W26='Look-up Tables'!$B$7,1)))))","v":false},null,{"$f":"IF(Y26='Look-up Tables'!$C$3,5,IF(Y26='Look-up Tables'!$C$4,4,IF(Y26='Look-up Tables'!$C$5,3,IF(Y26='Look-up Tables'!$C$6,2,IF(Y26='Look-up Tables'!$C$7,1)))))","v":false},{"$f":"IFERROR(VLOOKUP(AB26,'Look-up Tables'!$D$3:$E$127,2),\"\")","v":""},0]
[null,"Operations","CC gauges fail in insulating vacuum",null,"Vacuum level falls below requirements","Minimal",{"$f":"IF(F27='Look-up Tables'!$A$3,5,IF(F27='Look-up Tables'!$A$4,4,IF(F27='Look-up Tables'!$A$5,3,IF(F27='Look-up Tables'!$A$6,2,IF(F27='Look-up Tables'!$A$7,1)))))","v":1},"Gauges operate beyond life of component (cooldown and warm up cycles of CMs), poor cleanliness of insulating vacuum","Possible",{"$f":"IF(I27='Look-up Tables'!$B$3,5,IF(I27='Look-up Tables'!$B$4,4,IF(I27='Look-up Tables'!$B$5,3,IF(I27='Look-up Tables'!$B$6,2,IF(I27='Look-up Tables'!$B$7,1)))))","v":3},"Maintenance, installation date records","Vacuum level data logging and alarms","High",{"$f":"IF(M27='Look-up Tables'!$C$3,5,IF(M27='Look-up Tables'!$C$4,4,IF(M27='Look-up Tables'!$C$5,3,IF(M27='Look-up Tables'!$C$6,2,IF(M27='Look-up Tables'!$C$7,1)))))","v":2},{"$f":"IFERROR(VLOOKUP(P27,'Look-up Tables'!$D$3:$E$127,2),\"\")","v":"Negligible"},6,"Design insulating vacuum systems to allow replacement of failed CC gauges. Add a filter in front of CC gauge. Record hours of operation, maintain when needed.",null,null,null,null,{"$f":"IF(U27='Look-up Tables'!$A$3,5,IF(U27='Look-up Tables'!$A$4,4,IF(U27='Look-up Tables'!$A$5,3,IF(U27='Look-up Tables'!$A$6,2,IF(U27='Look-up Tables'!$A$7,1)))))","v":false},null,{"$f":"IF(W27='Look-up Tables'!$B$3,5,IF(W27='Look-up Tables'!$B$4,4,IF(W27='Look-up Tables'!$B$5,3,IF(W27='Look-up Tables'!$B$6,2,IF(W27='Look-up Tables'!$B$7,1)))))","v":false},null,{"$f":"IF(Y27='Look-up Tables'!$C$3,5,IF(Y27='Look-up Tables'!$C$4,4,IF(Y27='Look-up Tables'!$C$5,3,IF(Y27='Look-up Tables'!$C$6,2,IF(Y27='Look-up Tables'!$C$7,1)))))","v":false},{"$f":"IFERROR(VLOOKUP(AB27,'Look-up Tables'!$D$3:$E$127,2),\"\")","v":""},0]
[null,"Operations","Scroll pump fails",null,"Vacuum level falls below requirements","Minimal",{"$f":"IF(F28='Look-up Tables'!$A$3,5,IF(F28='Look-up Tables'!$A$4,4,IF(F28='Look-up Tables'!$A$5,3,IF(F28='Look-up Tables'!$A$6,2,IF(F28='Look-up Tables'!$A$7,1)))))","v":1},"Pump runs past its operating limit, moisture (initial pumping, when pumping warm)","Possible",{"$f":"IF(I28='Look-up Tables'!$B$3,5,IF(I28='Look-up Tables'!$B$4,4,IF(I28='Look-up Tables'!$B$5,3,IF(I28='Look-up Tables'!$B$6,2,IF(I28='Look-up Tables'!$B$7,1)))))","v":3},"Maintenance, installation date records","Vacuum level data logging and alarms","High",{"$f":"IF(M28='Look-up Tables'!$C$3,5,IF(M28='Look-up Tables'!$C$4,4,IF(M28='Look-up Tables'!$C$5,3,IF(M28='Look-up Tables'!$C$6,2,IF(M28='Look-up Tables'!$C$7,1)))))","v":2},{"$f":"IFERROR(VLOOKUP(P28,'Look-up Tables'!$D$3:$E$127,2),\"\")","v":"Negligible"},6,"Record hours of operation, maintain when needed. For moisture, backfill with nitrogen before pumping down, ensure pump port does not point up.",null,null,null,null,{"$f":"IF(U28='Look-up Tables'!$A$3,5,IF(U28='Look-up Tables'!$A$4,4,IF(U28='Look-up Tables'!$A$5,3,IF(U28='Look-up Tables'!$A$6,2,IF(U28='Look-up Tables'!$A$7,1)))))","v":false},null,{"$f":"IF(W28='Look-up Tables'!$B$3,5,IF(W28='Look-up Tables'!$B$4,4,IF(W28='Look-up Tables'!$B$5,3,IF(W28='Look-up Tables'!$B$6,2,IF(W28='Look-up Tables'!$B$7,1)))))","v":false},null,{"$f":"IF(Y28='Look-up Tables'!$C$3,5,IF(Y28='Look-up Tables'!$C$4,4,IF(Y28='Look-up Tables'!$C$5,3,IF(Y28='Look-up Tables'!$C$6,2,IF(Y28='Look-up Tables'!$C$7,1)))))","v":false},{"$f":"IFERROR(VLOOKUP(AB28,'Look-up Tables'!$D$3:$E$127,2),\"\")","v":""},0]
[null,"Operations","Turbo pump fails",null,"Vacuum level falls below requirements","Minimal",{"$f":"IF(F29='Look-up Tables'!$A$3,5,IF(F29='Look-up Tables'!$A$4,4,IF(F29='Look-up Tables'!$A$5,3,IF(F29='Look-up Tables'!$A$6,2,IF(F29='Look-up Tables'!$A$7,1)))))","v":1},"Pump runs past its operating limit","Possible",{"$f":"IF(I29='Look-up Tables'!$B$3,5,IF(I29='Look-up Tables'!$B$4,4,IF(I29='Look-up Tables'!$B$5,3,IF(I29='Look-up Tables'!$B$6,2,IF(I29='Look-up Tables'!$B$7,1)))))","v":3},"Maintenance, installation date records","Vacuum level data logging and alarms","High",{"$f":"IF(M29='Look-up Tables'!$C$3,5,IF(M29='Look-up Tables'!$C$4,4,IF(M29='Look-up Tables'!$C$5,3,IF(M29='Look-up Tables'!$C$6,2,IF(M29='Look-up Tables'!$C$7,1)))))","v":2},{"$f":"IFERROR(VLOOKUP(P29,'Look-up Tables'!$D$3:$E$127,2),\"\")","v":"Negligible"},6,"Record hours of operation, maintain as defined by vendor. ",null,null,null,null,{"$f":"IF(U29='Look-up Tables'!$A$3,5,IF(U29='Look-up Tables'!$A$4,4,IF(U29='Look-up Tables'!$A$5,3,IF(U29='Look-up Tables'!$A$6,2,IF(U29='Look-up Tables'!$A$7,1)))))","v":false},null,{"$f":"IF(W29='Look-up Tables'!$B$3,5,IF(W29='Look-up Tables'!$B$4,4,IF(W29='Look-up Tables'!$B$5,3,IF(W29='Look-up Tables'!$B$6,2,IF(W29='Look-up Tables'!$B$7,1)))))","v":false},null,{"$f":"IF(Y29='Look-up Tables'!$C$3,5,IF(Y29='Look-up Tables'!$C$4,4,IF(Y29='Look-up Tables'!$C$5,3,IF(Y29='Look-up Tables'!$C$6,2,IF(Y29='Look-up Tables'!$C$7,1)))))","v":false},{"$f":"IFERROR(VLOOKUP(AB29,'Look-up Tables'!$D$3:$E$127,2),\"\")","v":""},0]
[null,"Operations","Vacuum gauge controller fails",null,"Vacuum level falls below requirements","Minimal",{"$f":"IF(F30='Look-up Tables'!$A$3,5,IF(F30='Look-up Tables'!$A$4,4,IF(F30='Look-up Tables'!$A$5,3,IF(F30='Look-up Tables'!$A$6,2,IF(F30='Look-up Tables'!$A$7,1)))))","v":1},"Controller runs past its operating limit","Possible",{"$f":"IF(I30='Look-up Tables'!$B$3,5,IF(I30='Look-up Tables'!$B$4,4,IF(I30='Look-up Tables'!$B$5,3,IF(I30='Look-up Tables'!$B$6,2,IF(I30='Look-up Tables'!$B$7,1)))))","v":3},"Maintenance, installation date records","Vacuum level data logging and alarms","High",{"$f":"IF(M30='Look-up Tables'!$C$3,5,IF(M30='Look-up Tables'!$C$4,4,IF(M30='Look-up Tables'!$C$5,3,IF(M30='Look-up Tables'!$C$6,2,IF(M30='Look-up Tables'!$C$7,1)))))","v":2},{"$f":"IFERROR(VLOOKUP(P30,'Look-up Tables'!$D$3:$E$127,2),\"\")","v":"Negligible"},6,"Record hours of operation, maintain when needed.",null,null,null,null,{"$f":"IF(U30='Look-up Tables'!$A$3,5,IF(U30='Look-up Tables'!$A$4,4,IF(U30='Look-up Tables'!$A$5,3,IF(U30='Look-up Tables'!$A$6,2,IF(U30='Look-up Tables'!$A$7,1)))))","v":false},null,{"$f":"IF(W30='Look-up Tables'!$B$3,5,IF(W30='Look-up Tables'!$B$4,4,IF(W30='Look-up Tables'!$B$5,3,IF(W30='Look-up Tables'!$B$6,2,IF(W30='Look-up Tables'!$B$7,1)))))","v":false},null,{"$f":"IF(Y30='Look-up Tables'!$C$3,5,IF(Y30='Look-up Tables'!$C$4,4,IF(Y30='Look-up Tables'!$C$5,3,IF(Y30='Look-up Tables'!$C$6,2,IF(Y30='Look-up Tables'!$C$7,1)))))","v":false},{"$f":"IFERROR(VLOOKUP(AB30,'Look-up Tables'!$D$3:$E$127,2),\"\")","v":""},0]
[null,"Operations","Vacuum gauge controller fails",null,"Vacuum level falls below requirements","Minimal",{"$f":"IF(F31='Look-up Tables'!$A$3,5,IF(F31='Look-up Tables'!$A$4,4,IF(F31='Look-up Tables'!$A$5,3,IF(F31='Look-up Tables'!$A$6,2,IF(F31='Look-up Tables'!$A$7,1)))))","v":1},"Turbo pump fails, turbo pump temp increases, then crontroller fails.","Possible",{"$f":"IF(I31='Look-up Tables'!$B$3,5,IF(I31='Look-up Tables'!$B$4,4,IF(I31='Look-up Tables'!$B$5,3,IF(I31='Look-up Tables'!$B$6,2,IF(I31='Look-up Tables'!$B$7,1)))))","v":3},"Maintenance, installation date records","Vacuum level data logging and alarms","High",{"$f":"IF(M31='Look-up Tables'!$C$3,5,IF(M31='Look-up Tables'!$C$4,4,IF(M31='Look-up Tables'!$C$5,3,IF(M31='Look-up Tables'!$C$6,2,IF(M31='Look-up Tables'!$C$7,1)))))","v":2},{"$f":"IFERROR(VLOOKUP(P31,'Look-up Tables'!$D$3:$E$127,2),\"\")","v":"Negligible"},6,"Temperature readback on turbo pumps",null,null,null,null,{"$f":"IF(U31='Look-up Tables'!$A$3,5,IF(U31='Look-up Tables'!$A$4,4,IF(U31='Look-up Tables'!$A$5,3,IF(U31='Look-up Tables'!$A$6,2,IF(U31='Look-up Tables'!$A$7,1)))))","v":false},null,{"$f":"IF(W31='Look-up Tables'!$B$3,5,IF(W31='Look-up Tables'!$B$4,4,IF(W31='Look-up Tables'!$B$5,3,IF(W31='Look-up Tables'!$B$6,2,IF(W31='Look-up Tables'!$B$7,1)))))","v":false},null,{"$f":"IF(Y31='Look-up Tables'!$C$3,5,IF(Y31='Look-up Tables'!$C$4,4,IF(Y31='Look-up Tables'!$C$5,3,IF(Y31='Look-up Tables'!$C$6,2,IF(Y31='Look-up Tables'!$C$7,1)))))","v":false},{"$f":"IFERROR(VLOOKUP(AB31,'Look-up Tables'!$D$3:$E$127,2),\"\")","v":""},0]
[null,"Operations","Vacuum opttical viewports fail",null,"Loss of vacuum, particles migrate to cryomodules","Medium",{"$f":"IF(F32='Look-up Tables'!$A$3,5,IF(F32='Look-up Tables'!$A$4,4,IF(F32='Look-up Tables'!$A$5,3,IF(F32='Look-up Tables'!$A$6,2,IF(F32='Look-up Tables'!$A$7,1)))))","v":3},"Thermomechanical fatigue, thermal expansion due to energy deposition from laser","Possible",{"$f":"IF(I32='Look-up Tables'!$B$3,5,IF(I32='Look-up Tables'!$B$4,4,IF(I32='Look-up Tables'!$B$5,3,IF(I32='Look-up Tables'!$B$6,2,IF(I32='Look-up Tables'!$B$7,1)))))","v":3},"Engineering analysis","Vacuum level data logging and alarms","High",{"$f":"IF(M32='Look-up Tables'!$C$3,5,IF(M32='Look-up Tables'!$C$4,4,IF(M32='Look-up Tables'!$C$5,3,IF(M32='Look-up Tables'!$C$6,2,IF(M32='Look-up Tables'!$C$7,1)))))","v":2},{"$f":"IFERROR(VLOOKUP(P32,'Look-up Tables'!$D$3:$E$127,2),\"\")","v":"Minor"},18,null,null,null,null,null,{"$f":"IF(U32='Look-up Tables'!$A$3,5,IF(U32='Look-up Tables'!$A$4,4,IF(U32='Look-up Tables'!$A$5,3,IF(U32='Look-up Tables'!$A$6,2,IF(U32='Look-up Tables'!$A$7,1)))))","v":false},null,{"$f":"IF(W32='Look-up Tables'!$B$3,5,IF(W32='Look-up Tables'!$B$4,4,IF(W32='Look-up Tables'!$B$5,3,IF(W32='Look-up Tables'!$B$6,2,IF(W32='Look-up Tables'!$B$7,1)))))","v":false},null,{"$f":"IF(Y32='Look-up Tables'!$C$3,5,IF(Y32='Look-up Tables'!$C$4,4,IF(Y32='Look-up Tables'!$C$5,3,IF(Y32='Look-up Tables'!$C$6,2,IF(Y32='Look-up Tables'!$C$7,1)))))","v":false},{"$f":"IFERROR(VLOOKUP(AB32,'Look-up Tables'!$D$3:$E$127,2),\"\")","v":""},0]
[null,"Operations","Electrocution Risk",null,"Electrocution, Loss of Personnel Safety and Efficiency","Low",{"$f":"IF(F33='Look-up Tables'!$A$3,5,IF(F33='Look-up Tables'!$A$4,4,IF(F33='Look-up Tables'!$A$5,3,IF(F33='Look-up Tables'!$A$6,2,IF(F33='Look-up Tables'!$A$7,1)))))","v":2},"Not following a safe process","Possible",{"$f":"IF(I33='Look-up Tables'!$B$3,5,IF(I33='Look-up Tables'!$B$4,4,IF(I33='Look-up Tables'!$B$5,3,IF(I33='Look-up Tables'!$B$6,2,IF(I33='Look-up Tables'!$B$7,1)))))","v":3},"LOTO Procedures","Visual cues","Almost Certain",{"$f":"IF(M33='Look-up Tables'!$C$3,5,IF(M33='Look-up Tables'!$C$4,4,IF(M33='Look-up Tables'!$C$5,3,IF(M33='Look-up Tables'!$C$6,2,IF(M33='Look-up Tables'!$C$7,1)))))","v":1},{"$f":"IFERROR(VLOOKUP(P33,'Look-up Tables'!$D$3:$E$127,2),\"\")","v":"Negligible"},6,"Proper signage, guarding, documentation of use of LOTO procedures",null,null,null,null,{"$f":"IF(U33='Look-up Tables'!$A$3,5,IF(U33='Look-up Tables'!$A$4,4,IF(U33='Look-up Tables'!$A$5,3,IF(U33='Look-up Tables'!$A$6,2,IF(U33='Look-up Tables'!$A$7,1)))))","v":false},null,{"$f":"IF(W33='Look-up Tables'!$B$3,5,IF(W33='Look-up Tables'!$B$4,4,IF(W33='Look-up Tables'!$B$5,3,IF(W33='Look-up Tables'!$B$6,2,IF(W33='Look-up Tables'!$B$7,1)))))","v":false},null,{"$f":"IF(Y33='Look-up Tables'!$C$3,5,IF(Y33='Look-up Tables'!$C$4,4,IF(Y33='Look-up Tables'!$C$5,3,IF(Y33='Look-up Tables'!$C$6,2,IF(Y33='Look-up Tables'!$C$7,1)))))","v":false},{"$f":"IFERROR(VLOOKUP(AB33,'Look-up Tables'!$D$3:$E$127,2),\"\")","v":""},0]
[null,"Operations","Vacuum Leak across WFE/Linac/BTL Interfaces","adjacent section/machine vacuum","CMs are compromised","High",{"$f":"IF(F34='Look-up Tables'!$A$3,5,IF(F34='Look-up Tables'!$A$4,4,IF(F34='Look-up Tables'!$A$5,3,IF(F34='Look-up Tables'!$A$6,2,IF(F34='Look-up Tables'!$A$7,1)))))","v":4},"Item falls onto or bumps beamline","Unlikely",{"$f":"IF(I34='Look-up Tables'!$B$3,5,IF(I34='Look-up Tables'!$B$4,4,IF(I34='Look-up Tables'!$B$5,3,IF(I34='Look-up Tables'!$B$6,2,IF(I34='Look-up Tables'!$B$7,1)))))","v":2},"Technician experience, valves close","Vacuum level data logging and alarms","Almost Certain",{"$f":"IF(M34='Look-up Tables'!$C$3,5,IF(M34='Look-up Tables'!$C$4,4,IF(M34='Look-up Tables'!$C$5,3,IF(M34='Look-up Tables'!$C$6,2,IF(M34='Look-up Tables'!$C$7,1)))))","v":1},{"$f":"IFERROR(VLOOKUP(P34,'Look-up Tables'!$D$3:$E$127,2),\"\")","v":"Minor"},8,null,null,null,null,null,{"$f":"IF(U34='Look-up Tables'!$A$3,5,IF(U34='Look-up Tables'!$A$4,4,IF(U34='Look-up Tables'!$A$5,3,IF(U34='Look-up Tables'!$A$6,2,IF(U34='Look-up Tables'!$A$7,1)))))","v":false},null,{"$f":"IF(W34='Look-up Tables'!$B$3,5,IF(W34='Look-up Tables'!$B$4,4,IF(W34='Look-up Tables'!$B$5,3,IF(W34='Look-up Tables'!$B$6,2,IF(W34='Look-up Tables'!$B$7,1)))))","v":false},null,{"$f":"IF(Y34='Look-up Tables'!$C$3,5,IF(Y34='Look-up Tables'!$C$4,4,IF(Y34='Look-up Tables'!$C$5,3,IF(Y34='Look-up Tables'!$C$6,2,IF(Y34='Look-up Tables'!$C$7,1)))))","v":false},{"$f":"IFERROR(VLOOKUP(AB34,'Look-up Tables'!$D$3:$E$127,2),\"\")","v":""},0]
[null,"Operations","Vacuum leak across BTL/Booster interface","adjacent section/machine vacuum","Air inrush to adjacent machine","Low",{"$f":"IF(F35='Look-up Tables'!$A$3,5,IF(F35='Look-up Tables'!$A$4,4,IF(F35='Look-up Tables'!$A$5,3,IF(F35='Look-up Tables'!$A$6,2,IF(F35='Look-up Tables'!$A$7,1)))))","v":2},"Item falls onto or bumps beamline","Unlikely",{"$f":"IF(I35='Look-up Tables'!$B$3,5,IF(I35='Look-up Tables'!$B$4,4,IF(I35='Look-up Tables'!$B$5,3,IF(I35='Look-up Tables'!$B$6,2,IF(I35='Look-up Tables'!$B$7,1)))))","v":2},"Technician experience, valves close","Datalogged vacuum inputs for alarms and MPS sector valve closures communicate with both beamlines.","Almost Certain",{"$f":"IF(M35='Look-up Tables'!$C$3,5,IF(M35='Look-up Tables'!$C$4,4,IF(M35='Look-up Tables'!$C$5,3,IF(M35='Look-up Tables'!$C$6,2,IF(M35='Look-up Tables'!$C$7,1)))))","v":1},{"$f":"IFERROR(VLOOKUP(P35,'Look-up Tables'!$D$3:$E$127,2),\"\")","v":"Negligible"},4,null,null,null,null,null,{"$f":"IF(U35='Look-up Tables'!$A$3,5,IF(U35='Look-up Tables'!$A$4,4,IF(U35='Look-up Tables'!$A$5,3,IF(U35='Look-up Tables'!$A$6,2,IF(U35='Look-up Tables'!$A$7,1)))))","v":false},null,{"$f":"IF(W35='Look-up Tables'!$B$3,5,IF(W35='Look-up Tables'!$B$4,4,IF(W35='Look-up Tables'!$B$5,3,IF(W35='Look-up Tables'!$B$6,2,IF(W35='Look-up Tables'!$B$7,1)))))","v":false},null,{"$f":"IF(Y35='Look-up Tables'!$C$3,5,IF(Y35='Look-up Tables'!$C$4,4,IF(Y35='Look-up Tables'!$C$5,3,IF(Y35='Look-up Tables'!$C$6,2,IF(Y35='Look-up Tables'!$C$7,1)))))","v":false},{"$f":"IFERROR(VLOOKUP(AB35,'Look-up Tables'!$D$3:$E$127,2),\"\")","v":""},0]
[null,null,null,null,null,null,{"$f":"IF(F36='Look-up Tables'!$A$3,5,IF(F36='Look-up Tables'!$A$4,4,IF(F36='Look-up Tables'!$A$5,3,IF(F36='Look-up Tables'!$A$6,2,IF(F36='Look-up Tables'!$A$7,1)))))","v":false},null,null,{"$f":"IF(I36='Look-up Tables'!$B$3,5,IF(I36='Look-up Tables'!$B$4,4,IF(I36='Look-up Tables'!$B$5,3,IF(I36='Look-up Tables'!$B$6,2,IF(I36='Look-up Tables'!$B$7,1)))))","v":false},null,null,null,{"$f":"IF(M36='Look-up Tables'!$C$3,5,IF(M36='Look-up Tables'!$C$4,4,IF(M36='Look-up Tables'!$C$5,3,IF(M36='Look-up Tables'!$C$6,2,IF(M36='Look-up Tables'!$C$7,1)))))","v":false},{"$f":"IFERROR(VLOOKUP(P36,'Look-up Tables'!$D$3:$E$127,2),\"\")","v":""},0,null,null,null,null,null,{"$f":"IF(U36='Look-up Tables'!$A$3,5,IF(U36='Look-up Tables'!$A$4,4,IF(U36='Look-up Tables'!$A$5,3,IF(U36='Look-up Tables'!$A$6,2,IF(U36='Look-up Tables'!$A$7,1)))))","v":false},null,{"$f":"IF(W36='Look-up Tables'!$B$3,5,IF(W36='Look-up Tables'!$B$4,4,IF(W36='Look-up Tables'!$B$5,3,IF(W36='Look-up Tables'!$B$6,2,IF(W36='Look-up Tables'!$B$7,1)))))","v":false},null,{"$f":"IF(Y36='Look-up Tables'!$C$3,5,IF(Y36='Look-up Tables'!$C$4,4,IF(Y36='Look-up Tables'!$C$5,3,IF(Y36='Look-up Tables'!$C$6,2,IF(Y36='Look-up Tables'!$C$7,1)))))","v":false},{"$f":"IFERROR(VLOOKUP(AB36,'Look-up Tables'!$D$3:$E$127,2),\"\")","v":""},0]
[null,null,null,null,null,null,{"$f":"IF(F37='Look-up Tables'!$A$3,5,IF(F37='Look-up Tables'!$A$4,4,IF(F37='Look-up Tables'!$A$5,3,IF(F37='Look-up Tables'!$A$6,2,IF(F37='Look-up Tables'!$A$7,1)))))","v":false},null,null,{"$f":"IF(I37='Look-up Tables'!$B$3,5,IF(I37='Look-up Tables'!$B$4,4,IF(I37='Look-up Tables'!$B$5,3,IF(I37='Look-up Tables'!$B$6,2,IF(I37='Look-up Tables'!$B$7,1)))))","v":false},null,null,null,{"$f":"IF(M37='Look-up Tables'!$C$3,5,IF(M37='Look-up Tables'!$C$4,4,IF(M37='Look-up Tables'!$C$5,3,IF(M37='Look-up Tables'!$C$6,2,IF(M37='Look-up Tables'!$C$7,1)))))","v":false},{"$f":"IFERROR(VLOOKUP(P37,'Look-up Tables'!$D$3:$E$127,2),\"\")","v":""},0,null,null,null,null,null,{"$f":"IF(U37='Look-up Tables'!$A$3,5,IF(U37='Look-up Tables'!$A$4,4,IF(U37='Look-up Tables'!$A$5,3,IF(U37='Look-up Tables'!$A$6,2,IF(U37='Look-up Tables'!$A$7,1)))))","v":false},null,{"$f":"IF(W37='Look-up Tables'!$B$3,5,IF(W37='Look-up Tables'!$B$4,4,IF(W37='Look-up Tables'!$B$5,3,IF(W37='Look-up Tables'!$B$6,2,IF(W37='Look-up Tables'!$B$7,1)))))","v":false},null,{"$f":"IF(Y37='Look-up Tables'!$C$3,5,IF(Y37='Look-up Tables'!$C$4,4,IF(Y37='Look-up Tables'!$C$5,3,IF(Y37='Look-up Tables'!$C$6,2,IF(Y37='Look-up Tables'!$C$7,1)))))","v":false},{"$f":"IFERROR(VLOOKUP(AB37,'Look-up Tables'!$D$3:$E$127,2),\"\")","v":""},0]
[null,null,null,null,null,null,{"$f":"IF(F38='Look-up Tables'!$A$3,5,IF(F38='Look-up Tables'!$A$4,4,IF(F38='Look-up Tables'!$A$5,3,IF(F38='Look-up Tables'!$A$6,2,IF(F38='Look-up Tables'!$A$7,1)))))","v":false},null,null,{"$f":"IF(I38='Look-up Tables'!$B$3,5,IF(I38='Look-up Tables'!$B$4,4,IF(I38='Look-up Tables'!$B$5,3,IF(I38='Look-up Tables'!$B$6,2,IF(I38='Look-up Tables'!$B$7,1)))))","v":false},null,null,null,{"$f":"IF(M38='Look-up Tables'!$C$3,5,IF(M38='Look-up Tables'!$C$4,4,IF(M38='Look-up Tables'!$C$5,3,IF(M38='Look-up Tables'!$C$6,2,IF(M38='Look-up Tables'!$C$7,1)))))","v":false},{"$f":"IFERROR(VLOOKUP(P38,'Look-up Tables'!$D$3:$E$127,2),\"\")","v":""},0,null,null,null,null,null,{"$f":"IF(U38='Look-up Tables'!$A$3,5,IF(U38='Look-up Tables'!$A$4,4,IF(U38='Look-up Tables'!$A$5,3,IF(U38='Look-up Tables'!$A$6,2,IF(U38='Look-up Tables'!$A$7,1)))))","v":false},null,{"$f":"IF(W38='Look-up Tables'!$B$3,5,IF(W38='Look-up Tables'!$B$4,4,IF(W38='Look-up Tables'!$B$5,3,IF(W38='Look-up Tables'!$B$6,2,IF(W38='Look-up Tables'!$B$7,1)))))","v":false},null,{"$f":"IF(Y38='Look-up Tables'!$C$3,5,IF(Y38='Look-up Tables'!$C$4,4,IF(Y38='Look-up Tables'!$C$5,3,IF(Y38='Look-up Tables'!$C$6,2,IF(Y38='Look-up Tables'!$C$7,1)))))","v":false},{"$f":"IFERROR(VLOOKUP(AB38,'Look-up Tables'!$D$3:$E$127,2),\"\")","v":""},0]
[null,null,null,null,null,null,{"$f":"IF(F39='Look-up Tables'!$A$3,5,IF(F39='Look-up Tables'!$A$4,4,IF(F39='Look-up Tables'!$A$5,3,IF(F39='Look-up Tables'!$A$6,2,IF(F39='Look-up Tables'!$A$7,1)))))","v":false},null,null,{"$f":"IF(I39='Look-up Tables'!$B$3,5,IF(I39='Look-up Tables'!$B$4,4,IF(I39='Look-up Tables'!$B$5,3,IF(I39='Look-up Tables'!$B$6,2,IF(I39='Look-up Tables'!$B$7,1)))))","v":false},null,null,null,{"$f":"IF(M39='Look-up Tables'!$C$3,5,IF(M39='Look-up Tables'!$C$4,4,IF(M39='Look-up Tables'!$C$5,3,IF(M39='Look-up Tables'!$C$6,2,IF(M39='Look-up Tables'!$C$7,1)))))","v":false},{"$f":"IFERROR(VLOOKUP(P39,'Look-up Tables'!$D$3:$E$127,2),\"\")","v":""},0,null,null,null,null,null,{"$f":"IF(U39='Look-up Tables'!$A$3,5,IF(U39='Look-up Tables'!$A$4,4,IF(U39='Look-up Tables'!$A$5,3,IF(U39='Look-up Tables'!$A$6,2,IF(U39='Look-up Tables'!$A$7,1)))))","v":false},null,{"$f":"IF(W39='Look-up Tables'!$B$3,5,IF(W39='Look-up Tables'!$B$4,4,IF(W39='Look-up Tables'!$B$5,3,IF(W39='Look-up Tables'!$B$6,2,IF(W39='Look-up Tables'!$B$7,1)))))","v":false},null,{"$f":"IF(Y39='Look-up Tables'!$C$3,5,IF(Y39='Look-up Tables'!$C$4,4,IF(Y39='Look-up Tables'!$C$5,3,IF(Y39='Look-up Tables'!$C$6,2,IF(Y39='Look-up Tables'!$C$7,1)))))","v":false},{"$f":"IFERROR(VLOOKUP(AB39,'Look-up Tables'!$D$3:$E$127,2),\"\")","v":""},0]
[null,null,null,null,null,null,{"$f":"IF(F40='Look-up Tables'!$A$3,5,IF(F40='Look-up Tables'!$A$4,4,IF(F40='Look-up Tables'!$A$5,3,IF(F40='Look-up Tables'!$A$6,2,IF(F40='Look-up Tables'!$A$7,1)))))","v":false},null,null,{"$f":"IF(I40='Look-up Tables'!$B$3,5,IF(I40='Look-up Tables'!$B$4,4,IF(I40='Look-up Tables'!$B$5,3,IF(I40='Look-up Tables'!$B$6,2,IF(I40='Look-up Tables'!$B$7,1)))))","v":false},null,null,null,{"$f":"IF(M40='Look-up Tables'!$C$3,5,IF(M40='Look-up Tables'!$C$4,4,IF(M40='Look-up Tables'!$C$5,3,IF(M40='Look-up Tables'!$C$6,2,IF(M40='Look-up Tables'!$C$7,1)))))","v":false},{"$f":"IFERROR(VLOOKUP(P40,'Look-up Tables'!$D$3:$E$127,2),\"\")","v":""},0,null,null,null,null,null,{"$f":"IF(U40='Look-up Tables'!$A$3,5,IF(U40='Look-up Tables'!$A$4,4,IF(U40='Look-up Tables'!$A$5,3,IF(U40='Look-up Tables'!$A$6,2,IF(U40='Look-up Tables'!$A$7,1)))))","v":false},null,{"$f":"IF(W40='Look-up Tables'!$B$3,5,IF(W40='Look-up Tables'!$B$4,4,IF(W40='Look-up Tables'!$B$5,3,IF(W40='Look-up Tables'!$B$6,2,IF(W40='Look-up Tables'!$B$7,1)))))","v":false},null,{"$f":"IF(Y40='Look-up Tables'!$C$3,5,IF(Y40='Look-up Tables'!$C$4,4,IF(Y40='Look-up Tables'!$C$5,3,IF(Y40='Look-up Tables'!$C$6,2,IF(Y40='Look-up Tables'!$C$7,1)))))","v":false},{"$f":"IFERROR(VLOOKUP(AB40,'Look-up Tables'!$D$3:$E$127,2),\"\")","v":""},0]
[null,null,null,null,null,null,{"$f":"IF(F41='Look-up Tables'!$A$3,5,IF(F41='Look-up Tables'!$A$4,4,IF(F41='Look-up Tables'!$A$5,3,IF(F41='Look-up Tables'!$A$6,2,IF(F41='Look-up Tables'!$A$7,1)))))","v":false},null,null,{"$f":"IF(I41='Look-up Tables'!$B$3,5,IF(I41='Look-up Tables'!$B$4,4,IF(I41='Look-up Tables'!$B$5,3,IF(I41='Look-up Tables'!$B$6,2,IF(I41='Look-up Tables'!$B$7,1)))))","v":false},null,null,null,{"$f":"IF(M41='Look-up Tables'!$C$3,5,IF(M41='Look-up Tables'!$C$4,4,IF(M41='Look-up Tables'!$C$5,3,IF(M41='Look-up Tables'!$C$6,2,IF(M41='Look-up Tables'!$C$7,1)))))","v":false},{"$f":"IFERROR(VLOOKUP(P41,'Look-up Tables'!$D$3:$E$127,2),\"\")","v":""},0,null,null,null,null,null,{"$f":"IF(U41='Look-up Tables'!$A$3,5,IF(U41='Look-up Tables'!$A$4,4,IF(U41='Look-up Tables'!$A$5,3,IF(U41='Look-up Tables'!$A$6,2,IF(U41='Look-up Tables'!$A$7,1)))))","v":false},null,{"$f":"IF(W41='Look-up Tables'!$B$3,5,IF(W41='Look-up Tables'!$B$4,4,IF(W41='Look-up Tables'!$B$5,3,IF(W41='Look-up Tables'!$B$6,2,IF(W41='Look-up Tables'!$B$7,1)))))","v":false},null,{"$f":"IF(Y41='Look-up Tables'!$C$3,5,IF(Y41='Look-up Tables'!$C$4,4,IF(Y41='Look-up Tables'!$C$5,3,IF(Y41='Look-up Tables'!$C$6,2,IF(Y41='Look-up Tables'!$C$7,1)))))","v":false},{"$f":"IFERROR(VLOOKUP(AB41,'Look-up Tables'!$D$3:$E$127,2),\"\")","v":""},0]
[null,null,null,null,null,null,{"$f":"IF(F42='Look-up Tables'!$A$3,5,IF(F42='Look-up Tables'!$A$4,4,IF(F42='Look-up Tables'!$A$5,3,IF(F42='Look-up Tables'!$A$6,2,IF(F42='Look-up Tables'!$A$7,1)))))","v":false},null,null,{"$f":"IF(I42='Look-up Tables'!$B$3,5,IF(I42='Look-up Tables'!$B$4,4,IF(I42='Look-up Tables'!$B$5,3,IF(I42='Look-up Tables'!$B$6,2,IF(I42='Look-up Tables'!$B$7,1)))))","v":false},null,null,null,{"$f":"IF(M42='Look-up Tables'!$C$3,5,IF(M42='Look-up Tables'!$C$4,4,IF(M42='Look-up Tables'!$C$5,3,IF(M42='Look-up Tables'!$C$6,2,IF(M42='Look-up Tables'!$C$7,1)))))","v":false},{"$f":"IFERROR(VLOOKUP(P42,'Look-up Tables'!$D$3:$E$127,2),\"\")","v":""},0,null,null,null,null,null,{"$f":"IF(U42='Look-up Tables'!$A$3,5,IF(U42='Look-up Tables'!$A$4,4,IF(U42='Look-up Tables'!$A$5,3,IF(U42='Look-up Tables'!$A$6,2,IF(U42='Look-up Tables'!$A$7,1)))))","v":false},null,{"$f":"IF(W42='Look-up Tables'!$B$3,5,IF(W42='Look-up Tables'!$B$4,4,IF(W42='Look-up Tables'!$B$5,3,IF(W42='Look-up Tables'!$B$6,2,IF(W42='Look-up Tables'!$B$7,1)))))","v":false},null,{"$f":"IF(Y42='Look-up Tables'!$C$3,5,IF(Y42='Look-up Tables'!$C$4,4,IF(Y42='Look-up Tables'!$C$5,3,IF(Y42='Look-up Tables'!$C$6,2,IF(Y42='Look-up Tables'!$C$7,1)))))","v":false},{"$f":"IFERROR(VLOOKUP(AB42,'Look-up Tables'!$D$3:$E$127,2),\"\")","v":""},0]
[null,null,null,null,null,null,{"$f":"IF(F43='Look-up Tables'!$A$3,5,IF(F43='Look-up Tables'!$A$4,4,IF(F43='Look-up Tables'!$A$5,3,IF(F43='Look-up Tables'!$A$6,2,IF(F43='Look-up Tables'!$A$7,1)))))","v":false},null,null,{"$f":"IF(I43='Look-up Tables'!$B$3,5,IF(I43='Look-up Tables'!$B$4,4,IF(I43='Look-up Tables'!$B$5,3,IF(I43='Look-up Tables'!$B$6,2,IF(I43='Look-up Tables'!$B$7,1)))))","v":false},null,null,null,{"$f":"IF(M43='Look-up Tables'!$C$3,5,IF(M43='Look-up Tables'!$C$4,4,IF(M43='Look-up Tables'!$C$5,3,IF(M43='Look-up Tables'!$C$6,2,IF(M43='Look-up Tables'!$C$7,1)))))","v":false},{"$f":"IFERROR(VLOOKUP(P43,'Look-up Tables'!$D$3:$E$127,2),\"\")","v":""},0,null,null,null,null,null,{"$f":"IF(U43='Look-up Tables'!$A$3,5,IF(U43='Look-up Tables'!$A$4,4,IF(U43='Look-up Tables'!$A$5,3,IF(U43='Look-up Tables'!$A$6,2,IF(U43='Look-up Tables'!$A$7,1)))))","v":false},null,{"$f":"IF(W43='Look-up Tables'!$B$3,5,IF(W43='Look-up Tables'!$B$4,4,IF(W43='Look-up Tables'!$B$5,3,IF(W43='Look-up Tables'!$B$6,2,IF(W43='Look-up Tables'!$B$7,1)))))","v":false},null,{"$f":"IF(Y43='Look-up Tables'!$C$3,5,IF(Y43='Look-up Tables'!$C$4,4,IF(Y43='Look-up Tables'!$C$5,3,IF(Y43='Look-up Tables'!$C$6,2,IF(Y43='Look-up Tables'!$C$7,1)))))","v":false},{"$f":"IFERROR(VLOOKUP(AB43,'Look-up Tables'!$D$3:$E$127,2),\"\")","v":""},0]
[null,null,null,null,null,null,{"$f":"IF(F44='Look-up Tables'!$A$3,5,IF(F44='Look-up Tables'!$A$4,4,IF(F44='Look-up Tables'!$A$5,3,IF(F44='Look-up Tables'!$A$6,2,IF(F44='Look-up Tables'!$A$7,1)))))","v":false},null,null,{"$f":"IF(I44='Look-up Tables'!$B$3,5,IF(I44='Look-up Tables'!$B$4,4,IF(I44='Look-up Tables'!$B$5,3,IF(I44='Look-up Tables'!$B$6,2,IF(I44='Look-up Tables'!$B$7,1)))))","v":false},null,null,null,{"$f":"IF(M44='Look-up Tables'!$C$3,5,IF(M44='Look-up Tables'!$C$4,4,IF(M44='Look-up Tables'!$C$5,3,IF(M44='Look-up Tables'!$C$6,2,IF(M44='Look-up Tables'!$C$7,1)))))","v":false},{"$f":"IFERROR(VLOOKUP(P44,'Look-up Tables'!$D$3:$E$127,2),\"\")","v":""},0,null,null,null,null,null,{"$f":"IF(U44='Look-up Tables'!$A$3,5,IF(U44='Look-up Tables'!$A$4,4,IF(U44='Look-up Tables'!$A$5,3,IF(U44='Look-up Tables'!$A$6,2,IF(U44='Look-up Tables'!$A$7,1)))))","v":false},null,{"$f":"IF(W44='Look-up Tables'!$B$3,5,IF(W44='Look-up Tables'!$B$4,4,IF(W44='Look-up Tables'!$B$5,3,IF(W44='Look-up Tables'!$B$6,2,IF(W44='Look-up Tables'!$B$7,1)))))","v":false},null,{"$f":"IF(Y44='Look-up Tables'!$C$3,5,IF(Y44='Look-up Tables'!$C$4,4,IF(Y44='Look-up Tables'!$C$5,3,IF(Y44='Look-up Tables'!$C$6,2,IF(Y44='Look-up Tables'!$C$7,1)))))","v":false},{"$f":"IFERROR(VLOOKUP(AB44,'Look-up Tables'!$D$3:$E$127,2),\"\")","v":""},0]
[null,null,null,null,null,null,{"$f":"IF(F45='Look-up Tables'!$A$3,5,IF(F45='Look-up Tables'!$A$4,4,IF(F45='Look-up Tables'!$A$5,3,IF(F45='Look-up Tables'!$A$6,2,IF(F45='Look-up Tables'!$A$7,1)))))","v":false},null,null,{"$f":"IF(I45='Look-up Tables'!$B$3,5,IF(I45='Look-up Tables'!$B$4,4,IF(I45='Look-up Tables'!$B$5,3,IF(I45='Look-up Tables'!$B$6,2,IF(I45='Look-up Tables'!$B$7,1)))))","v":false},null,null,null,{"$f":"IF(M45='Look-up Tables'!$C$3,5,IF(M45='Look-up Tables'!$C$4,4,IF(M45='Look-up Tables'!$C$5,3,IF(M45='Look-up Tables'!$C$6,2,IF(M45='Look-up Tables'!$C$7,1)))))","v":false},{"$f":"IFERROR(VLOOKUP(P45,'Look-up Tables'!$D$3:$E$127,2),\"\")","v":""},0,null,null,null,null,null,{"$f":"IF(U45='Look-up Tables'!$A$3,5,IF(U45='Look-up Tables'!$A$4,4,IF(U45='Look-up Tables'!$A$5,3,IF(U45='Look-up Tables'!$A$6,2,IF(U45='Look-up Tables'!$A$7,1)))))","v":false},null,{"$f":"IF(W45='Look-up Tables'!$B$3,5,IF(W45='Look-up Tables'!$B$4,4,IF(W45='Look-up Tables'!$B$5,3,IF(W45='Look-up Tables'!$B$6,2,IF(W45='Look-up Tables'!$B$7,1)))))","v":false},null,{"$f":"IF(Y45='Look-up Tables'!$C$3,5,IF(Y45='Look-up Tables'!$C$4,4,IF(Y45='Look-up Tables'!$C$5,3,IF(Y45='Look-up Tables'!$C$6,2,IF(Y45='Look-up Tables'!$C$7,1)))))","v":false},{"$f":"IFERROR(VLOOKUP(AB45,'Look-up Tables'!$D$3:$E$127,2),\"\")","v":""},0]
[null,null,null,null,null,null,{"$f":"IF(F46='Look-up Tables'!$A$3,5,IF(F46='Look-up Tables'!$A$4,4,IF(F46='Look-up Tables'!$A$5,3,IF(F46='Look-up Tables'!$A$6,2,IF(F46='Look-up Tables'!$A$7,1)))))","v":false},null,null,{"$f":"IF(I46='Look-up Tables'!$B$3,5,IF(I46='Look-up Tables'!$B$4,4,IF(I46='Look-up Tables'!$B$5,3,IF(I46='Look-up Tables'!$B$6,2,IF(I46='Look-up Tables'!$B$7,1)))))","v":false},null,null,null,{"$f":"IF(M46='Look-up Tables'!$C$3,5,IF(M46='Look-up Tables'!$C$4,4,IF(M46='Look-up Tables'!$C$5,3,IF(M46='Look-up Tables'!$C$6,2,IF(M46='Look-up Tables'!$C$7,1)))))","v":false},{"$f":"IFERROR(VLOOKUP(P46,'Look-up Tables'!$D$3:$E$127,2),\"\")","v":""},0,null,null,null,null,null,{"$f":"IF(U46='Look-up Tables'!$A$3,5,IF(U46='Look-up Tables'!$A$4,4,IF(U46='Look-up Tables'!$A$5,3,IF(U46='Look-up Tables'!$A$6,2,IF(U46='Look-up Tables'!$A$7,1)))))","v":false},null,{"$f":"IF(W46='Look-up Tables'!$B$3,5,IF(W46='Look-up Tables'!$B$4,4,IF(W46='Look-up Tables'!$B$5,3,IF(W46='Look-up Tables'!$B$6,2,IF(W46='Look-up Tables'!$B$7,1)))))","v":false},null,{"$f":"IF(Y46='Look-up Tables'!$C$3,5,IF(Y46='Look-up Tables'!$C$4,4,IF(Y46='Look-up Tables'!$C$5,3,IF(Y46='Look-up Tables'!$C$6,2,IF(Y46='Look-up Tables'!$C$7,1)))))","v":false},{"$f":"IFERROR(VLOOKUP(AB46,'Look-up Tables'!$D$3:$E$127,2),\"\")","v":""},0]
[null,null,null,null,null,null,{"$f":"IF(F47='Look-up Tables'!$A$3,5,IF(F47='Look-up Tables'!$A$4,4,IF(F47='Look-up Tables'!$A$5,3,IF(F47='Look-up Tables'!$A$6,2,IF(F47='Look-up Tables'!$A$7,1)))))","v":false},null,null,{"$f":"IF(I47='Look-up Tables'!$B$3,5,IF(I47='Look-up Tables'!$B$4,4,IF(I47='Look-up Tables'!$B$5,3,IF(I47='Look-up Tables'!$B$6,2,IF(I47='Look-up Tables'!$B$7,1)))))","v":false},null,null,null,{"$f":"IF(M47='Look-up Tables'!$C$3,5,IF(M47='Look-up Tables'!$C$4,4,IF(M47='Look-up Tables'!$C$5,3,IF(M47='Look-up Tables'!$C$6,2,IF(M47='Look-up Tables'!$C$7,1)))))","v":false},{"$f":"IFERROR(VLOOKUP(P47,'Look-up Tables'!$D$3:$E$127,2),\"\")","v":""},{"$f":"G47*J47*N47","v":0},null,null,null,null,null,{"$f":"IF(U47='Look-up Tables'!$A$3,5,IF(U47='Look-up Tables'!$A$4,4,IF(U47='Look-up Tables'!$A$5,3,IF(U47='Look-up Tables'!$A$6,2,IF(U47='Look-up Tables'!$A$7,1)))))","v":false},null,{"$f":"IF(W47='Look-up Tables'!$B$3,5,IF(W47='Look-up Tables'!$B$4,4,IF(W47='Look-up Tables'!$B$5,3,IF(W47='Look-up Tables'!$B$6,2,IF(W47='Look-up Tables'!$B$7,1)))))","v":false},null,{"$f":"IF(Y47='Look-up Tables'!$C$3,5,IF(Y47='Look-up Tables'!$C$4,4,IF(Y47='Look-up Tables'!$C$5,3,IF(Y47='Look-up Tables'!$C$6,2,IF(Y47='Look-up Tables'!$C$7,1)))))","v":false},{"$f":"IFERROR(VLOOKUP(AB47,'Look-up Tables'!$D$3:$E$127,2),\"\")","v":""},{"$f":"V47*X47*Z47","v":0}]
[null,null,null,null,null,null,{"$f":"IF(F48='Look-up Tables'!$A$3,5,IF(F48='Look-up Tables'!$A$4,4,IF(F48='Look-up Tables'!$A$5,3,IF(F48='Look-up Tables'!$A$6,2,IF(F48='Look-up Tables'!$A$7,1)))))","v":false},null,null,{"$f":"IF(I48='Look-up Tables'!$B$3,5,IF(I48='Look-up Tables'!$B$4,4,IF(I48='Look-up Tables'!$B$5,3,IF(I48='Look-up Tables'!$B$6,2,IF(I48='Look-up Tables'!$B$7,1)))))","v":false},null,null,null,{"$f":"IF(M48='Look-up Tables'!$C$3,5,IF(M48='Look-up Tables'!$C$4,4,IF(M48='Look-up Tables'!$C$5,3,IF(M48='Look-up Tables'!$C$6,2,IF(M48='Look-up Tables'!$C$7,1)))))","v":false},{"$f":"IFERROR(VLOOKUP(P48,'Look-up Tables'!$D$3:$E$127,2),\"\")","v":""},0,null,null,null,null,null,{"$f":"IF(U48='Look-up Tables'!$A$3,5,IF(U48='Look-up Tables'!$A$4,4,IF(U48='Look-up Tables'!$A$5,3,IF(U48='Look-up Tables'!$A$6,2,IF(U48='Look-up Tables'!$A$7,1)))))","v":false},null,{"$f":"IF(W48='Look-up Tables'!$B$3,5,IF(W48='Look-up Tables'!$B$4,4,IF(W48='Look-up Tables'!$B$5,3,IF(W48='Look-up Tables'!$B$6,2,IF(W48='Look-up Tables'!$B$7,1)))))","v":false},null,{"$f":"IF(Y48='Look-up Tables'!$C$3,5,IF(Y48='Look-up Tables'!$C$4,4,IF(Y48='Look-up Tables'!$C$5,3,IF(Y48='Look-up Tables'!$C$6,2,IF(Y48='Look-up Tables'!$C$7,1)))))","v":false},{"$f":"IFERROR(VLOOKUP(AB48,'Look-up Tables'!$D$3:$E$127,2),\"\")","v":""},0]
[null,null,null,null,null,null,{"$f":"IF(F49='Look-up Tables'!$A$3,5,IF(F49='Look-up Tables'!$A$4,4,IF(F49='Look-up Tables'!$A$5,3,IF(F49='Look-up Tables'!$A$6,2,IF(F49='Look-up Tables'!$A$7,1)))))","v":false},null,null,{"$f":"IF(I49='Look-up Tables'!$B$3,5,IF(I49='Look-up Tables'!$B$4,4,IF(I49='Look-up Tables'!$B$5,3,IF(I49='Look-up Tables'!$B$6,2,IF(I49='Look-up Tables'!$B$7,1)))))","v":false},null,null,null,{"$f":"IF(M49='Look-up Tables'!$C$3,5,IF(M49='Look-up Tables'!$C$4,4,IF(M49='Look-up Tables'!$C$5,3,IF(M49='Look-up Tables'!$C$6,2,IF(M49='Look-up Tables'!$C$7,1)))))","v":false},{"$f":"IFERROR(VLOOKUP(P49,'Look-up Tables'!$D$3:$E$127,2),\"\")","v":""},0,null,null,null,null,null,{"$f":"IF(U49='Look-up Tables'!$A$3,5,IF(U49='Look-up Tables'!$A$4,4,IF(U49='Look-up Tables'!$A$5,3,IF(U49='Look-up Tables'!$A$6,2,IF(U49='Look-up Tables'!$A$7,1)))))","v":false},null,{"$f":"IF(W49='Look-up Tables'!$B$3,5,IF(W49='Look-up Tables'!$B$4,4,IF(W49='Look-up Tables'!$B$5,3,IF(W49='Look-up Tables'!$B$6,2,IF(W49='Look-up Tables'!$B$7,1)))))","v":false},null,{"$f":"IF(Y49='Look-up Tables'!$C$3,5,IF(Y49='Look-up Tables'!$C$4,4,IF(Y49='Look-up Tables'!$C$5,3,IF(Y49='Look-up Tables'!$C$6,2,IF(Y49='Look-up Tables'!$C$7,1)))))","v":false},{"$f":"IFERROR(VLOOKUP(AB49,'Look-up Tables'!$D$3:$E$127,2),\"\")","v":""},0]
[null,null,null,null,null,null,{"$f":"IF(F50='Look-up Tables'!$A$3,5,IF(F50='Look-up Tables'!$A$4,4,IF(F50='Look-up Tables'!$A$5,3,IF(F50='Look-up Tables'!$A$6,2,IF(F50='Look-up Tables'!$A$7,1)))))","v":false},null,null,{"$f":"IF(I50='Look-up Tables'!$B$3,5,IF(I50='Look-up Tables'!$B$4,4,IF(I50='Look-up Tables'!$B$5,3,IF(I50='Look-up Tables'!$B$6,2,IF(I50='Look-up Tables'!$B$7,1)))))","v":false},null,null,null,{"$f":"IF(M50='Look-up Tables'!$C$3,5,IF(M50='Look-up Tables'!$C$4,4,IF(M50='Look-up Tables'!$C$5,3,IF(M50='Look-up Tables'!$C$6,2,IF(M50='Look-up Tables'!$C$7,1)))))","v":false},{"$f":"IFERROR(VLOOKUP(P50,'Look-up Tables'!$D$3:$E$127,2),\"\")","v":""},0,null,null,null,null,null,{"$f":"IF(U50='Look-up Tables'!$A$3,5,IF(U50='Look-up Tables'!$A$4,4,IF(U50='Look-up Tables'!$A$5,3,IF(U50='Look-up Tables'!$A$6,2,IF(U50='Look-up Tables'!$A$7,1)))))","v":false},null,{"$f":"IF(W50='Look-up Tables'!$B$3,5,IF(W50='Look-up Tables'!$B$4,4,IF(W50='Look-up Tables'!$B$5,3,IF(W50='Look-up Tables'!$B$6,2,IF(W50='Look-up Tables'!$B$7,1)))))","v":false},null,{"$f":"IF(Y50='Look-up Tables'!$C$3,5,IF(Y50='Look-up Tables'!$C$4,4,IF(Y50='Look-up Tables'!$C$5,3,IF(Y50='Look-up Tables'!$C$6,2,IF(Y50='Look-up Tables'!$C$7,1)))))","v":false},{"$f":"IFERROR(VLOOKUP(AB50,'Look-up Tables'!$D$3:$E$127,2),\"\")","v":""},0]
[null,null,null,null,null,null,{"$f":"IF(F51='Look-up Tables'!$A$3,5,IF(F51='Look-up Tables'!$A$4,4,IF(F51='Look-up Tables'!$A$5,3,IF(F51='Look-up Tables'!$A$6,2,IF(F51='Look-up Tables'!$A$7,1)))))","v":false},null,null,{"$f":"IF(I51='Look-up Tables'!$B$3,5,IF(I51='Look-up Tables'!$B$4,4,IF(I51='Look-up Tables'!$B$5,3,IF(I51='Look-up Tables'!$B$6,2,IF(I51='Look-up Tables'!$B$7,1)))))","v":false},null,null,null,{"$f":"IF(M51='Look-up Tables'!$C$3,5,IF(M51='Look-up Tables'!$C$4,4,IF(M51='Look-up Tables'!$C$5,3,IF(M51='Look-up Tables'!$C$6,2,IF(M51='Look-up Tables'!$C$7,1)))))","v":false},{"$f":"IFERROR(VLOOKUP(P51,'Look-up Tables'!$D$3:$E$127,2),\"\")","v":""},0,null,null,null,null,null,{"$f":"IF(U51='Look-up Tables'!$A$3,5,IF(U51='Look-up Tables'!$A$4,4,IF(U51='Look-up Tables'!$A$5,3,IF(U51='Look-up Tables'!$A$6,2,IF(U51='Look-up Tables'!$A$7,1)))))","v":false},null,{"$f":"IF(W51='Look-up Tables'!$B$3,5,IF(W51='Look-up Tables'!$B$4,4,IF(W51='Look-up Tables'!$B$5,3,IF(W51='Look-up Tables'!$B$6,2,IF(W51='Look-up Tables'!$B$7,1)))))","v":false},null,{"$f":"IF(Y51='Look-up Tables'!$C$3,5,IF(Y51='Look-up Tables'!$C$4,4,IF(Y51='Look-up Tables'!$C$5,3,IF(Y51='Look-up Tables'!$C$6,2,IF(Y51='Look-up Tables'!$C$7,1)))))","v":false},{"$f":"IFERROR(VLOOKUP(AB51,'Look-up Tables'!$D$3:$E$127,2),\"\")","v":""},0]
[null,null,null,null,null,null,{"$f":"IF(F52='Look-up Tables'!$A$3,5,IF(F52='Look-up Tables'!$A$4,4,IF(F52='Look-up Tables'!$A$5,3,IF(F52='Look-up Tables'!$A$6,2,IF(F52='Look-up Tables'!$A$7,1)))))","v":false},null,null,{"$f":"IF(I52='Look-up Tables'!$B$3,5,IF(I52='Look-up Tables'!$B$4,4,IF(I52='Look-up Tables'!$B$5,3,IF(I52='Look-up Tables'!$B$6,2,IF(I52='Look-up Tables'!$B$7,1)))))","v":false},null,null,null,{"$f":"IF(M52='Look-up Tables'!$C$3,5,IF(M52='Look-up Tables'!$C$4,4,IF(M52='Look-up Tables'!$C$5,3,IF(M52='Look-up Tables'!$C$6,2,IF(M52='Look-up Tables'!$C$7,1)))))","v":false},{"$f":"IFERROR(VLOOKUP(P52,'Look-up Tables'!$D$3:$E$127,2),\"\")","v":""},0,null,null,null,null,null,{"$f":"IF(U52='Look-up Tables'!$A$3,5,IF(U52='Look-up Tables'!$A$4,4,IF(U52='Look-up Tables'!$A$5,3,IF(U52='Look-up Tables'!$A$6,2,IF(U52='Look-up Tables'!$A$7,1)))))","v":false},null,{"$f":"IF(W52='Look-up Tables'!$B$3,5,IF(W52='Look-up Tables'!$B$4,4,IF(W52='Look-up Tables'!$B$5,3,IF(W52='Look-up Tables'!$B$6,2,IF(W52='Look-up Tables'!$B$7,1)))))","v":false},null,{"$f":"IF(Y52='Look-up Tables'!$C$3,5,IF(Y52='Look-up Tables'!$C$4,4,IF(Y52='Look-up Tables'!$C$5,3,IF(Y52='Look-up Tables'!$C$6,2,IF(Y52='Look-up Tables'!$C$7,1)))))","v":false},{"$f":"IFERROR(VLOOKUP(AB52,'Look-up Tables'!$D$3:$E$127,2),\"\")","v":""},0]
[null,null,null,null,null,null,{"$f":"IF(F53='Look-up Tables'!$A$3,5,IF(F53='Look-up Tables'!$A$4,4,IF(F53='Look-up Tables'!$A$5,3,IF(F53='Look-up Tables'!$A$6,2,IF(F53='Look-up Tables'!$A$7,1)))))","v":false},null,null,{"$f":"IF(I53='Look-up Tables'!$B$3,5,IF(I53='Look-up Tables'!$B$4,4,IF(I53='Look-up Tables'!$B$5,3,IF(I53='Look-up Tables'!$B$6,2,IF(I53='Look-up Tables'!$B$7,1)))))","v":false},null,null,null,{"$f":"IF(M53='Look-up Tables'!$C$3,5,IF(M53='Look-up Tables'!$C$4,4,IF(M53='Look-up Tables'!$C$5,3,IF(M53='Look-up Tables'!$C$6,2,IF(M53='Look-up Tables'!$C$7,1)))))","v":false},{"$f":"IFERROR(VLOOKUP(P53,'Look-up Tables'!$D$3:$E$127,2),\"\")","v":""},0,null,null,null,null,null,{"$f":"IF(U53='Look-up Tables'!$A$3,5,IF(U53='Look-up Tables'!$A$4,4,IF(U53='Look-up Tables'!$A$5,3,IF(U53='Look-up Tables'!$A$6,2,IF(U53='Look-up Tables'!$A$7,1)))))","v":false},null,{"$f":"IF(W53='Look-up Tables'!$B$3,5,IF(W53='Look-up Tables'!$B$4,4,IF(W53='Look-up Tables'!$B$5,3,IF(W53='Look-up Tables'!$B$6,2,IF(W53='Look-up Tables'!$B$7,1)))))","v":false},null,{"$f":"IF(Y53='Look-up Tables'!$C$3,5,IF(Y53='Look-up Tables'!$C$4,4,IF(Y53='Look-up Tables'!$C$5,3,IF(Y53='Look-up Tables'!$C$6,2,IF(Y53='Look-up Tables'!$C$7,1)))))","v":false},{"$f":"IFERROR(VLOOKUP(AB53,'Look-up Tables'!$D$3:$E$127,2),\"\")","v":""},0]
[null,null,null,null,null,null,{"$f":"IF(F54='Look-up Tables'!$A$3,5,IF(F54='Look-up Tables'!$A$4,4,IF(F54='Look-up Tables'!$A$5,3,IF(F54='Look-up Tables'!$A$6,2,IF(F54='Look-up Tables'!$A$7,1)))))","v":false},null,null,{"$f":"IF(I54='Look-up Tables'!$B$3,5,IF(I54='Look-up Tables'!$B$4,4,IF(I54='Look-up Tables'!$B$5,3,IF(I54='Look-up Tables'!$B$6,2,IF(I54='Look-up Tables'!$B$7,1)))))","v":false},null,null,null,{"$f":"IF(M54='Look-up Tables'!$C$3,5,IF(M54='Look-up Tables'!$C$4,4,IF(M54='Look-up Tables'!$C$5,3,IF(M54='Look-up Tables'!$C$6,2,IF(M54='Look-up Tables'!$C$7,1)))))","v":false},{"$f":"IFERROR(VLOOKUP(P54,'Look-up Tables'!$D$3:$E$127,2),\"\")","v":""},0,null,null,null,null,null,{"$f":"IF(U54='Look-up Tables'!$A$3,5,IF(U54='Look-up Tables'!$A$4,4,IF(U54='Look-up Tables'!$A$5,3,IF(U54='Look-up Tables'!$A$6,2,IF(U54='Look-up Tables'!$A$7,1)))))","v":false},null,{"$f":"IF(W54='Look-up Tables'!$B$3,5,IF(W54='Look-up Tables'!$B$4,4,IF(W54='Look-up Tables'!$B$5,3,IF(W54='Look-up Tables'!$B$6,2,IF(W54='Look-up Tables'!$B$7,1)))))","v":false},null,{"$f":"IF(Y54='Look-up Tables'!$C$3,5,IF(Y54='Look-up Tables'!$C$4,4,IF(Y54='Look-up Tables'!$C$5,3,IF(Y54='Look-up Tables'!$C$6,2,IF(Y54='Look-up Tables'!$C$7,1)))))","v":false},{"$f":"IFERROR(VLOOKUP(AB54,'Look-up Tables'!$D$3:$E$127,2),\"\")","v":""},0]
[null,null,null,null,null,null,{"$f":"IF(F55='Look-up Tables'!$A$3,5,IF(F55='Look-up Tables'!$A$4,4,IF(F55='Look-up Tables'!$A$5,3,IF(F55='Look-up Tables'!$A$6,2,IF(F55='Look-up Tables'!$A$7,1)))))","v":false},null,null,{"$f":"IF(I55='Look-up Tables'!$B$3,5,IF(I55='Look-up Tables'!$B$4,4,IF(I55='Look-up Tables'!$B$5,3,IF(I55='Look-up Tables'!$B$6,2,IF(I55='Look-up Tables'!$B$7,1)))))","v":false},null,null,null,{"$f":"IF(M55='Look-up Tables'!$C$3,5,IF(M55='Look-up Tables'!$C$4,4,IF(M55='Look-up Tables'!$C$5,3,IF(M55='Look-up Tables'!$C$6,2,IF(M55='Look-up Tables'!$C$7,1)))))","v":false},{"$f":"IFERROR(VLOOKUP(P55,'Look-up Tables'!$D$3:$E$127,2),\"\")","v":""},0,null,null,null,null,null,{"$f":"IF(U55='Look-up Tables'!$A$3,5,IF(U55='Look-up Tables'!$A$4,4,IF(U55='Look-up Tables'!$A$5,3,IF(U55='Look-up Tables'!$A$6,2,IF(U55='Look-up Tables'!$A$7,1)))))","v":false},null,{"$f":"IF(W55='Look-up Tables'!$B$3,5,IF(W55='Look-up Tables'!$B$4,4,IF(W55='Look-up Tables'!$B$5,3,IF(W55='Look-up Tables'!$B$6,2,IF(W55='Look-up Tables'!$B$7,1)))))","v":false},null,{"$f":"IF(Y55='Look-up Tables'!$C$3,5,IF(Y55='Look-up Tables'!$C$4,4,IF(Y55='Look-up Tables'!$C$5,3,IF(Y55='Look-up Tables'!$C$6,2,IF(Y55='Look-up Tables'!$C$7,1)))))","v":false},{"$f":"IFERROR(VLOOKUP(AB55,'Look-up Tables'!$D$3:$E$127,2),\"\")","v":""},0]
[null,null,null,null,null,null,{"$f":"IF(F56='Look-up Tables'!$A$3,5,IF(F56='Look-up Tables'!$A$4,4,IF(F56='Look-up Tables'!$A$5,3,IF(F56='Look-up Tables'!$A$6,2,IF(F56='Look-up Tables'!$A$7,1)))))","v":false},null,null,{"$f":"IF(I56='Look-up Tables'!$B$3,5,IF(I56='Look-up Tables'!$B$4,4,IF(I56='Look-up Tables'!$B$5,3,IF(I56='Look-up Tables'!$B$6,2,IF(I56='Look-up Tables'!$B$7,1)))))","v":false},null,null,null,{"$f":"IF(M56='Look-up Tables'!$C$3,5,IF(M56='Look-up Tables'!$C$4,4,IF(M56='Look-up Tables'!$C$5,3,IF(M56='Look-up Tables'!$C$6,2,IF(M56='Look-up Tables'!$C$7,1)))))","v":false},{"$f":"IFERROR(VLOOKUP(P56,'Look-up Tables'!$D$3:$E$127,2),\"\")","v":""},0,null,null,null,null,null,{"$f":"IF(U56='Look-up Tables'!$A$3,5,IF(U56='Look-up Tables'!$A$4,4,IF(U56='Look-up Tables'!$A$5,3,IF(U56='Look-up Tables'!$A$6,2,IF(U56='Look-up Tables'!$A$7,1)))))","v":false},null,{"$f":"IF(W56='Look-up Tables'!$B$3,5,IF(W56='Look-up Tables'!$B$4,4,IF(W56='Look-up Tables'!$B$5,3,IF(W56='Look-up Tables'!$B$6,2,IF(W56='Look-up Tables'!$B$7,1)))))","v":false},null,{"$f":"IF(Y56='Look-up Tables'!$C$3,5,IF(Y56='Look-up Tables'!$C$4,4,IF(Y56='Look-up Tables'!$C$5,3,IF(Y56='Look-up Tables'!$C$6,2,IF(Y56='Look-up Tables'!$C$7,1)))))","v":false},{"$f":"IFERROR(VLOOKUP(AB56,'Look-up Tables'!$D$3:$E$127,2),\"\")","v":""},0]
[null,null,null,null,null,null,{"$f":"IF(F57='Look-up Tables'!$A$3,5,IF(F57='Look-up Tables'!$A$4,4,IF(F57='Look-up Tables'!$A$5,3,IF(F57='Look-up Tables'!$A$6,2,IF(F57='Look-up Tables'!$A$7,1)))))","v":false},null,null,{"$f":"IF(I57='Look-up Tables'!$B$3,5,IF(I57='Look-up Tables'!$B$4,4,IF(I57='Look-up Tables'!$B$5,3,IF(I57='Look-up Tables'!$B$6,2,IF(I57='Look-up Tables'!$B$7,1)))))","v":false},null,null,null,{"$f":"IF(M57='Look-up Tables'!$C$3,5,IF(M57='Look-up Tables'!$C$4,4,IF(M57='Look-up Tables'!$C$5,3,IF(M57='Look-up Tables'!$C$6,2,IF(M57='Look-up Tables'!$C$7,1)))))","v":false},{"$f":"IFERROR(VLOOKUP(P57,'Look-up Tables'!$D$3:$E$127,2),\"\")","v":""},0,null,null,null,null,null,{"$f":"IF(U57='Look-up Tables'!$A$3,5,IF(U57='Look-up Tables'!$A$4,4,IF(U57='Look-up Tables'!$A$5,3,IF(U57='Look-up Tables'!$A$6,2,IF(U57='Look-up Tables'!$A$7,1)))))","v":false},null,{"$f":"IF(W57='Look-up Tables'!$B$3,5,IF(W57='Look-up Tables'!$B$4,4,IF(W57='Look-up Tables'!$B$5,3,IF(W57='Look-up Tables'!$B$6,2,IF(W57='Look-up Tables'!$B$7,1)))))","v":false},null,{"$f":"IF(Y57='Look-up Tables'!$C$3,5,IF(Y57='Look-up Tables'!$C$4,4,IF(Y57='Look-up Tables'!$C$5,3,IF(Y57='Look-up Tables'!$C$6,2,IF(Y57='Look-up Tables'!$C$7,1)))))","v":false},{"$f":"IFERROR(VLOOKUP(AB57,'Look-up Tables'!$D$3:$E$127,2),\"\")","v":""},0]
[null,null,null,null,null,null,{"$f":"IF(F58='Look-up Tables'!$A$3,5,IF(F58='Look-up Tables'!$A$4,4,IF(F58='Look-up Tables'!$A$5,3,IF(F58='Look-up Tables'!$A$6,2,IF(F58='Look-up Tables'!$A$7,1)))))","v":false},null,null,{"$f":"IF(I58='Look-up Tables'!$B$3,5,IF(I58='Look-up Tables'!$B$4,4,IF(I58='Look-up Tables'!$B$5,3,IF(I58='Look-up Tables'!$B$6,2,IF(I58='Look-up Tables'!$B$7,1)))))","v":false},null,null,null,{"$f":"IF(M58='Look-up Tables'!$C$3,5,IF(M58='Look-up Tables'!$C$4,4,IF(M58='Look-up Tables'!$C$5,3,IF(M58='Look-up Tables'!$C$6,2,IF(M58='Look-up Tables'!$C$7,1)))))","v":false},{"$f":"IFERROR(VLOOKUP(P58,'Look-up Tables'!$D$3:$E$127,2),\"\")","v":""},0,null,null,null,null,null,{"$f":"IF(U58='Look-up Tables'!$A$3,5,IF(U58='Look-up Tables'!$A$4,4,IF(U58='Look-up Tables'!$A$5,3,IF(U58='Look-up Tables'!$A$6,2,IF(U58='Look-up Tables'!$A$7,1)))))","v":false},null,{"$f":"IF(W58='Look-up Tables'!$B$3,5,IF(W58='Look-up Tables'!$B$4,4,IF(W58='Look-up Tables'!$B$5,3,IF(W58='Look-up Tables'!$B$6,2,IF(W58='Look-up Tables'!$B$7,1)))))","v":false},null,{"$f":"IF(Y58='Look-up Tables'!$C$3,5,IF(Y58='Look-up Tables'!$C$4,4,IF(Y58='Look-up Tables'!$C$5,3,IF(Y58='Look-up Tables'!$C$6,2,IF(Y58='Look-up Tables'!$C$7,1)))))","v":false},{"$f":"IFERROR(VLOOKUP(AB58,'Look-up Tables'!$D$3:$E$127,2),\"\")","v":""},0]
[null,null,null,null,null,null,{"$f":"IF(F59='Look-up Tables'!$A$3,5,IF(F59='Look-up Tables'!$A$4,4,IF(F59='Look-up Tables'!$A$5,3,IF(F59='Look-up Tables'!$A$6,2,IF(F59='Look-up Tables'!$A$7,1)))))","v":false},null,null,{"$f":"IF(I59='Look-up Tables'!$B$3,5,IF(I59='Look-up Tables'!$B$4,4,IF(I59='Look-up Tables'!$B$5,3,IF(I59='Look-up Tables'!$B$6,2,IF(I59='Look-up Tables'!$B$7,1)))))","v":false},null,null,null,{"$f":"IF(M59='Look-up Tables'!$C$3,5,IF(M59='Look-up Tables'!$C$4,4,IF(M59='Look-up Tables'!$C$5,3,IF(M59='Look-up Tables'!$C$6,2,IF(M59='Look-up Tables'!$C$7,1)))))","v":false},{"$f":"IFERROR(VLOOKUP(P59,'Look-up Tables'!$D$3:$E$127,2),\"\")","v":""},0,null,null,null,null,null,{"$f":"IF(U59='Look-up Tables'!$A$3,5,IF(U59='Look-up Tables'!$A$4,4,IF(U59='Look-up Tables'!$A$5,3,IF(U59='Look-up Tables'!$A$6,2,IF(U59='Look-up Tables'!$A$7,1)))))","v":false},null,{"$f":"IF(W59='Look-up Tables'!$B$3,5,IF(W59='Look-up Tables'!$B$4,4,IF(W59='Look-up Tables'!$B$5,3,IF(W59='Look-up Tables'!$B$6,2,IF(W59='Look-up Tables'!$B$7,1)))))","v":false},null,{"$f":"IF(Y59='Look-up Tables'!$C$3,5,IF(Y59='Look-up Tables'!$C$4,4,IF(Y59='Look-up Tables'!$C$5,3,IF(Y59='Look-up Tables'!$C$6,2,IF(Y59='Look-up Tables'!$C$7,1)))))","v":false},{"$f":"IFERROR(VLOOKUP(AB59,'Look-up Tables'!$D$3:$E$127,2),\"\")","v":""},0]
[null,null,null,null,null,null,{"$f":"IF(F60='Look-up Tables'!$A$3,5,IF(F60='Look-up Tables'!$A$4,4,IF(F60='Look-up Tables'!$A$5,3,IF(F60='Look-up Tables'!$A$6,2,IF(F60='Look-up Tables'!$A$7,1)))))","v":false},null,null,{"$f":"IF(I60='Look-up Tables'!$B$3,5,IF(I60='Look-up Tables'!$B$4,4,IF(I60='Look-up Tables'!$B$5,3,IF(I60='Look-up Tables'!$B$6,2,IF(I60='Look-up Tables'!$B$7,1)))))","v":false},null,null,null,{"$f":"IF(M60='Look-up Tables'!$C$3,5,IF(M60='Look-up Tables'!$C$4,4,IF(M60='Look-up Tables'!$C$5,3,IF(M60='Look-up Tables'!$C$6,2,IF(M60='Look-up Tables'!$C$7,1)))))","v":false},{"$f":"IFERROR(VLOOKUP(P60,'Look-up Tables'!$D$3:$E$127,2),\"\")","v":""},0,null,null,null,null,null,{"$f":"IF(U60='Look-up Tables'!$A$3,5,IF(U60='Look-up Tables'!$A$4,4,IF(U60='Look-up Tables'!$A$5,3,IF(U60='Look-up Tables'!$A$6,2,IF(U60='Look-up Tables'!$A$7,1)))))","v":false},null,{"$f":"IF(W60='Look-up Tables'!$B$3,5,IF(W60='Look-up Tables'!$B$4,4,IF(W60='Look-up Tables'!$B$5,3,IF(W60='Look-up Tables'!$B$6,2,IF(W60='Look-up Tables'!$B$7,1)))))","v":false},null,{"$f":"IF(Y60='Look-up Tables'!$C$3,5,IF(Y60='Look-up Tables'!$C$4,4,IF(Y60='Look-up Tables'!$C$5,3,IF(Y60='Look-up Tables'!$C$6,2,IF(Y60='Look-up Tables'!$C$7,1)))))","v":false},{"$f":"IFERROR(VLOOKUP(AB60,'Look-up Tables'!$D$3:$E$127,2),\"\")","v":""},0]
[null,null,null,null,null,null,{"$f":"IF(F61='Look-up Tables'!$A$3,5,IF(F61='Look-up Tables'!$A$4,4,IF(F61='Look-up Tables'!$A$5,3,IF(F61='Look-up Tables'!$A$6,2,IF(F61='Look-up Tables'!$A$7,1)))))","v":false},null,null,{"$f":"IF(I61='Look-up Tables'!$B$3,5,IF(I61='Look-up Tables'!$B$4,4,IF(I61='Look-up Tables'!$B$5,3,IF(I61='Look-up Tables'!$B$6,2,IF(I61='Look-up Tables'!$B$7,1)))))","v":false},null,null,null,{"$f":"IF(M61='Look-up Tables'!$C$3,5,IF(M61='Look-up Tables'!$C$4,4,IF(M61='Look-up Tables'!$C$5,3,IF(M61='Look-up Tables'!$C$6,2,IF(M61='Look-up Tables'!$C$7,1)))))","v":false},{"$f":"IFERROR(VLOOKUP(P61,'Look-up Tables'!$D$3:$E$127,2),\"\")","v":""},0,null,null,null,null,null,{"$f":"IF(U61='Look-up Tables'!$A$3,5,IF(U61='Look-up Tables'!$A$4,4,IF(U61='Look-up Tables'!$A$5,3,IF(U61='Look-up Tables'!$A$6,2,IF(U61='Look-up Tables'!$A$7,1)))))","v":false},null,{"$f":"IF(W61='Look-up Tables'!$B$3,5,IF(W61='Look-up Tables'!$B$4,4,IF(W61='Look-up Tables'!$B$5,3,IF(W61='Look-up Tables'!$B$6,2,IF(W61='Look-up Tables'!$B$7,1)))))","v":false},null,{"$f":"IF(Y61='Look-up Tables'!$C$3,5,IF(Y61='Look-up Tables'!$C$4,4,IF(Y61='Look-up Tables'!$C$5,3,IF(Y61='Look-up Tables'!$C$6,2,IF(Y61='Look-up Tables'!$C$7,1)))))","v":false},{"$f":"IFERROR(VLOOKUP(AB61,'Look-up Tables'!$D$3:$E$127,2),\"\")","v":""},0]
[null,null,null,null,null,null,{"$f":"IF(F62='Look-up Tables'!$A$3,5,IF(F62='Look-up Tables'!$A$4,4,IF(F62='Look-up Tables'!$A$5,3,IF(F62='Look-up Tables'!$A$6,2,IF(F62='Look-up Tables'!$A$7,1)))))","v":false},null,null,{"$f":"IF(I62='Look-up Tables'!$B$3,5,IF(I62='Look-up Tables'!$B$4,4,IF(I62='Look-up Tables'!$B$5,3,IF(I62='Look-up Tables'!$B$6,2,IF(I62='Look-up Tables'!$B$7,1)))))","v":false},null,null,null,{"$f":"IF(M62='Look-up Tables'!$C$3,5,IF(M62='Look-up Tables'!$C$4,4,IF(M62='Look-up Tables'!$C$5,3,IF(M62='Look-up Tables'!$C$6,2,IF(M62='Look-up Tables'!$C$7,1)))))","v":false},{"$f":"IFERROR(VLOOKUP(P62,'Look-up Tables'!$D$3:$E$127,2),\"\")","v":""},0,null,null,null,null,null,{"$f":"IF(U62='Look-up Tables'!$A$3,5,IF(U62='Look-up Tables'!$A$4,4,IF(U62='Look-up Tables'!$A$5,3,IF(U62='Look-up Tables'!$A$6,2,IF(U62='Look-up Tables'!$A$7,1)))))","v":false},null,{"$f":"IF(W62='Look-up Tables'!$B$3,5,IF(W62='Look-up Tables'!$B$4,4,IF(W62='Look-up Tables'!$B$5,3,IF(W62='Look-up Tables'!$B$6,2,IF(W62='Look-up Tables'!$B$7,1)))))","v":false},null,{"$f":"IF(Y62='Look-up Tables'!$C$3,5,IF(Y62='Look-up Tables'!$C$4,4,IF(Y62='Look-up Tables'!$C$5,3,IF(Y62='Look-up Tables'!$C$6,2,IF(Y62='Look-up Tables'!$C$7,1)))))","v":false},{"$f":"IFERROR(VLOOKUP(AB62,'Look-up Tables'!$D$3:$E$127,2),\"\")","v":""},0]
[null,null,null,null,null,null,{"$f":"IF(F63='Look-up Tables'!$A$3,5,IF(F63='Look-up Tables'!$A$4,4,IF(F63='Look-up Tables'!$A$5,3,IF(F63='Look-up Tables'!$A$6,2,IF(F63='Look-up Tables'!$A$7,1)))))","v":false},null,null,{"$f":"IF(I63='Look-up Tables'!$B$3,5,IF(I63='Look-up Tables'!$B$4,4,IF(I63='Look-up Tables'!$B$5,3,IF(I63='Look-up Tables'!$B$6,2,IF(I63='Look-up Tables'!$B$7,1)))))","v":false},null,null,null,{"$f":"IF(M63='Look-up Tables'!$C$3,5,IF(M63='Look-up Tables'!$C$4,4,IF(M63='Look-up Tables'!$C$5,3,IF(M63='Look-up Tables'!$C$6,2,IF(M63='Look-up Tables'!$C$7,1)))))","v":false},{"$f":"IFERROR(VLOOKUP(P63,'Look-up Tables'!$D$3:$E$127,2),\"\")","v":""},0,null,null,null,null,null,{"$f":"IF(U63='Look-up Tables'!$A$3,5,IF(U63='Look-up Tables'!$A$4,4,IF(U63='Look-up Tables'!$A$5,3,IF(U63='Look-up Tables'!$A$6,2,IF(U63='Look-up Tables'!$A$7,1)))))","v":false},null,{"$f":"IF(W63='Look-up Tables'!$B$3,5,IF(W63='Look-up Tables'!$B$4,4,IF(W63='Look-up Tables'!$B$5,3,IF(W63='Look-up Tables'!$B$6,2,IF(W63='Look-up Tables'!$B$7,1)))))","v":false},null,{"$f":"IF(Y63='Look-up Tables'!$C$3,5,IF(Y63='Look-up Tables'!$C$4,4,IF(Y63='Look-up Tables'!$C$5,3,IF(Y63='Look-up Tables'!$C$6,2,IF(Y63='Look-up Tables'!$C$7,1)))))","v":false},{"$f":"IFERROR(VLOOKUP(AB63,'Look-up Tables'!$D$3:$E$127,2),\"\")","v":""},0]
[null,null,null,null,null,null,{"$f":"IF(F64='Look-up Tables'!$A$3,5,IF(F64='Look-up Tables'!$A$4,4,IF(F64='Look-up Tables'!$A$5,3,IF(F64='Look-up Tables'!$A$6,2,IF(F64='Look-up Tables'!$A$7,1)))))","v":false},null,null,{"$f":"IF(I64='Look-up Tables'!$B$3,5,IF(I64='Look-up Tables'!$B$4,4,IF(I64='Look-up Tables'!$B$5,3,IF(I64='Look-up Tables'!$B$6,2,IF(I64='Look-up Tables'!$B$7,1)))))","v":false},null,null,null,{"$f":"IF(M64='Look-up Tables'!$C$3,5,IF(M64='Look-up Tables'!$C$4,4,IF(M64='Look-up Tables'!$C$5,3,IF(M64='Look-up Tables'!$C$6,2,IF(M64='Look-up Tables'!$C$7,1)))))","v":false},{"$f":"IFERROR(VLOOKUP(P64,'Look-up Tables'!$D$3:$E$127,2),\"\")","v":""},0,null,null,null,null,null,{"$f":"IF(U64='Look-up Tables'!$A$3,5,IF(U64='Look-up Tables'!$A$4,4,IF(U64='Look-up Tables'!$A$5,3,IF(U64='Look-up Tables'!$A$6,2,IF(U64='Look-up Tables'!$A$7,1)))))","v":false},null,{"$f":"IF(W64='Look-up Tables'!$B$3,5,IF(W64='Look-up Tables'!$B$4,4,IF(W64='Look-up Tables'!$B$5,3,IF(W64='Look-up Tables'!$B$6,2,IF(W64='Look-up Tables'!$B$7,1)))))","v":false},null,{"$f":"IF(Y64='Look-up Tables'!$C$3,5,IF(Y64='Look-up Tables'!$C$4,4,IF(Y64='Look-up Tables'!$C$5,3,IF(Y64='Look-up Tables'!$C$6,2,IF(Y64='Look-up Tables'!$C$7,1)))))","v":false},{"$f":"IFERROR(VLOOKUP(AB64,'Look-up Tables'!$D$3:$E$127,2),\"\")","v":""},0]
[null,null,null,null,null,null,{"$f":"IF(F65='Look-up Tables'!$A$3,5,IF(F65='Look-up Tables'!$A$4,4,IF(F65='Look-up Tables'!$A$5,3,IF(F65='Look-up Tables'!$A$6,2,IF(F65='Look-up Tables'!$A$7,1)))))","v":false},null,null,{"$f":"IF(I65='Look-up Tables'!$B$3,5,IF(I65='Look-up Tables'!$B$4,4,IF(I65='Look-up Tables'!$B$5,3,IF(I65='Look-up Tables'!$B$6,2,IF(I65='Look-up Tables'!$B$7,1)))))","v":false},null,null,null,{"$f":"IF(M65='Look-up Tables'!$C$3,5,IF(M65='Look-up Tables'!$C$4,4,IF(M65='Look-up Tables'!$C$5,3,IF(M65='Look-up Tables'!$C$6,2,IF(M65='Look-up Tables'!$C$7,1)))))","v":false},{"$f":"IFERROR(VLOOKUP(P65,'Look-up Tables'!$D$3:$E$127,2),\"\")","v":""},0,null,null,null,null,null,{"$f":"IF(U65='Look-up Tables'!$A$3,5,IF(U65='Look-up Tables'!$A$4,4,IF(U65='Look-up Tables'!$A$5,3,IF(U65='Look-up Tables'!$A$6,2,IF(U65='Look-up Tables'!$A$7,1)))))","v":false},null,{"$f":"IF(W65='Look-up Tables'!$B$3,5,IF(W65='Look-up Tables'!$B$4,4,IF(W65='Look-up Tables'!$B$5,3,IF(W65='Look-up Tables'!$B$6,2,IF(W65='Look-up Tables'!$B$7,1)))))","v":false},null,{"$f":"IF(Y65='Look-up Tables'!$C$3,5,IF(Y65='Look-up Tables'!$C$4,4,IF(Y65='Look-up Tables'!$C$5,3,IF(Y65='Look-up Tables'!$C$6,2,IF(Y65='Look-up Tables'!$C$7,1)))))","v":false},{"$f":"IFERROR(VLOOKUP(AB65,'Look-up Tables'!$D$3:$E$127,2),\"\")","v":""},0]
[null,null,null,null,null,null,{"$f":"IF(F66='Look-up Tables'!$A$3,5,IF(F66='Look-up Tables'!$A$4,4,IF(F66='Look-up Tables'!$A$5,3,IF(F66='Look-up Tables'!$A$6,2,IF(F66='Look-up Tables'!$A$7,1)))))","v":false},null,null,{"$f":"IF(I66='Look-up Tables'!$B$3,5,IF(I66='Look-up Tables'!$B$4,4,IF(I66='Look-up Tables'!$B$5,3,IF(I66='Look-up Tables'!$B$6,2,IF(I66='Look-up Tables'!$B$7,1)))))","v":false},null,null,null,{"$f":"IF(M66='Look-up Tables'!$C$3,5,IF(M66='Look-up Tables'!$C$4,4,IF(M66='Look-up Tables'!$C$5,3,IF(M66='Look-up Tables'!$C$6,2,IF(M66='Look-up Tables'!$C$7,1)))))","v":false},{"$f":"IFERROR(VLOOKUP(P66,'Look-up Tables'!$D$3:$E$127,2),\"\")","v":""},0,null,null,null,null,null,{"$f":"IF(U66='Look-up Tables'!$A$3,5,IF(U66='Look-up Tables'!$A$4,4,IF(U66='Look-up Tables'!$A$5,3,IF(U66='Look-up Tables'!$A$6,2,IF(U66='Look-up Tables'!$A$7,1)))))","v":false},null,{"$f":"IF(W66='Look-up Tables'!$B$3,5,IF(W66='Look-up Tables'!$B$4,4,IF(W66='Look-up Tables'!$B$5,3,IF(W66='Look-up Tables'!$B$6,2,IF(W66='Look-up Tables'!$B$7,1)))))","v":false},null,{"$f":"IF(Y66='Look-up Tables'!$C$3,5,IF(Y66='Look-up Tables'!$C$4,4,IF(Y66='Look-up Tables'!$C$5,3,IF(Y66='Look-up Tables'!$C$6,2,IF(Y66='Look-up Tables'!$C$7,1)))))","v":false},{"$f":"IFERROR(VLOOKUP(AB66,'Look-up Tables'!$D$3:$E$127,2),\"\")","v":""},0]
[null,null,null,null,null,null,{"$f":"IF(F67='Look-up Tables'!$A$3,5,IF(F67='Look-up Tables'!$A$4,4,IF(F67='Look-up Tables'!$A$5,3,IF(F67='Look-up Tables'!$A$6,2,IF(F67='Look-up Tables'!$A$7,1)))))","v":false},null,null,{"$f":"IF(I67='Look-up Tables'!$B$3,5,IF(I67='Look-up Tables'!$B$4,4,IF(I67='Look-up Tables'!$B$5,3,IF(I67='Look-up Tables'!$B$6,2,IF(I67='Look-up Tables'!$B$7,1)))))","v":false},null,null,null,{"$f":"IF(M67='Look-up Tables'!$C$3,5,IF(M67='Look-up Tables'!$C$4,4,IF(M67='Look-up Tables'!$C$5,3,IF(M67='Look-up Tables'!$C$6,2,IF(M67='Look-up Tables'!$C$7,1)))))","v":false},{"$f":"IFERROR(VLOOKUP(P67,'Look-up Tables'!$D$3:$E$127,2),\"\")","v":""},0,null,null,null,null,null,{"$f":"IF(U67='Look-up Tables'!$A$3,5,IF(U67='Look-up Tables'!$A$4,4,IF(U67='Look-up Tables'!$A$5,3,IF(U67='Look-up Tables'!$A$6,2,IF(U67='Look-up Tables'!$A$7,1)))))","v":false},null,{"$f":"IF(W67='Look-up Tables'!$B$3,5,IF(W67='Look-up Tables'!$B$4,4,IF(W67='Look-up Tables'!$B$5,3,IF(W67='Look-up Tables'!$B$6,2,IF(W67='Look-up Tables'!$B$7,1)))))","v":false},null,{"$f":"IF(Y67='Look-up Tables'!$C$3,5,IF(Y67='Look-up Tables'!$C$4,4,IF(Y67='Look-up Tables'!$C$5,3,IF(Y67='Look-up Tables'!$C$6,2,IF(Y67='Look-up Tables'!$C$7,1)))))","v":false},{"$f":"IFERROR(VLOOKUP(AB67,'Look-up Tables'!$D$3:$E$127,2),\"\")","v":""},0]
[null,null,null,null,null,null,{"$f":"IF(F68='Look-up Tables'!$A$3,5,IF(F68='Look-up Tables'!$A$4,4,IF(F68='Look-up Tables'!$A$5,3,IF(F68='Look-up Tables'!$A$6,2,IF(F68='Look-up Tables'!$A$7,1)))))","v":false},null,null,{"$f":"IF(I68='Look-up Tables'!$B$3,5,IF(I68='Look-up Tables'!$B$4,4,IF(I68='Look-up Tables'!$B$5,3,IF(I68='Look-up Tables'!$B$6,2,IF(I68='Look-up Tables'!$B$7,1)))))","v":false},null,null,null,{"$f":"IF(M68='Look-up Tables'!$C$3,5,IF(M68='Look-up Tables'!$C$4,4,IF(M68='Look-up Tables'!$C$5,3,IF(M68='Look-up Tables'!$C$6,2,IF(M68='Look-up Tables'!$C$7,1)))))","v":false},{"$f":"IFERROR(VLOOKUP(P68,'Look-up Tables'!$D$3:$E$127,2),\"\")","v":""},0,null,null,null,null,null,{"$f":"IF(U68='Look-up Tables'!$A$3,5,IF(U68='Look-up Tables'!$A$4,4,IF(U68='Look-up Tables'!$A$5,3,IF(U68='Look-up Tables'!$A$6,2,IF(U68='Look-up Tables'!$A$7,1)))))","v":false},null,{"$f":"IF(W68='Look-up Tables'!$B$3,5,IF(W68='Look-up Tables'!$B$4,4,IF(W68='Look-up Tables'!$B$5,3,IF(W68='Look-up Tables'!$B$6,2,IF(W68='Look-up Tables'!$B$7,1)))))","v":false},null,{"$f":"IF(Y68='Look-up Tables'!$C$3,5,IF(Y68='Look-up Tables'!$C$4,4,IF(Y68='Look-up Tables'!$C$5,3,IF(Y68='Look-up Tables'!$C$6,2,IF(Y68='Look-up Tables'!$C$7,1)))))","v":false},{"$f":"IFERROR(VLOOKUP(AB68,'Look-up Tables'!$D$3:$E$127,2),\"\")","v":""},0]
[null,null,null,null,null,null,{"$f":"IF(F69='Look-up Tables'!$A$3,5,IF(F69='Look-up Tables'!$A$4,4,IF(F69='Look-up Tables'!$A$5,3,IF(F69='Look-up Tables'!$A$6,2,IF(F69='Look-up Tables'!$A$7,1)))))","v":false},null,null,{"$f":"IF(I69='Look-up Tables'!$B$3,5,IF(I69='Look-up Tables'!$B$4,4,IF(I69='Look-up Tables'!$B$5,3,IF(I69='Look-up Tables'!$B$6,2,IF(I69='Look-up Tables'!$B$7,1)))))","v":false},null,null,null,{"$f":"IF(M69='Look-up Tables'!$C$3,5,IF(M69='Look-up Tables'!$C$4,4,IF(M69='Look-up Tables'!$C$5,3,IF(M69='Look-up Tables'!$C$6,2,IF(M69='Look-up Tables'!$C$7,1)))))","v":false},{"$f":"IFERROR(VLOOKUP(P69,'Look-up Tables'!$D$3:$E$127,2),\"\")","v":""},0,null,null,null,null,null,{"$f":"IF(U69='Look-up Tables'!$A$3,5,IF(U69='Look-up Tables'!$A$4,4,IF(U69='Look-up Tables'!$A$5,3,IF(U69='Look-up Tables'!$A$6,2,IF(U69='Look-up Tables'!$A$7,1)))))","v":false},null,{"$f":"IF(W69='Look-up Tables'!$B$3,5,IF(W69='Look-up Tables'!$B$4,4,IF(W69='Look-up Tables'!$B$5,3,IF(W69='Look-up Tables'!$B$6,2,IF(W69='Look-up Tables'!$B$7,1)))))","v":false},null,{"$f":"IF(Y69='Look-up Tables'!$C$3,5,IF(Y69='Look-up Tables'!$C$4,4,IF(Y69='Look-up Tables'!$C$5,3,IF(Y69='Look-up Tables'!$C$6,2,IF(Y69='Look-up Tables'!$C$7,1)))))","v":false},{"$f":"IFERROR(VLOOKUP(AB69,'Look-up Tables'!$D$3:$E$127,2),\"\")","v":""},0]
[null,null,null,null,null,null,{"$f":"IF(F70='Look-up Tables'!$A$3,5,IF(F70='Look-up Tables'!$A$4,4,IF(F70='Look-up Tables'!$A$5,3,IF(F70='Look-up Tables'!$A$6,2,IF(F70='Look-up Tables'!$A$7,1)))))","v":false},null,null,{"$f":"IF(I70='Look-up Tables'!$B$3,5,IF(I70='Look-up Tables'!$B$4,4,IF(I70='Look-up Tables'!$B$5,3,IF(I70='Look-up Tables'!$B$6,2,IF(I70='Look-up Tables'!$B$7,1)))))","v":false},null,null,null,{"$f":"IF(M70='Look-up Tables'!$C$3,5,IF(M70='Look-up Tables'!$C$4,4,IF(M70='Look-up Tables'!$C$5,3,IF(M70='Look-up Tables'!$C$6,2,IF(M70='Look-up Tables'!$C$7,1)))))","v":false},{"$f":"IFERROR(VLOOKUP(P70,'Look-up Tables'!$D$3:$E$127,2),\"\")","v":""},0,null,null,null,null,null,{"$f":"IF(U70='Look-up Tables'!$A$3,5,IF(U70='Look-up Tables'!$A$4,4,IF(U70='Look-up Tables'!$A$5,3,IF(U70='Look-up Tables'!$A$6,2,IF(U70='Look-up Tables'!$A$7,1)))))","v":false},null,{"$f":"IF(W70='Look-up Tables'!$B$3,5,IF(W70='Look-up Tables'!$B$4,4,IF(W70='Look-up Tables'!$B$5,3,IF(W70='Look-up Tables'!$B$6,2,IF(W70='Look-up Tables'!$B$7,1)))))","v":false},null,{"$f":"IF(Y70='Look-up Tables'!$C$3,5,IF(Y70='Look-up Tables'!$C$4,4,IF(Y70='Look-up Tables'!$C$5,3,IF(Y70='Look-up Tables'!$C$6,2,IF(Y70='Look-up Tables'!$C$7,1)))))","v":false},{"$f":"IFERROR(VLOOKUP(AB70,'Look-up Tables'!$D$3:$E$127,2),\"\")","v":""},0]
[null,null,null,null,null,null,{"$f":"IF(F71='Look-up Tables'!$A$3,5,IF(F71='Look-up Tables'!$A$4,4,IF(F71='Look-up Tables'!$A$5,3,IF(F71='Look-up Tables'!$A$6,2,IF(F71='Look-up Tables'!$A$7,1)))))","v":false},null,null,{"$f":"IF(I71='Look-up Tables'!$B$3,5,IF(I71='Look-up Tables'!$B$4,4,IF(I71='Look-up Tables'!$B$5,3,IF(I71='Look-up Tables'!$B$6,2,IF(I71='Look-up Tables'!$B$7,1)))))","v":false},null,null,null,{"$f":"IF(M71='Look-up Tables'!$C$3,5,IF(M71='Look-up Tables'!$C$4,4,IF(M71='Look-up Tables'!$C$5,3,IF(M71='Look-up Tables'!$C$6,2,IF(M71='Look-up Tables'!$C$7,1)))))","v":false},{"$f":"IFERROR(VLOOKUP(P71,'Look-up Tables'!$D$3:$E$127,2),\"\")","v":""},0,null,null,null,null,null,{"$f":"IF(U71='Look-up Tables'!$A$3,5,IF(U71='Look-up Tables'!$A$4,4,IF(U71='Look-up Tables'!$A$5,3,IF(U71='Look-up Tables'!$A$6,2,IF(U71='Look-up Tables'!$A$7,1)))))","v":false},null,{"$f":"IF(W71='Look-up Tables'!$B$3,5,IF(W71='Look-up Tables'!$B$4,4,IF(W71='Look-up Tables'!$B$5,3,IF(W71='Look-up Tables'!$B$6,2,IF(W71='Look-up Tables'!$B$7,1)))))","v":false},null,{"$f":"IF(Y71='Look-up Tables'!$C$3,5,IF(Y71='Look-up Tables'!$C$4,4,IF(Y71='Look-up Tables'!$C$5,3,IF(Y71='Look-up Tables'!$C$6,2,IF(Y71='Look-up Tables'!$C$7,1)))))","v":false},{"$f":"IFERROR(VLOOKUP(AB71,'Look-up Tables'!$D$3:$E$127,2),\"\")","v":""},0]
[null,null,null,null,null,null,{"$f":"IF(F72='Look-up Tables'!$A$3,5,IF(F72='Look-up Tables'!$A$4,4,IF(F72='Look-up Tables'!$A$5,3,IF(F72='Look-up Tables'!$A$6,2,IF(F72='Look-up Tables'!$A$7,1)))))","v":false},null,null,{"$f":"IF(I72='Look-up Tables'!$B$3,5,IF(I72='Look-up Tables'!$B$4,4,IF(I72='Look-up Tables'!$B$5,3,IF(I72='Look-up Tables'!$B$6,2,IF(I72='Look-up Tables'!$B$7,1)))))","v":false},null,null,null,{"$f":"IF(M72='Look-up Tables'!$C$3,5,IF(M72='Look-up Tables'!$C$4,4,IF(M72='Look-up Tables'!$C$5,3,IF(M72='Look-up Tables'!$C$6,2,IF(M72='Look-up Tables'!$C$7,1)))))","v":false},{"$f":"IFERROR(VLOOKUP(P72,'Look-up Tables'!$D$3:$E$127,2),\"\")","v":""},0,null,null,null,null,null,{"$f":"IF(U72='Look-up Tables'!$A$3,5,IF(U72='Look-up Tables'!$A$4,4,IF(U72='Look-up Tables'!$A$5,3,IF(U72='Look-up Tables'!$A$6,2,IF(U72='Look-up Tables'!$A$7,1)))))","v":false},null,{"$f":"IF(W72='Look-up Tables'!$B$3,5,IF(W72='Look-up Tables'!$B$4,4,IF(W72='Look-up Tables'!$B$5,3,IF(W72='Look-up Tables'!$B$6,2,IF(W72='Look-up Tables'!$B$7,1)))))","v":false},null,{"$f":"IF(Y72='Look-up Tables'!$C$3,5,IF(Y72='Look-up Tables'!$C$4,4,IF(Y72='Look-up Tables'!$C$5,3,IF(Y72='Look-up Tables'!$C$6,2,IF(Y72='Look-up Tables'!$C$7,1)))))","v":false},{"$f":"IFERROR(VLOOKUP(AB72,'Look-up Tables'!$D$3:$E$127,2),\"\")","v":""},0]
[null,null,null,null,null,null,{"$f":"IF(F73='Look-up Tables'!$A$3,5,IF(F73='Look-up Tables'!$A$4,4,IF(F73='Look-up Tables'!$A$5,3,IF(F73='Look-up Tables'!$A$6,2,IF(F73='Look-up Tables'!$A$7,1)))))","v":false},null,null,{"$f":"IF(I73='Look-up Tables'!$B$3,5,IF(I73='Look-up Tables'!$B$4,4,IF(I73='Look-up Tables'!$B$5,3,IF(I73='Look-up Tables'!$B$6,2,IF(I73='Look-up Tables'!$B$7,1)))))","v":false},null,null,null,{"$f":"IF(M73='Look-up Tables'!$C$3,5,IF(M73='Look-up Tables'!$C$4,4,IF(M73='Look-up Tables'!$C$5,3,IF(M73='Look-up Tables'!$C$6,2,IF(M73='Look-up Tables'!$C$7,1)))))","v":false},{"$f":"IFERROR(VLOOKUP(P73,'Look-up Tables'!$D$3:$E$127,2),\"\")","v":""},0,null,null,null,null,null,{"$f":"IF(U73='Look-up Tables'!$A$3,5,IF(U73='Look-up Tables'!$A$4,4,IF(U73='Look-up Tables'!$A$5,3,IF(U73='Look-up Tables'!$A$6,2,IF(U73='Look-up Tables'!$A$7,1)))))","v":false},null,{"$f":"IF(W73='Look-up Tables'!$B$3,5,IF(W73='Look-up Tables'!$B$4,4,IF(W73='Look-up Tables'!$B$5,3,IF(W73='Look-up Tables'!$B$6,2,IF(W73='Look-up Tables'!$B$7,1)))))","v":false},null,{"$f":"IF(Y73='Look-up Tables'!$C$3,5,IF(Y73='Look-up Tables'!$C$4,4,IF(Y73='Look-up Tables'!$C$5,3,IF(Y73='Look-up Tables'!$C$6,2,IF(Y73='Look-up Tables'!$C$7,1)))))","v":false},{"$f":"IFERROR(VLOOKUP(AB73,'Look-up Tables'!$D$3:$E$127,2),\"\")","v":""},0]
[null,null,null,null,null,null,{"$f":"IF(F74='Look-up Tables'!$A$3,5,IF(F74='Look-up Tables'!$A$4,4,IF(F74='Look-up Tables'!$A$5,3,IF(F74='Look-up Tables'!$A$6,2,IF(F74='Look-up Tables'!$A$7,1)))))","v":false},null,null,{"$f":"IF(I74='Look-up Tables'!$B$3,5,IF(I74='Look-up Tables'!$B$4,4,IF(I74='Look-up Tables'!$B$5,3,IF(I74='Look-up Tables'!$B$6,2,IF(I74='Look-up Tables'!$B$7,1)))))","v":false},null,null,null,{"$f":"IF(M74='Look-up Tables'!$C$3,5,IF(M74='Look-up Tables'!$C$4,4,IF(M74='Look-up Tables'!$C$5,3,IF(M74='Look-up Tables'!$C$6,2,IF(M74='Look-up Tables'!$C$7,1)))))","v":false},{"$f":"IFERROR(VLOOKUP(P74,'Look-up Tables'!$D$3:$E$127,2),\"\")","v":""},0,null,null,null,null,null,{"$f":"IF(U74='Look-up Tables'!$A$3,5,IF(U74='Look-up Tables'!$A$4,4,IF(U74='Look-up Tables'!$A$5,3,IF(U74='Look-up Tables'!$A$6,2,IF(U74='Look-up Tables'!$A$7,1)))))","v":false},null,{"$f":"IF(W74='Look-up Tables'!$B$3,5,IF(W74='Look-up Tables'!$B$4,4,IF(W74='Look-up Tables'!$B$5,3,IF(W74='Look-up Tables'!$B$6,2,IF(W74='Look-up Tables'!$B$7,1)))))","v":false},null,{"$f":"IF(Y74='Look-up Tables'!$C$3,5,IF(Y74='Look-up Tables'!$C$4,4,IF(Y74='Look-up Tables'!$C$5,3,IF(Y74='Look-up Tables'!$C$6,2,IF(Y74='Look-up Tables'!$C$7,1)))))","v":false},{"$f":"IFERROR(VLOOKUP(AB74,'Look-up Tables'!$D$3:$E$127,2),\"\")","v":""},0]
[null,null,null,null,null,null,{"$f":"IF(F75='Look-up Tables'!$A$3,5,IF(F75='Look-up Tables'!$A$4,4,IF(F75='Look-up Tables'!$A$5,3,IF(F75='Look-up Tables'!$A$6,2,IF(F75='Look-up Tables'!$A$7,1)))))","v":false},null,null,{"$f":"IF(I75='Look-up Tables'!$B$3,5,IF(I75='Look-up Tables'!$B$4,4,IF(I75='Look-up Tables'!$B$5,3,IF(I75='Look-up Tables'!$B$6,2,IF(I75='Look-up Tables'!$B$7,1)))))","v":false},null,null,null,{"$f":"IF(M75='Look-up Tables'!$C$3,5,IF(M75='Look-up Tables'!$C$4,4,IF(M75='Look-up Tables'!$C$5,3,IF(M75='Look-up Tables'!$C$6,2,IF(M75='Look-up Tables'!$C$7,1)))))","v":false},{"$f":"IFERROR(VLOOKUP(P75,'Look-up Tables'!$D$3:$E$127,2),\"\")","v":""},0,null,null,null,null,null,{"$f":"IF(U75='Look-up Tables'!$A$3,5,IF(U75='Look-up Tables'!$A$4,4,IF(U75='Look-up Tables'!$A$5,3,IF(U75='Look-up Tables'!$A$6,2,IF(U75='Look-up Tables'!$A$7,1)))))","v":false},null,{"$f":"IF(W75='Look-up Tables'!$B$3,5,IF(W75='Look-up Tables'!$B$4,4,IF(W75='Look-up Tables'!$B$5,3,IF(W75='Look-up Tables'!$B$6,2,IF(W75='Look-up Tables'!$B$7,1)))))","v":false},null,{"$f":"IF(Y75='Look-up Tables'!$C$3,5,IF(Y75='Look-up Tables'!$C$4,4,IF(Y75='Look-up Tables'!$C$5,3,IF(Y75='Look-up Tables'!$C$6,2,IF(Y75='Look-up Tables'!$C$7,1)))))","v":false},{"$f":"IFERROR(VLOOKUP(AB75,'Look-up Tables'!$D$3:$E$127,2),\"\")","v":""},0]
[null,null,null,null,null,null,{"$f":"IF(F76='Look-up Tables'!$A$3,5,IF(F76='Look-up Tables'!$A$4,4,IF(F76='Look-up Tables'!$A$5,3,IF(F76='Look-up Tables'!$A$6,2,IF(F76='Look-up Tables'!$A$7,1)))))","v":false},null,null,{"$f":"IF(I76='Look-up Tables'!$B$3,5,IF(I76='Look-up Tables'!$B$4,4,IF(I76='Look-up Tables'!$B$5,3,IF(I76='Look-up Tables'!$B$6,2,IF(I76='Look-up Tables'!$B$7,1)))))","v":false},null,null,null,{"$f":"IF(M76='Look-up Tables'!$C$3,5,IF(M76='Look-up Tables'!$C$4,4,IF(M76='Look-up Tables'!$C$5,3,IF(M76='Look-up Tables'!$C$6,2,IF(M76='Look-up Tables'!$C$7,1)))))","v":false},{"$f":"IFERROR(VLOOKUP(P76,'Look-up Tables'!$D$3:$E$127,2),\"\")","v":""},0,null,null,null,null,null,{"$f":"IF(U76='Look-up Tables'!$A$3,5,IF(U76='Look-up Tables'!$A$4,4,IF(U76='Look-up Tables'!$A$5,3,IF(U76='Look-up Tables'!$A$6,2,IF(U76='Look-up Tables'!$A$7,1)))))","v":false},null,{"$f":"IF(W76='Look-up Tables'!$B$3,5,IF(W76='Look-up Tables'!$B$4,4,IF(W76='Look-up Tables'!$B$5,3,IF(W76='Look-up Tables'!$B$6,2,IF(W76='Look-up Tables'!$B$7,1)))))","v":false},null,{"$f":"IF(Y76='Look-up Tables'!$C$3,5,IF(Y76='Look-up Tables'!$C$4,4,IF(Y76='Look-up Tables'!$C$5,3,IF(Y76='Look-up Tables'!$C$6,2,IF(Y76='Look-up Tables'!$C$7,1)))))","v":false},{"$f":"IFERROR(VLOOKUP(AB76,'Look-up Tables'!$D$3:$E$127,2),\"\")","v":""},0]
[null,null,null,null,null,null,{"$f":"IF(F77='Look-up Tables'!$A$3,5,IF(F77='Look-up Tables'!$A$4,4,IF(F77='Look-up Tables'!$A$5,3,IF(F77='Look-up Tables'!$A$6,2,IF(F77='Look-up Tables'!$A$7,1)))))","v":false},null,null,{"$f":"IF(I77='Look-up Tables'!$B$3,5,IF(I77='Look-up Tables'!$B$4,4,IF(I77='Look-up Tables'!$B$5,3,IF(I77='Look-up Tables'!$B$6,2,IF(I77='Look-up Tables'!$B$7,1)))))","v":false},null,null,null,{"$f":"IF(M77='Look-up Tables'!$C$3,5,IF(M77='Look-up Tables'!$C$4,4,IF(M77='Look-up Tables'!$C$5,3,IF(M77='Look-up Tables'!$C$6,2,IF(M77='Look-up Tables'!$C$7,1)))))","v":false},{"$f":"IFERROR(VLOOKUP(P77,'Look-up Tables'!$D$3:$E$127,2),\"\")","v":""},0,null,null,null,null,null,{"$f":"IF(U77='Look-up Tables'!$A$3,5,IF(U77='Look-up Tables'!$A$4,4,IF(U77='Look-up Tables'!$A$5,3,IF(U77='Look-up Tables'!$A$6,2,IF(U77='Look-up Tables'!$A$7,1)))))","v":false},null,{"$f":"IF(W77='Look-up Tables'!$B$3,5,IF(W77='Look-up Tables'!$B$4,4,IF(W77='Look-up Tables'!$B$5,3,IF(W77='Look-up Tables'!$B$6,2,IF(W77='Look-up Tables'!$B$7,1)))))","v":false},null,{"$f":"IF(Y77='Look-up Tables'!$C$3,5,IF(Y77='Look-up Tables'!$C$4,4,IF(Y77='Look-up Tables'!$C$5,3,IF(Y77='Look-up Tables'!$C$6,2,IF(Y77='Look-up Tables'!$C$7,1)))))","v":false},{"$f":"IFERROR(VLOOKUP(AB77,'Look-up Tables'!$D$3:$E$127,2),\"\")","v":""},0]
[null,null,null,null,null,null,{"$f":"IF(F78='Look-up Tables'!$A$3,5,IF(F78='Look-up Tables'!$A$4,4,IF(F78='Look-up Tables'!$A$5,3,IF(F78='Look-up Tables'!$A$6,2,IF(F78='Look-up Tables'!$A$7,1)))))","v":false},null,null,{"$f":"IF(I78='Look-up Tables'!$B$3,5,IF(I78='Look-up Tables'!$B$4,4,IF(I78='Look-up Tables'!$B$5,3,IF(I78='Look-up Tables'!$B$6,2,IF(I78='Look-up Tables'!$B$7,1)))))","v":false},null,null,null,{"$f":"IF(M78='Look-up Tables'!$C$3,5,IF(M78='Look-up Tables'!$C$4,4,IF(M78='Look-up Tables'!$C$5,3,IF(M78='Look-up Tables'!$C$6,2,IF(M78='Look-up Tables'!$C$7,1)))))","v":false},{"$f":"IFERROR(VLOOKUP(P78,'Look-up Tables'!$D$3:$E$127,2),\"\")","v":""},0,null,null,null,null,null,{"$f":"IF(U78='Look-up Tables'!$A$3,5,IF(U78='Look-up Tables'!$A$4,4,IF(U78='Look-up Tables'!$A$5,3,IF(U78='Look-up Tables'!$A$6,2,IF(U78='Look-up Tables'!$A$7,1)))))","v":false},null,{"$f":"IF(W78='Look-up Tables'!$B$3,5,IF(W78='Look-up Tables'!$B$4,4,IF(W78='Look-up Tables'!$B$5,3,IF(W78='Look-up Tables'!$B$6,2,IF(W78='Look-up Tables'!$B$7,1)))))","v":false},null,{"$f":"IF(Y78='Look-up Tables'!$C$3,5,IF(Y78='Look-up Tables'!$C$4,4,IF(Y78='Look-up Tables'!$C$5,3,IF(Y78='Look-up Tables'!$C$6,2,IF(Y78='Look-up Tables'!$C$7,1)))))","v":false},{"$f":"IFERROR(VLOOKUP(AB78,'Look-up Tables'!$D$3:$E$127,2),\"\")","v":""},0]
[null,null,null,null,null,null,{"$f":"IF(F79='Look-up Tables'!$A$3,5,IF(F79='Look-up Tables'!$A$4,4,IF(F79='Look-up Tables'!$A$5,3,IF(F79='Look-up Tables'!$A$6,2,IF(F79='Look-up Tables'!$A$7,1)))))","v":false},null,null,{"$f":"IF(I79='Look-up Tables'!$B$3,5,IF(I79='Look-up Tables'!$B$4,4,IF(I79='Look-up Tables'!$B$5,3,IF(I79='Look-up Tables'!$B$6,2,IF(I79='Look-up Tables'!$B$7,1)))))","v":false},null,null,null,{"$f":"IF(M79='Look-up Tables'!$C$3,5,IF(M79='Look-up Tables'!$C$4,4,IF(M79='Look-up Tables'!$C$5,3,IF(M79='Look-up Tables'!$C$6,2,IF(M79='Look-up Tables'!$C$7,1)))))","v":false},{"$f":"IFERROR(VLOOKUP(P79,'Look-up Tables'!$D$3:$E$127,2),\"\")","v":""},0,null,null,null,null,null,{"$f":"IF(U79='Look-up Tables'!$A$3,5,IF(U79='Look-up Tables'!$A$4,4,IF(U79='Look-up Tables'!$A$5,3,IF(U79='Look-up Tables'!$A$6,2,IF(U79='Look-up Tables'!$A$7,1)))))","v":false},null,{"$f":"IF(W79='Look-up Tables'!$B$3,5,IF(W79='Look-up Tables'!$B$4,4,IF(W79='Look-up Tables'!$B$5,3,IF(W79='Look-up Tables'!$B$6,2,IF(W79='Look-up Tables'!$B$7,1)))))","v":false},null,{"$f":"IF(Y79='Look-up Tables'!$C$3,5,IF(Y79='Look-up Tables'!$C$4,4,IF(Y79='Look-up Tables'!$C$5,3,IF(Y79='Look-up Tables'!$C$6,2,IF(Y79='Look-up Tables'!$C$7,1)))))","v":false},{"$f":"IFERROR(VLOOKUP(AB79,'Look-up Tables'!$D$3:$E$127,2),\"\")","v":""},0]
[null,null,null,null,null,null,{"$f":"IF(F80='Look-up Tables'!$A$3,5,IF(F80='Look-up Tables'!$A$4,4,IF(F80='Look-up Tables'!$A$5,3,IF(F80='Look-up Tables'!$A$6,2,IF(F80='Look-up Tables'!$A$7,1)))))","v":false},null,null,{"$f":"IF(I80='Look-up Tables'!$B$3,5,IF(I80='Look-up Tables'!$B$4,4,IF(I80='Look-up Tables'!$B$5,3,IF(I80='Look-up Tables'!$B$6,2,IF(I80='Look-up Tables'!$B$7,1)))))","v":false},null,null,null,{"$f":"IF(M80='Look-up Tables'!$C$3,5,IF(M80='Look-up Tables'!$C$4,4,IF(M80='Look-up Tables'!$C$5,3,IF(M80='Look-up Tables'!$C$6,2,IF(M80='Look-up Tables'!$C$7,1)))))","v":false},{"$f":"IFERROR(VLOOKUP(P80,'Look-up Tables'!$D$3:$E$127,2),\"\")","v":""},0,null,null,null,null,null,{"$f":"IF(U80='Look-up Tables'!$A$3,5,IF(U80='Look-up Tables'!$A$4,4,IF(U80='Look-up Tables'!$A$5,3,IF(U80='Look-up Tables'!$A$6,2,IF(U80='Look-up Tables'!$A$7,1)))))","v":false},null,{"$f":"IF(W80='Look-up Tables'!$B$3,5,IF(W80='Look-up Tables'!$B$4,4,IF(W80='Look-up Tables'!$B$5,3,IF(W80='Look-up Tables'!$B$6,2,IF(W80='Look-up Tables'!$B$7,1)))))","v":false},null,{"$f":"IF(Y80='Look-up Tables'!$C$3,5,IF(Y80='Look-up Tables'!$C$4,4,IF(Y80='Look-up Tables'!$C$5,3,IF(Y80='Look-up Tables'!$C$6,2,IF(Y80='Look-up Tables'!$C$7,1)))))","v":false},{"$f":"IFERROR(VLOOKUP(AB80,'Look-up Tables'!$D$3:$E$127,2),\"\")","v":""},0]
[null,null,null,null,null,null,{"$f":"IF(F81='Look-up Tables'!$A$3,5,IF(F81='Look-up Tables'!$A$4,4,IF(F81='Look-up Tables'!$A$5,3,IF(F81='Look-up Tables'!$A$6,2,IF(F81='Look-up Tables'!$A$7,1)))))","v":false},null,null,{"$f":"IF(I81='Look-up Tables'!$B$3,5,IF(I81='Look-up Tables'!$B$4,4,IF(I81='Look-up Tables'!$B$5,3,IF(I81='Look-up Tables'!$B$6,2,IF(I81='Look-up Tables'!$B$7,1)))))","v":false},null,null,null,{"$f":"IF(M81='Look-up Tables'!$C$3,5,IF(M81='Look-up Tables'!$C$4,4,IF(M81='Look-up Tables'!$C$5,3,IF(M81='Look-up Tables'!$C$6,2,IF(M81='Look-up Tables'!$C$7,1)))))","v":false},{"$f":"IFERROR(VLOOKUP(P81,'Look-up Tables'!$D$3:$E$127,2),\"\")","v":""},0,null,null,null,null,null,{"$f":"IF(U81='Look-up Tables'!$A$3,5,IF(U81='Look-up Tables'!$A$4,4,IF(U81='Look-up Tables'!$A$5,3,IF(U81='Look-up Tables'!$A$6,2,IF(U81='Look-up Tables'!$A$7,1)))))","v":false},null,{"$f":"IF(W81='Look-up Tables'!$B$3,5,IF(W81='Look-up Tables'!$B$4,4,IF(W81='Look-up Tables'!$B$5,3,IF(W81='Look-up Tables'!$B$6,2,IF(W81='Look-up Tables'!$B$7,1)))))","v":false},null,{"$f":"IF(Y81='Look-up Tables'!$C$3,5,IF(Y81='Look-up Tables'!$C$4,4,IF(Y81='Look-up Tables'!$C$5,3,IF(Y81='Look-up Tables'!$C$6,2,IF(Y81='Look-up Tables'!$C$7,1)))))","v":false},{"$f":"IFERROR(VLOOKUP(AB81,'Look-up Tables'!$D$3:$E$127,2),\"\")","v":""},0]
[null,null,null,null,null,null,{"$f":"IF(F82='Look-up Tables'!$A$3,5,IF(F82='Look-up Tables'!$A$4,4,IF(F82='Look-up Tables'!$A$5,3,IF(F82='Look-up Tables'!$A$6,2,IF(F82='Look-up Tables'!$A$7,1)))))","v":false},null,null,{"$f":"IF(I82='Look-up Tables'!$B$3,5,IF(I82='Look-up Tables'!$B$4,4,IF(I82='Look-up Tables'!$B$5,3,IF(I82='Look-up Tables'!$B$6,2,IF(I82='Look-up Tables'!$B$7,1)))))","v":false},null,null,null,{"$f":"IF(M82='Look-up Tables'!$C$3,5,IF(M82='Look-up Tables'!$C$4,4,IF(M82='Look-up Tables'!$C$5,3,IF(M82='Look-up Tables'!$C$6,2,IF(M82='Look-up Tables'!$C$7,1)))))","v":false},{"$f":"IFERROR(VLOOKUP(P82,'Look-up Tables'!$D$3:$E$127,2),\"\")","v":""},0,null,null,null,null,null,{"$f":"IF(U82='Look-up Tables'!$A$3,5,IF(U82='Look-up Tables'!$A$4,4,IF(U82='Look-up Tables'!$A$5,3,IF(U82='Look-up Tables'!$A$6,2,IF(U82='Look-up Tables'!$A$7,1)))))","v":false},null,{"$f":"IF(W82='Look-up Tables'!$B$3,5,IF(W82='Look-up Tables'!$B$4,4,IF(W82='Look-up Tables'!$B$5,3,IF(W82='Look-up Tables'!$B$6,2,IF(W82='Look-up Tables'!$B$7,1)))))","v":false},null,{"$f":"IF(Y82='Look-up Tables'!$C$3,5,IF(Y82='Look-up Tables'!$C$4,4,IF(Y82='Look-up Tables'!$C$5,3,IF(Y82='Look-up Tables'!$C$6,2,IF(Y82='Look-up Tables'!$C$7,1)))))","v":false},{"$f":"IFERROR(VLOOKUP(AB82,'Look-up Tables'!$D$3:$E$127,2),\"\")","v":""},0]
[null,null,null,null,null,null,{"$f":"IF(F83='Look-up Tables'!$A$3,5,IF(F83='Look-up Tables'!$A$4,4,IF(F83='Look-up Tables'!$A$5,3,IF(F83='Look-up Tables'!$A$6,2,IF(F83='Look-up Tables'!$A$7,1)))))","v":false},null,null,{"$f":"IF(I83='Look-up Tables'!$B$3,5,IF(I83='Look-up Tables'!$B$4,4,IF(I83='Look-up Tables'!$B$5,3,IF(I83='Look-up Tables'!$B$6,2,IF(I83='Look-up Tables'!$B$7,1)))))","v":false},null,null,null,{"$f":"IF(M83='Look-up Tables'!$C$3,5,IF(M83='Look-up Tables'!$C$4,4,IF(M83='Look-up Tables'!$C$5,3,IF(M83='Look-up Tables'!$C$6,2,IF(M83='Look-up Tables'!$C$7,1)))))","v":false},{"$f":"IFERROR(VLOOKUP(P83,'Look-up Tables'!$D$3:$E$127,2),\"\")","v":""},0,null,null,null,null,null,{"$f":"IF(U83='Look-up Tables'!$A$3,5,IF(U83='Look-up Tables'!$A$4,4,IF(U83='Look-up Tables'!$A$5,3,IF(U83='Look-up Tables'!$A$6,2,IF(U83='Look-up Tables'!$A$7,1)))))","v":false},null,{"$f":"IF(W83='Look-up Tables'!$B$3,5,IF(W83='Look-up Tables'!$B$4,4,IF(W83='Look-up Tables'!$B$5,3,IF(W83='Look-up Tables'!$B$6,2,IF(W83='Look-up Tables'!$B$7,1)))))","v":false},null,{"$f":"IF(Y83='Look-up Tables'!$C$3,5,IF(Y83='Look-up Tables'!$C$4,4,IF(Y83='Look-up Tables'!$C$5,3,IF(Y83='Look-up Tables'!$C$6,2,IF(Y83='Look-up Tables'!$C$7,1)))))","v":false},{"$f":"IFERROR(VLOOKUP(AB83,'Look-up Tables'!$D$3:$E$127,2),\"\")","v":""},0]
[null,null,null,null,null,null,{"$f":"IF(F84='Look-up Tables'!$A$3,5,IF(F84='Look-up Tables'!$A$4,4,IF(F84='Look-up Tables'!$A$5,3,IF(F84='Look-up Tables'!$A$6,2,IF(F84='Look-up Tables'!$A$7,1)))))","v":false},null,null,{"$f":"IF(I84='Look-up Tables'!$B$3,5,IF(I84='Look-up Tables'!$B$4,4,IF(I84='Look-up Tables'!$B$5,3,IF(I84='Look-up Tables'!$B$6,2,IF(I84='Look-up Tables'!$B$7,1)))))","v":false},null,null,null,{"$f":"IF(M84='Look-up Tables'!$C$3,5,IF(M84='Look-up Tables'!$C$4,4,IF(M84='Look-up Tables'!$C$5,3,IF(M84='Look-up Tables'!$C$6,2,IF(M84='Look-up Tables'!$C$7,1)))))","v":false},{"$f":"IFERROR(VLOOKUP(P84,'Look-up Tables'!$D$3:$E$127,2),\"\")","v":""},0,null,null,null,null,null,{"$f":"IF(U84='Look-up Tables'!$A$3,5,IF(U84='Look-up Tables'!$A$4,4,IF(U84='Look-up Tables'!$A$5,3,IF(U84='Look-up Tables'!$A$6,2,IF(U84='Look-up Tables'!$A$7,1)))))","v":false},null,{"$f":"IF(W84='Look-up Tables'!$B$3,5,IF(W84='Look-up Tables'!$B$4,4,IF(W84='Look-up Tables'!$B$5,3,IF(W84='Look-up Tables'!$B$6,2,IF(W84='Look-up Tables'!$B$7,1)))))","v":false},null,{"$f":"IF(Y84='Look-up Tables'!$C$3,5,IF(Y84='Look-up Tables'!$C$4,4,IF(Y84='Look-up Tables'!$C$5,3,IF(Y84='Look-up Tables'!$C$6,2,IF(Y84='Look-up Tables'!$C$7,1)))))","v":false},{"$f":"IFERROR(VLOOKUP(AB84,'Look-up Tables'!$D$3:$E$127,2),\"\")","v":""},0]
[null,null,null,null,null,null,{"$f":"IF(F85='Look-up Tables'!$A$3,5,IF(F85='Look-up Tables'!$A$4,4,IF(F85='Look-up Tables'!$A$5,3,IF(F85='Look-up Tables'!$A$6,2,IF(F85='Look-up Tables'!$A$7,1)))))","v":false},null,null,{"$f":"IF(I85='Look-up Tables'!$B$3,5,IF(I85='Look-up Tables'!$B$4,4,IF(I85='Look-up Tables'!$B$5,3,IF(I85='Look-up Tables'!$B$6,2,IF(I85='Look-up Tables'!$B$7,1)))))","v":false},null,null,null,{"$f":"IF(M85='Look-up Tables'!$C$3,5,IF(M85='Look-up Tables'!$C$4,4,IF(M85='Look-up Tables'!$C$5,3,IF(M85='Look-up Tables'!$C$6,2,IF(M85='Look-up Tables'!$C$7,1)))))","v":false},{"$f":"IFERROR(VLOOKUP(P85,'Look-up Tables'!$D$3:$E$127,2),\"\")","v":""},0,null,null,null,null,null,{"$f":"IF(U85='Look-up Tables'!$A$3,5,IF(U85='Look-up Tables'!$A$4,4,IF(U85='Look-up Tables'!$A$5,3,IF(U85='Look-up Tables'!$A$6,2,IF(U85='Look-up Tables'!$A$7,1)))))","v":false},null,{"$f":"IF(W85='Look-up Tables'!$B$3,5,IF(W85='Look-up Tables'!$B$4,4,IF(W85='Look-up Tables'!$B$5,3,IF(W85='Look-up Tables'!$B$6,2,IF(W85='Look-up Tables'!$B$7,1)))))","v":false},null,{"$f":"IF(Y85='Look-up Tables'!$C$3,5,IF(Y85='Look-up Tables'!$C$4,4,IF(Y85='Look-up Tables'!$C$5,3,IF(Y85='Look-up Tables'!$C$6,2,IF(Y85='Look-up Tables'!$C$7,1)))))","v":false},{"$f":"IFERROR(VLOOKUP(AB85,'Look-up Tables'!$D$3:$E$127,2),\"\")","v":""},0]
[null,null,null,null,null,null,{"$f":"IF(F86='Look-up Tables'!$A$3,5,IF(F86='Look-up Tables'!$A$4,4,IF(F86='Look-up Tables'!$A$5,3,IF(F86='Look-up Tables'!$A$6,2,IF(F86='Look-up Tables'!$A$7,1)))))","v":false},null,null,{"$f":"IF(I86='Look-up Tables'!$B$3,5,IF(I86='Look-up Tables'!$B$4,4,IF(I86='Look-up Tables'!$B$5,3,IF(I86='Look-up Tables'!$B$6,2,IF(I86='Look-up Tables'!$B$7,1)))))","v":false},null,null,null,{"$f":"IF(M86='Look-up Tables'!$C$3,5,IF(M86='Look-up Tables'!$C$4,4,IF(M86='Look-up Tables'!$C$5,3,IF(M86='Look-up Tables'!$C$6,2,IF(M86='Look-up Tables'!$C$7,1)))))","v":false},{"$f":"IFERROR(VLOOKUP(P86,'Look-up Tables'!$D$3:$E$127,2),\"\")","v":""},0,null,null,null,null,null,{"$f":"IF(U86='Look-up Tables'!$A$3,5,IF(U86='Look-up Tables'!$A$4,4,IF(U86='Look-up Tables'!$A$5,3,IF(U86='Look-up Tables'!$A$6,2,IF(U86='Look-up Tables'!$A$7,1)))))","v":false},null,{"$f":"IF(W86='Look-up Tables'!$B$3,5,IF(W86='Look-up Tables'!$B$4,4,IF(W86='Look-up Tables'!$B$5,3,IF(W86='Look-up Tables'!$B$6,2,IF(W86='Look-up Tables'!$B$7,1)))))","v":false},null,{"$f":"IF(Y86='Look-up Tables'!$C$3,5,IF(Y86='Look-up Tables'!$C$4,4,IF(Y86='Look-up Tables'!$C$5,3,IF(Y86='Look-up Tables'!$C$6,2,IF(Y86='Look-up Tables'!$C$7,1)))))","v":false},{"$f":"IFERROR(VLOOKUP(AB86,'Look-up Tables'!$D$3:$E$127,2),\"\")","v":""},0]
[null,null,null,null,null,null,{"$f":"IF(F87='Look-up Tables'!$A$3,5,IF(F87='Look-up Tables'!$A$4,4,IF(F87='Look-up Tables'!$A$5,3,IF(F87='Look-up Tables'!$A$6,2,IF(F87='Look-up Tables'!$A$7,1)))))","v":false},null,null,{"$f":"IF(I87='Look-up Tables'!$B$3,5,IF(I87='Look-up Tables'!$B$4,4,IF(I87='Look-up Tables'!$B$5,3,IF(I87='Look-up Tables'!$B$6,2,IF(I87='Look-up Tables'!$B$7,1)))))","v":false},null,null,null,{"$f":"IF(M87='Look-up Tables'!$C$3,5,IF(M87='Look-up Tables'!$C$4,4,IF(M87='Look-up Tables'!$C$5,3,IF(M87='Look-up Tables'!$C$6,2,IF(M87='Look-up Tables'!$C$7,1)))))","v":false},{"$f":"IFERROR(VLOOKUP(P87,'Look-up Tables'!$D$3:$E$127,2),\"\")","v":""},0,null,null,null,null,null,{"$f":"IF(U87='Look-up Tables'!$A$3,5,IF(U87='Look-up Tables'!$A$4,4,IF(U87='Look-up Tables'!$A$5,3,IF(U87='Look-up Tables'!$A$6,2,IF(U87='Look-up Tables'!$A$7,1)))))","v":false},null,{"$f":"IF(W87='Look-up Tables'!$B$3,5,IF(W87='Look-up Tables'!$B$4,4,IF(W87='Look-up Tables'!$B$5,3,IF(W87='Look-up Tables'!$B$6,2,IF(W87='Look-up Tables'!$B$7,1)))))","v":false},null,{"$f":"IF(Y87='Look-up Tables'!$C$3,5,IF(Y87='Look-up Tables'!$C$4,4,IF(Y87='Look-up Tables'!$C$5,3,IF(Y87='Look-up Tables'!$C$6,2,IF(Y87='Look-up Tables'!$C$7,1)))))","v":false},{"$f":"IFERROR(VLOOKUP(AB87,'Look-up Tables'!$D$3:$E$127,2),\"\")","v":""},0]
[null,null,null,null,null,null,{"$f":"IF(F88='Look-up Tables'!$A$3,5,IF(F88='Look-up Tables'!$A$4,4,IF(F88='Look-up Tables'!$A$5,3,IF(F88='Look-up Tables'!$A$6,2,IF(F88='Look-up Tables'!$A$7,1)))))","v":false},null,null,{"$f":"IF(I88='Look-up Tables'!$B$3,5,IF(I88='Look-up Tables'!$B$4,4,IF(I88='Look-up Tables'!$B$5,3,IF(I88='Look-up Tables'!$B$6,2,IF(I88='Look-up Tables'!$B$7,1)))))","v":false},null,null,null,{"$f":"IF(M88='Look-up Tables'!$C$3,5,IF(M88='Look-up Tables'!$C$4,4,IF(M88='Look-up Tables'!$C$5,3,IF(M88='Look-up Tables'!$C$6,2,IF(M88='Look-up Tables'!$C$7,1)))))","v":false},{"$f":"IFERROR(VLOOKUP(P88,'Look-up Tables'!$D$3:$E$127,2),\"\")","v":""},0,null,null,null,null,null,{"$f":"IF(U88='Look-up Tables'!$A$3,5,IF(U88='Look-up Tables'!$A$4,4,IF(U88='Look-up Tables'!$A$5,3,IF(U88='Look-up Tables'!$A$6,2,IF(U88='Look-up Tables'!$A$7,1)))))","v":false},null,{"$f":"IF(W88='Look-up Tables'!$B$3,5,IF(W88='Look-up Tables'!$B$4,4,IF(W88='Look-up Tables'!$B$5,3,IF(W88='Look-up Tables'!$B$6,2,IF(W88='Look-up Tables'!$B$7,1)))))","v":false},null,{"$f":"IF(Y88='Look-up Tables'!$C$3,5,IF(Y88='Look-up Tables'!$C$4,4,IF(Y88='Look-up Tables'!$C$5,3,IF(Y88='Look-up Tables'!$C$6,2,IF(Y88='Look-up Tables'!$C$7,1)))))","v":false},{"$f":"IFERROR(VLOOKUP(AB88,'Look-up Tables'!$D$3:$E$127,2),\"\")","v":""},0]
[null,null,null,null,null,null,{"$f":"IF(F89='Look-up Tables'!$A$3,5,IF(F89='Look-up Tables'!$A$4,4,IF(F89='Look-up Tables'!$A$5,3,IF(F89='Look-up Tables'!$A$6,2,IF(F89='Look-up Tables'!$A$7,1)))))","v":false},null,null,{"$f":"IF(I89='Look-up Tables'!$B$3,5,IF(I89='Look-up Tables'!$B$4,4,IF(I89='Look-up Tables'!$B$5,3,IF(I89='Look-up Tables'!$B$6,2,IF(I89='Look-up Tables'!$B$7,1)))))","v":false},null,null,null,{"$f":"IF(M89='Look-up Tables'!$C$3,5,IF(M89='Look-up Tables'!$C$4,4,IF(M89='Look-up Tables'!$C$5,3,IF(M89='Look-up Tables'!$C$6,2,IF(M89='Look-up Tables'!$C$7,1)))))","v":false},{"$f":"IFERROR(VLOOKUP(P89,'Look-up Tables'!$D$3:$E$127,2),\"\")","v":""},0,null,null,null,null,null,{"$f":"IF(U89='Look-up Tables'!$A$3,5,IF(U89='Look-up Tables'!$A$4,4,IF(U89='Look-up Tables'!$A$5,3,IF(U89='Look-up Tables'!$A$6,2,IF(U89='Look-up Tables'!$A$7,1)))))","v":false},null,{"$f":"IF(W89='Look-up Tables'!$B$3,5,IF(W89='Look-up Tables'!$B$4,4,IF(W89='Look-up Tables'!$B$5,3,IF(W89='Look-up Tables'!$B$6,2,IF(W89='Look-up Tables'!$B$7,1)))))","v":false},null,{"$f":"IF(Y89='Look-up Tables'!$C$3,5,IF(Y89='Look-up Tables'!$C$4,4,IF(Y89='Look-up Tables'!$C$5,3,IF(Y89='Look-up Tables'!$C$6,2,IF(Y89='Look-up Tables'!$C$7,1)))))","v":false},{"$f":"IFERROR(VLOOKUP(AB89,'Look-up Tables'!$D$3:$E$127,2),\"\")","v":""},0]
[null,null,null,null,null,null,{"$f":"IF(F90='Look-up Tables'!$A$3,5,IF(F90='Look-up Tables'!$A$4,4,IF(F90='Look-up Tables'!$A$5,3,IF(F90='Look-up Tables'!$A$6,2,IF(F90='Look-up Tables'!$A$7,1)))))","v":false},null,null,{"$f":"IF(I90='Look-up Tables'!$B$3,5,IF(I90='Look-up Tables'!$B$4,4,IF(I90='Look-up Tables'!$B$5,3,IF(I90='Look-up Tables'!$B$6,2,IF(I90='Look-up Tables'!$B$7,1)))))","v":false},null,null,null,{"$f":"IF(M90='Look-up Tables'!$C$3,5,IF(M90='Look-up Tables'!$C$4,4,IF(M90='Look-up Tables'!$C$5,3,IF(M90='Look-up Tables'!$C$6,2,IF(M90='Look-up Tables'!$C$7,1)))))","v":false},{"$f":"IFERROR(VLOOKUP(P90,'Look-up Tables'!$D$3:$E$127,2),\"\")","v":""},0,null,null,null,null,null,{"$f":"IF(U90='Look-up Tables'!$A$3,5,IF(U90='Look-up Tables'!$A$4,4,IF(U90='Look-up Tables'!$A$5,3,IF(U90='Look-up Tables'!$A$6,2,IF(U90='Look-up Tables'!$A$7,1)))))","v":false},null,{"$f":"IF(W90='Look-up Tables'!$B$3,5,IF(W90='Look-up Tables'!$B$4,4,IF(W90='Look-up Tables'!$B$5,3,IF(W90='Look-up Tables'!$B$6,2,IF(W90='Look-up Tables'!$B$7,1)))))","v":false},null,{"$f":"IF(Y90='Look-up Tables'!$C$3,5,IF(Y90='Look-up Tables'!$C$4,4,IF(Y90='Look-up Tables'!$C$5,3,IF(Y90='Look-up Tables'!$C$6,2,IF(Y90='Look-up Tables'!$C$7,1)))))","v":false},{"$f":"IFERROR(VLOOKUP(AB90,'Look-up Tables'!$D$3:$E$127,2),\"\")","v":""},0]
[null,null,null,null,null,null,{"$f":"IF(F91='Look-up Tables'!$A$3,5,IF(F91='Look-up Tables'!$A$4,4,IF(F91='Look-up Tables'!$A$5,3,IF(F91='Look-up Tables'!$A$6,2,IF(F91='Look-up Tables'!$A$7,1)))))","v":false},null,null,{"$f":"IF(I91='Look-up Tables'!$B$3,5,IF(I91='Look-up Tables'!$B$4,4,IF(I91='Look-up Tables'!$B$5,3,IF(I91='Look-up Tables'!$B$6,2,IF(I91='Look-up Tables'!$B$7,1)))))","v":false},null,null,null,{"$f":"IF(M91='Look-up Tables'!$C$3,5,IF(M91='Look-up Tables'!$C$4,4,IF(M91='Look-up Tables'!$C$5,3,IF(M91='Look-up Tables'!$C$6,2,IF(M91='Look-up Tables'!$C$7,1)))))","v":false},{"$f":"IFERROR(VLOOKUP(P91,'Look-up Tables'!$D$3:$E$127,2),\"\")","v":""},0,null,null,null,null,null,{"$f":"IF(U91='Look-up Tables'!$A$3,5,IF(U91='Look-up Tables'!$A$4,4,IF(U91='Look-up Tables'!$A$5,3,IF(U91='Look-up Tables'!$A$6,2,IF(U91='Look-up Tables'!$A$7,1)))))","v":false},null,{"$f":"IF(W91='Look-up Tables'!$B$3,5,IF(W91='Look-up Tables'!$B$4,4,IF(W91='Look-up Tables'!$B$5,3,IF(W91='Look-up Tables'!$B$6,2,IF(W91='Look-up Tables'!$B$7,1)))))","v":false},null,{"$f":"IF(Y91='Look-up Tables'!$C$3,5,IF(Y91='Look-up Tables'!$C$4,4,IF(Y91='Look-up Tables'!$C$5,3,IF(Y91='Look-up Tables'!$C$6,2,IF(Y91='Look-up Tables'!$C$7,1)))))","v":false},{"$f":"IFERROR(VLOOKUP(AB91,'Look-up Tables'!$D$3:$E$127,2),\"\")","v":""},0]
[null,null,null,null,null,null,{"$f":"IF(F92='Look-up Tables'!$A$3,5,IF(F92='Look-up Tables'!$A$4,4,IF(F92='Look-up Tables'!$A$5,3,IF(F92='Look-up Tables'!$A$6,2,IF(F92='Look-up Tables'!$A$7,1)))))","v":false},null,null,{"$f":"IF(I92='Look-up Tables'!$B$3,5,IF(I92='Look-up Tables'!$B$4,4,IF(I92='Look-up Tables'!$B$5,3,IF(I92='Look-up Tables'!$B$6,2,IF(I92='Look-up Tables'!$B$7,1)))))","v":false},null,null,null,{"$f":"IF(M92='Look-up Tables'!$C$3,5,IF(M92='Look-up Tables'!$C$4,4,IF(M92='Look-up Tables'!$C$5,3,IF(M92='Look-up Tables'!$C$6,2,IF(M92='Look-up Tables'!$C$7,1)))))","v":false},{"$f":"IFERROR(VLOOKUP(P92,'Look-up Tables'!$D$3:$E$127,2),\"\")","v":""},0,null,null,null,null,null,{"$f":"IF(U92='Look-up Tables'!$A$3,5,IF(U92='Look-up Tables'!$A$4,4,IF(U92='Look-up Tables'!$A$5,3,IF(U92='Look-up Tables'!$A$6,2,IF(U92='Look-up Tables'!$A$7,1)))))","v":false},null,{"$f":"IF(W92='Look-up Tables'!$B$3,5,IF(W92='Look-up Tables'!$B$4,4,IF(W92='Look-up Tables'!$B$5,3,IF(W92='Look-up Tables'!$B$6,2,IF(W92='Look-up Tables'!$B$7,1)))))","v":false},null,{"$f":"IF(Y92='Look-up Tables'!$C$3,5,IF(Y92='Look-up Tables'!$C$4,4,IF(Y92='Look-up Tables'!$C$5,3,IF(Y92='Look-up Tables'!$C$6,2,IF(Y92='Look-up Tables'!$C$7,1)))))","v":false},{"$f":"IFERROR(VLOOKUP(AB92,'Look-up Tables'!$D$3:$E$127,2),\"\")","v":""},0]
[null,null,null,null,null,null,{"$f":"IF(F93='Look-up Tables'!$A$3,5,IF(F93='Look-up Tables'!$A$4,4,IF(F93='Look-up Tables'!$A$5,3,IF(F93='Look-up Tables'!$A$6,2,IF(F93='Look-up Tables'!$A$7,1)))))","v":false},null,null,{"$f":"IF(I93='Look-up Tables'!$B$3,5,IF(I93='Look-up Tables'!$B$4,4,IF(I93='Look-up Tables'!$B$5,3,IF(I93='Look-up Tables'!$B$6,2,IF(I93='Look-up Tables'!$B$7,1)))))","v":false},null,null,null,{"$f":"IF(M93='Look-up Tables'!$C$3,5,IF(M93='Look-up Tables'!$C$4,4,IF(M93='Look-up Tables'!$C$5,3,IF(M93='Look-up Tables'!$C$6,2,IF(M93='Look-up Tables'!$C$7,1)))))","v":false},{"$f":"IFERROR(VLOOKUP(P93,'Look-up Tables'!$D$3:$E$127,2),\"\")","v":""},0,null,null,null,null,null,{"$f":"IF(U93='Look-up Tables'!$A$3,5,IF(U93='Look-up Tables'!$A$4,4,IF(U93='Look-up Tables'!$A$5,3,IF(U93='Look-up Tables'!$A$6,2,IF(U93='Look-up Tables'!$A$7,1)))))","v":false},null,{"$f":"IF(W93='Look-up Tables'!$B$3,5,IF(W93='Look-up Tables'!$B$4,4,IF(W93='Look-up Tables'!$B$5,3,IF(W93='Look-up Tables'!$B$6,2,IF(W93='Look-up Tables'!$B$7,1)))))","v":false},null,{"$f":"IF(Y93='Look-up Tables'!$C$3,5,IF(Y93='Look-up Tables'!$C$4,4,IF(Y93='Look-up Tables'!$C$5,3,IF(Y93='Look-up Tables'!$C$6,2,IF(Y93='Look-up Tables'!$C$7,1)))))","v":false},{"$f":"IFERROR(VLOOKUP(AB93,'Look-up Tables'!$D$3:$E$127,2),\"\")","v":""},0]
[null,null,null,null,null,null,{"$f":"IF(F94='Look-up Tables'!$A$3,5,IF(F94='Look-up Tables'!$A$4,4,IF(F94='Look-up Tables'!$A$5,3,IF(F94='Look-up Tables'!$A$6,2,IF(F94='Look-up Tables'!$A$7,1)))))","v":false},null,null,{"$f":"IF(I94='Look-up Tables'!$B$3,5,IF(I94='Look-up Tables'!$B$4,4,IF(I94='Look-up Tables'!$B$5,3,IF(I94='Look-up Tables'!$B$6,2,IF(I94='Look-up Tables'!$B$7,1)))))","v":false},null,null,null,{"$f":"IF(M94='Look-up Tables'!$C$3,5,IF(M94='Look-up Tables'!$C$4,4,IF(M94='Look-up Tables'!$C$5,3,IF(M94='Look-up Tables'!$C$6,2,IF(M94='Look-up Tables'!$C$7,1)))))","v":false},{"$f":"IFERROR(VLOOKUP(P94,'Look-up Tables'!$D$3:$E$127,2),\"\")","v":""},0,null,null,null,null,null,{"$f":"IF(U94='Look-up Tables'!$A$3,5,IF(U94='Look-up Tables'!$A$4,4,IF(U94='Look-up Tables'!$A$5,3,IF(U94='Look-up Tables'!$A$6,2,IF(U94='Look-up Tables'!$A$7,1)))))","v":false},null,{"$f":"IF(W94='Look-up Tables'!$B$3,5,IF(W94='Look-up Tables'!$B$4,4,IF(W94='Look-up Tables'!$B$5,3,IF(W94='Look-up Tables'!$B$6,2,IF(W94='Look-up Tables'!$B$7,1)))))","v":false},null,{"$f":"IF(Y94='Look-up Tables'!$C$3,5,IF(Y94='Look-up Tables'!$C$4,4,IF(Y94='Look-up Tables'!$C$5,3,IF(Y94='Look-up Tables'!$C$6,2,IF(Y94='Look-up Tables'!$C$7,1)))))","v":false},{"$f":"IFERROR(VLOOKUP(AB94,'Look-up Tables'!$D$3:$E$127,2),\"\")","v":""},0]
[null,null,null,null,null,null,{"$f":"IF(F95='Look-up Tables'!$A$3,5,IF(F95='Look-up Tables'!$A$4,4,IF(F95='Look-up Tables'!$A$5,3,IF(F95='Look-up Tables'!$A$6,2,IF(F95='Look-up Tables'!$A$7,1)))))","v":false},null,null,{"$f":"IF(I95='Look-up Tables'!$B$3,5,IF(I95='Look-up Tables'!$B$4,4,IF(I95='Look-up Tables'!$B$5,3,IF(I95='Look-up Tables'!$B$6,2,IF(I95='Look-up Tables'!$B$7,1)))))","v":false},null,null,null,{"$f":"IF(M95='Look-up Tables'!$C$3,5,IF(M95='Look-up Tables'!$C$4,4,IF(M95='Look-up Tables'!$C$5,3,IF(M95='Look-up Tables'!$C$6,2,IF(M95='Look-up Tables'!$C$7,1)))))","v":false},{"$f":"IFERROR(VLOOKUP(P95,'Look-up Tables'!$D$3:$E$127,2),\"\")","v":""},0,null,null,null,null,null,{"$f":"IF(U95='Look-up Tables'!$A$3,5,IF(U95='Look-up Tables'!$A$4,4,IF(U95='Look-up Tables'!$A$5,3,IF(U95='Look-up Tables'!$A$6,2,IF(U95='Look-up Tables'!$A$7,1)))))","v":false},null,{"$f":"IF(W95='Look-up Tables'!$B$3,5,IF(W95='Look-up Tables'!$B$4,4,IF(W95='Look-up Tables'!$B$5,3,IF(W95='Look-up Tables'!$B$6,2,IF(W95='Look-up Tables'!$B$7,1)))))","v":false},null,{"$f":"IF(Y95='Look-up Tables'!$C$3,5,IF(Y95='Look-up Tables'!$C$4,4,IF(Y95='Look-up Tables'!$C$5,3,IF(Y95='Look-up Tables'!$C$6,2,IF(Y95='Look-up Tables'!$C$7,1)))))","v":false},{"$f":"IFERROR(VLOOKUP(AB95,'Look-up Tables'!$D$3:$E$127,2),\"\")","v":""},0]
[null,null,null,null,null,null,{"$f":"IF(F96='Look-up Tables'!$A$3,5,IF(F96='Look-up Tables'!$A$4,4,IF(F96='Look-up Tables'!$A$5,3,IF(F96='Look-up Tables'!$A$6,2,IF(F96='Look-up Tables'!$A$7,1)))))","v":false},null,null,{"$f":"IF(I96='Look-up Tables'!$B$3,5,IF(I96='Look-up Tables'!$B$4,4,IF(I96='Look-up Tables'!$B$5,3,IF(I96='Look-up Tables'!$B$6,2,IF(I96='Look-up Tables'!$B$7,1)))))","v":false},null,null,null,{"$f":"IF(M96='Look-up Tables'!$C$3,5,IF(M96='Look-up Tables'!$C$4,4,IF(M96='Look-up Tables'!$C$5,3,IF(M96='Look-up Tables'!$C$6,2,IF(M96='Look-up Tables'!$C$7,1)))))","v":false},{"$f":"IFERROR(VLOOKUP(P96,'Look-up Tables'!$D$3:$E$127,2),\"\")","v":""},0,null,null,null,null,null,{"$f":"IF(U96='Look-up Tables'!$A$3,5,IF(U96='Look-up Tables'!$A$4,4,IF(U96='Look-up Tables'!$A$5,3,IF(U96='Look-up Tables'!$A$6,2,IF(U96='Look-up Tables'!$A$7,1)))))","v":false},null,{"$f":"IF(W96='Look-up Tables'!$B$3,5,IF(W96='Look-up Tables'!$B$4,4,IF(W96='Look-up Tables'!$B$5,3,IF(W96='Look-up Tables'!$B$6,2,IF(W96='Look-up Tables'!$B$7,1)))))","v":false},null,{"$f":"IF(Y96='Look-up Tables'!$C$3,5,IF(Y96='Look-up Tables'!$C$4,4,IF(Y96='Look-up Tables'!$C$5,3,IF(Y96='Look-up Tables'!$C$6,2,IF(Y96='Look-up Tables'!$C$7,1)))))","v":false},{"$f":"IFERROR(VLOOKUP(AB96,'Look-up Tables'!$D$3:$E$127,2),\"\")","v":""},0]
[null,null,null,null,null,null,{"$f":"IF(F97='Look-up Tables'!$A$3,5,IF(F97='Look-up Tables'!$A$4,4,IF(F97='Look-up Tables'!$A$5,3,IF(F97='Look-up Tables'!$A$6,2,IF(F97='Look-up Tables'!$A$7,1)))))","v":false},null,null,{"$f":"IF(I97='Look-up Tables'!$B$3,5,IF(I97='Look-up Tables'!$B$4,4,IF(I97='Look-up Tables'!$B$5,3,IF(I97='Look-up Tables'!$B$6,2,IF(I97='Look-up Tables'!$B$7,1)))))","v":false},null,null,null,{"$f":"IF(M97='Look-up Tables'!$C$3,5,IF(M97='Look-up Tables'!$C$4,4,IF(M97='Look-up Tables'!$C$5,3,IF(M97='Look-up Tables'!$C$6,2,IF(M97='Look-up Tables'!$C$7,1)))))","v":false},{"$f":"IFERROR(VLOOKUP(P97,'Look-up Tables'!$D$3:$E$127,2),\"\")","v":""},0,null,null,null,null,null,{"$f":"IF(U97='Look-up Tables'!$A$3,5,IF(U97='Look-up Tables'!$A$4,4,IF(U97='Look-up Tables'!$A$5,3,IF(U97='Look-up Tables'!$A$6,2,IF(U97='Look-up Tables'!$A$7,1)))))","v":false},null,{"$f":"IF(W97='Look-up Tables'!$B$3,5,IF(W97='Look-up Tables'!$B$4,4,IF(W97='Look-up Tables'!$B$5,3,IF(W97='Look-up Tables'!$B$6,2,IF(W97='Look-up Tables'!$B$7,1)))))","v":false},null,{"$f":"IF(Y97='Look-up Tables'!$C$3,5,IF(Y97='Look-up Tables'!$C$4,4,IF(Y97='Look-up Tables'!$C$5,3,IF(Y97='Look-up Tables'!$C$6,2,IF(Y97='Look-up Tables'!$C$7,1)))))","v":false},{"$f":"IFERROR(VLOOKUP(AB97,'Look-up Tables'!$D$3:$E$127,2),\"\")","v":""},0]
[null,null,null,null,null,null,{"$f":"IF(F98='Look-up Tables'!$A$3,5,IF(F98='Look-up Tables'!$A$4,4,IF(F98='Look-up Tables'!$A$5,3,IF(F98='Look-up Tables'!$A$6,2,IF(F98='Look-up Tables'!$A$7,1)))))","v":false},null,null,{"$f":"IF(I98='Look-up Tables'!$B$3,5,IF(I98='Look-up Tables'!$B$4,4,IF(I98='Look-up Tables'!$B$5,3,IF(I98='Look-up Tables'!$B$6,2,IF(I98='Look-up Tables'!$B$7,1)))))","v":false},null,null,null,{"$f":"IF(M98='Look-up Tables'!$C$3,5,IF(M98='Look-up Tables'!$C$4,4,IF(M98='Look-up Tables'!$C$5,3,IF(M98='Look-up Tables'!$C$6,2,IF(M98='Look-up Tables'!$C$7,1)))))","v":false},{"$f":"IFERROR(VLOOKUP(P98,'Look-up Tables'!$D$3:$E$127,2),\"\")","v":""},0,null,null,null,null,null,{"$f":"IF(U98='Look-up Tables'!$A$3,5,IF(U98='Look-up Tables'!$A$4,4,IF(U98='Look-up Tables'!$A$5,3,IF(U98='Look-up Tables'!$A$6,2,IF(U98='Look-up Tables'!$A$7,1)))))","v":false},null,{"$f":"IF(W98='Look-up Tables'!$B$3,5,IF(W98='Look-up Tables'!$B$4,4,IF(W98='Look-up Tables'!$B$5,3,IF(W98='Look-up Tables'!$B$6,2,IF(W98='Look-up Tables'!$B$7,1)))))","v":false},null,{"$f":"IF(Y98='Look-up Tables'!$C$3,5,IF(Y98='Look-up Tables'!$C$4,4,IF(Y98='Look-up Tables'!$C$5,3,IF(Y98='Look-up Tables'!$C$6,2,IF(Y98='Look-up Tables'!$C$7,1)))))","v":false},{"$f":"IFERROR(VLOOKUP(AB98,'Look-up Tables'!$D$3:$E$127,2),\"\")","v":""},0]
[null,null,null,null,null,null,{"$f":"IF(F99='Look-up Tables'!$A$3,5,IF(F99='Look-up Tables'!$A$4,4,IF(F99='Look-up Tables'!$A$5,3,IF(F99='Look-up Tables'!$A$6,2,IF(F99='Look-up Tables'!$A$7,1)))))","v":false},null,null,{"$f":"IF(I99='Look-up Tables'!$B$3,5,IF(I99='Look-up Tables'!$B$4,4,IF(I99='Look-up Tables'!$B$5,3,IF(I99='Look-up Tables'!$B$6,2,IF(I99='Look-up Tables'!$B$7,1)))))","v":false},null,null,null,{"$f":"IF(M99='Look-up Tables'!$C$3,5,IF(M99='Look-up Tables'!$C$4,4,IF(M99='Look-up Tables'!$C$5,3,IF(M99='Look-up Tables'!$C$6,2,IF(M99='Look-up Tables'!$C$7,1)))))","v":false},{"$f":"IFERROR(VLOOKUP(P99,'Look-up Tables'!$D$3:$E$127,2),\"\")","v":""},0,null,null,null,null,null,{"$f":"IF(U99='Look-up Tables'!$A$3,5,IF(U99='Look-up Tables'!$A$4,4,IF(U99='Look-up Tables'!$A$5,3,IF(U99='Look-up Tables'!$A$6,2,IF(U99='Look-up Tables'!$A$7,1)))))","v":false},null,{"$f":"IF(W99='Look-up Tables'!$B$3,5,IF(W99='Look-up Tables'!$B$4,4,IF(W99='Look-up Tables'!$B$5,3,IF(W99='Look-up Tables'!$B$6,2,IF(W99='Look-up Tables'!$B$7,1)))))","v":false},null,{"$f":"IF(Y99='Look-up Tables'!$C$3,5,IF(Y99='Look-up Tables'!$C$4,4,IF(Y99='Look-up Tables'!$C$5,3,IF(Y99='Look-up Tables'!$C$6,2,IF(Y99='Look-up Tables'!$C$7,1)))))","v":false},{"$f":"IFERROR(VLOOKUP(AB99,'Look-up Tables'!$D$3:$E$127,2),\"\")","v":""},0]
[null,null,null,null,null,null,{"$f":"IF(F100='Look-up Tables'!$A$3,5,IF(F100='Look-up Tables'!$A$4,4,IF(F100='Look-up Tables'!$A$5,3,IF(F100='Look-up Tables'!$A$6,2,IF(F100='Look-up Tables'!$A$7,1)))))","v":false},null,null,{"$f":"IF(I100='Look-up Tables'!$B$3,5,IF(I100='Look-up Tables'!$B$4,4,IF(I100='Look-up Tables'!$B$5,3,IF(I100='Look-up Tables'!$B$6,2,IF(I100='Look-up Tables'!$B$7,1)))))","v":false},null,null,null,{"$f":"IF(M100='Look-up Tables'!$C$3,5,IF(M100='Look-up Tables'!$C$4,4,IF(M100='Look-up Tables'!$C$5,3,IF(M100='Look-up Tables'!$C$6,2,IF(M100='Look-up Tables'!$C$7,1)))))","v":false},{"$f":"IFERROR(VLOOKUP(P100,'Look-up Tables'!$D$3:$E$127,2),\"\")","v":""},0,null,null,null,null,null,{"$f":"IF(U100='Look-up Tables'!$A$3,5,IF(U100='Look-up Tables'!$A$4,4,IF(U100='Look-up Tables'!$A$5,3,IF(U100='Look-up Tables'!$A$6,2,IF(U100='Look-up Tables'!$A$7,1)))))","v":false},null,{"$f":"IF(W100='Look-up Tables'!$B$3,5,IF(W100='Look-up Tables'!$B$4,4,IF(W100='Look-up Tables'!$B$5,3,IF(W100='Look-up Tables'!$B$6,2,IF(W100='Look-up Tables'!$B$7,1)))))","v":false},null,{"$f":"IF(Y100='Look-up Tables'!$C$3,5,IF(Y100='Look-up Tables'!$C$4,4,IF(Y100='Look-up Tables'!$C$5,3,IF(Y100='Look-up Tables'!$C$6,2,IF(Y100='Look-up Tables'!$C$7,1)))))","v":false},{"$f":"IFERROR(VLOOKUP(AB100,'Look-up Tables'!$D$3:$E$127,2),\"\")","v":""},0]
[null,null,null,null,null,null,{"$f":"IF(F101='Look-up Tables'!$A$3,5,IF(F101='Look-up Tables'!$A$4,4,IF(F101='Look-up Tables'!$A$5,3,IF(F101='Look-up Tables'!$A$6,2,IF(F101='Look-up Tables'!$A$7,1)))))","v":false},null,null,{"$f":"IF(I101='Look-up Tables'!$B$3,5,IF(I101='Look-up Tables'!$B$4,4,IF(I101='Look-up Tables'!$B$5,3,IF(I101='Look-up Tables'!$B$6,2,IF(I101='Look-up Tables'!$B$7,1)))))","v":false},null,null,null,{"$f":"IF(M101='Look-up Tables'!$C$3,5,IF(M101='Look-up Tables'!$C$4,4,IF(M101='Look-up Tables'!$C$5,3,IF(M101='Look-up Tables'!$C$6,2,IF(M101='Look-up Tables'!$C$7,1)))))","v":false},{"$f":"IFERROR(VLOOKUP(P101,'Look-up Tables'!$D$3:$E$127,2),\"\")","v":""},0,null,null,null,null,null,{"$f":"IF(U101='Look-up Tables'!$A$3,5,IF(U101='Look-up Tables'!$A$4,4,IF(U101='Look-up Tables'!$A$5,3,IF(U101='Look-up Tables'!$A$6,2,IF(U101='Look-up Tables'!$A$7,1)))))","v":false},null,{"$f":"IF(W101='Look-up Tables'!$B$3,5,IF(W101='Look-up Tables'!$B$4,4,IF(W101='Look-up Tables'!$B$5,3,IF(W101='Look-up Tables'!$B$6,2,IF(W101='Look-up Tables'!$B$7,1)))))","v":false},null,{"$f":"IF(Y101='Look-up Tables'!$C$3,5,IF(Y101='Look-up Tables'!$C$4,4,IF(Y101='Look-up Tables'!$C$5,3,IF(Y101='Look-up Tables'!$C$6,2,IF(Y101='Look-up Tables'!$C$7,1)))))","v":false},{"$f":"IFERROR(VLOOKUP(AB101,'Look-up Tables'!$D$3:$E$127,2),\"\")","v":""},0]
[null,null,null,null,null,null,{"$f":"IF(F102='Look-up Tables'!$A$3,5,IF(F102='Look-up Tables'!$A$4,4,IF(F102='Look-up Tables'!$A$5,3,IF(F102='Look-up Tables'!$A$6,2,IF(F102='Look-up Tables'!$A$7,1)))))","v":false},null,null,{"$f":"IF(I102='Look-up Tables'!$B$3,5,IF(I102='Look-up Tables'!$B$4,4,IF(I102='Look-up Tables'!$B$5,3,IF(I102='Look-up Tables'!$B$6,2,IF(I102='Look-up Tables'!$B$7,1)))))","v":false},null,null,null,{"$f":"IF(M102='Look-up Tables'!$C$3,5,IF(M102='Look-up Tables'!$C$4,4,IF(M102='Look-up Tables'!$C$5,3,IF(M102='Look-up Tables'!$C$6,2,IF(M102='Look-up Tables'!$C$7,1)))))","v":false},{"$f":"IFERROR(VLOOKUP(P102,'Look-up Tables'!$D$3:$E$127,2),\"\")","v":""},0,null,null,null,null,null,{"$f":"IF(U102='Look-up Tables'!$A$3,5,IF(U102='Look-up Tables'!$A$4,4,IF(U102='Look-up Tables'!$A$5,3,IF(U102='Look-up Tables'!$A$6,2,IF(U102='Look-up Tables'!$A$7,1)))))","v":false},null,{"$f":"IF(W102='Look-up Tables'!$B$3,5,IF(W102='Look-up Tables'!$B$4,4,IF(W102='Look-up Tables'!$B$5,3,IF(W102='Look-up Tables'!$B$6,2,IF(W102='Look-up Tables'!$B$7,1)))))","v":false},null,{"$f":"IF(Y102='Look-up Tables'!$C$3,5,IF(Y102='Look-up Tables'!$C$4,4,IF(Y102='Look-up Tables'!$C$5,3,IF(Y102='Look-up Tables'!$C$6,2,IF(Y102='Look-up Tables'!$C$7,1)))))","v":false},{"$f":"IFERROR(VLOOKUP(AB102,'Look-up Tables'!$D$3:$E$127,2),\"\")","v":""},0]
[null,null,null,null,null,null,{"$f":"IF(F103='Look-up Tables'!$A$3,5,IF(F103='Look-up Tables'!$A$4,4,IF(F103='Look-up Tables'!$A$5,3,IF(F103='Look-up Tables'!$A$6,2,IF(F103='Look-up Tables'!$A$7,1)))))","v":false},null,null,{"$f":"IF(I103='Look-up Tables'!$B$3,5,IF(I103='Look-up Tables'!$B$4,4,IF(I103='Look-up Tables'!$B$5,3,IF(I103='Look-up Tables'!$B$6,2,IF(I103='Look-up Tables'!$B$7,1)))))","v":false},null,null,null,{"$f":"IF(M103='Look-up Tables'!$C$3,5,IF(M103='Look-up Tables'!$C$4,4,IF(M103='Look-up Tables'!$C$5,3,IF(M103='Look-up Tables'!$C$6,2,IF(M103='Look-up Tables'!$C$7,1)))))","v":false},{"$f":"IFERROR(VLOOKUP(P103,'Look-up Tables'!$D$3:$E$127,2),\"\")","v":""},0,null,null,null,null,null,{"$f":"IF(U103='Look-up Tables'!$A$3,5,IF(U103='Look-up Tables'!$A$4,4,IF(U103='Look-up Tables'!$A$5,3,IF(U103='Look-up Tables'!$A$6,2,IF(U103='Look-up Tables'!$A$7,1)))))","v":false},null,{"$f":"IF(W103='Look-up Tables'!$B$3,5,IF(W103='Look-up Tables'!$B$4,4,IF(W103='Look-up Tables'!$B$5,3,IF(W103='Look-up Tables'!$B$6,2,IF(W103='Look-up Tables'!$B$7,1)))))","v":false},null,{"$f":"IF(Y103='Look-up Tables'!$C$3,5,IF(Y103='Look-up Tables'!$C$4,4,IF(Y103='Look-up Tables'!$C$5,3,IF(Y103='Look-up Tables'!$C$6,2,IF(Y103='Look-up Tables'!$C$7,1)))))","v":false},{"$f":"IFERROR(VLOOKUP(AB103,'Look-up Tables'!$D$3:$E$127,2),\"\")","v":""},0]
[null,null,null,null,null,null,{"$f":"IF(F104='Look-up Tables'!$A$3,5,IF(F104='Look-up Tables'!$A$4,4,IF(F104='Look-up Tables'!$A$5,3,IF(F104='Look-up Tables'!$A$6,2,IF(F104='Look-up Tables'!$A$7,1)))))","v":false},null,null,{"$f":"IF(I104='Look-up Tables'!$B$3,5,IF(I104='Look-up Tables'!$B$4,4,IF(I104='Look-up Tables'!$B$5,3,IF(I104='Look-up Tables'!$B$6,2,IF(I104='Look-up Tables'!$B$7,1)))))","v":false},null,null,null,{"$f":"IF(M104='Look-up Tables'!$C$3,5,IF(M104='Look-up Tables'!$C$4,4,IF(M104='Look-up Tables'!$C$5,3,IF(M104='Look-up Tables'!$C$6,2,IF(M104='Look-up Tables'!$C$7,1)))))","v":false},{"$f":"IFERROR(VLOOKUP(P104,'Look-up Tables'!$D$3:$E$127,2),\"\")","v":""},0,null,null,null,null,null,{"$f":"IF(U104='Look-up Tables'!$A$3,5,IF(U104='Look-up Tables'!$A$4,4,IF(U104='Look-up Tables'!$A$5,3,IF(U104='Look-up Tables'!$A$6,2,IF(U104='Look-up Tables'!$A$7,1)))))","v":false},null,{"$f":"IF(W104='Look-up Tables'!$B$3,5,IF(W104='Look-up Tables'!$B$4,4,IF(W104='Look-up Tables'!$B$5,3,IF(W104='Look-up Tables'!$B$6,2,IF(W104='Look-up Tables'!$B$7,1)))))","v":false},null,{"$f":"IF(Y104='Look-up Tables'!$C$3,5,IF(Y104='Look-up Tables'!$C$4,4,IF(Y104='Look-up Tables'!$C$5,3,IF(Y104='Look-up Tables'!$C$6,2,IF(Y104='Look-up Tables'!$C$7,1)))))","v":false},{"$f":"IFERROR(VLOOKUP(AB104,'Look-up Tables'!$D$3:$E$127,2),\"\")","v":""},0]
[null,null,null,null,null,null,{"$f":"IF(F105='Look-up Tables'!$A$3,5,IF(F105='Look-up Tables'!$A$4,4,IF(F105='Look-up Tables'!$A$5,3,IF(F105='Look-up Tables'!$A$6,2,IF(F105='Look-up Tables'!$A$7,1)))))","v":false},null,null,{"$f":"IF(I105='Look-up Tables'!$B$3,5,IF(I105='Look-up Tables'!$B$4,4,IF(I105='Look-up Tables'!$B$5,3,IF(I105='Look-up Tables'!$B$6,2,IF(I105='Look-up Tables'!$B$7,1)))))","v":false},null,null,null,{"$f":"IF(M105='Look-up Tables'!$C$3,5,IF(M105='Look-up Tables'!$C$4,4,IF(M105='Look-up Tables'!$C$5,3,IF(M105='Look-up Tables'!$C$6,2,IF(M105='Look-up Tables'!$C$7,1)))))","v":false},{"$f":"IFERROR(VLOOKUP(P105,'Look-up Tables'!$D$3:$E$127,2),\"\")","v":""},0,null,null,null,null,null,{"$f":"IF(U105='Look-up Tables'!$A$3,5,IF(U105='Look-up Tables'!$A$4,4,IF(U105='Look-up Tables'!$A$5,3,IF(U105='Look-up Tables'!$A$6,2,IF(U105='Look-up Tables'!$A$7,1)))))","v":false},null,{"$f":"IF(W105='Look-up Tables'!$B$3,5,IF(W105='Look-up Tables'!$B$4,4,IF(W105='Look-up Tables'!$B$5,3,IF(W105='Look-up Tables'!$B$6,2,IF(W105='Look-up Tables'!$B$7,1)))))","v":false},null,{"$f":"IF(Y105='Look-up Tables'!$C$3,5,IF(Y105='Look-up Tables'!$C$4,4,IF(Y105='Look-up Tables'!$C$5,3,IF(Y105='Look-up Tables'!$C$6,2,IF(Y105='Look-up Tables'!$C$7,1)))))","v":false},{"$f":"IFERROR(VLOOKUP(AB105,'Look-up Tables'!$D$3:$E$127,2),\"\")","v":""},0]
[null,null,null,null,null,null,{"$f":"IF(F106='Look-up Tables'!$A$3,5,IF(F106='Look-up Tables'!$A$4,4,IF(F106='Look-up Tables'!$A$5,3,IF(F106='Look-up Tables'!$A$6,2,IF(F106='Look-up Tables'!$A$7,1)))))","v":false},null,null,{"$f":"IF(I106='Look-up Tables'!$B$3,5,IF(I106='Look-up Tables'!$B$4,4,IF(I106='Look-up Tables'!$B$5,3,IF(I106='Look-up Tables'!$B$6,2,IF(I106='Look-up Tables'!$B$7,1)))))","v":false},null,null,null,{"$f":"IF(M106='Look-up Tables'!$C$3,5,IF(M106='Look-up Tables'!$C$4,4,IF(M106='Look-up Tables'!$C$5,3,IF(M106='Look-up Tables'!$C$6,2,IF(M106='Look-up Tables'!$C$7,1)))))","v":false},{"$f":"IFERROR(VLOOKUP(P106,'Look-up Tables'!$D$3:$E$127,2),\"\")","v":""},0,null,null,null,null,null,{"$f":"IF(U106='Look-up Tables'!$A$3,5,IF(U106='Look-up Tables'!$A$4,4,IF(U106='Look-up Tables'!$A$5,3,IF(U106='Look-up Tables'!$A$6,2,IF(U106='Look-up Tables'!$A$7,1)))))","v":false},null,{"$f":"IF(W106='Look-up Tables'!$B$3,5,IF(W106='Look-up Tables'!$B$4,4,IF(W106='Look-up Tables'!$B$5,3,IF(W106='Look-up Tables'!$B$6,2,IF(W106='Look-up Tables'!$B$7,1)))))","v":false},null,{"$f":"IF(Y106='Look-up Tables'!$C$3,5,IF(Y106='Look-up Tables'!$C$4,4,IF(Y106='Look-up Tables'!$C$5,3,IF(Y106='Look-up Tables'!$C$6,2,IF(Y106='Look-up Tables'!$C$7,1)))))","v":false},{"$f":"IFERROR(VLOOKUP(AB106,'Look-up Tables'!$D$3:$E$127,2),\"\")","v":""},0]
[null,null,null,null,null,null,{"$f":"IF(F107='Look-up Tables'!$A$3,5,IF(F107='Look-up Tables'!$A$4,4,IF(F107='Look-up Tables'!$A$5,3,IF(F107='Look-up Tables'!$A$6,2,IF(F107='Look-up Tables'!$A$7,1)))))","v":false},null,null,{"$f":"IF(I107='Look-up Tables'!$B$3,5,IF(I107='Look-up Tables'!$B$4,4,IF(I107='Look-up Tables'!$B$5,3,IF(I107='Look-up Tables'!$B$6,2,IF(I107='Look-up Tables'!$B$7,1)))))","v":false},null,null,null,{"$f":"IF(M107='Look-up Tables'!$C$3,5,IF(M107='Look-up Tables'!$C$4,4,IF(M107='Look-up Tables'!$C$5,3,IF(M107='Look-up Tables'!$C$6,2,IF(M107='Look-up Tables'!$C$7,1)))))","v":false},{"$f":"IFERROR(VLOOKUP(P107,'Look-up Tables'!$D$3:$E$127,2),\"\")","v":""},0,null,null,null,null,null,{"$f":"IF(U107='Look-up Tables'!$A$3,5,IF(U107='Look-up Tables'!$A$4,4,IF(U107='Look-up Tables'!$A$5,3,IF(U107='Look-up Tables'!$A$6,2,IF(U107='Look-up Tables'!$A$7,1)))))","v":false},null,{"$f":"IF(W107='Look-up Tables'!$B$3,5,IF(W107='Look-up Tables'!$B$4,4,IF(W107='Look-up Tables'!$B$5,3,IF(W107='Look-up Tables'!$B$6,2,IF(W107='Look-up Tables'!$B$7,1)))))","v":false},null,{"$f":"IF(Y107='Look-up Tables'!$C$3,5,IF(Y107='Look-up Tables'!$C$4,4,IF(Y107='Look-up Tables'!$C$5,3,IF(Y107='Look-up Tables'!$C$6,2,IF(Y107='Look-up Tables'!$C$7,1)))))","v":false},{"$f":"IFERROR(VLOOKUP(AB107,'Look-up Tables'!$D$3:$E$127,2),\"\")","v":""},0]
[null,null,null,null,null,null,{"$f":"IF(F108='Look-up Tables'!$A$3,5,IF(F108='Look-up Tables'!$A$4,4,IF(F108='Look-up Tables'!$A$5,3,IF(F108='Look-up Tables'!$A$6,2,IF(F108='Look-up Tables'!$A$7,1)))))","v":false},null,null,{"$f":"IF(I108='Look-up Tables'!$B$3,5,IF(I108='Look-up Tables'!$B$4,4,IF(I108='Look-up Tables'!$B$5,3,IF(I108='Look-up Tables'!$B$6,2,IF(I108='Look-up Tables'!$B$7,1)))))","v":false},null,null,null,{"$f":"IF(M108='Look-up Tables'!$C$3,5,IF(M108='Look-up Tables'!$C$4,4,IF(M108='Look-up Tables'!$C$5,3,IF(M108='Look-up Tables'!$C$6,2,IF(M108='Look-up Tables'!$C$7,1)))))","v":false},{"$f":"IFERROR(VLOOKUP(P108,'Look-up Tables'!$D$3:$E$127,2),\"\")","v":""},0,null,null,null,null,null,{"$f":"IF(U108='Look-up Tables'!$A$3,5,IF(U108='Look-up Tables'!$A$4,4,IF(U108='Look-up Tables'!$A$5,3,IF(U108='Look-up Tables'!$A$6,2,IF(U108='Look-up Tables'!$A$7,1)))))","v":false},null,{"$f":"IF(W108='Look-up Tables'!$B$3,5,IF(W108='Look-up Tables'!$B$4,4,IF(W108='Look-up Tables'!$B$5,3,IF(W108='Look-up Tables'!$B$6,2,IF(W108='Look-up Tables'!$B$7,1)))))","v":false},null,{"$f":"IF(Y108='Look-up Tables'!$C$3,5,IF(Y108='Look-up Tables'!$C$4,4,IF(Y108='Look-up Tables'!$C$5,3,IF(Y108='Look-up Tables'!$C$6,2,IF(Y108='Look-up Tables'!$C$7,1)))))","v":false},{"$f":"IFERROR(VLOOKUP(AB108,'Look-up Tables'!$D$3:$E$127,2),\"\")","v":""},0]
[null,null,null,null,null,null,{"$f":"IF(F109='Look-up Tables'!$A$3,5,IF(F109='Look-up Tables'!$A$4,4,IF(F109='Look-up Tables'!$A$5,3,IF(F109='Look-up Tables'!$A$6,2,IF(F109='Look-up Tables'!$A$7,1)))))","v":false},null,null,{"$f":"IF(I109='Look-up Tables'!$B$3,5,IF(I109='Look-up Tables'!$B$4,4,IF(I109='Look-up Tables'!$B$5,3,IF(I109='Look-up Tables'!$B$6,2,IF(I109='Look-up Tables'!$B$7,1)))))","v":false},null,null,null,{"$f":"IF(M109='Look-up Tables'!$C$3,5,IF(M109='Look-up Tables'!$C$4,4,IF(M109='Look-up Tables'!$C$5,3,IF(M109='Look-up Tables'!$C$6,2,IF(M109='Look-up Tables'!$C$7,1)))))","v":false},{"$f":"IFERROR(VLOOKUP(P109,'Look-up Tables'!$D$3:$E$127,2),\"\")","v":""},0,null,null,null,null,null,{"$f":"IF(U109='Look-up Tables'!$A$3,5,IF(U109='Look-up Tables'!$A$4,4,IF(U109='Look-up Tables'!$A$5,3,IF(U109='Look-up Tables'!$A$6,2,IF(U109='Look-up Tables'!$A$7,1)))))","v":false},null,{"$f":"IF(W109='Look-up Tables'!$B$3,5,IF(W109='Look-up Tables'!$B$4,4,IF(W109='Look-up Tables'!$B$5,3,IF(W109='Look-up Tables'!$B$6,2,IF(W109='Look-up Tables'!$B$7,1)))))","v":false},null,{"$f":"IF(Y109='Look-up Tables'!$C$3,5,IF(Y109='Look-up Tables'!$C$4,4,IF(Y109='Look-up Tables'!$C$5,3,IF(Y109='Look-up Tables'!$C$6,2,IF(Y109='Look-up Tables'!$C$7,1)))))","v":false},{"$f":"IFERROR(VLOOKUP(AB109,'Look-up Tables'!$D$3:$E$127,2),\"\")","v":""},0]
[null,null,null,null,null,null,{"$f":"IF(F110='Look-up Tables'!$A$3,5,IF(F110='Look-up Tables'!$A$4,4,IF(F110='Look-up Tables'!$A$5,3,IF(F110='Look-up Tables'!$A$6,2,IF(F110='Look-up Tables'!$A$7,1)))))","v":false},null,null,{"$f":"IF(I110='Look-up Tables'!$B$3,5,IF(I110='Look-up Tables'!$B$4,4,IF(I110='Look-up Tables'!$B$5,3,IF(I110='Look-up Tables'!$B$6,2,IF(I110='Look-up Tables'!$B$7,1)))))","v":false},null,null,null,{"$f":"IF(M110='Look-up Tables'!$C$3,5,IF(M110='Look-up Tables'!$C$4,4,IF(M110='Look-up Tables'!$C$5,3,IF(M110='Look-up Tables'!$C$6,2,IF(M110='Look-up Tables'!$C$7,1)))))","v":false},{"$f":"IFERROR(VLOOKUP(P110,'Look-up Tables'!$D$3:$E$127,2),\"\")","v":""},0,null,null,null,null,null,{"$f":"IF(U110='Look-up Tables'!$A$3,5,IF(U110='Look-up Tables'!$A$4,4,IF(U110='Look-up Tables'!$A$5,3,IF(U110='Look-up Tables'!$A$6,2,IF(U110='Look-up Tables'!$A$7,1)))))","v":false},null,{"$f":"IF(W110='Look-up Tables'!$B$3,5,IF(W110='Look-up Tables'!$B$4,4,IF(W110='Look-up Tables'!$B$5,3,IF(W110='Look-up Tables'!$B$6,2,IF(W110='Look-up Tables'!$B$7,1)))))","v":false},null,{"$f":"IF(Y110='Look-up Tables'!$C$3,5,IF(Y110='Look-up Tables'!$C$4,4,IF(Y110='Look-up Tables'!$C$5,3,IF(Y110='Look-up Tables'!$C$6,2,IF(Y110='Look-up Tables'!$C$7,1)))))","v":false},{"$f":"IFERROR(VLOOKUP(AB110,'Look-up Tables'!$D$3:$E$127,2),\"\")","v":""},0]
[null,null,null,null,null,null,{"$f":"IF(F111='Look-up Tables'!$A$3,5,IF(F111='Look-up Tables'!$A$4,4,IF(F111='Look-up Tables'!$A$5,3,IF(F111='Look-up Tables'!$A$6,2,IF(F111='Look-up Tables'!$A$7,1)))))","v":false},null,null,{"$f":"IF(I111='Look-up Tables'!$B$3,5,IF(I111='Look-up Tables'!$B$4,4,IF(I111='Look-up Tables'!$B$5,3,IF(I111='Look-up Tables'!$B$6,2,IF(I111='Look-up Tables'!$B$7,1)))))","v":false},null,null,null,{"$f":"IF(M111='Look-up Tables'!$C$3,5,IF(M111='Look-up Tables'!$C$4,4,IF(M111='Look-up Tables'!$C$5,3,IF(M111='Look-up Tables'!$C$6,2,IF(M111='Look-up Tables'!$C$7,1)))))","v":false},{"$f":"IFERROR(VLOOKUP(P111,'Look-up Tables'!$D$3:$E$127,2),\"\")","v":""},{"$f":"G111*J111*N111","v":0},null,null,null,null,null,{"$f":"IF(U111='Look-up Tables'!$A$3,5,IF(U111='Look-up Tables'!$A$4,4,IF(U111='Look-up Tables'!$A$5,3,IF(U111='Look-up Tables'!$A$6,2,IF(U111='Look-up Tables'!$A$7,1)))))","v":false},null,{"$f":"IF(W111='Look-up Tables'!$B$3,5,IF(W111='Look-up Tables'!$B$4,4,IF(W111='Look-up Tables'!$B$5,3,IF(W111='Look-up Tables'!$B$6,2,IF(W111='Look-up Tables'!$B$7,1)))))","v":false},null,{"$f":"IF(Y111='Look-up Tables'!$C$3,5,IF(Y111='Look-up Tables'!$C$4,4,IF(Y111='Look-up Tables'!$C$5,3,IF(Y111='Look-up Tables'!$C$6,2,IF(Y111='Look-up Tables'!$C$7,1)))))","v":false},{"$f":"IFERROR(VLOOKUP(AB111,'Look-up Tables'!$D$3:$E$127,2),\"\")","v":""},{"$f":"V111*X111*Z111","v":0}]
[null,null,null,null,null,null,{"$f":"IF(F112='Look-up Tables'!$A$3,5,IF(F112='Look-up Tables'!$A$4,4,IF(F112='Look-up Tables'!$A$5,3,IF(F112='Look-up Tables'!$A$6,2,IF(F112='Look-up Tables'!$A$7,1)))))","v":false},null,null,{"$f":"IF(I112='Look-up Tables'!$B$3,5,IF(I112='Look-up Tables'!$B$4,4,IF(I112='Look-up Tables'!$B$5,3,IF(I112='Look-up Tables'!$B$6,2,IF(I112='Look-up Tables'!$B$7,1)))))","v":false},null,null,null,{"$f":"IF(M112='Look-up Tables'!$C$3,5,IF(M112='Look-up Tables'!$C$4,4,IF(M112='Look-up Tables'!$C$5,3,IF(M112='Look-up Tables'!$C$6,2,IF(M112='Look-up Tables'!$C$7,1)))))","v":false},{"$f":"IFERROR(VLOOKUP(P112,'Look-up Tables'!$D$3:$E$127,2),\"\")","v":""},0,null,null,null,null,null,{"$f":"IF(U112='Look-up Tables'!$A$3,5,IF(U112='Look-up Tables'!$A$4,4,IF(U112='Look-up Tables'!$A$5,3,IF(U112='Look-up Tables'!$A$6,2,IF(U112='Look-up Tables'!$A$7,1)))))","v":false},null,{"$f":"IF(W112='Look-up Tables'!$B$3,5,IF(W112='Look-up Tables'!$B$4,4,IF(W112='Look-up Tables'!$B$5,3,IF(W112='Look-up Tables'!$B$6,2,IF(W112='Look-up Tables'!$B$7,1)))))","v":false},null,{"$f":"IF(Y112='Look-up Tables'!$C$3,5,IF(Y112='Look-up Tables'!$C$4,4,IF(Y112='Look-up Tables'!$C$5,3,IF(Y112='Look-up Tables'!$C$6,2,IF(Y112='Look-up Tables'!$C$7,1)))))","v":false},{"$f":"IFERROR(VLOOKUP(AB112,'Look-up Tables'!$D$3:$E$127,2),\"\")","v":""},0]
[null,null,null,null,null,null,{"$f":"IF(F113='Look-up Tables'!$A$3,5,IF(F113='Look-up Tables'!$A$4,4,IF(F113='Look-up Tables'!$A$5,3,IF(F113='Look-up Tables'!$A$6,2,IF(F113='Look-up Tables'!$A$7,1)))))","v":false},null,null,{"$f":"IF(I113='Look-up Tables'!$B$3,5,IF(I113='Look-up Tables'!$B$4,4,IF(I113='Look-up Tables'!$B$5,3,IF(I113='Look-up Tables'!$B$6,2,IF(I113='Look-up Tables'!$B$7,1)))))","v":false},null,null,null,{"$f":"IF(M113='Look-up Tables'!$C$3,5,IF(M113='Look-up Tables'!$C$4,4,IF(M113='Look-up Tables'!$C$5,3,IF(M113='Look-up Tables'!$C$6,2,IF(M113='Look-up Tables'!$C$7,1)))))","v":false},{"$f":"IFERROR(VLOOKUP(P113,'Look-up Tables'!$D$3:$E$127,2),\"\")","v":""},0,null,null,null,null,null,{"$f":"IF(U113='Look-up Tables'!$A$3,5,IF(U113='Look-up Tables'!$A$4,4,IF(U113='Look-up Tables'!$A$5,3,IF(U113='Look-up Tables'!$A$6,2,IF(U113='Look-up Tables'!$A$7,1)))))","v":false},null,{"$f":"IF(W113='Look-up Tables'!$B$3,5,IF(W113='Look-up Tables'!$B$4,4,IF(W113='Look-up Tables'!$B$5,3,IF(W113='Look-up Tables'!$B$6,2,IF(W113='Look-up Tables'!$B$7,1)))))","v":false},null,{"$f":"IF(Y113='Look-up Tables'!$C$3,5,IF(Y113='Look-up Tables'!$C$4,4,IF(Y113='Look-up Tables'!$C$5,3,IF(Y113='Look-up Tables'!$C$6,2,IF(Y113='Look-up Tables'!$C$7,1)))))","v":false},{"$f":"IFERROR(VLOOKUP(AB113,'Look-up Tables'!$D$3:$E$127,2),\"\")","v":""},0]
[null,null,null,null,null,null,{"$f":"IF(F114='Look-up Tables'!$A$3,5,IF(F114='Look-up Tables'!$A$4,4,IF(F114='Look-up Tables'!$A$5,3,IF(F114='Look-up Tables'!$A$6,2,IF(F114='Look-up Tables'!$A$7,1)))))","v":false},null,null,{"$f":"IF(I114='Look-up Tables'!$B$3,5,IF(I114='Look-up Tables'!$B$4,4,IF(I114='Look-up Tables'!$B$5,3,IF(I114='Look-up Tables'!$B$6,2,IF(I114='Look-up Tables'!$B$7,1)))))","v":false},null,null,null,{"$f":"IF(M114='Look-up Tables'!$C$3,5,IF(M114='Look-up Tables'!$C$4,4,IF(M114='Look-up Tables'!$C$5,3,IF(M114='Look-up Tables'!$C$6,2,IF(M114='Look-up Tables'!$C$7,1)))))","v":false},{"$f":"IFERROR(VLOOKUP(P114,'Look-up Tables'!$D$3:$E$127,2),\"\")","v":""},0,null,null,null,null,null,{"$f":"IF(U114='Look-up Tables'!$A$3,5,IF(U114='Look-up Tables'!$A$4,4,IF(U114='Look-up Tables'!$A$5,3,IF(U114='Look-up Tables'!$A$6,2,IF(U114='Look-up Tables'!$A$7,1)))))","v":false},null,{"$f":"IF(W114='Look-up Tables'!$B$3,5,IF(W114='Look-up Tables'!$B$4,4,IF(W114='Look-up Tables'!$B$5,3,IF(W114='Look-up Tables'!$B$6,2,IF(W114='Look-up Tables'!$B$7,1)))))","v":false},null,{"$f":"IF(Y114='Look-up Tables'!$C$3,5,IF(Y114='Look-up Tables'!$C$4,4,IF(Y114='Look-up Tables'!$C$5,3,IF(Y114='Look-up Tables'!$C$6,2,IF(Y114='Look-up Tables'!$C$7,1)))))","v":false},{"$f":"IFERROR(VLOOKUP(AB114,'Look-up Tables'!$D$3:$E$127,2),\"\")","v":""},0]
[null,null,null,null,null,null,{"$f":"IF(F115='Look-up Tables'!$A$3,5,IF(F115='Look-up Tables'!$A$4,4,IF(F115='Look-up Tables'!$A$5,3,IF(F115='Look-up Tables'!$A$6,2,IF(F115='Look-up Tables'!$A$7,1)))))","v":false},null,null,{"$f":"IF(I115='Look-up Tables'!$B$3,5,IF(I115='Look-up Tables'!$B$4,4,IF(I115='Look-up Tables'!$B$5,3,IF(I115='Look-up Tables'!$B$6,2,IF(I115='Look-up Tables'!$B$7,1)))))","v":false},null,null,null,{"$f":"IF(M115='Look-up Tables'!$C$3,5,IF(M115='Look-up Tables'!$C$4,4,IF(M115='Look-up Tables'!$C$5,3,IF(M115='Look-up Tables'!$C$6,2,IF(M115='Look-up Tables'!$C$7,1)))))","v":false},{"$f":"IFERROR(VLOOKUP(P115,'Look-up Tables'!$D$3:$E$127,2),\"\")","v":""},0,null,null,null,null,null,{"$f":"IF(U115='Look-up Tables'!$A$3,5,IF(U115='Look-up Tables'!$A$4,4,IF(U115='Look-up Tables'!$A$5,3,IF(U115='Look-up Tables'!$A$6,2,IF(U115='Look-up Tables'!$A$7,1)))))","v":false},null,{"$f":"IF(W115='Look-up Tables'!$B$3,5,IF(W115='Look-up Tables'!$B$4,4,IF(W115='Look-up Tables'!$B$5,3,IF(W115='Look-up Tables'!$B$6,2,IF(W115='Look-up Tables'!$B$7,1)))))","v":false},null,{"$f":"IF(Y115='Look-up Tables'!$C$3,5,IF(Y115='Look-up Tables'!$C$4,4,IF(Y115='Look-up Tables'!$C$5,3,IF(Y115='Look-up Tables'!$C$6,2,IF(Y115='Look-up Tables'!$C$7,1)))))","v":false},{"$f":"IFERROR(VLOOKUP(AB115,'Look-up Tables'!$D$3:$E$127,2),\"\")","v":""},0]
[null,null,null,null,null,null,{"$f":"IF(F116='Look-up Tables'!$A$3,5,IF(F116='Look-up Tables'!$A$4,4,IF(F116='Look-up Tables'!$A$5,3,IF(F116='Look-up Tables'!$A$6,2,IF(F116='Look-up Tables'!$A$7,1)))))","v":false},null,null,{"$f":"IF(I116='Look-up Tables'!$B$3,5,IF(I116='Look-up Tables'!$B$4,4,IF(I116='Look-up Tables'!$B$5,3,IF(I116='Look-up Tables'!$B$6,2,IF(I116='Look-up Tables'!$B$7,1)))))","v":false},null,null,null,{"$f":"IF(M116='Look-up Tables'!$C$3,5,IF(M116='Look-up Tables'!$C$4,4,IF(M116='Look-up Tables'!$C$5,3,IF(M116='Look-up Tables'!$C$6,2,IF(M116='Look-up Tables'!$C$7,1)))))","v":false},{"$f":"IFERROR(VLOOKUP(P116,'Look-up Tables'!$D$3:$E$127,2),\"\")","v":""},0,null,null,null,null,null,{"$f":"IF(U116='Look-up Tables'!$A$3,5,IF(U116='Look-up Tables'!$A$4,4,IF(U116='Look-up Tables'!$A$5,3,IF(U116='Look-up Tables'!$A$6,2,IF(U116='Look-up Tables'!$A$7,1)))))","v":false},null,{"$f":"IF(W116='Look-up Tables'!$B$3,5,IF(W116='Look-up Tables'!$B$4,4,IF(W116='Look-up Tables'!$B$5,3,IF(W116='Look-up Tables'!$B$6,2,IF(W116='Look-up Tables'!$B$7,1)))))","v":false},null,{"$f":"IF(Y116='Look-up Tables'!$C$3,5,IF(Y116='Look-up Tables'!$C$4,4,IF(Y116='Look-up Tables'!$C$5,3,IF(Y116='Look-up Tables'!$C$6,2,IF(Y116='Look-up Tables'!$C$7,1)))))","v":false},{"$f":"IFERROR(VLOOKUP(AB116,'Look-up Tables'!$D$3:$E$127,2),\"\")","v":""},0]
[null,null,null,null,null,null,{"$f":"IF(F117='Look-up Tables'!$A$3,5,IF(F117='Look-up Tables'!$A$4,4,IF(F117='Look-up Tables'!$A$5,3,IF(F117='Look-up Tables'!$A$6,2,IF(F117='Look-up Tables'!$A$7,1)))))","v":false},null,null,{"$f":"IF(I117='Look-up Tables'!$B$3,5,IF(I117='Look-up Tables'!$B$4,4,IF(I117='Look-up Tables'!$B$5,3,IF(I117='Look-up Tables'!$B$6,2,IF(I117='Look-up Tables'!$B$7,1)))))","v":false},null,null,null,{"$f":"IF(M117='Look-up Tables'!$C$3,5,IF(M117='Look-up Tables'!$C$4,4,IF(M117='Look-up Tables'!$C$5,3,IF(M117='Look-up Tables'!$C$6,2,IF(M117='Look-up Tables'!$C$7,1)))))","v":false},{"$f":"IFERROR(VLOOKUP(P117,'Look-up Tables'!$D$3:$E$127,2),\"\")","v":""},0,null,null,null,null,null,{"$f":"IF(U117='Look-up Tables'!$A$3,5,IF(U117='Look-up Tables'!$A$4,4,IF(U117='Look-up Tables'!$A$5,3,IF(U117='Look-up Tables'!$A$6,2,IF(U117='Look-up Tables'!$A$7,1)))))","v":false},null,{"$f":"IF(W117='Look-up Tables'!$B$3,5,IF(W117='Look-up Tables'!$B$4,4,IF(W117='Look-up Tables'!$B$5,3,IF(W117='Look-up Tables'!$B$6,2,IF(W117='Look-up Tables'!$B$7,1)))))","v":false},null,{"$f":"IF(Y117='Look-up Tables'!$C$3,5,IF(Y117='Look-up Tables'!$C$4,4,IF(Y117='Look-up Tables'!$C$5,3,IF(Y117='Look-up Tables'!$C$6,2,IF(Y117='Look-up Tables'!$C$7,1)))))","v":false},{"$f":"IFERROR(VLOOKUP(AB117,'Look-up Tables'!$D$3:$E$127,2),\"\")","v":""},0]
[null,null,null,null,null,null,{"$f":"IF(F118='Look-up Tables'!$A$3,5,IF(F118='Look-up Tables'!$A$4,4,IF(F118='Look-up Tables'!$A$5,3,IF(F118='Look-up Tables'!$A$6,2,IF(F118='Look-up Tables'!$A$7,1)))))","v":false},null,null,{"$f":"IF(I118='Look-up Tables'!$B$3,5,IF(I118='Look-up Tables'!$B$4,4,IF(I118='Look-up Tables'!$B$5,3,IF(I118='Look-up Tables'!$B$6,2,IF(I118='Look-up Tables'!$B$7,1)))))","v":false},null,null,null,{"$f":"IF(M118='Look-up Tables'!$C$3,5,IF(M118='Look-up Tables'!$C$4,4,IF(M118='Look-up Tables'!$C$5,3,IF(M118='Look-up Tables'!$C$6,2,IF(M118='Look-up Tables'!$C$7,1)))))","v":false},{"$f":"IFERROR(VLOOKUP(P118,'Look-up Tables'!$D$3:$E$127,2),\"\")","v":""},0,null,null,null,null,null,{"$f":"IF(U118='Look-up Tables'!$A$3,5,IF(U118='Look-up Tables'!$A$4,4,IF(U118='Look-up Tables'!$A$5,3,IF(U118='Look-up Tables'!$A$6,2,IF(U118='Look-up Tables'!$A$7,1)))))","v":false},null,{"$f":"IF(W118='Look-up Tables'!$B$3,5,IF(W118='Look-up Tables'!$B$4,4,IF(W118='Look-up Tables'!$B$5,3,IF(W118='Look-up Tables'!$B$6,2,IF(W118='Look-up Tables'!$B$7,1)))))","v":false},null,{"$f":"IF(Y118='Look-up Tables'!$C$3,5,IF(Y118='Look-up Tables'!$C$4,4,IF(Y118='Look-up Tables'!$C$5,3,IF(Y118='Look-up Tables'!$C$6,2,IF(Y118='Look-up Tables'!$C$7,1)))))","v":false},{"$f":"IFERROR(VLOOKUP(AB118,'Look-up Tables'!$D$3:$E$127,2),\"\")","v":""},0]
[null,null,null,null,null,null,{"$f":"IF(F119='Look-up Tables'!$A$3,5,IF(F119='Look-up Tables'!$A$4,4,IF(F119='Look-up Tables'!$A$5,3,IF(F119='Look-up Tables'!$A$6,2,IF(F119='Look-up Tables'!$A$7,1)))))","v":false},null,null,{"$f":"IF(I119='Look-up Tables'!$B$3,5,IF(I119='Look-up Tables'!$B$4,4,IF(I119='Look-up Tables'!$B$5,3,IF(I119='Look-up Tables'!$B$6,2,IF(I119='Look-up Tables'!$B$7,1)))))","v":false},null,null,null,{"$f":"IF(M119='Look-up Tables'!$C$3,5,IF(M119='Look-up Tables'!$C$4,4,IF(M119='Look-up Tables'!$C$5,3,IF(M119='Look-up Tables'!$C$6,2,IF(M119='Look-up Tables'!$C$7,1)))))","v":false},{"$f":"IFERROR(VLOOKUP(P119,'Look-up Tables'!$D$3:$E$127,2),\"\")","v":""},0,null,null,null,null,null,{"$f":"IF(U119='Look-up Tables'!$A$3,5,IF(U119='Look-up Tables'!$A$4,4,IF(U119='Look-up Tables'!$A$5,3,IF(U119='Look-up Tables'!$A$6,2,IF(U119='Look-up Tables'!$A$7,1)))))","v":false},null,{"$f":"IF(W119='Look-up Tables'!$B$3,5,IF(W119='Look-up Tables'!$B$4,4,IF(W119='Look-up Tables'!$B$5,3,IF(W119='Look-up Tables'!$B$6,2,IF(W119='Look-up Tables'!$B$7,1)))))","v":false},null,{"$f":"IF(Y119='Look-up Tables'!$C$3,5,IF(Y119='Look-up Tables'!$C$4,4,IF(Y119='Look-up Tables'!$C$5,3,IF(Y119='Look-up Tables'!$C$6,2,IF(Y119='Look-up Tables'!$C$7,1)))))","v":false},{"$f":"IFERROR(VLOOKUP(AB119,'Look-up Tables'!$D$3:$E$127,2),\"\")","v":""},0]
[null,null,null,null,null,null,{"$f":"IF(F120='Look-up Tables'!$A$3,5,IF(F120='Look-up Tables'!$A$4,4,IF(F120='Look-up Tables'!$A$5,3,IF(F120='Look-up Tables'!$A$6,2,IF(F120='Look-up Tables'!$A$7,1)))))","v":false},null,null,{"$f":"IF(I120='Look-up Tables'!$B$3,5,IF(I120='Look-up Tables'!$B$4,4,IF(I120='Look-up Tables'!$B$5,3,IF(I120='Look-up Tables'!$B$6,2,IF(I120='Look-up Tables'!$B$7,1)))))","v":false},null,null,null,{"$f":"IF(M120='Look-up Tables'!$C$3,5,IF(M120='Look-up Tables'!$C$4,4,IF(M120='Look-up Tables'!$C$5,3,IF(M120='Look-up Tables'!$C$6,2,IF(M120='Look-up Tables'!$C$7,1)))))","v":false},{"$f":"IFERROR(VLOOKUP(P120,'Look-up Tables'!$D$3:$E$127,2),\"\")","v":""},0,null,null,null,null,null,{"$f":"IF(U120='Look-up Tables'!$A$3,5,IF(U120='Look-up Tables'!$A$4,4,IF(U120='Look-up Tables'!$A$5,3,IF(U120='Look-up Tables'!$A$6,2,IF(U120='Look-up Tables'!$A$7,1)))))","v":false},null,{"$f":"IF(W120='Look-up Tables'!$B$3,5,IF(W120='Look-up Tables'!$B$4,4,IF(W120='Look-up Tables'!$B$5,3,IF(W120='Look-up Tables'!$B$6,2,IF(W120='Look-up Tables'!$B$7,1)))))","v":false},null,{"$f":"IF(Y120='Look-up Tables'!$C$3,5,IF(Y120='Look-up Tables'!$C$4,4,IF(Y120='Look-up Tables'!$C$5,3,IF(Y120='Look-up Tables'!$C$6,2,IF(Y120='Look-up Tables'!$C$7,1)))))","v":false},{"$f":"IFERROR(VLOOKUP(AB120,'Look-up Tables'!$D$3:$E$127,2),\"\")","v":""},0]
[null,null,null,null,null,null,{"$f":"IF(F121='Look-up Tables'!$A$3,5,IF(F121='Look-up Tables'!$A$4,4,IF(F121='Look-up Tables'!$A$5,3,IF(F121='Look-up Tables'!$A$6,2,IF(F121='Look-up Tables'!$A$7,1)))))","v":false},null,null,{"$f":"IF(I121='Look-up Tables'!$B$3,5,IF(I121='Look-up Tables'!$B$4,4,IF(I121='Look-up Tables'!$B$5,3,IF(I121='Look-up Tables'!$B$6,2,IF(I121='Look-up Tables'!$B$7,1)))))","v":false},null,null,null,{"$f":"IF(M121='Look-up Tables'!$C$3,5,IF(M121='Look-up Tables'!$C$4,4,IF(M121='Look-up Tables'!$C$5,3,IF(M121='Look-up Tables'!$C$6,2,IF(M121='Look-up Tables'!$C$7,1)))))","v":false},{"$f":"IFERROR(VLOOKUP(P121,'Look-up Tables'!$D$3:$E$127,2),\"\")","v":""},0,null,null,null,null,null,{"$f":"IF(U121='Look-up Tables'!$A$3,5,IF(U121='Look-up Tables'!$A$4,4,IF(U121='Look-up Tables'!$A$5,3,IF(U121='Look-up Tables'!$A$6,2,IF(U121='Look-up Tables'!$A$7,1)))))","v":false},null,{"$f":"IF(W121='Look-up Tables'!$B$3,5,IF(W121='Look-up Tables'!$B$4,4,IF(W121='Look-up Tables'!$B$5,3,IF(W121='Look-up Tables'!$B$6,2,IF(W121='Look-up Tables'!$B$7,1)))))","v":false},null,{"$f":"IF(Y121='Look-up Tables'!$C$3,5,IF(Y121='Look-up Tables'!$C$4,4,IF(Y121='Look-up Tables'!$C$5,3,IF(Y121='Look-up Tables'!$C$6,2,IF(Y121='Look-up Tables'!$C$7,1)))))","v":false},{"$f":"IFERROR(VLOOKUP(AB121,'Look-up Tables'!$D$3:$E$127,2),\"\")","v":""},0]
[null,null,null,null,null,null,{"$f":"IF(F122='Look-up Tables'!$A$3,5,IF(F122='Look-up Tables'!$A$4,4,IF(F122='Look-up Tables'!$A$5,3,IF(F122='Look-up Tables'!$A$6,2,IF(F122='Look-up Tables'!$A$7,1)))))","v":false},null,null,{"$f":"IF(I122='Look-up Tables'!$B$3,5,IF(I122='Look-up Tables'!$B$4,4,IF(I122='Look-up Tables'!$B$5,3,IF(I122='Look-up Tables'!$B$6,2,IF(I122='Look-up Tables'!$B$7,1)))))","v":false},null,null,null,{"$f":"IF(M122='Look-up Tables'!$C$3,5,IF(M122='Look-up Tables'!$C$4,4,IF(M122='Look-up Tables'!$C$5,3,IF(M122='Look-up Tables'!$C$6,2,IF(M122='Look-up Tables'!$C$7,1)))))","v":false},{"$f":"IFERROR(VLOOKUP(P122,'Look-up Tables'!$D$3:$E$127,2),\"\")","v":""},0,null,null,null,null,null,{"$f":"IF(U122='Look-up Tables'!$A$3,5,IF(U122='Look-up Tables'!$A$4,4,IF(U122='Look-up Tables'!$A$5,3,IF(U122='Look-up Tables'!$A$6,2,IF(U122='Look-up Tables'!$A$7,1)))))","v":false},null,{"$f":"IF(W122='Look-up Tables'!$B$3,5,IF(W122='Look-up Tables'!$B$4,4,IF(W122='Look-up Tables'!$B$5,3,IF(W122='Look-up Tables'!$B$6,2,IF(W122='Look-up Tables'!$B$7,1)))))","v":false},null,{"$f":"IF(Y122='Look-up Tables'!$C$3,5,IF(Y122='Look-up Tables'!$C$4,4,IF(Y122='Look-up Tables'!$C$5,3,IF(Y122='Look-up Tables'!$C$6,2,IF(Y122='Look-up Tables'!$C$7,1)))))","v":false},{"$f":"IFERROR(VLOOKUP(AB122,'Look-up Tables'!$D$3:$E$127,2),\"\")","v":""},0]
[null,null,null,null,null,null,{"$f":"IF(F123='Look-up Tables'!$A$3,5,IF(F123='Look-up Tables'!$A$4,4,IF(F123='Look-up Tables'!$A$5,3,IF(F123='Look-up Tables'!$A$6,2,IF(F123='Look-up Tables'!$A$7,1)))))","v":false},null,null,{"$f":"IF(I123='Look-up Tables'!$B$3,5,IF(I123='Look-up Tables'!$B$4,4,IF(I123='Look-up Tables'!$B$5,3,IF(I123='Look-up Tables'!$B$6,2,IF(I123='Look-up Tables'!$B$7,1)))))","v":false},null,null,null,{"$f":"IF(M123='Look-up Tables'!$C$3,5,IF(M123='Look-up Tables'!$C$4,4,IF(M123='Look-up Tables'!$C$5,3,IF(M123='Look-up Tables'!$C$6,2,IF(M123='Look-up Tables'!$C$7,1)))))","v":false},{"$f":"IFERROR(VLOOKUP(P123,'Look-up Tables'!$D$3:$E$127,2),\"\")","v":""},0,null,null,null,null,null,{"$f":"IF(U123='Look-up Tables'!$A$3,5,IF(U123='Look-up Tables'!$A$4,4,IF(U123='Look-up Tables'!$A$5,3,IF(U123='Look-up Tables'!$A$6,2,IF(U123='Look-up Tables'!$A$7,1)))))","v":false},null,{"$f":"IF(W123='Look-up Tables'!$B$3,5,IF(W123='Look-up Tables'!$B$4,4,IF(W123='Look-up Tables'!$B$5,3,IF(W123='Look-up Tables'!$B$6,2,IF(W123='Look-up Tables'!$B$7,1)))))","v":false},null,{"$f":"IF(Y123='Look-up Tables'!$C$3,5,IF(Y123='Look-up Tables'!$C$4,4,IF(Y123='Look-up Tables'!$C$5,3,IF(Y123='Look-up Tables'!$C$6,2,IF(Y123='Look-up Tables'!$C$7,1)))))","v":false},{"$f":"IFERROR(VLOOKUP(AB123,'Look-up Tables'!$D$3:$E$127,2),\"\")","v":""},0]
[null,null,null,null,null,null,{"$f":"IF(F124='Look-up Tables'!$A$3,5,IF(F124='Look-up Tables'!$A$4,4,IF(F124='Look-up Tables'!$A$5,3,IF(F124='Look-up Tables'!$A$6,2,IF(F124='Look-up Tables'!$A$7,1)))))","v":false},null,null,{"$f":"IF(I124='Look-up Tables'!$B$3,5,IF(I124='Look-up Tables'!$B$4,4,IF(I124='Look-up Tables'!$B$5,3,IF(I124='Look-up Tables'!$B$6,2,IF(I124='Look-up Tables'!$B$7,1)))))","v":false},null,null,null,{"$f":"IF(M124='Look-up Tables'!$C$3,5,IF(M124='Look-up Tables'!$C$4,4,IF(M124='Look-up Tables'!$C$5,3,IF(M124='Look-up Tables'!$C$6,2,IF(M124='Look-up Tables'!$C$7,1)))))","v":false},{"$f":"IFERROR(VLOOKUP(P124,'Look-up Tables'!$D$3:$E$127,2),\"\")","v":""},0,null,null,null,null,null,{"$f":"IF(U124='Look-up Tables'!$A$3,5,IF(U124='Look-up Tables'!$A$4,4,IF(U124='Look-up Tables'!$A$5,3,IF(U124='Look-up Tables'!$A$6,2,IF(U124='Look-up Tables'!$A$7,1)))))","v":false},null,{"$f":"IF(W124='Look-up Tables'!$B$3,5,IF(W124='Look-up Tables'!$B$4,4,IF(W124='Look-up Tables'!$B$5,3,IF(W124='Look-up Tables'!$B$6,2,IF(W124='Look-up Tables'!$B$7,1)))))","v":false},null,{"$f":"IF(Y124='Look-up Tables'!$C$3,5,IF(Y124='Look-up Tables'!$C$4,4,IF(Y124='Look-up Tables'!$C$5,3,IF(Y124='Look-up Tables'!$C$6,2,IF(Y124='Look-up Tables'!$C$7,1)))))","v":false},{"$f":"IFERROR(VLOOKUP(AB124,'Look-up Tables'!$D$3:$E$127,2),\"\")","v":""},0]
[null,null,null,null,null,null,{"$f":"IF(F125='Look-up Tables'!$A$3,5,IF(F125='Look-up Tables'!$A$4,4,IF(F125='Look-up Tables'!$A$5,3,IF(F125='Look-up Tables'!$A$6,2,IF(F125='Look-up Tables'!$A$7,1)))))","v":false},null,null,{"$f":"IF(I125='Look-up Tables'!$B$3,5,IF(I125='Look-up Tables'!$B$4,4,IF(I125='Look-up Tables'!$B$5,3,IF(I125='Look-up Tables'!$B$6,2,IF(I125='Look-up Tables'!$B$7,1)))))","v":false},null,null,null,{"$f":"IF(M125='Look-up Tables'!$C$3,5,IF(M125='Look-up Tables'!$C$4,4,IF(M125='Look-up Tables'!$C$5,3,IF(M125='Look-up Tables'!$C$6,2,IF(M125='Look-up Tables'!$C$7,1)))))","v":false},{"$f":"IFERROR(VLOOKUP(P125,'Look-up Tables'!$D$3:$E$127,2),\"\")","v":""},0,null,null,null,null,null,{"$f":"IF(U125='Look-up Tables'!$A$3,5,IF(U125='Look-up Tables'!$A$4,4,IF(U125='Look-up Tables'!$A$5,3,IF(U125='Look-up Tables'!$A$6,2,IF(U125='Look-up Tables'!$A$7,1)))))","v":false},null,{"$f":"IF(W125='Look-up Tables'!$B$3,5,IF(W125='Look-up Tables'!$B$4,4,IF(W125='Look-up Tables'!$B$5,3,IF(W125='Look-up Tables'!$B$6,2,IF(W125='Look-up Tables'!$B$7,1)))))","v":false},null,{"$f":"IF(Y125='Look-up Tables'!$C$3,5,IF(Y125='Look-up Tables'!$C$4,4,IF(Y125='Look-up Tables'!$C$5,3,IF(Y125='Look-up Tables'!$C$6,2,IF(Y125='Look-up Tables'!$C$7,1)))))","v":false},{"$f":"IFERROR(VLOOKUP(AB125,'Look-up Tables'!$D$3:$E$127,2),\"\")","v":""},0]
[null,null,null,null,null,null,{"$f":"IF(F126='Look-up Tables'!$A$3,5,IF(F126='Look-up Tables'!$A$4,4,IF(F126='Look-up Tables'!$A$5,3,IF(F126='Look-up Tables'!$A$6,2,IF(F126='Look-up Tables'!$A$7,1)))))","v":false},null,null,{"$f":"IF(I126='Look-up Tables'!$B$3,5,IF(I126='Look-up Tables'!$B$4,4,IF(I126='Look-up Tables'!$B$5,3,IF(I126='Look-up Tables'!$B$6,2,IF(I126='Look-up Tables'!$B$7,1)))))","v":false},null,null,null,{"$f":"IF(M126='Look-up Tables'!$C$3,5,IF(M126='Look-up Tables'!$C$4,4,IF(M126='Look-up Tables'!$C$5,3,IF(M126='Look-up Tables'!$C$6,2,IF(M126='Look-up Tables'!$C$7,1)))))","v":false},{"$f":"IFERROR(VLOOKUP(P126,'Look-up Tables'!$D$3:$E$127,2),\"\")","v":""},0,null,null,null,null,null,{"$f":"IF(U126='Look-up Tables'!$A$3,5,IF(U126='Look-up Tables'!$A$4,4,IF(U126='Look-up Tables'!$A$5,3,IF(U126='Look-up Tables'!$A$6,2,IF(U126='Look-up Tables'!$A$7,1)))))","v":false},null,{"$f":"IF(W126='Look-up Tables'!$B$3,5,IF(W126='Look-up Tables'!$B$4,4,IF(W126='Look-up Tables'!$B$5,3,IF(W126='Look-up Tables'!$B$6,2,IF(W126='Look-up Tables'!$B$7,1)))))","v":false},null,{"$f":"IF(Y126='Look-up Tables'!$C$3,5,IF(Y126='Look-up Tables'!$C$4,4,IF(Y126='Look-up Tables'!$C$5,3,IF(Y126='Look-up Tables'!$C$6,2,IF(Y126='Look-up Tables'!$C$7,1)))))","v":false},{"$f":"IFERROR(VLOOKUP(AB126,'Look-up Tables'!$D$3:$E$127,2),\"\")","v":""},0]
[null,null,null,null,null,null,{"$f":"IF(F127='Look-up Tables'!$A$3,5,IF(F127='Look-up Tables'!$A$4,4,IF(F127='Look-up Tables'!$A$5,3,IF(F127='Look-up Tables'!$A$6,2,IF(F127='Look-up Tables'!$A$7,1)))))","v":false},null,null,{"$f":"IF(I127='Look-up Tables'!$B$3,5,IF(I127='Look-up Tables'!$B$4,4,IF(I127='Look-up Tables'!$B$5,3,IF(I127='Look-up Tables'!$B$6,2,IF(I127='Look-up Tables'!$B$7,1)))))","v":false},null,null,null,{"$f":"IF(M127='Look-up Tables'!$C$3,5,IF(M127='Look-up Tables'!$C$4,4,IF(M127='Look-up Tables'!$C$5,3,IF(M127='Look-up Tables'!$C$6,2,IF(M127='Look-up Tables'!$C$7,1)))))","v":false},{"$f":"IFERROR(VLOOKUP(P127,'Look-up Tables'!$D$3:$E$127,2),\"\")","v":""},0,null,null,null,null,null,{"$f":"IF(U127='Look-up Tables'!$A$3,5,IF(U127='Look-up Tables'!$A$4,4,IF(U127='Look-up Tables'!$A$5,3,IF(U127='Look-up Tables'!$A$6,2,IF(U127='Look-up Tables'!$A$7,1)))))","v":false},null,{"$f":"IF(W127='Look-up Tables'!$B$3,5,IF(W127='Look-up Tables'!$B$4,4,IF(W127='Look-up Tables'!$B$5,3,IF(W127='Look-up Tables'!$B$6,2,IF(W127='Look-up Tables'!$B$7,1)))))","v":false},null,{"$f":"IF(Y127='Look-up Tables'!$C$3,5,IF(Y127='Look-up Tables'!$C$4,4,IF(Y127='Look-up Tables'!$C$5,3,IF(Y127='Look-up Tables'!$C$6,2,IF(Y127='Look-up Tables'!$C$7,1)))))","v":false},{"$f":"IFERROR(VLOOKUP(AB127,'Look-up Tables'!$D$3:$E$127,2),\"\")","v":""},0]
[null,null,null,null,null,null,{"$f":"IF(F128='Look-up Tables'!$A$3,5,IF(F128='Look-up Tables'!$A$4,4,IF(F128='Look-up Tables'!$A$5,3,IF(F128='Look-up Tables'!$A$6,2,IF(F128='Look-up Tables'!$A$7,1)))))","v":false},null,null,{"$f":"IF(I128='Look-up Tables'!$B$3,5,IF(I128='Look-up Tables'!$B$4,4,IF(I128='Look-up Tables'!$B$5,3,IF(I128='Look-up Tables'!$B$6,2,IF(I128='Look-up Tables'!$B$7,1)))))","v":false},null,null,null,{"$f":"IF(M128='Look-up Tables'!$C$3,5,IF(M128='Look-up Tables'!$C$4,4,IF(M128='Look-up Tables'!$C$5,3,IF(M128='Look-up Tables'!$C$6,2,IF(M128='Look-up Tables'!$C$7,1)))))","v":false},{"$f":"IFERROR(VLOOKUP(P128,'Look-up Tables'!$D$3:$E$127,2),\"\")","v":""},0,null,null,null,null,null,{"$f":"IF(U128='Look-up Tables'!$A$3,5,IF(U128='Look-up Tables'!$A$4,4,IF(U128='Look-up Tables'!$A$5,3,IF(U128='Look-up Tables'!$A$6,2,IF(U128='Look-up Tables'!$A$7,1)))))","v":false},null,{"$f":"IF(W128='Look-up Tables'!$B$3,5,IF(W128='Look-up Tables'!$B$4,4,IF(W128='Look-up Tables'!$B$5,3,IF(W128='Look-up Tables'!$B$6,2,IF(W128='Look-up Tables'!$B$7,1)))))","v":false},null,{"$f":"IF(Y128='Look-up Tables'!$C$3,5,IF(Y128='Look-up Tables'!$C$4,4,IF(Y128='Look-up Tables'!$C$5,3,IF(Y128='Look-up Tables'!$C$6,2,IF(Y128='Look-up Tables'!$C$7,1)))))","v":false},{"$f":"IFERROR(VLOOKUP(AB128,'Look-up Tables'!$D$3:$E$127,2),\"\")","v":""},0]
[null,null,null,null,null,null,{"$f":"IF(F129='Look-up Tables'!$A$3,5,IF(F129='Look-up Tables'!$A$4,4,IF(F129='Look-up Tables'!$A$5,3,IF(F129='Look-up Tables'!$A$6,2,IF(F129='Look-up Tables'!$A$7,1)))))","v":false},null,null,{"$f":"IF(I129='Look-up Tables'!$B$3,5,IF(I129='Look-up Tables'!$B$4,4,IF(I129='Look-up Tables'!$B$5,3,IF(I129='Look-up Tables'!$B$6,2,IF(I129='Look-up Tables'!$B$7,1)))))","v":false},null,null,null,{"$f":"IF(M129='Look-up Tables'!$C$3,5,IF(M129='Look-up Tables'!$C$4,4,IF(M129='Look-up Tables'!$C$5,3,IF(M129='Look-up Tables'!$C$6,2,IF(M129='Look-up Tables'!$C$7,1)))))","v":false},{"$f":"IFERROR(VLOOKUP(P129,'Look-up Tables'!$D$3:$E$127,2),\"\")","v":""},0,null,null,null,null,null,{"$f":"IF(U129='Look-up Tables'!$A$3,5,IF(U129='Look-up Tables'!$A$4,4,IF(U129='Look-up Tables'!$A$5,3,IF(U129='Look-up Tables'!$A$6,2,IF(U129='Look-up Tables'!$A$7,1)))))","v":false},null,{"$f":"IF(W129='Look-up Tables'!$B$3,5,IF(W129='Look-up Tables'!$B$4,4,IF(W129='Look-up Tables'!$B$5,3,IF(W129='Look-up Tables'!$B$6,2,IF(W129='Look-up Tables'!$B$7,1)))))","v":false},null,{"$f":"IF(Y129='Look-up Tables'!$C$3,5,IF(Y129='Look-up Tables'!$C$4,4,IF(Y129='Look-up Tables'!$C$5,3,IF(Y129='Look-up Tables'!$C$6,2,IF(Y129='Look-up Tables'!$C$7,1)))))","v":false},{"$f":"IFERROR(VLOOKUP(AB129,'Look-up Tables'!$D$3:$E$127,2),\"\")","v":""},0]
[null,null,null,null,null,null,{"$f":"IF(F130='Look-up Tables'!$A$3,5,IF(F130='Look-up Tables'!$A$4,4,IF(F130='Look-up Tables'!$A$5,3,IF(F130='Look-up Tables'!$A$6,2,IF(F130='Look-up Tables'!$A$7,1)))))","v":false},null,null,{"$f":"IF(I130='Look-up Tables'!$B$3,5,IF(I130='Look-up Tables'!$B$4,4,IF(I130='Look-up Tables'!$B$5,3,IF(I130='Look-up Tables'!$B$6,2,IF(I130='Look-up Tables'!$B$7,1)))))","v":false},null,null,null,{"$f":"IF(M130='Look-up Tables'!$C$3,5,IF(M130='Look-up Tables'!$C$4,4,IF(M130='Look-up Tables'!$C$5,3,IF(M130='Look-up Tables'!$C$6,2,IF(M130='Look-up Tables'!$C$7,1)))))","v":false},{"$f":"IFERROR(VLOOKUP(P130,'Look-up Tables'!$D$3:$E$127,2),\"\")","v":""},0,null,null,null,null,null,{"$f":"IF(U130='Look-up Tables'!$A$3,5,IF(U130='Look-up Tables'!$A$4,4,IF(U130='Look-up Tables'!$A$5,3,IF(U130='Look-up Tables'!$A$6,2,IF(U130='Look-up Tables'!$A$7,1)))))","v":false},null,{"$f":"IF(W130='Look-up Tables'!$B$3,5,IF(W130='Look-up Tables'!$B$4,4,IF(W130='Look-up Tables'!$B$5,3,IF(W130='Look-up Tables'!$B$6,2,IF(W130='Look-up Tables'!$B$7,1)))))","v":false},null,{"$f":"IF(Y130='Look-up Tables'!$C$3,5,IF(Y130='Look-up Tables'!$C$4,4,IF(Y130='Look-up Tables'!$C$5,3,IF(Y130='Look-up Tables'!$C$6,2,IF(Y130='Look-up Tables'!$C$7,1)))))","v":false},{"$f":"IFERROR(VLOOKUP(AB130,'Look-up Tables'!$D$3:$E$127,2),\"\")","v":""},0]
[null,null,null,null,null,null,{"$f":"IF(F131='Look-up Tables'!$A$3,5,IF(F131='Look-up Tables'!$A$4,4,IF(F131='Look-up Tables'!$A$5,3,IF(F131='Look-up Tables'!$A$6,2,IF(F131='Look-up Tables'!$A$7,1)))))","v":false},null,null,{"$f":"IF(I131='Look-up Tables'!$B$3,5,IF(I131='Look-up Tables'!$B$4,4,IF(I131='Look-up Tables'!$B$5,3,IF(I131='Look-up Tables'!$B$6,2,IF(I131='Look-up Tables'!$B$7,1)))))","v":false},null,null,null,{"$f":"IF(M131='Look-up Tables'!$C$3,5,IF(M131='Look-up Tables'!$C$4,4,IF(M131='Look-up Tables'!$C$5,3,IF(M131='Look-up Tables'!$C$6,2,IF(M131='Look-up Tables'!$C$7,1)))))","v":false},{"$f":"IFERROR(VLOOKUP(P131,'Look-up Tables'!$D$3:$E$127,2),\"\")","v":""},0,null,null,null,null,null,{"$f":"IF(U131='Look-up Tables'!$A$3,5,IF(U131='Look-up Tables'!$A$4,4,IF(U131='Look-up Tables'!$A$5,3,IF(U131='Look-up Tables'!$A$6,2,IF(U131='Look-up Tables'!$A$7,1)))))","v":false},null,{"$f":"IF(W131='Look-up Tables'!$B$3,5,IF(W131='Look-up Tables'!$B$4,4,IF(W131='Look-up Tables'!$B$5,3,IF(W131='Look-up Tables'!$B$6,2,IF(W131='Look-up Tables'!$B$7,1)))))","v":false},null,{"$f":"IF(Y131='Look-up Tables'!$C$3,5,IF(Y131='Look-up Tables'!$C$4,4,IF(Y131='Look-up Tables'!$C$5,3,IF(Y131='Look-up Tables'!$C$6,2,IF(Y131='Look-up Tables'!$C$7,1)))))","v":false},{"$f":"IFERROR(VLOOKUP(AB131,'Look-up Tables'!$D$3:$E$127,2),\"\")","v":""},0]
[null,null,null,null,null,null,{"$f":"IF(F132='Look-up Tables'!$A$3,5,IF(F132='Look-up Tables'!$A$4,4,IF(F132='Look-up Tables'!$A$5,3,IF(F132='Look-up Tables'!$A$6,2,IF(F132='Look-up Tables'!$A$7,1)))))","v":false},null,null,{"$f":"IF(I132='Look-up Tables'!$B$3,5,IF(I132='Look-up Tables'!$B$4,4,IF(I132='Look-up Tables'!$B$5,3,IF(I132='Look-up Tables'!$B$6,2,IF(I132='Look-up Tables'!$B$7,1)))))","v":false},null,null,null,{"$f":"IF(M132='Look-up Tables'!$C$3,5,IF(M132='Look-up Tables'!$C$4,4,IF(M132='Look-up Tables'!$C$5,3,IF(M132='Look-up Tables'!$C$6,2,IF(M132='Look-up Tables'!$C$7,1)))))","v":false},{"$f":"IFERROR(VLOOKUP(P132,'Look-up Tables'!$D$3:$E$127,2),\"\")","v":""},0,null,null,null,null,null,{"$f":"IF(U132='Look-up Tables'!$A$3,5,IF(U132='Look-up Tables'!$A$4,4,IF(U132='Look-up Tables'!$A$5,3,IF(U132='Look-up Tables'!$A$6,2,IF(U132='Look-up Tables'!$A$7,1)))))","v":false},null,{"$f":"IF(W132='Look-up Tables'!$B$3,5,IF(W132='Look-up Tables'!$B$4,4,IF(W132='Look-up Tables'!$B$5,3,IF(W132='Look-up Tables'!$B$6,2,IF(W132='Look-up Tables'!$B$7,1)))))","v":false},null,{"$f":"IF(Y132='Look-up Tables'!$C$3,5,IF(Y132='Look-up Tables'!$C$4,4,IF(Y132='Look-up Tables'!$C$5,3,IF(Y132='Look-up Tables'!$C$6,2,IF(Y132='Look-up Tables'!$C$7,1)))))","v":false},{"$f":"IFERROR(VLOOKUP(AB132,'Look-up Tables'!$D$3:$E$127,2),\"\")","v":""},0]
[null,null,null,null,null,null,{"$f":"IF(F133='Look-up Tables'!$A$3,5,IF(F133='Look-up Tables'!$A$4,4,IF(F133='Look-up Tables'!$A$5,3,IF(F133='Look-up Tables'!$A$6,2,IF(F133='Look-up Tables'!$A$7,1)))))","v":false},null,null,{"$f":"IF(I133='Look-up Tables'!$B$3,5,IF(I133='Look-up Tables'!$B$4,4,IF(I133='Look-up Tables'!$B$5,3,IF(I133='Look-up Tables'!$B$6,2,IF(I133='Look-up Tables'!$B$7,1)))))","v":false},null,null,null,{"$f":"IF(M133='Look-up Tables'!$C$3,5,IF(M133='Look-up Tables'!$C$4,4,IF(M133='Look-up Tables'!$C$5,3,IF(M133='Look-up Tables'!$C$6,2,IF(M133='Look-up Tables'!$C$7,1)))))","v":false},{"$f":"IFERROR(VLOOKUP(P133,'Look-up Tables'!$D$3:$E$127,2),\"\")","v":""},0,null,null,null,null,null,{"$f":"IF(U133='Look-up Tables'!$A$3,5,IF(U133='Look-up Tables'!$A$4,4,IF(U133='Look-up Tables'!$A$5,3,IF(U133='Look-up Tables'!$A$6,2,IF(U133='Look-up Tables'!$A$7,1)))))","v":false},null,{"$f":"IF(W133='Look-up Tables'!$B$3,5,IF(W133='Look-up Tables'!$B$4,4,IF(W133='Look-up Tables'!$B$5,3,IF(W133='Look-up Tables'!$B$6,2,IF(W133='Look-up Tables'!$B$7,1)))))","v":false},null,{"$f":"IF(Y133='Look-up Tables'!$C$3,5,IF(Y133='Look-up Tables'!$C$4,4,IF(Y133='Look-up Tables'!$C$5,3,IF(Y133='Look-up Tables'!$C$6,2,IF(Y133='Look-up Tables'!$C$7,1)))))","v":false},{"$f":"IFERROR(VLOOKUP(AB133,'Look-up Tables'!$D$3:$E$127,2),\"\")","v":""},0]
[null,null,null,null,null,null,{"$f":"IF(F134='Look-up Tables'!$A$3,5,IF(F134='Look-up Tables'!$A$4,4,IF(F134='Look-up Tables'!$A$5,3,IF(F134='Look-up Tables'!$A$6,2,IF(F134='Look-up Tables'!$A$7,1)))))","v":false},null,null,{"$f":"IF(I134='Look-up Tables'!$B$3,5,IF(I134='Look-up Tables'!$B$4,4,IF(I134='Look-up Tables'!$B$5,3,IF(I134='Look-up Tables'!$B$6,2,IF(I134='Look-up Tables'!$B$7,1)))))","v":false},null,null,null,{"$f":"IF(M134='Look-up Tables'!$C$3,5,IF(M134='Look-up Tables'!$C$4,4,IF(M134='Look-up Tables'!$C$5,3,IF(M134='Look-up Tables'!$C$6,2,IF(M134='Look-up Tables'!$C$7,1)))))","v":false},{"$f":"IFERROR(VLOOKUP(P134,'Look-up Tables'!$D$3:$E$127,2),\"\")","v":""},0,null,null,null,null,null,{"$f":"IF(U134='Look-up Tables'!$A$3,5,IF(U134='Look-up Tables'!$A$4,4,IF(U134='Look-up Tables'!$A$5,3,IF(U134='Look-up Tables'!$A$6,2,IF(U134='Look-up Tables'!$A$7,1)))))","v":false},null,{"$f":"IF(W134='Look-up Tables'!$B$3,5,IF(W134='Look-up Tables'!$B$4,4,IF(W134='Look-up Tables'!$B$5,3,IF(W134='Look-up Tables'!$B$6,2,IF(W134='Look-up Tables'!$B$7,1)))))","v":false},null,{"$f":"IF(Y134='Look-up Tables'!$C$3,5,IF(Y134='Look-up Tables'!$C$4,4,IF(Y134='Look-up Tables'!$C$5,3,IF(Y134='Look-up Tables'!$C$6,2,IF(Y134='Look-up Tables'!$C$7,1)))))","v":false},{"$f":"IFERROR(VLOOKUP(AB134,'Look-up Tables'!$D$3:$E$127,2),\"\")","v":""},0]
[null,null,null,null,null,null,{"$f":"IF(F135='Look-up Tables'!$A$3,5,IF(F135='Look-up Tables'!$A$4,4,IF(F135='Look-up Tables'!$A$5,3,IF(F135='Look-up Tables'!$A$6,2,IF(F135='Look-up Tables'!$A$7,1)))))","v":false},null,null,{"$f":"IF(I135='Look-up Tables'!$B$3,5,IF(I135='Look-up Tables'!$B$4,4,IF(I135='Look-up Tables'!$B$5,3,IF(I135='Look-up Tables'!$B$6,2,IF(I135='Look-up Tables'!$B$7,1)))))","v":false},null,null,null,{"$f":"IF(M135='Look-up Tables'!$C$3,5,IF(M135='Look-up Tables'!$C$4,4,IF(M135='Look-up Tables'!$C$5,3,IF(M135='Look-up Tables'!$C$6,2,IF(M135='Look-up Tables'!$C$7,1)))))","v":false},{"$f":"IFERROR(VLOOKUP(P135,'Look-up Tables'!$D$3:$E$127,2),\"\")","v":""},0,null,null,null,null,null,{"$f":"IF(U135='Look-up Tables'!$A$3,5,IF(U135='Look-up Tables'!$A$4,4,IF(U135='Look-up Tables'!$A$5,3,IF(U135='Look-up Tables'!$A$6,2,IF(U135='Look-up Tables'!$A$7,1)))))","v":false},null,{"$f":"IF(W135='Look-up Tables'!$B$3,5,IF(W135='Look-up Tables'!$B$4,4,IF(W135='Look-up Tables'!$B$5,3,IF(W135='Look-up Tables'!$B$6,2,IF(W135='Look-up Tables'!$B$7,1)))))","v":false},null,{"$f":"IF(Y135='Look-up Tables'!$C$3,5,IF(Y135='Look-up Tables'!$C$4,4,IF(Y135='Look-up Tables'!$C$5,3,IF(Y135='Look-up Tables'!$C$6,2,IF(Y135='Look-up Tables'!$C$7,1)))))","v":false},{"$f":"IFERROR(VLOOKUP(AB135,'Look-up Tables'!$D$3:$E$127,2),\"\")","v":""},0]
[null,null,null,null,null,null,{"$f":"IF(F136='Look-up Tables'!$A$3,5,IF(F136='Look-up Tables'!$A$4,4,IF(F136='Look-up Tables'!$A$5,3,IF(F136='Look-up Tables'!$A$6,2,IF(F136='Look-up Tables'!$A$7,1)))))","v":false},null,null,{"$f":"IF(I136='Look-up Tables'!$B$3,5,IF(I136='Look-up Tables'!$B$4,4,IF(I136='Look-up Tables'!$B$5,3,IF(I136='Look-up Tables'!$B$6,2,IF(I136='Look-up Tables'!$B$7,1)))))","v":false},null,null,null,{"$f":"IF(M136='Look-up Tables'!$C$3,5,IF(M136='Look-up Tables'!$C$4,4,IF(M136='Look-up Tables'!$C$5,3,IF(M136='Look-up Tables'!$C$6,2,IF(M136='Look-up Tables'!$C$7,1)))))","v":false},{"$f":"IFERROR(VLOOKUP(P136,'Look-up Tables'!$D$3:$E$127,2),\"\")","v":""},0,null,null,null,null,null,{"$f":"IF(U136='Look-up Tables'!$A$3,5,IF(U136='Look-up Tables'!$A$4,4,IF(U136='Look-up Tables'!$A$5,3,IF(U136='Look-up Tables'!$A$6,2,IF(U136='Look-up Tables'!$A$7,1)))))","v":false},null,{"$f":"IF(W136='Look-up Tables'!$B$3,5,IF(W136='Look-up Tables'!$B$4,4,IF(W136='Look-up Tables'!$B$5,3,IF(W136='Look-up Tables'!$B$6,2,IF(W136='Look-up Tables'!$B$7,1)))))","v":false},null,{"$f":"IF(Y136='Look-up Tables'!$C$3,5,IF(Y136='Look-up Tables'!$C$4,4,IF(Y136='Look-up Tables'!$C$5,3,IF(Y136='Look-up Tables'!$C$6,2,IF(Y136='Look-up Tables'!$C$7,1)))))","v":false},{"$f":"IFERROR(VLOOKUP(AB136,'Look-up Tables'!$D$3:$E$127,2),\"\")","v":""},0]
[null,null,null,null,null,null,{"$f":"IF(F137='Look-up Tables'!$A$3,5,IF(F137='Look-up Tables'!$A$4,4,IF(F137='Look-up Tables'!$A$5,3,IF(F137='Look-up Tables'!$A$6,2,IF(F137='Look-up Tables'!$A$7,1)))))","v":false},null,null,{"$f":"IF(I137='Look-up Tables'!$B$3,5,IF(I137='Look-up Tables'!$B$4,4,IF(I137='Look-up Tables'!$B$5,3,IF(I137='Look-up Tables'!$B$6,2,IF(I137='Look-up Tables'!$B$7,1)))))","v":false},null,null,null,{"$f":"IF(M137='Look-up Tables'!$C$3,5,IF(M137='Look-up Tables'!$C$4,4,IF(M137='Look-up Tables'!$C$5,3,IF(M137='Look-up Tables'!$C$6,2,IF(M137='Look-up Tables'!$C$7,1)))))","v":false},{"$f":"IFERROR(VLOOKUP(P137,'Look-up Tables'!$D$3:$E$127,2),\"\")","v":""},0,null,null,null,null,null,{"$f":"IF(U137='Look-up Tables'!$A$3,5,IF(U137='Look-up Tables'!$A$4,4,IF(U137='Look-up Tables'!$A$5,3,IF(U137='Look-up Tables'!$A$6,2,IF(U137='Look-up Tables'!$A$7,1)))))","v":false},null,{"$f":"IF(W137='Look-up Tables'!$B$3,5,IF(W137='Look-up Tables'!$B$4,4,IF(W137='Look-up Tables'!$B$5,3,IF(W137='Look-up Tables'!$B$6,2,IF(W137='Look-up Tables'!$B$7,1)))))","v":false},null,{"$f":"IF(Y137='Look-up Tables'!$C$3,5,IF(Y137='Look-up Tables'!$C$4,4,IF(Y137='Look-up Tables'!$C$5,3,IF(Y137='Look-up Tables'!$C$6,2,IF(Y137='Look-up Tables'!$C$7,1)))))","v":false},{"$f":"IFERROR(VLOOKUP(AB137,'Look-up Tables'!$D$3:$E$127,2),\"\")","v":""},0]
[null,null,null,null,null,null,{"$f":"IF(F138='Look-up Tables'!$A$3,5,IF(F138='Look-up Tables'!$A$4,4,IF(F138='Look-up Tables'!$A$5,3,IF(F138='Look-up Tables'!$A$6,2,IF(F138='Look-up Tables'!$A$7,1)))))","v":false},null,null,{"$f":"IF(I138='Look-up Tables'!$B$3,5,IF(I138='Look-up Tables'!$B$4,4,IF(I138='Look-up Tables'!$B$5,3,IF(I138='Look-up Tables'!$B$6,2,IF(I138='Look-up Tables'!$B$7,1)))))","v":false},null,null,null,{"$f":"IF(M138='Look-up Tables'!$C$3,5,IF(M138='Look-up Tables'!$C$4,4,IF(M138='Look-up Tables'!$C$5,3,IF(M138='Look-up Tables'!$C$6,2,IF(M138='Look-up Tables'!$C$7,1)))))","v":false},{"$f":"IFERROR(VLOOKUP(P138,'Look-up Tables'!$D$3:$E$127,2),\"\")","v":""},0,null,null,null,null,null,{"$f":"IF(U138='Look-up Tables'!$A$3,5,IF(U138='Look-up Tables'!$A$4,4,IF(U138='Look-up Tables'!$A$5,3,IF(U138='Look-up Tables'!$A$6,2,IF(U138='Look-up Tables'!$A$7,1)))))","v":false},null,{"$f":"IF(W138='Look-up Tables'!$B$3,5,IF(W138='Look-up Tables'!$B$4,4,IF(W138='Look-up Tables'!$B$5,3,IF(W138='Look-up Tables'!$B$6,2,IF(W138='Look-up Tables'!$B$7,1)))))","v":false},null,{"$f":"IF(Y138='Look-up Tables'!$C$3,5,IF(Y138='Look-up Tables'!$C$4,4,IF(Y138='Look-up Tables'!$C$5,3,IF(Y138='Look-up Tables'!$C$6,2,IF(Y138='Look-up Tables'!$C$7,1)))))","v":false},{"$f":"IFERROR(VLOOKUP(AB138,'Look-up Tables'!$D$3:$E$127,2),\"\")","v":""},0]
[null,null,null,null,null,null,{"$f":"IF(F139='Look-up Tables'!$A$3,5,IF(F139='Look-up Tables'!$A$4,4,IF(F139='Look-up Tables'!$A$5,3,IF(F139='Look-up Tables'!$A$6,2,IF(F139='Look-up Tables'!$A$7,1)))))","v":false},null,null,{"$f":"IF(I139='Look-up Tables'!$B$3,5,IF(I139='Look-up Tables'!$B$4,4,IF(I139='Look-up Tables'!$B$5,3,IF(I139='Look-up Tables'!$B$6,2,IF(I139='Look-up Tables'!$B$7,1)))))","v":false},null,null,null,{"$f":"IF(M139='Look-up Tables'!$C$3,5,IF(M139='Look-up Tables'!$C$4,4,IF(M139='Look-up Tables'!$C$5,3,IF(M139='Look-up Tables'!$C$6,2,IF(M139='Look-up Tables'!$C$7,1)))))","v":false},{"$f":"IFERROR(VLOOKUP(P139,'Look-up Tables'!$D$3:$E$127,2),\"\")","v":""},0,null,null,null,null,null,{"$f":"IF(U139='Look-up Tables'!$A$3,5,IF(U139='Look-up Tables'!$A$4,4,IF(U139='Look-up Tables'!$A$5,3,IF(U139='Look-up Tables'!$A$6,2,IF(U139='Look-up Tables'!$A$7,1)))))","v":false},null,{"$f":"IF(W139='Look-up Tables'!$B$3,5,IF(W139='Look-up Tables'!$B$4,4,IF(W139='Look-up Tables'!$B$5,3,IF(W139='Look-up Tables'!$B$6,2,IF(W139='Look-up Tables'!$B$7,1)))))","v":false},null,{"$f":"IF(Y139='Look-up Tables'!$C$3,5,IF(Y139='Look-up Tables'!$C$4,4,IF(Y139='Look-up Tables'!$C$5,3,IF(Y139='Look-up Tables'!$C$6,2,IF(Y139='Look-up Tables'!$C$7,1)))))","v":false},{"$f":"IFERROR(VLOOKUP(AB139,'Look-up Tables'!$D$3:$E$127,2),\"\")","v":""},0]
[null,null,null,null,null,null,{"$f":"IF(F140='Look-up Tables'!$A$3,5,IF(F140='Look-up Tables'!$A$4,4,IF(F140='Look-up Tables'!$A$5,3,IF(F140='Look-up Tables'!$A$6,2,IF(F140='Look-up Tables'!$A$7,1)))))","v":false},null,null,{"$f":"IF(I140='Look-up Tables'!$B$3,5,IF(I140='Look-up Tables'!$B$4,4,IF(I140='Look-up Tables'!$B$5,3,IF(I140='Look-up Tables'!$B$6,2,IF(I140='Look-up Tables'!$B$7,1)))))","v":false},null,null,null,{"$f":"IF(M140='Look-up Tables'!$C$3,5,IF(M140='Look-up Tables'!$C$4,4,IF(M140='Look-up Tables'!$C$5,3,IF(M140='Look-up Tables'!$C$6,2,IF(M140='Look-up Tables'!$C$7,1)))))","v":false},{"$f":"IFERROR(VLOOKUP(P140,'Look-up Tables'!$D$3:$E$127,2),\"\")","v":""},0,null,null,null,null,null,{"$f":"IF(U140='Look-up Tables'!$A$3,5,IF(U140='Look-up Tables'!$A$4,4,IF(U140='Look-up Tables'!$A$5,3,IF(U140='Look-up Tables'!$A$6,2,IF(U140='Look-up Tables'!$A$7,1)))))","v":false},null,{"$f":"IF(W140='Look-up Tables'!$B$3,5,IF(W140='Look-up Tables'!$B$4,4,IF(W140='Look-up Tables'!$B$5,3,IF(W140='Look-up Tables'!$B$6,2,IF(W140='Look-up Tables'!$B$7,1)))))","v":false},null,{"$f":"IF(Y140='Look-up Tables'!$C$3,5,IF(Y140='Look-up Tables'!$C$4,4,IF(Y140='Look-up Tables'!$C$5,3,IF(Y140='Look-up Tables'!$C$6,2,IF(Y140='Look-up Tables'!$C$7,1)))))","v":false},{"$f":"IFERROR(VLOOKUP(AB140,'Look-up Tables'!$D$3:$E$127,2),\"\")","v":""},0]
[null,null,null,null,null,null,{"$f":"IF(F141='Look-up Tables'!$A$3,5,IF(F141='Look-up Tables'!$A$4,4,IF(F141='Look-up Tables'!$A$5,3,IF(F141='Look-up Tables'!$A$6,2,IF(F141='Look-up Tables'!$A$7,1)))))","v":false},null,null,{"$f":"IF(I141='Look-up Tables'!$B$3,5,IF(I141='Look-up Tables'!$B$4,4,IF(I141='Look-up Tables'!$B$5,3,IF(I141='Look-up Tables'!$B$6,2,IF(I141='Look-up Tables'!$B$7,1)))))","v":false},null,null,null,{"$f":"IF(M141='Look-up Tables'!$C$3,5,IF(M141='Look-up Tables'!$C$4,4,IF(M141='Look-up Tables'!$C$5,3,IF(M141='Look-up Tables'!$C$6,2,IF(M141='Look-up Tables'!$C$7,1)))))","v":false},{"$f":"IFERROR(VLOOKUP(P141,'Look-up Tables'!$D$3:$E$127,2),\"\")","v":""},0,null,null,null,null,null,{"$f":"IF(U141='Look-up Tables'!$A$3,5,IF(U141='Look-up Tables'!$A$4,4,IF(U141='Look-up Tables'!$A$5,3,IF(U141='Look-up Tables'!$A$6,2,IF(U141='Look-up Tables'!$A$7,1)))))","v":false},null,{"$f":"IF(W141='Look-up Tables'!$B$3,5,IF(W141='Look-up Tables'!$B$4,4,IF(W141='Look-up Tables'!$B$5,3,IF(W141='Look-up Tables'!$B$6,2,IF(W141='Look-up Tables'!$B$7,1)))))","v":false},null,{"$f":"IF(Y141='Look-up Tables'!$C$3,5,IF(Y141='Look-up Tables'!$C$4,4,IF(Y141='Look-up Tables'!$C$5,3,IF(Y141='Look-up Tables'!$C$6,2,IF(Y141='Look-up Tables'!$C$7,1)))))","v":false},{"$f":"IFERROR(VLOOKUP(AB141,'Look-up Tables'!$D$3:$E$127,2),\"\")","v":""},0]
[null,null,null,null,null,null,{"$f":"IF(F142='Look-up Tables'!$A$3,5,IF(F142='Look-up Tables'!$A$4,4,IF(F142='Look-up Tables'!$A$5,3,IF(F142='Look-up Tables'!$A$6,2,IF(F142='Look-up Tables'!$A$7,1)))))","v":false},null,null,{"$f":"IF(I142='Look-up Tables'!$B$3,5,IF(I142='Look-up Tables'!$B$4,4,IF(I142='Look-up Tables'!$B$5,3,IF(I142='Look-up Tables'!$B$6,2,IF(I142='Look-up Tables'!$B$7,1)))))","v":false},null,null,null,{"$f":"IF(M142='Look-up Tables'!$C$3,5,IF(M142='Look-up Tables'!$C$4,4,IF(M142='Look-up Tables'!$C$5,3,IF(M142='Look-up Tables'!$C$6,2,IF(M142='Look-up Tables'!$C$7,1)))))","v":false},{"$f":"IFERROR(VLOOKUP(P142,'Look-up Tables'!$D$3:$E$127,2),\"\")","v":""},0,null,null,null,null,null,{"$f":"IF(U142='Look-up Tables'!$A$3,5,IF(U142='Look-up Tables'!$A$4,4,IF(U142='Look-up Tables'!$A$5,3,IF(U142='Look-up Tables'!$A$6,2,IF(U142='Look-up Tables'!$A$7,1)))))","v":false},null,{"$f":"IF(W142='Look-up Tables'!$B$3,5,IF(W142='Look-up Tables'!$B$4,4,IF(W142='Look-up Tables'!$B$5,3,IF(W142='Look-up Tables'!$B$6,2,IF(W142='Look-up Tables'!$B$7,1)))))","v":false},null,{"$f":"IF(Y142='Look-up Tables'!$C$3,5,IF(Y142='Look-up Tables'!$C$4,4,IF(Y142='Look-up Tables'!$C$5,3,IF(Y142='Look-up Tables'!$C$6,2,IF(Y142='Look-up Tables'!$C$7,1)))))","v":false},{"$f":"IFERROR(VLOOKUP(AB142,'Look-up Tables'!$D$3:$E$127,2),\"\")","v":""},0]
[null,null,null,null,null,null,{"$f":"IF(F143='Look-up Tables'!$A$3,5,IF(F143='Look-up Tables'!$A$4,4,IF(F143='Look-up Tables'!$A$5,3,IF(F143='Look-up Tables'!$A$6,2,IF(F143='Look-up Tables'!$A$7,1)))))","v":false},null,null,{"$f":"IF(I143='Look-up Tables'!$B$3,5,IF(I143='Look-up Tables'!$B$4,4,IF(I143='Look-up Tables'!$B$5,3,IF(I143='Look-up Tables'!$B$6,2,IF(I143='Look-up Tables'!$B$7,1)))))","v":false},null,null,null,{"$f":"IF(M143='Look-up Tables'!$C$3,5,IF(M143='Look-up Tables'!$C$4,4,IF(M143='Look-up Tables'!$C$5,3,IF(M143='Look-up Tables'!$C$6,2,IF(M143='Look-up Tables'!$C$7,1)))))","v":false},{"$f":"IFERROR(VLOOKUP(P143,'Look-up Tables'!$D$3:$E$127,2),\"\")","v":""},0,null,null,null,null,null,{"$f":"IF(U143='Look-up Tables'!$A$3,5,IF(U143='Look-up Tables'!$A$4,4,IF(U143='Look-up Tables'!$A$5,3,IF(U143='Look-up Tables'!$A$6,2,IF(U143='Look-up Tables'!$A$7,1)))))","v":false},null,{"$f":"IF(W143='Look-up Tables'!$B$3,5,IF(W143='Look-up Tables'!$B$4,4,IF(W143='Look-up Tables'!$B$5,3,IF(W143='Look-up Tables'!$B$6,2,IF(W143='Look-up Tables'!$B$7,1)))))","v":false},null,{"$f":"IF(Y143='Look-up Tables'!$C$3,5,IF(Y143='Look-up Tables'!$C$4,4,IF(Y143='Look-up Tables'!$C$5,3,IF(Y143='Look-up Tables'!$C$6,2,IF(Y143='Look-up Tables'!$C$7,1)))))","v":false},{"$f":"IFERROR(VLOOKUP(AB143,'Look-up Tables'!$D$3:$E$127,2),\"\")","v":""},0]
[null,null,null,null,null,null,{"$f":"IF(F144='Look-up Tables'!$A$3,5,IF(F144='Look-up Tables'!$A$4,4,IF(F144='Look-up Tables'!$A$5,3,IF(F144='Look-up Tables'!$A$6,2,IF(F144='Look-up Tables'!$A$7,1)))))","v":false},null,null,{"$f":"IF(I144='Look-up Tables'!$B$3,5,IF(I144='Look-up Tables'!$B$4,4,IF(I144='Look-up Tables'!$B$5,3,IF(I144='Look-up Tables'!$B$6,2,IF(I144='Look-up Tables'!$B$7,1)))))","v":false},null,null,null,{"$f":"IF(M144='Look-up Tables'!$C$3,5,IF(M144='Look-up Tables'!$C$4,4,IF(M144='Look-up Tables'!$C$5,3,IF(M144='Look-up Tables'!$C$6,2,IF(M144='Look-up Tables'!$C$7,1)))))","v":false},{"$f":"IFERROR(VLOOKUP(P144,'Look-up Tables'!$D$3:$E$127,2),\"\")","v":""},0,null,null,null,null,null,{"$f":"IF(U144='Look-up Tables'!$A$3,5,IF(U144='Look-up Tables'!$A$4,4,IF(U144='Look-up Tables'!$A$5,3,IF(U144='Look-up Tables'!$A$6,2,IF(U144='Look-up Tables'!$A$7,1)))))","v":false},null,{"$f":"IF(W144='Look-up Tables'!$B$3,5,IF(W144='Look-up Tables'!$B$4,4,IF(W144='Look-up Tables'!$B$5,3,IF(W144='Look-up Tables'!$B$6,2,IF(W144='Look-up Tables'!$B$7,1)))))","v":false},null,{"$f":"IF(Y144='Look-up Tables'!$C$3,5,IF(Y144='Look-up Tables'!$C$4,4,IF(Y144='Look-up Tables'!$C$5,3,IF(Y144='Look-up Tables'!$C$6,2,IF(Y144='Look-up Tables'!$C$7,1)))))","v":false},{"$f":"IFERROR(VLOOKUP(AB144,'Look-up Tables'!$D$3:$E$127,2),\"\")","v":""},0]
[null,null,null,null,null,null,{"$f":"IF(F145='Look-up Tables'!$A$3,5,IF(F145='Look-up Tables'!$A$4,4,IF(F145='Look-up Tables'!$A$5,3,IF(F145='Look-up Tables'!$A$6,2,IF(F145='Look-up Tables'!$A$7,1)))))","v":false},null,null,{"$f":"IF(I145='Look-up Tables'!$B$3,5,IF(I145='Look-up Tables'!$B$4,4,IF(I145='Look-up Tables'!$B$5,3,IF(I145='Look-up Tables'!$B$6,2,IF(I145='Look-up Tables'!$B$7,1)))))","v":false},null,null,null,{"$f":"IF(M145='Look-up Tables'!$C$3,5,IF(M145='Look-up Tables'!$C$4,4,IF(M145='Look-up Tables'!$C$5,3,IF(M145='Look-up Tables'!$C$6,2,IF(M145='Look-up Tables'!$C$7,1)))))","v":false},{"$f":"IFERROR(VLOOKUP(P145,'Look-up Tables'!$D$3:$E$127,2),\"\")","v":""},0,null,null,null,null,null,{"$f":"IF(U145='Look-up Tables'!$A$3,5,IF(U145='Look-up Tables'!$A$4,4,IF(U145='Look-up Tables'!$A$5,3,IF(U145='Look-up Tables'!$A$6,2,IF(U145='Look-up Tables'!$A$7,1)))))","v":false},null,{"$f":"IF(W145='Look-up Tables'!$B$3,5,IF(W145='Look-up Tables'!$B$4,4,IF(W145='Look-up Tables'!$B$5,3,IF(W145='Look-up Tables'!$B$6,2,IF(W145='Look-up Tables'!$B$7,1)))))","v":false},null,{"$f":"IF(Y145='Look-up Tables'!$C$3,5,IF(Y145='Look-up Tables'!$C$4,4,IF(Y145='Look-up Tables'!$C$5,3,IF(Y145='Look-up Tables'!$C$6,2,IF(Y145='Look-up Tables'!$C$7,1)))))","v":false},{"$f":"IFERROR(VLOOKUP(AB145,'Look-up Tables'!$D$3:$E$127,2),\"\")","v":""},0]
[null,null,null,null,null,null,{"$f":"IF(F146='Look-up Tables'!$A$3,5,IF(F146='Look-up Tables'!$A$4,4,IF(F146='Look-up Tables'!$A$5,3,IF(F146='Look-up Tables'!$A$6,2,IF(F146='Look-up Tables'!$A$7,1)))))","v":false},null,null,{"$f":"IF(I146='Look-up Tables'!$B$3,5,IF(I146='Look-up Tables'!$B$4,4,IF(I146='Look-up Tables'!$B$5,3,IF(I146='Look-up Tables'!$B$6,2,IF(I146='Look-up Tables'!$B$7,1)))))","v":false},null,null,null,{"$f":"IF(M146='Look-up Tables'!$C$3,5,IF(M146='Look-up Tables'!$C$4,4,IF(M146='Look-up Tables'!$C$5,3,IF(M146='Look-up Tables'!$C$6,2,IF(M146='Look-up Tables'!$C$7,1)))))","v":false},{"$f":"IFERROR(VLOOKUP(P146,'Look-up Tables'!$D$3:$E$127,2),\"\")","v":""},0,null,null,null,null,null,{"$f":"IF(U146='Look-up Tables'!$A$3,5,IF(U146='Look-up Tables'!$A$4,4,IF(U146='Look-up Tables'!$A$5,3,IF(U146='Look-up Tables'!$A$6,2,IF(U146='Look-up Tables'!$A$7,1)))))","v":false},null,{"$f":"IF(W146='Look-up Tables'!$B$3,5,IF(W146='Look-up Tables'!$B$4,4,IF(W146='Look-up Tables'!$B$5,3,IF(W146='Look-up Tables'!$B$6,2,IF(W146='Look-up Tables'!$B$7,1)))))","v":false},null,{"$f":"IF(Y146='Look-up Tables'!$C$3,5,IF(Y146='Look-up Tables'!$C$4,4,IF(Y146='Look-up Tables'!$C$5,3,IF(Y146='Look-up Tables'!$C$6,2,IF(Y146='Look-up Tables'!$C$7,1)))))","v":false},{"$f":"IFERROR(VLOOKUP(AB146,'Look-up Tables'!$D$3:$E$127,2),\"\")","v":""},0]
[null,null,null,null,null,null,{"$f":"IF(F147='Look-up Tables'!$A$3,5,IF(F147='Look-up Tables'!$A$4,4,IF(F147='Look-up Tables'!$A$5,3,IF(F147='Look-up Tables'!$A$6,2,IF(F147='Look-up Tables'!$A$7,1)))))","v":false},null,null,{"$f":"IF(I147='Look-up Tables'!$B$3,5,IF(I147='Look-up Tables'!$B$4,4,IF(I147='Look-up Tables'!$B$5,3,IF(I147='Look-up Tables'!$B$6,2,IF(I147='Look-up Tables'!$B$7,1)))))","v":false},null,null,null,{"$f":"IF(M147='Look-up Tables'!$C$3,5,IF(M147='Look-up Tables'!$C$4,4,IF(M147='Look-up Tables'!$C$5,3,IF(M147='Look-up Tables'!$C$6,2,IF(M147='Look-up Tables'!$C$7,1)))))","v":false},{"$f":"IFERROR(VLOOKUP(P147,'Look-up Tables'!$D$3:$E$127,2),\"\")","v":""},0,null,null,null,null,null,{"$f":"IF(U147='Look-up Tables'!$A$3,5,IF(U147='Look-up Tables'!$A$4,4,IF(U147='Look-up Tables'!$A$5,3,IF(U147='Look-up Tables'!$A$6,2,IF(U147='Look-up Tables'!$A$7,1)))))","v":false},null,{"$f":"IF(W147='Look-up Tables'!$B$3,5,IF(W147='Look-up Tables'!$B$4,4,IF(W147='Look-up Tables'!$B$5,3,IF(W147='Look-up Tables'!$B$6,2,IF(W147='Look-up Tables'!$B$7,1)))))","v":false},null,{"$f":"IF(Y147='Look-up Tables'!$C$3,5,IF(Y147='Look-up Tables'!$C$4,4,IF(Y147='Look-up Tables'!$C$5,3,IF(Y147='Look-up Tables'!$C$6,2,IF(Y147='Look-up Tables'!$C$7,1)))))","v":false},{"$f":"IFERROR(VLOOKUP(AB147,'Look-up Tables'!$D$3:$E$127,2),\"\")","v":""},0]
[null,null,null,null,null,null,{"$f":"IF(F148='Look-up Tables'!$A$3,5,IF(F148='Look-up Tables'!$A$4,4,IF(F148='Look-up Tables'!$A$5,3,IF(F148='Look-up Tables'!$A$6,2,IF(F148='Look-up Tables'!$A$7,1)))))","v":false},null,null,{"$f":"IF(I148='Look-up Tables'!$B$3,5,IF(I148='Look-up Tables'!$B$4,4,IF(I148='Look-up Tables'!$B$5,3,IF(I148='Look-up Tables'!$B$6,2,IF(I148='Look-up Tables'!$B$7,1)))))","v":false},null,null,null,{"$f":"IF(M148='Look-up Tables'!$C$3,5,IF(M148='Look-up Tables'!$C$4,4,IF(M148='Look-up Tables'!$C$5,3,IF(M148='Look-up Tables'!$C$6,2,IF(M148='Look-up Tables'!$C$7,1)))))","v":false},{"$f":"IFERROR(VLOOKUP(P148,'Look-up Tables'!$D$3:$E$127,2),\"\")","v":""},0,null,null,null,null,null,{"$f":"IF(U148='Look-up Tables'!$A$3,5,IF(U148='Look-up Tables'!$A$4,4,IF(U148='Look-up Tables'!$A$5,3,IF(U148='Look-up Tables'!$A$6,2,IF(U148='Look-up Tables'!$A$7,1)))))","v":false},null,{"$f":"IF(W148='Look-up Tables'!$B$3,5,IF(W148='Look-up Tables'!$B$4,4,IF(W148='Look-up Tables'!$B$5,3,IF(W148='Look-up Tables'!$B$6,2,IF(W148='Look-up Tables'!$B$7,1)))))","v":false},null,{"$f":"IF(Y148='Look-up Tables'!$C$3,5,IF(Y148='Look-up Tables'!$C$4,4,IF(Y148='Look-up Tables'!$C$5,3,IF(Y148='Look-up Tables'!$C$6,2,IF(Y148='Look-up Tables'!$C$7,1)))))","v":false},{"$f":"IFERROR(VLOOKUP(AB148,'Look-up Tables'!$D$3:$E$127,2),\"\")","v":""},0]
[null,null,null,null,null,null,{"$f":"IF(F149='Look-up Tables'!$A$3,5,IF(F149='Look-up Tables'!$A$4,4,IF(F149='Look-up Tables'!$A$5,3,IF(F149='Look-up Tables'!$A$6,2,IF(F149='Look-up Tables'!$A$7,1)))))","v":false},null,null,{"$f":"IF(I149='Look-up Tables'!$B$3,5,IF(I149='Look-up Tables'!$B$4,4,IF(I149='Look-up Tables'!$B$5,3,IF(I149='Look-up Tables'!$B$6,2,IF(I149='Look-up Tables'!$B$7,1)))))","v":false},null,null,null,{"$f":"IF(M149='Look-up Tables'!$C$3,5,IF(M149='Look-up Tables'!$C$4,4,IF(M149='Look-up Tables'!$C$5,3,IF(M149='Look-up Tables'!$C$6,2,IF(M149='Look-up Tables'!$C$7,1)))))","v":false},{"$f":"IFERROR(VLOOKUP(P149,'Look-up Tables'!$D$3:$E$127,2),\"\")","v":""},0,null,null,null,null,null,{"$f":"IF(U149='Look-up Tables'!$A$3,5,IF(U149='Look-up Tables'!$A$4,4,IF(U149='Look-up Tables'!$A$5,3,IF(U149='Look-up Tables'!$A$6,2,IF(U149='Look-up Tables'!$A$7,1)))))","v":false},null,{"$f":"IF(W149='Look-up Tables'!$B$3,5,IF(W149='Look-up Tables'!$B$4,4,IF(W149='Look-up Tables'!$B$5,3,IF(W149='Look-up Tables'!$B$6,2,IF(W149='Look-up Tables'!$B$7,1)))))","v":false},null,{"$f":"IF(Y149='Look-up Tables'!$C$3,5,IF(Y149='Look-up Tables'!$C$4,4,IF(Y149='Look-up Tables'!$C$5,3,IF(Y149='Look-up Tables'!$C$6,2,IF(Y149='Look-up Tables'!$C$7,1)))))","v":false},{"$f":"IFERROR(VLOOKUP(AB149,'Look-up Tables'!$D$3:$E$127,2),\"\")","v":""},0]
[null,null,null,null,null,null,{"$f":"IF(F150='Look-up Tables'!$A$3,5,IF(F150='Look-up Tables'!$A$4,4,IF(F150='Look-up Tables'!$A$5,3,IF(F150='Look-up Tables'!$A$6,2,IF(F150='Look-up Tables'!$A$7,1)))))","v":false},null,null,{"$f":"IF(I150='Look-up Tables'!$B$3,5,IF(I150='Look-up Tables'!$B$4,4,IF(I150='Look-up Tables'!$B$5,3,IF(I150='Look-up Tables'!$B$6,2,IF(I150='Look-up Tables'!$B$7,1)))))","v":false},null,null,null,{"$f":"IF(M150='Look-up Tables'!$C$3,5,IF(M150='Look-up Tables'!$C$4,4,IF(M150='Look-up Tables'!$C$5,3,IF(M150='Look-up Tables'!$C$6,2,IF(M150='Look-up Tables'!$C$7,1)))))","v":false},{"$f":"IFERROR(VLOOKUP(P150,'Look-up Tables'!$D$3:$E$127,2),\"\")","v":""},0,null,null,null,null,null,{"$f":"IF(U150='Look-up Tables'!$A$3,5,IF(U150='Look-up Tables'!$A$4,4,IF(U150='Look-up Tables'!$A$5,3,IF(U150='Look-up Tables'!$A$6,2,IF(U150='Look-up Tables'!$A$7,1)))))","v":false},null,{"$f":"IF(W150='Look-up Tables'!$B$3,5,IF(W150='Look-up Tables'!$B$4,4,IF(W150='Look-up Tables'!$B$5,3,IF(W150='Look-up Tables'!$B$6,2,IF(W150='Look-up Tables'!$B$7,1)))))","v":false},null,{"$f":"IF(Y150='Look-up Tables'!$C$3,5,IF(Y150='Look-up Tables'!$C$4,4,IF(Y150='Look-up Tables'!$C$5,3,IF(Y150='Look-up Tables'!$C$6,2,IF(Y150='Look-up Tables'!$C$7,1)))))","v":false},{"$f":"IFERROR(VLOOKUP(AB150,'Look-up Tables'!$D$3:$E$127,2),\"\")","v":""},0]
[null,null,null,null,null,null,{"$f":"IF(F151='Look-up Tables'!$A$3,5,IF(F151='Look-up Tables'!$A$4,4,IF(F151='Look-up Tables'!$A$5,3,IF(F151='Look-up Tables'!$A$6,2,IF(F151='Look-up Tables'!$A$7,1)))))","v":false},null,null,{"$f":"IF(I151='Look-up Tables'!$B$3,5,IF(I151='Look-up Tables'!$B$4,4,IF(I151='Look-up Tables'!$B$5,3,IF(I151='Look-up Tables'!$B$6,2,IF(I151='Look-up Tables'!$B$7,1)))))","v":false},null,null,null,{"$f":"IF(M151='Look-up Tables'!$C$3,5,IF(M151='Look-up Tables'!$C$4,4,IF(M151='Look-up Tables'!$C$5,3,IF(M151='Look-up Tables'!$C$6,2,IF(M151='Look-up Tables'!$C$7,1)))))","v":false},{"$f":"IFERROR(VLOOKUP(P151,'Look-up Tables'!$D$3:$E$127,2),\"\")","v":""},0,null,null,null,null,null,{"$f":"IF(U151='Look-up Tables'!$A$3,5,IF(U151='Look-up Tables'!$A$4,4,IF(U151='Look-up Tables'!$A$5,3,IF(U151='Look-up Tables'!$A$6,2,IF(U151='Look-up Tables'!$A$7,1)))))","v":false},null,{"$f":"IF(W151='Look-up Tables'!$B$3,5,IF(W151='Look-up Tables'!$B$4,4,IF(W151='Look-up Tables'!$B$5,3,IF(W151='Look-up Tables'!$B$6,2,IF(W151='Look-up Tables'!$B$7,1)))))","v":false},null,{"$f":"IF(Y151='Look-up Tables'!$C$3,5,IF(Y151='Look-up Tables'!$C$4,4,IF(Y151='Look-up Tables'!$C$5,3,IF(Y151='Look-up Tables'!$C$6,2,IF(Y151='Look-up Tables'!$C$7,1)))))","v":false},{"$f":"IFERROR(VLOOKUP(AB151,'Look-up Tables'!$D$3:$E$127,2),\"\")","v":""},0]
[null,null,null,null,null,null,{"$f":"IF(F152='Look-up Tables'!$A$3,5,IF(F152='Look-up Tables'!$A$4,4,IF(F152='Look-up Tables'!$A$5,3,IF(F152='Look-up Tables'!$A$6,2,IF(F152='Look-up Tables'!$A$7,1)))))","v":false},null,null,{"$f":"IF(I152='Look-up Tables'!$B$3,5,IF(I152='Look-up Tables'!$B$4,4,IF(I152='Look-up Tables'!$B$5,3,IF(I152='Look-up Tables'!$B$6,2,IF(I152='Look-up Tables'!$B$7,1)))))","v":false},null,null,null,{"$f":"IF(M152='Look-up Tables'!$C$3,5,IF(M152='Look-up Tables'!$C$4,4,IF(M152='Look-up Tables'!$C$5,3,IF(M152='Look-up Tables'!$C$6,2,IF(M152='Look-up Tables'!$C$7,1)))))","v":false},{"$f":"IFERROR(VLOOKUP(P152,'Look-up Tables'!$D$3:$E$127,2),\"\")","v":""},0,null,null,null,null,null,{"$f":"IF(U152='Look-up Tables'!$A$3,5,IF(U152='Look-up Tables'!$A$4,4,IF(U152='Look-up Tables'!$A$5,3,IF(U152='Look-up Tables'!$A$6,2,IF(U152='Look-up Tables'!$A$7,1)))))","v":false},null,{"$f":"IF(W152='Look-up Tables'!$B$3,5,IF(W152='Look-up Tables'!$B$4,4,IF(W152='Look-up Tables'!$B$5,3,IF(W152='Look-up Tables'!$B$6,2,IF(W152='Look-up Tables'!$B$7,1)))))","v":false},null,{"$f":"IF(Y152='Look-up Tables'!$C$3,5,IF(Y152='Look-up Tables'!$C$4,4,IF(Y152='Look-up Tables'!$C$5,3,IF(Y152='Look-up Tables'!$C$6,2,IF(Y152='Look-up Tables'!$C$7,1)))))","v":false},{"$f":"IFERROR(VLOOKUP(AB152,'Look-up Tables'!$D$3:$E$127,2),\"\")","v":""},0]
[null,null,null,null,null,null,{"$f":"IF(F153='Look-up Tables'!$A$3,5,IF(F153='Look-up Tables'!$A$4,4,IF(F153='Look-up Tables'!$A$5,3,IF(F153='Look-up Tables'!$A$6,2,IF(F153='Look-up Tables'!$A$7,1)))))","v":false},null,null,{"$f":"IF(I153='Look-up Tables'!$B$3,5,IF(I153='Look-up Tables'!$B$4,4,IF(I153='Look-up Tables'!$B$5,3,IF(I153='Look-up Tables'!$B$6,2,IF(I153='Look-up Tables'!$B$7,1)))))","v":false},null,null,null,{"$f":"IF(M153='Look-up Tables'!$C$3,5,IF(M153='Look-up Tables'!$C$4,4,IF(M153='Look-up Tables'!$C$5,3,IF(M153='Look-up Tables'!$C$6,2,IF(M153='Look-up Tables'!$C$7,1)))))","v":false},{"$f":"IFERROR(VLOOKUP(P153,'Look-up Tables'!$D$3:$E$127,2),\"\")","v":""},0,null,null,null,null,null,{"$f":"IF(U153='Look-up Tables'!$A$3,5,IF(U153='Look-up Tables'!$A$4,4,IF(U153='Look-up Tables'!$A$5,3,IF(U153='Look-up Tables'!$A$6,2,IF(U153='Look-up Tables'!$A$7,1)))))","v":false},null,{"$f":"IF(W153='Look-up Tables'!$B$3,5,IF(W153='Look-up Tables'!$B$4,4,IF(W153='Look-up Tables'!$B$5,3,IF(W153='Look-up Tables'!$B$6,2,IF(W153='Look-up Tables'!$B$7,1)))))","v":false},null,{"$f":"IF(Y153='Look-up Tables'!$C$3,5,IF(Y153='Look-up Tables'!$C$4,4,IF(Y153='Look-up Tables'!$C$5,3,IF(Y153='Look-up Tables'!$C$6,2,IF(Y153='Look-up Tables'!$C$7,1)))))","v":false},{"$f":"IFERROR(VLOOKUP(AB153,'Look-up Tables'!$D$3:$E$127,2),\"\")","v":""},0]
[null,null,null,null,null,null,{"$f":"IF(F154='Look-up Tables'!$A$3,5,IF(F154='Look-up Tables'!$A$4,4,IF(F154='Look-up Tables'!$A$5,3,IF(F154='Look-up Tables'!$A$6,2,IF(F154='Look-up Tables'!$A$7,1)))))","v":false},null,null,{"$f":"IF(I154='Look-up Tables'!$B$3,5,IF(I154='Look-up Tables'!$B$4,4,IF(I154='Look-up Tables'!$B$5,3,IF(I154='Look-up Tables'!$B$6,2,IF(I154='Look-up Tables'!$B$7,1)))))","v":false},null,null,null,{"$f":"IF(M154='Look-up Tables'!$C$3,5,IF(M154='Look-up Tables'!$C$4,4,IF(M154='Look-up Tables'!$C$5,3,IF(M154='Look-up Tables'!$C$6,2,IF(M154='Look-up Tables'!$C$7,1)))))","v":false},{"$f":"IFERROR(VLOOKUP(P154,'Look-up Tables'!$D$3:$E$127,2),\"\")","v":""},0,null,null,null,null,null,{"$f":"IF(U154='Look-up Tables'!$A$3,5,IF(U154='Look-up Tables'!$A$4,4,IF(U154='Look-up Tables'!$A$5,3,IF(U154='Look-up Tables'!$A$6,2,IF(U154='Look-up Tables'!$A$7,1)))))","v":false},null,{"$f":"IF(W154='Look-up Tables'!$B$3,5,IF(W154='Look-up Tables'!$B$4,4,IF(W154='Look-up Tables'!$B$5,3,IF(W154='Look-up Tables'!$B$6,2,IF(W154='Look-up Tables'!$B$7,1)))))","v":false},null,{"$f":"IF(Y154='Look-up Tables'!$C$3,5,IF(Y154='Look-up Tables'!$C$4,4,IF(Y154='Look-up Tables'!$C$5,3,IF(Y154='Look-up Tables'!$C$6,2,IF(Y154='Look-up Tables'!$C$7,1)))))","v":false},{"$f":"IFERROR(VLOOKUP(AB154,'Look-up Tables'!$D$3:$E$127,2),\"\")","v":""},0]
[null,null,null,null,null,null,{"$f":"IF(F155='Look-up Tables'!$A$3,5,IF(F155='Look-up Tables'!$A$4,4,IF(F155='Look-up Tables'!$A$5,3,IF(F155='Look-up Tables'!$A$6,2,IF(F155='Look-up Tables'!$A$7,1)))))","v":false},null,null,{"$f":"IF(I155='Look-up Tables'!$B$3,5,IF(I155='Look-up Tables'!$B$4,4,IF(I155='Look-up Tables'!$B$5,3,IF(I155='Look-up Tables'!$B$6,2,IF(I155='Look-up Tables'!$B$7,1)))))","v":false},null,null,null,{"$f":"IF(M155='Look-up Tables'!$C$3,5,IF(M155='Look-up Tables'!$C$4,4,IF(M155='Look-up Tables'!$C$5,3,IF(M155='Look-up Tables'!$C$6,2,IF(M155='Look-up Tables'!$C$7,1)))))","v":false},{"$f":"IFERROR(VLOOKUP(P155,'Look-up Tables'!$D$3:$E$127,2),\"\")","v":""},0,null,null,null,null,null,{"$f":"IF(U155='Look-up Tables'!$A$3,5,IF(U155='Look-up Tables'!$A$4,4,IF(U155='Look-up Tables'!$A$5,3,IF(U155='Look-up Tables'!$A$6,2,IF(U155='Look-up Tables'!$A$7,1)))))","v":false},null,{"$f":"IF(W155='Look-up Tables'!$B$3,5,IF(W155='Look-up Tables'!$B$4,4,IF(W155='Look-up Tables'!$B$5,3,IF(W155='Look-up Tables'!$B$6,2,IF(W155='Look-up Tables'!$B$7,1)))))","v":false},null,{"$f":"IF(Y155='Look-up Tables'!$C$3,5,IF(Y155='Look-up Tables'!$C$4,4,IF(Y155='Look-up Tables'!$C$5,3,IF(Y155='Look-up Tables'!$C$6,2,IF(Y155='Look-up Tables'!$C$7,1)))))","v":false},{"$f":"IFERROR(VLOOKUP(AB155,'Look-up Tables'!$D$3:$E$127,2),\"\")","v":""},0]
[null,null,null,null,null,null,{"$f":"IF(F156='Look-up Tables'!$A$3,5,IF(F156='Look-up Tables'!$A$4,4,IF(F156='Look-up Tables'!$A$5,3,IF(F156='Look-up Tables'!$A$6,2,IF(F156='Look-up Tables'!$A$7,1)))))","v":false},null,null,{"$f":"IF(I156='Look-up Tables'!$B$3,5,IF(I156='Look-up Tables'!$B$4,4,IF(I156='Look-up Tables'!$B$5,3,IF(I156='Look-up Tables'!$B$6,2,IF(I156='Look-up Tables'!$B$7,1)))))","v":false},null,null,null,{"$f":"IF(M156='Look-up Tables'!$C$3,5,IF(M156='Look-up Tables'!$C$4,4,IF(M156='Look-up Tables'!$C$5,3,IF(M156='Look-up Tables'!$C$6,2,IF(M156='Look-up Tables'!$C$7,1)))))","v":false},{"$f":"IFERROR(VLOOKUP(P156,'Look-up Tables'!$D$3:$E$127,2),\"\")","v":""},0,null,null,null,null,null,{"$f":"IF(U156='Look-up Tables'!$A$3,5,IF(U156='Look-up Tables'!$A$4,4,IF(U156='Look-up Tables'!$A$5,3,IF(U156='Look-up Tables'!$A$6,2,IF(U156='Look-up Tables'!$A$7,1)))))","v":false},null,{"$f":"IF(W156='Look-up Tables'!$B$3,5,IF(W156='Look-up Tables'!$B$4,4,IF(W156='Look-up Tables'!$B$5,3,IF(W156='Look-up Tables'!$B$6,2,IF(W156='Look-up Tables'!$B$7,1)))))","v":false},null,{"$f":"IF(Y156='Look-up Tables'!$C$3,5,IF(Y156='Look-up Tables'!$C$4,4,IF(Y156='Look-up Tables'!$C$5,3,IF(Y156='Look-up Tables'!$C$6,2,IF(Y156='Look-up Tables'!$C$7,1)))))","v":false},{"$f":"IFERROR(VLOOKUP(AB156,'Look-up Tables'!$D$3:$E$127,2),\"\")","v":""},0]
[null,null,null,null,null,null,{"$f":"IF(F157='Look-up Tables'!$A$3,5,IF(F157='Look-up Tables'!$A$4,4,IF(F157='Look-up Tables'!$A$5,3,IF(F157='Look-up Tables'!$A$6,2,IF(F157='Look-up Tables'!$A$7,1)))))","v":false},null,null,{"$f":"IF(I157='Look-up Tables'!$B$3,5,IF(I157='Look-up Tables'!$B$4,4,IF(I157='Look-up Tables'!$B$5,3,IF(I157='Look-up Tables'!$B$6,2,IF(I157='Look-up Tables'!$B$7,1)))))","v":false},null,null,null,{"$f":"IF(M157='Look-up Tables'!$C$3,5,IF(M157='Look-up Tables'!$C$4,4,IF(M157='Look-up Tables'!$C$5,3,IF(M157='Look-up Tables'!$C$6,2,IF(M157='Look-up Tables'!$C$7,1)))))","v":false},{"$f":"IFERROR(VLOOKUP(P157,'Look-up Tables'!$D$3:$E$127,2),\"\")","v":""},0,null,null,null,null,null,{"$f":"IF(U157='Look-up Tables'!$A$3,5,IF(U157='Look-up Tables'!$A$4,4,IF(U157='Look-up Tables'!$A$5,3,IF(U157='Look-up Tables'!$A$6,2,IF(U157='Look-up Tables'!$A$7,1)))))","v":false},null,{"$f":"IF(W157='Look-up Tables'!$B$3,5,IF(W157='Look-up Tables'!$B$4,4,IF(W157='Look-up Tables'!$B$5,3,IF(W157='Look-up Tables'!$B$6,2,IF(W157='Look-up Tables'!$B$7,1)))))","v":false},null,{"$f":"IF(Y157='Look-up Tables'!$C$3,5,IF(Y157='Look-up Tables'!$C$4,4,IF(Y157='Look-up Tables'!$C$5,3,IF(Y157='Look-up Tables'!$C$6,2,IF(Y157='Look-up Tables'!$C$7,1)))))","v":false},{"$f":"IFERROR(VLOOKUP(AB157,'Look-up Tables'!$D$3:$E$127,2),\"\")","v":""},0]
[null,null,null,null,null,null,{"$f":"IF(F158='Look-up Tables'!$A$3,5,IF(F158='Look-up Tables'!$A$4,4,IF(F158='Look-up Tables'!$A$5,3,IF(F158='Look-up Tables'!$A$6,2,IF(F158='Look-up Tables'!$A$7,1)))))","v":false},null,null,{"$f":"IF(I158='Look-up Tables'!$B$3,5,IF(I158='Look-up Tables'!$B$4,4,IF(I158='Look-up Tables'!$B$5,3,IF(I158='Look-up Tables'!$B$6,2,IF(I158='Look-up Tables'!$B$7,1)))))","v":false},null,null,null,{"$f":"IF(M158='Look-up Tables'!$C$3,5,IF(M158='Look-up Tables'!$C$4,4,IF(M158='Look-up Tables'!$C$5,3,IF(M158='Look-up Tables'!$C$6,2,IF(M158='Look-up Tables'!$C$7,1)))))","v":false},{"$f":"IFERROR(VLOOKUP(P158,'Look-up Tables'!$D$3:$E$127,2),\"\")","v":""},0,null,null,null,null,null,{"$f":"IF(U158='Look-up Tables'!$A$3,5,IF(U158='Look-up Tables'!$A$4,4,IF(U158='Look-up Tables'!$A$5,3,IF(U158='Look-up Tables'!$A$6,2,IF(U158='Look-up Tables'!$A$7,1)))))","v":false},null,{"$f":"IF(W158='Look-up Tables'!$B$3,5,IF(W158='Look-up Tables'!$B$4,4,IF(W158='Look-up Tables'!$B$5,3,IF(W158='Look-up Tables'!$B$6,2,IF(W158='Look-up Tables'!$B$7,1)))))","v":false},null,{"$f":"IF(Y158='Look-up Tables'!$C$3,5,IF(Y158='Look-up Tables'!$C$4,4,IF(Y158='Look-up Tables'!$C$5,3,IF(Y158='Look-up Tables'!$C$6,2,IF(Y158='Look-up Tables'!$C$7,1)))))","v":false},{"$f":"IFERROR(VLOOKUP(AB158,'Look-up Tables'!$D$3:$E$127,2),\"\")","v":""},0]
[null,null,null,null,null,null,{"$f":"IF(F159='Look-up Tables'!$A$3,5,IF(F159='Look-up Tables'!$A$4,4,IF(F159='Look-up Tables'!$A$5,3,IF(F159='Look-up Tables'!$A$6,2,IF(F159='Look-up Tables'!$A$7,1)))))","v":false},null,null,{"$f":"IF(I159='Look-up Tables'!$B$3,5,IF(I159='Look-up Tables'!$B$4,4,IF(I159='Look-up Tables'!$B$5,3,IF(I159='Look-up Tables'!$B$6,2,IF(I159='Look-up Tables'!$B$7,1)))))","v":false},null,null,null,{"$f":"IF(M159='Look-up Tables'!$C$3,5,IF(M159='Look-up Tables'!$C$4,4,IF(M159='Look-up Tables'!$C$5,3,IF(M159='Look-up Tables'!$C$6,2,IF(M159='Look-up Tables'!$C$7,1)))))","v":false},{"$f":"IFERROR(VLOOKUP(P159,'Look-up Tables'!$D$3:$E$127,2),\"\")","v":""},0,null,null,null,null,null,{"$f":"IF(U159='Look-up Tables'!$A$3,5,IF(U159='Look-up Tables'!$A$4,4,IF(U159='Look-up Tables'!$A$5,3,IF(U159='Look-up Tables'!$A$6,2,IF(U159='Look-up Tables'!$A$7,1)))))","v":false},null,{"$f":"IF(W159='Look-up Tables'!$B$3,5,IF(W159='Look-up Tables'!$B$4,4,IF(W159='Look-up Tables'!$B$5,3,IF(W159='Look-up Tables'!$B$6,2,IF(W159='Look-up Tables'!$B$7,1)))))","v":false},null,{"$f":"IF(Y159='Look-up Tables'!$C$3,5,IF(Y159='Look-up Tables'!$C$4,4,IF(Y159='Look-up Tables'!$C$5,3,IF(Y159='Look-up Tables'!$C$6,2,IF(Y159='Look-up Tables'!$C$7,1)))))","v":false},{"$f":"IFERROR(VLOOKUP(AB159,'Look-up Tables'!$D$3:$E$127,2),\"\")","v":""},0]
[null,null,null,null,null,null,{"$f":"IF(F160='Look-up Tables'!$A$3,5,IF(F160='Look-up Tables'!$A$4,4,IF(F160='Look-up Tables'!$A$5,3,IF(F160='Look-up Tables'!$A$6,2,IF(F160='Look-up Tables'!$A$7,1)))))","v":false},null,null,{"$f":"IF(I160='Look-up Tables'!$B$3,5,IF(I160='Look-up Tables'!$B$4,4,IF(I160='Look-up Tables'!$B$5,3,IF(I160='Look-up Tables'!$B$6,2,IF(I160='Look-up Tables'!$B$7,1)))))","v":false},null,null,null,{"$f":"IF(M160='Look-up Tables'!$C$3,5,IF(M160='Look-up Tables'!$C$4,4,IF(M160='Look-up Tables'!$C$5,3,IF(M160='Look-up Tables'!$C$6,2,IF(M160='Look-up Tables'!$C$7,1)))))","v":false},{"$f":"IFERROR(VLOOKUP(P160,'Look-up Tables'!$D$3:$E$127,2),\"\")","v":""},0,null,null,null,null,null,{"$f":"IF(U160='Look-up Tables'!$A$3,5,IF(U160='Look-up Tables'!$A$4,4,IF(U160='Look-up Tables'!$A$5,3,IF(U160='Look-up Tables'!$A$6,2,IF(U160='Look-up Tables'!$A$7,1)))))","v":false},null,{"$f":"IF(W160='Look-up Tables'!$B$3,5,IF(W160='Look-up Tables'!$B$4,4,IF(W160='Look-up Tables'!$B$5,3,IF(W160='Look-up Tables'!$B$6,2,IF(W160='Look-up Tables'!$B$7,1)))))","v":false},null,{"$f":"IF(Y160='Look-up Tables'!$C$3,5,IF(Y160='Look-up Tables'!$C$4,4,IF(Y160='Look-up Tables'!$C$5,3,IF(Y160='Look-up Tables'!$C$6,2,IF(Y160='Look-up Tables'!$C$7,1)))))","v":false},{"$f":"IFERROR(VLOOKUP(AB160,'Look-up Tables'!$D$3:$E$127,2),\"\")","v":""},0]
[null,null,null,null,null,null,{"$f":"IF(F161='Look-up Tables'!$A$3,5,IF(F161='Look-up Tables'!$A$4,4,IF(F161='Look-up Tables'!$A$5,3,IF(F161='Look-up Tables'!$A$6,2,IF(F161='Look-up Tables'!$A$7,1)))))","v":false},null,null,{"$f":"IF(I161='Look-up Tables'!$B$3,5,IF(I161='Look-up Tables'!$B$4,4,IF(I161='Look-up Tables'!$B$5,3,IF(I161='Look-up Tables'!$B$6,2,IF(I161='Look-up Tables'!$B$7,1)))))","v":false},null,null,null,{"$f":"IF(M161='Look-up Tables'!$C$3,5,IF(M161='Look-up Tables'!$C$4,4,IF(M161='Look-up Tables'!$C$5,3,IF(M161='Look-up Tables'!$C$6,2,IF(M161='Look-up Tables'!$C$7,1)))))","v":false},{"$f":"IFERROR(VLOOKUP(P161,'Look-up Tables'!$D$3:$E$127,2),\"\")","v":""},0,null,null,null,null,null,{"$f":"IF(U161='Look-up Tables'!$A$3,5,IF(U161='Look-up Tables'!$A$4,4,IF(U161='Look-up Tables'!$A$5,3,IF(U161='Look-up Tables'!$A$6,2,IF(U161='Look-up Tables'!$A$7,1)))))","v":false},null,{"$f":"IF(W161='Look-up Tables'!$B$3,5,IF(W161='Look-up Tables'!$B$4,4,IF(W161='Look-up Tables'!$B$5,3,IF(W161='Look-up Tables'!$B$6,2,IF(W161='Look-up Tables'!$B$7,1)))))","v":false},null,{"$f":"IF(Y161='Look-up Tables'!$C$3,5,IF(Y161='Look-up Tables'!$C$4,4,IF(Y161='Look-up Tables'!$C$5,3,IF(Y161='Look-up Tables'!$C$6,2,IF(Y161='Look-up Tables'!$C$7,1)))))","v":false},{"$f":"IFERROR(VLOOKUP(AB161,'Look-up Tables'!$D$3:$E$127,2),\"\")","v":""},0]
[null,null,null,null,null,null,{"$f":"IF(F162='Look-up Tables'!$A$3,5,IF(F162='Look-up Tables'!$A$4,4,IF(F162='Look-up Tables'!$A$5,3,IF(F162='Look-up Tables'!$A$6,2,IF(F162='Look-up Tables'!$A$7,1)))))","v":false},null,null,{"$f":"IF(I162='Look-up Tables'!$B$3,5,IF(I162='Look-up Tables'!$B$4,4,IF(I162='Look-up Tables'!$B$5,3,IF(I162='Look-up Tables'!$B$6,2,IF(I162='Look-up Tables'!$B$7,1)))))","v":false},null,null,null,{"$f":"IF(M162='Look-up Tables'!$C$3,5,IF(M162='Look-up Tables'!$C$4,4,IF(M162='Look-up Tables'!$C$5,3,IF(M162='Look-up Tables'!$C$6,2,IF(M162='Look-up Tables'!$C$7,1)))))","v":false},{"$f":"IFERROR(VLOOKUP(P162,'Look-up Tables'!$D$3:$E$127,2),\"\")","v":""},0,null,null,null,null,null,{"$f":"IF(U162='Look-up Tables'!$A$3,5,IF(U162='Look-up Tables'!$A$4,4,IF(U162='Look-up Tables'!$A$5,3,IF(U162='Look-up Tables'!$A$6,2,IF(U162='Look-up Tables'!$A$7,1)))))","v":false},null,{"$f":"IF(W162='Look-up Tables'!$B$3,5,IF(W162='Look-up Tables'!$B$4,4,IF(W162='Look-up Tables'!$B$5,3,IF(W162='Look-up Tables'!$B$6,2,IF(W162='Look-up Tables'!$B$7,1)))))","v":false},null,{"$f":"IF(Y162='Look-up Tables'!$C$3,5,IF(Y162='Look-up Tables'!$C$4,4,IF(Y162='Look-up Tables'!$C$5,3,IF(Y162='Look-up Tables'!$C$6,2,IF(Y162='Look-up Tables'!$C$7,1)))))","v":false},{"$f":"IFERROR(VLOOKUP(AB162,'Look-up Tables'!$D$3:$E$127,2),\"\")","v":""},0]
[null,null,null,null,null,null,{"$f":"IF(F163='Look-up Tables'!$A$3,5,IF(F163='Look-up Tables'!$A$4,4,IF(F163='Look-up Tables'!$A$5,3,IF(F163='Look-up Tables'!$A$6,2,IF(F163='Look-up Tables'!$A$7,1)))))","v":false},null,null,{"$f":"IF(I163='Look-up Tables'!$B$3,5,IF(I163='Look-up Tables'!$B$4,4,IF(I163='Look-up Tables'!$B$5,3,IF(I163='Look-up Tables'!$B$6,2,IF(I163='Look-up Tables'!$B$7,1)))))","v":false},null,null,null,{"$f":"IF(M163='Look-up Tables'!$C$3,5,IF(M163='Look-up Tables'!$C$4,4,IF(M163='Look-up Tables'!$C$5,3,IF(M163='Look-up Tables'!$C$6,2,IF(M163='Look-up Tables'!$C$7,1)))))","v":false},{"$f":"IFERROR(VLOOKUP(P163,'Look-up Tables'!$D$3:$E$127,2),\"\")","v":""},0,null,null,null,null,null,{"$f":"IF(U163='Look-up Tables'!$A$3,5,IF(U163='Look-up Tables'!$A$4,4,IF(U163='Look-up Tables'!$A$5,3,IF(U163='Look-up Tables'!$A$6,2,IF(U163='Look-up Tables'!$A$7,1)))))","v":false},null,{"$f":"IF(W163='Look-up Tables'!$B$3,5,IF(W163='Look-up Tables'!$B$4,4,IF(W163='Look-up Tables'!$B$5,3,IF(W163='Look-up Tables'!$B$6,2,IF(W163='Look-up Tables'!$B$7,1)))))","v":false},null,{"$f":"IF(Y163='Look-up Tables'!$C$3,5,IF(Y163='Look-up Tables'!$C$4,4,IF(Y163='Look-up Tables'!$C$5,3,IF(Y163='Look-up Tables'!$C$6,2,IF(Y163='Look-up Tables'!$C$7,1)))))","v":false},{"$f":"IFERROR(VLOOKUP(AB163,'Look-up Tables'!$D$3:$E$127,2),\"\")","v":""},0]
[null,null,null,null,null,null,{"$f":"IF(F164='Look-up Tables'!$A$3,5,IF(F164='Look-up Tables'!$A$4,4,IF(F164='Look-up Tables'!$A$5,3,IF(F164='Look-up Tables'!$A$6,2,IF(F164='Look-up Tables'!$A$7,1)))))","v":false},null,null,{"$f":"IF(I164='Look-up Tables'!$B$3,5,IF(I164='Look-up Tables'!$B$4,4,IF(I164='Look-up Tables'!$B$5,3,IF(I164='Look-up Tables'!$B$6,2,IF(I164='Look-up Tables'!$B$7,1)))))","v":false},null,null,null,{"$f":"IF(M164='Look-up Tables'!$C$3,5,IF(M164='Look-up Tables'!$C$4,4,IF(M164='Look-up Tables'!$C$5,3,IF(M164='Look-up Tables'!$C$6,2,IF(M164='Look-up Tables'!$C$7,1)))))","v":false},{"$f":"IFERROR(VLOOKUP(P164,'Look-up Tables'!$D$3:$E$127,2),\"\")","v":""},0,null,null,null,null,null,{"$f":"IF(U164='Look-up Tables'!$A$3,5,IF(U164='Look-up Tables'!$A$4,4,IF(U164='Look-up Tables'!$A$5,3,IF(U164='Look-up Tables'!$A$6,2,IF(U164='Look-up Tables'!$A$7,1)))))","v":false},null,{"$f":"IF(W164='Look-up Tables'!$B$3,5,IF(W164='Look-up Tables'!$B$4,4,IF(W164='Look-up Tables'!$B$5,3,IF(W164='Look-up Tables'!$B$6,2,IF(W164='Look-up Tables'!$B$7,1)))))","v":false},null,{"$f":"IF(Y164='Look-up Tables'!$C$3,5,IF(Y164='Look-up Tables'!$C$4,4,IF(Y164='Look-up Tables'!$C$5,3,IF(Y164='Look-up Tables'!$C$6,2,IF(Y164='Look-up Tables'!$C$7,1)))))","v":false},{"$f":"IFERROR(VLOOKUP(AB164,'Look-up Tables'!$D$3:$E$127,2),\"\")","v":""},0]
[null,null,null,null,null,null,{"$f":"IF(F165='Look-up Tables'!$A$3,5,IF(F165='Look-up Tables'!$A$4,4,IF(F165='Look-up Tables'!$A$5,3,IF(F165='Look-up Tables'!$A$6,2,IF(F165='Look-up Tables'!$A$7,1)))))","v":false},null,null,{"$f":"IF(I165='Look-up Tables'!$B$3,5,IF(I165='Look-up Tables'!$B$4,4,IF(I165='Look-up Tables'!$B$5,3,IF(I165='Look-up Tables'!$B$6,2,IF(I165='Look-up Tables'!$B$7,1)))))","v":false},null,null,null,{"$f":"IF(M165='Look-up Tables'!$C$3,5,IF(M165='Look-up Tables'!$C$4,4,IF(M165='Look-up Tables'!$C$5,3,IF(M165='Look-up Tables'!$C$6,2,IF(M165='Look-up Tables'!$C$7,1)))))","v":false},{"$f":"IFERROR(VLOOKUP(P165,'Look-up Tables'!$D$3:$E$127,2),\"\")","v":""},0,null,null,null,null,null,{"$f":"IF(U165='Look-up Tables'!$A$3,5,IF(U165='Look-up Tables'!$A$4,4,IF(U165='Look-up Tables'!$A$5,3,IF(U165='Look-up Tables'!$A$6,2,IF(U165='Look-up Tables'!$A$7,1)))))","v":false},null,{"$f":"IF(W165='Look-up Tables'!$B$3,5,IF(W165='Look-up Tables'!$B$4,4,IF(W165='Look-up Tables'!$B$5,3,IF(W165='Look-up Tables'!$B$6,2,IF(W165='Look-up Tables'!$B$7,1)))))","v":false},null,{"$f":"IF(Y165='Look-up Tables'!$C$3,5,IF(Y165='Look-up Tables'!$C$4,4,IF(Y165='Look-up Tables'!$C$5,3,IF(Y165='Look-up Tables'!$C$6,2,IF(Y165='Look-up Tables'!$C$7,1)))))","v":false},{"$f":"IFERROR(VLOOKUP(AB165,'Look-up Tables'!$D$3:$E$127,2),\"\")","v":""},0]
[null,null,null,null,null,null,{"$f":"IF(F166='Look-up Tables'!$A$3,5,IF(F166='Look-up Tables'!$A$4,4,IF(F166='Look-up Tables'!$A$5,3,IF(F166='Look-up Tables'!$A$6,2,IF(F166='Look-up Tables'!$A$7,1)))))","v":false},null,null,{"$f":"IF(I166='Look-up Tables'!$B$3,5,IF(I166='Look-up Tables'!$B$4,4,IF(I166='Look-up Tables'!$B$5,3,IF(I166='Look-up Tables'!$B$6,2,IF(I166='Look-up Tables'!$B$7,1)))))","v":false},null,null,null,{"$f":"IF(M166='Look-up Tables'!$C$3,5,IF(M166='Look-up Tables'!$C$4,4,IF(M166='Look-up Tables'!$C$5,3,IF(M166='Look-up Tables'!$C$6,2,IF(M166='Look-up Tables'!$C$7,1)))))","v":false},{"$f":"IFERROR(VLOOKUP(P166,'Look-up Tables'!$D$3:$E$127,2),\"\")","v":""},0,null,null,null,null,null,{"$f":"IF(U166='Look-up Tables'!$A$3,5,IF(U166='Look-up Tables'!$A$4,4,IF(U166='Look-up Tables'!$A$5,3,IF(U166='Look-up Tables'!$A$6,2,IF(U166='Look-up Tables'!$A$7,1)))))","v":false},null,{"$f":"IF(W166='Look-up Tables'!$B$3,5,IF(W166='Look-up Tables'!$B$4,4,IF(W166='Look-up Tables'!$B$5,3,IF(W166='Look-up Tables'!$B$6,2,IF(W166='Look-up Tables'!$B$7,1)))))","v":false},null,{"$f":"IF(Y166='Look-up Tables'!$C$3,5,IF(Y166='Look-up Tables'!$C$4,4,IF(Y166='Look-up Tables'!$C$5,3,IF(Y166='Look-up Tables'!$C$6,2,IF(Y166='Look-up Tables'!$C$7,1)))))","v":false},{"$f":"IFERROR(VLOOKUP(AB166,'Look-up Tables'!$D$3:$E$127,2),\"\")","v":""},0]
[null,null,null,null,null,null,{"$f":"IF(F167='Look-up Tables'!$A$3,5,IF(F167='Look-up Tables'!$A$4,4,IF(F167='Look-up Tables'!$A$5,3,IF(F167='Look-up Tables'!$A$6,2,IF(F167='Look-up Tables'!$A$7,1)))))","v":false},null,null,{"$f":"IF(I167='Look-up Tables'!$B$3,5,IF(I167='Look-up Tables'!$B$4,4,IF(I167='Look-up Tables'!$B$5,3,IF(I167='Look-up Tables'!$B$6,2,IF(I167='Look-up Tables'!$B$7,1)))))","v":false},null,null,null,{"$f":"IF(M167='Look-up Tables'!$C$3,5,IF(M167='Look-up Tables'!$C$4,4,IF(M167='Look-up Tables'!$C$5,3,IF(M167='Look-up Tables'!$C$6,2,IF(M167='Look-up Tables'!$C$7,1)))))","v":false},{"$f":"IFERROR(VLOOKUP(P167,'Look-up Tables'!$D$3:$E$127,2),\"\")","v":""},0,null,null,null,null,null,{"$f":"IF(U167='Look-up Tables'!$A$3,5,IF(U167='Look-up Tables'!$A$4,4,IF(U167='Look-up Tables'!$A$5,3,IF(U167='Look-up Tables'!$A$6,2,IF(U167='Look-up Tables'!$A$7,1)))))","v":false},null,{"$f":"IF(W167='Look-up Tables'!$B$3,5,IF(W167='Look-up Tables'!$B$4,4,IF(W167='Look-up Tables'!$B$5,3,IF(W167='Look-up Tables'!$B$6,2,IF(W167='Look-up Tables'!$B$7,1)))))","v":false},null,{"$f":"IF(Y167='Look-up Tables'!$C$3,5,IF(Y167='Look-up Tables'!$C$4,4,IF(Y167='Look-up Tables'!$C$5,3,IF(Y167='Look-up Tables'!$C$6,2,IF(Y167='Look-up Tables'!$C$7,1)))))","v":false},{"$f":"IFERROR(VLOOKUP(AB167,'Look-up Tables'!$D$3:$E$127,2),\"\")","v":""},0]
[null,null,null,null,null,null,{"$f":"IF(F168='Look-up Tables'!$A$3,5,IF(F168='Look-up Tables'!$A$4,4,IF(F168='Look-up Tables'!$A$5,3,IF(F168='Look-up Tables'!$A$6,2,IF(F168='Look-up Tables'!$A$7,1)))))","v":false},null,null,{"$f":"IF(I168='Look-up Tables'!$B$3,5,IF(I168='Look-up Tables'!$B$4,4,IF(I168='Look-up Tables'!$B$5,3,IF(I168='Look-up Tables'!$B$6,2,IF(I168='Look-up Tables'!$B$7,1)))))","v":false},null,null,null,{"$f":"IF(M168='Look-up Tables'!$C$3,5,IF(M168='Look-up Tables'!$C$4,4,IF(M168='Look-up Tables'!$C$5,3,IF(M168='Look-up Tables'!$C$6,2,IF(M168='Look-up Tables'!$C$7,1)))))","v":false},{"$f":"IFERROR(VLOOKUP(P168,'Look-up Tables'!$D$3:$E$127,2),\"\")","v":""},0,null,null,null,null,null,{"$f":"IF(U168='Look-up Tables'!$A$3,5,IF(U168='Look-up Tables'!$A$4,4,IF(U168='Look-up Tables'!$A$5,3,IF(U168='Look-up Tables'!$A$6,2,IF(U168='Look-up Tables'!$A$7,1)))))","v":false},null,{"$f":"IF(W168='Look-up Tables'!$B$3,5,IF(W168='Look-up Tables'!$B$4,4,IF(W168='Look-up Tables'!$B$5,3,IF(W168='Look-up Tables'!$B$6,2,IF(W168='Look-up Tables'!$B$7,1)))))","v":false},null,{"$f":"IF(Y168='Look-up Tables'!$C$3,5,IF(Y168='Look-up Tables'!$C$4,4,IF(Y168='Look-up Tables'!$C$5,3,IF(Y168='Look-up Tables'!$C$6,2,IF(Y168='Look-up Tables'!$C$7,1)))))","v":false},{"$f":"IFERROR(VLOOKUP(AB168,'Look-up Tables'!$D$3:$E$127,2),\"\")","v":""},0]
[null,null,null,null,null,null,{"$f":"IF(F169='Look-up Tables'!$A$3,5,IF(F169='Look-up Tables'!$A$4,4,IF(F169='Look-up Tables'!$A$5,3,IF(F169='Look-up Tables'!$A$6,2,IF(F169='Look-up Tables'!$A$7,1)))))","v":false},null,null,{"$f":"IF(I169='Look-up Tables'!$B$3,5,IF(I169='Look-up Tables'!$B$4,4,IF(I169='Look-up Tables'!$B$5,3,IF(I169='Look-up Tables'!$B$6,2,IF(I169='Look-up Tables'!$B$7,1)))))","v":false},null,null,null,{"$f":"IF(M169='Look-up Tables'!$C$3,5,IF(M169='Look-up Tables'!$C$4,4,IF(M169='Look-up Tables'!$C$5,3,IF(M169='Look-up Tables'!$C$6,2,IF(M169='Look-up Tables'!$C$7,1)))))","v":false},{"$f":"IFERROR(VLOOKUP(P169,'Look-up Tables'!$D$3:$E$127,2),\"\")","v":""},0,null,null,null,null,null,{"$f":"IF(U169='Look-up Tables'!$A$3,5,IF(U169='Look-up Tables'!$A$4,4,IF(U169='Look-up Tables'!$A$5,3,IF(U169='Look-up Tables'!$A$6,2,IF(U169='Look-up Tables'!$A$7,1)))))","v":false},null,{"$f":"IF(W169='Look-up Tables'!$B$3,5,IF(W169='Look-up Tables'!$B$4,4,IF(W169='Look-up Tables'!$B$5,3,IF(W169='Look-up Tables'!$B$6,2,IF(W169='Look-up Tables'!$B$7,1)))))","v":false},null,{"$f":"IF(Y169='Look-up Tables'!$C$3,5,IF(Y169='Look-up Tables'!$C$4,4,IF(Y169='Look-up Tables'!$C$5,3,IF(Y169='Look-up Tables'!$C$6,2,IF(Y169='Look-up Tables'!$C$7,1)))))","v":false},{"$f":"IFERROR(VLOOKUP(AB169,'Look-up Tables'!$D$3:$E$127,2),\"\")","v":""},0]
[null,null,null,null,null,null,{"$f":"IF(F170='Look-up Tables'!$A$3,5,IF(F170='Look-up Tables'!$A$4,4,IF(F170='Look-up Tables'!$A$5,3,IF(F170='Look-up Tables'!$A$6,2,IF(F170='Look-up Tables'!$A$7,1)))))","v":false},null,null,{"$f":"IF(I170='Look-up Tables'!$B$3,5,IF(I170='Look-up Tables'!$B$4,4,IF(I170='Look-up Tables'!$B$5,3,IF(I170='Look-up Tables'!$B$6,2,IF(I170='Look-up Tables'!$B$7,1)))))","v":false},null,null,null,{"$f":"IF(M170='Look-up Tables'!$C$3,5,IF(M170='Look-up Tables'!$C$4,4,IF(M170='Look-up Tables'!$C$5,3,IF(M170='Look-up Tables'!$C$6,2,IF(M170='Look-up Tables'!$C$7,1)))))","v":false},{"$f":"IFERROR(VLOOKUP(P170,'Look-up Tables'!$D$3:$E$127,2),\"\")","v":""},0,null,null,null,null,null,{"$f":"IF(U170='Look-up Tables'!$A$3,5,IF(U170='Look-up Tables'!$A$4,4,IF(U170='Look-up Tables'!$A$5,3,IF(U170='Look-up Tables'!$A$6,2,IF(U170='Look-up Tables'!$A$7,1)))))","v":false},null,{"$f":"IF(W170='Look-up Tables'!$B$3,5,IF(W170='Look-up Tables'!$B$4,4,IF(W170='Look-up Tables'!$B$5,3,IF(W170='Look-up Tables'!$B$6,2,IF(W170='Look-up Tables'!$B$7,1)))))","v":false},null,{"$f":"IF(Y170='Look-up Tables'!$C$3,5,IF(Y170='Look-up Tables'!$C$4,4,IF(Y170='Look-up Tables'!$C$5,3,IF(Y170='Look-up Tables'!$C$6,2,IF(Y170='Look-up Tables'!$C$7,1)))))","v":false},{"$f":"IFERROR(VLOOKUP(AB170,'Look-up Tables'!$D$3:$E$127,2),\"\")","v":""},0]
[null,null,null,null,null,null,{"$f":"IF(F171='Look-up Tables'!$A$3,5,IF(F171='Look-up Tables'!$A$4,4,IF(F171='Look-up Tables'!$A$5,3,IF(F171='Look-up Tables'!$A$6,2,IF(F171='Look-up Tables'!$A$7,1)))))","v":false},null,null,{"$f":"IF(I171='Look-up Tables'!$B$3,5,IF(I171='Look-up Tables'!$B$4,4,IF(I171='Look-up Tables'!$B$5,3,IF(I171='Look-up Tables'!$B$6,2,IF(I171='Look-up Tables'!$B$7,1)))))","v":false},null,null,null,{"$f":"IF(M171='Look-up Tables'!$C$3,5,IF(M171='Look-up Tables'!$C$4,4,IF(M171='Look-up Tables'!$C$5,3,IF(M171='Look-up Tables'!$C$6,2,IF(M171='Look-up Tables'!$C$7,1)))))","v":false},{"$f":"IFERROR(VLOOKUP(P171,'Look-up Tables'!$D$3:$E$127,2),\"\")","v":""},0,null,null,null,null,null,{"$f":"IF(U171='Look-up Tables'!$A$3,5,IF(U171='Look-up Tables'!$A$4,4,IF(U171='Look-up Tables'!$A$5,3,IF(U171='Look-up Tables'!$A$6,2,IF(U171='Look-up Tables'!$A$7,1)))))","v":false},null,{"$f":"IF(W171='Look-up Tables'!$B$3,5,IF(W171='Look-up Tables'!$B$4,4,IF(W171='Look-up Tables'!$B$5,3,IF(W171='Look-up Tables'!$B$6,2,IF(W171='Look-up Tables'!$B$7,1)))))","v":false},null,{"$f":"IF(Y171='Look-up Tables'!$C$3,5,IF(Y171='Look-up Tables'!$C$4,4,IF(Y171='Look-up Tables'!$C$5,3,IF(Y171='Look-up Tables'!$C$6,2,IF(Y171='Look-up Tables'!$C$7,1)))))","v":false},{"$f":"IFERROR(VLOOKUP(AB171,'Look-up Tables'!$D$3:$E$127,2),\"\")","v":""},0]
[null,null,null,null,null,null,{"$f":"IF(F172='Look-up Tables'!$A$3,5,IF(F172='Look-up Tables'!$A$4,4,IF(F172='Look-up Tables'!$A$5,3,IF(F172='Look-up Tables'!$A$6,2,IF(F172='Look-up Tables'!$A$7,1)))))","v":false},null,null,{"$f":"IF(I172='Look-up Tables'!$B$3,5,IF(I172='Look-up Tables'!$B$4,4,IF(I172='Look-up Tables'!$B$5,3,IF(I172='Look-up Tables'!$B$6,2,IF(I172='Look-up Tables'!$B$7,1)))))","v":false},null,null,null,{"$f":"IF(M172='Look-up Tables'!$C$3,5,IF(M172='Look-up Tables'!$C$4,4,IF(M172='Look-up Tables'!$C$5,3,IF(M172='Look-up Tables'!$C$6,2,IF(M172='Look-up Tables'!$C$7,1)))))","v":false},{"$f":"IFERROR(VLOOKUP(P172,'Look-up Tables'!$D$3:$E$127,2),\"\")","v":""},0,null,null,null,null,null,{"$f":"IF(U172='Look-up Tables'!$A$3,5,IF(U172='Look-up Tables'!$A$4,4,IF(U172='Look-up Tables'!$A$5,3,IF(U172='Look-up Tables'!$A$6,2,IF(U172='Look-up Tables'!$A$7,1)))))","v":false},null,{"$f":"IF(W172='Look-up Tables'!$B$3,5,IF(W172='Look-up Tables'!$B$4,4,IF(W172='Look-up Tables'!$B$5,3,IF(W172='Look-up Tables'!$B$6,2,IF(W172='Look-up Tables'!$B$7,1)))))","v":false},null,{"$f":"IF(Y172='Look-up Tables'!$C$3,5,IF(Y172='Look-up Tables'!$C$4,4,IF(Y172='Look-up Tables'!$C$5,3,IF(Y172='Look-up Tables'!$C$6,2,IF(Y172='Look-up Tables'!$C$7,1)))))","v":false},{"$f":"IFERROR(VLOOKUP(AB172,'Look-up Tables'!$D$3:$E$127,2),\"\")","v":""},0]
[null,null,null,null,null,null,{"$f":"IF(F173='Look-up Tables'!$A$3,5,IF(F173='Look-up Tables'!$A$4,4,IF(F173='Look-up Tables'!$A$5,3,IF(F173='Look-up Tables'!$A$6,2,IF(F173='Look-up Tables'!$A$7,1)))))","v":false},null,null,{"$f":"IF(I173='Look-up Tables'!$B$3,5,IF(I173='Look-up Tables'!$B$4,4,IF(I173='Look-up Tables'!$B$5,3,IF(I173='Look-up Tables'!$B$6,2,IF(I173='Look-up Tables'!$B$7,1)))))","v":false},null,null,null,{"$f":"IF(M173='Look-up Tables'!$C$3,5,IF(M173='Look-up Tables'!$C$4,4,IF(M173='Look-up Tables'!$C$5,3,IF(M173='Look-up Tables'!$C$6,2,IF(M173='Look-up Tables'!$C$7,1)))))","v":false},{"$f":"IFERROR(VLOOKUP(P173,'Look-up Tables'!$D$3:$E$127,2),\"\")","v":""},0,null,null,null,null,null,{"$f":"IF(U173='Look-up Tables'!$A$3,5,IF(U173='Look-up Tables'!$A$4,4,IF(U173='Look-up Tables'!$A$5,3,IF(U173='Look-up Tables'!$A$6,2,IF(U173='Look-up Tables'!$A$7,1)))))","v":false},null,{"$f":"IF(W173='Look-up Tables'!$B$3,5,IF(W173='Look-up Tables'!$B$4,4,IF(W173='Look-up Tables'!$B$5,3,IF(W173='Look-up Tables'!$B$6,2,IF(W173='Look-up Tables'!$B$7,1)))))","v":false},null,{"$f":"IF(Y173='Look-up Tables'!$C$3,5,IF(Y173='Look-up Tables'!$C$4,4,IF(Y173='Look-up Tables'!$C$5,3,IF(Y173='Look-up Tables'!$C$6,2,IF(Y173='Look-up Tables'!$C$7,1)))))","v":false},{"$f":"IFERROR(VLOOKUP(AB173,'Look-up Tables'!$D$3:$E$127,2),\"\")","v":""},0]
[null,null,null,null,null,null,{"$f":"IF(F174='Look-up Tables'!$A$3,5,IF(F174='Look-up Tables'!$A$4,4,IF(F174='Look-up Tables'!$A$5,3,IF(F174='Look-up Tables'!$A$6,2,IF(F174='Look-up Tables'!$A$7,1)))))","v":false},null,null,{"$f":"IF(I174='Look-up Tables'!$B$3,5,IF(I174='Look-up Tables'!$B$4,4,IF(I174='Look-up Tables'!$B$5,3,IF(I174='Look-up Tables'!$B$6,2,IF(I174='Look-up Tables'!$B$7,1)))))","v":false},null,null,null,{"$f":"IF(M174='Look-up Tables'!$C$3,5,IF(M174='Look-up Tables'!$C$4,4,IF(M174='Look-up Tables'!$C$5,3,IF(M174='Look-up Tables'!$C$6,2,IF(M174='Look-up Tables'!$C$7,1)))))","v":false},{"$f":"IFERROR(VLOOKUP(P174,'Look-up Tables'!$D$3:$E$127,2),\"\")","v":""},0,null,null,null,null,null,{"$f":"IF(U174='Look-up Tables'!$A$3,5,IF(U174='Look-up Tables'!$A$4,4,IF(U174='Look-up Tables'!$A$5,3,IF(U174='Look-up Tables'!$A$6,2,IF(U174='Look-up Tables'!$A$7,1)))))","v":false},null,{"$f":"IF(W174='Look-up Tables'!$B$3,5,IF(W174='Look-up Tables'!$B$4,4,IF(W174='Look-up Tables'!$B$5,3,IF(W174='Look-up Tables'!$B$6,2,IF(W174='Look-up Tables'!$B$7,1)))))","v":false},null,{"$f":"IF(Y174='Look-up Tables'!$C$3,5,IF(Y174='Look-up Tables'!$C$4,4,IF(Y174='Look-up Tables'!$C$5,3,IF(Y174='Look-up Tables'!$C$6,2,IF(Y174='Look-up Tables'!$C$7,1)))))","v":false},{"$f":"IFERROR(VLOOKUP(AB174,'Look-up Tables'!$D$3:$E$127,2),\"\")","v":""},0]
[null,null,null,null,null,null,{"$f":"IF(F175='Look-up Tables'!$A$3,5,IF(F175='Look-up Tables'!$A$4,4,IF(F175='Look-up Tables'!$A$5,3,IF(F175='Look-up Tables'!$A$6,2,IF(F175='Look-up Tables'!$A$7,1)))))","v":false},null,null,{"$f":"IF(I175='Look-up Tables'!$B$3,5,IF(I175='Look-up Tables'!$B$4,4,IF(I175='Look-up Tables'!$B$5,3,IF(I175='Look-up Tables'!$B$6,2,IF(I175='Look-up Tables'!$B$7,1)))))","v":false},null,null,null,{"$f":"IF(M175='Look-up Tables'!$C$3,5,IF(M175='Look-up Tables'!$C$4,4,IF(M175='Look-up Tables'!$C$5,3,IF(M175='Look-up Tables'!$C$6,2,IF(M175='Look-up Tables'!$C$7,1)))))","v":false},{"$f":"IFERROR(VLOOKUP(P175,'Look-up Tables'!$D$3:$E$127,2),\"\")","v":""},{"$f":"G175*J175*N175","v":0},null,null,null,null,null,{"$f":"IF(U175='Look-up Tables'!$A$3,5,IF(U175='Look-up Tables'!$A$4,4,IF(U175='Look-up Tables'!$A$5,3,IF(U175='Look-up Tables'!$A$6,2,IF(U175='Look-up Tables'!$A$7,1)))))","v":false},null,{"$f":"IF(W175='Look-up Tables'!$B$3,5,IF(W175='Look-up Tables'!$B$4,4,IF(W175='Look-up Tables'!$B$5,3,IF(W175='Look-up Tables'!$B$6,2,IF(W175='Look-up Tables'!$B$7,1)))))","v":false},null,{"$f":"IF(Y175='Look-up Tables'!$C$3,5,IF(Y175='Look-up Tables'!$C$4,4,IF(Y175='Look-up Tables'!$C$5,3,IF(Y175='Look-up Tables'!$C$6,2,IF(Y175='Look-up Tables'!$C$7,1)))))","v":false},{"$f":"IFERROR(VLOOKUP(AB175,'Look-up Tables'!$D$3:$E$127,2),\"\")","v":""},{"$f":"V175*X175*Z175","v":0}]
[null,null,null,null,null,null,{"$f":"IF(F176='Look-up Tables'!$A$3,5,IF(F176='Look-up Tables'!$A$4,4,IF(F176='Look-up Tables'!$A$5,3,IF(F176='Look-up Tables'!$A$6,2,IF(F176='Look-up Tables'!$A$7,1)))))","v":false},null,null,{"$f":"IF(I176='Look-up Tables'!$B$3,5,IF(I176='Look-up Tables'!$B$4,4,IF(I176='Look-up Tables'!$B$5,3,IF(I176='Look-up Tables'!$B$6,2,IF(I176='Look-up Tables'!$B$7,1)))))","v":false},null,null,null,{"$f":"IF(M176='Look-up Tables'!$C$3,5,IF(M176='Look-up Tables'!$C$4,4,IF(M176='Look-up Tables'!$C$5,3,IF(M176='Look-up Tables'!$C$6,2,IF(M176='Look-up Tables'!$C$7,1)))))","v":false},{"$f":"IFERROR(VLOOKUP(P176,'Look-up Tables'!$D$3:$E$127,2),\"\")","v":""},0,null,null,null,null,null,{"$f":"IF(U176='Look-up Tables'!$A$3,5,IF(U176='Look-up Tables'!$A$4,4,IF(U176='Look-up Tables'!$A$5,3,IF(U176='Look-up Tables'!$A$6,2,IF(U176='Look-up Tables'!$A$7,1)))))","v":false},null,{"$f":"IF(W176='Look-up Tables'!$B$3,5,IF(W176='Look-up Tables'!$B$4,4,IF(W176='Look-up Tables'!$B$5,3,IF(W176='Look-up Tables'!$B$6,2,IF(W176='Look-up Tables'!$B$7,1)))))","v":false},null,{"$f":"IF(Y176='Look-up Tables'!$C$3,5,IF(Y176='Look-up Tables'!$C$4,4,IF(Y176='Look-up Tables'!$C$5,3,IF(Y176='Look-up Tables'!$C$6,2,IF(Y176='Look-up Tables'!$C$7,1)))))","v":false},{"$f":"IFERROR(VLOOKUP(AB176,'Look-up Tables'!$D$3:$E$127,2),\"\")","v":""},0]
[null,null,null,null,null,null,{"$f":"IF(F177='Look-up Tables'!$A$3,5,IF(F177='Look-up Tables'!$A$4,4,IF(F177='Look-up Tables'!$A$5,3,IF(F177='Look-up Tables'!$A$6,2,IF(F177='Look-up Tables'!$A$7,1)))))","v":false},null,null,{"$f":"IF(I177='Look-up Tables'!$B$3,5,IF(I177='Look-up Tables'!$B$4,4,IF(I177='Look-up Tables'!$B$5,3,IF(I177='Look-up Tables'!$B$6,2,IF(I177='Look-up Tables'!$B$7,1)))))","v":false},null,null,null,{"$f":"IF(M177='Look-up Tables'!$C$3,5,IF(M177='Look-up Tables'!$C$4,4,IF(M177='Look-up Tables'!$C$5,3,IF(M177='Look-up Tables'!$C$6,2,IF(M177='Look-up Tables'!$C$7,1)))))","v":false},{"$f":"IFERROR(VLOOKUP(P177,'Look-up Tables'!$D$3:$E$127,2),\"\")","v":""},0,null,null,null,null,null,{"$f":"IF(U177='Look-up Tables'!$A$3,5,IF(U177='Look-up Tables'!$A$4,4,IF(U177='Look-up Tables'!$A$5,3,IF(U177='Look-up Tables'!$A$6,2,IF(U177='Look-up Tables'!$A$7,1)))))","v":false},null,{"$f":"IF(W177='Look-up Tables'!$B$3,5,IF(W177='Look-up Tables'!$B$4,4,IF(W177='Look-up Tables'!$B$5,3,IF(W177='Look-up Tables'!$B$6,2,IF(W177='Look-up Tables'!$B$7,1)))))","v":false},null,{"$f":"IF(Y177='Look-up Tables'!$C$3,5,IF(Y177='Look-up Tables'!$C$4,4,IF(Y177='Look-up Tables'!$C$5,3,IF(Y177='Look-up Tables'!$C$6,2,IF(Y177='Look-up Tables'!$C$7,1)))))","v":false},{"$f":"IFERROR(VLOOKUP(AB177,'Look-up Tables'!$D$3:$E$127,2),\"\")","v":""},0]
[null,null,null,null,null,null,{"$f":"IF(F178='Look-up Tables'!$A$3,5,IF(F178='Look-up Tables'!$A$4,4,IF(F178='Look-up Tables'!$A$5,3,IF(F178='Look-up Tables'!$A$6,2,IF(F178='Look-up Tables'!$A$7,1)))))","v":false},null,null,{"$f":"IF(I178='Look-up Tables'!$B$3,5,IF(I178='Look-up Tables'!$B$4,4,IF(I178='Look-up Tables'!$B$5,3,IF(I178='Look-up Tables'!$B$6,2,IF(I178='Look-up Tables'!$B$7,1)))))","v":false},null,null,null,{"$f":"IF(M178='Look-up Tables'!$C$3,5,IF(M178='Look-up Tables'!$C$4,4,IF(M178='Look-up Tables'!$C$5,3,IF(M178='Look-up Tables'!$C$6,2,IF(M178='Look-up Tables'!$C$7,1)))))","v":false},{"$f":"IFERROR(VLOOKUP(P178,'Look-up Tables'!$D$3:$E$127,2),\"\")","v":""},0,null,null,null,null,null,{"$f":"IF(U178='Look-up Tables'!$A$3,5,IF(U178='Look-up Tables'!$A$4,4,IF(U178='Look-up Tables'!$A$5,3,IF(U178='Look-up Tables'!$A$6,2,IF(U178='Look-up Tables'!$A$7,1)))))","v":false},null,{"$f":"IF(W178='Look-up Tables'!$B$3,5,IF(W178='Look-up Tables'!$B$4,4,IF(W178='Look-up Tables'!$B$5,3,IF(W178='Look-up Tables'!$B$6,2,IF(W178='Look-up Tables'!$B$7,1)))))","v":false},null,{"$f":"IF(Y178='Look-up Tables'!$C$3,5,IF(Y178='Look-up Tables'!$C$4,4,IF(Y178='Look-up Tables'!$C$5,3,IF(Y178='Look-up Tables'!$C$6,2,IF(Y178='Look-up Tables'!$C$7,1)))))","v":false},{"$f":"IFERROR(VLOOKUP(AB178,'Look-up Tables'!$D$3:$E$127,2),\"\")","v":""},0]
[null,null,null,null,null,null,{"$f":"IF(F179='Look-up Tables'!$A$3,5,IF(F179='Look-up Tables'!$A$4,4,IF(F179='Look-up Tables'!$A$5,3,IF(F179='Look-up Tables'!$A$6,2,IF(F179='Look-up Tables'!$A$7,1)))))","v":false},null,null,{"$f":"IF(I179='Look-up Tables'!$B$3,5,IF(I179='Look-up Tables'!$B$4,4,IF(I179='Look-up Tables'!$B$5,3,IF(I179='Look-up Tables'!$B$6,2,IF(I179='Look-up Tables'!$B$7,1)))))","v":false},null,null,null,{"$f":"IF(M179='Look-up Tables'!$C$3,5,IF(M179='Look-up Tables'!$C$4,4,IF(M179='Look-up Tables'!$C$5,3,IF(M179='Look-up Tables'!$C$6,2,IF(M179='Look-up Tables'!$C$7,1)))))","v":false},{"$f":"IFERROR(VLOOKUP(P179,'Look-up Tables'!$D$3:$E$127,2),\"\")","v":""},0,null,null,null,null,null,{"$f":"IF(U179='Look-up Tables'!$A$3,5,IF(U179='Look-up Tables'!$A$4,4,IF(U179='Look-up Tables'!$A$5,3,IF(U179='Look-up Tables'!$A$6,2,IF(U179='Look-up Tables'!$A$7,1)))))","v":false},null,{"$f":"IF(W179='Look-up Tables'!$B$3,5,IF(W179='Look-up Tables'!$B$4,4,IF(W179='Look-up Tables'!$B$5,3,IF(W179='Look-up Tables'!$B$6,2,IF(W179='Look-up Tables'!$B$7,1)))))","v":false},null,{"$f":"IF(Y179='Look-up Tables'!$C$3,5,IF(Y179='Look-up Tables'!$C$4,4,IF(Y179='Look-up Tables'!$C$5,3,IF(Y179='Look-up Tables'!$C$6,2,IF(Y179='Look-up Tables'!$C$7,1)))))","v":false},{"$f":"IFERROR(VLOOKUP(AB179,'Look-up Tables'!$D$3:$E$127,2),\"\")","v":""},0]
[null,null,null,null,null,null,{"$f":"IF(F180='Look-up Tables'!$A$3,5,IF(F180='Look-up Tables'!$A$4,4,IF(F180='Look-up Tables'!$A$5,3,IF(F180='Look-up Tables'!$A$6,2,IF(F180='Look-up Tables'!$A$7,1)))))","v":false},null,null,{"$f":"IF(I180='Look-up Tables'!$B$3,5,IF(I180='Look-up Tables'!$B$4,4,IF(I180='Look-up Tables'!$B$5,3,IF(I180='Look-up Tables'!$B$6,2,IF(I180='Look-up Tables'!$B$7,1)))))","v":false},null,null,null,{"$f":"IF(M180='Look-up Tables'!$C$3,5,IF(M180='Look-up Tables'!$C$4,4,IF(M180='Look-up Tables'!$C$5,3,IF(M180='Look-up Tables'!$C$6,2,IF(M180='Look-up Tables'!$C$7,1)))))","v":false},{"$f":"IFERROR(VLOOKUP(P180,'Look-up Tables'!$D$3:$E$127,2),\"\")","v":""},0,null,null,null,null,null,{"$f":"IF(U180='Look-up Tables'!$A$3,5,IF(U180='Look-up Tables'!$A$4,4,IF(U180='Look-up Tables'!$A$5,3,IF(U180='Look-up Tables'!$A$6,2,IF(U180='Look-up Tables'!$A$7,1)))))","v":false},null,{"$f":"IF(W180='Look-up Tables'!$B$3,5,IF(W180='Look-up Tables'!$B$4,4,IF(W180='Look-up Tables'!$B$5,3,IF(W180='Look-up Tables'!$B$6,2,IF(W180='Look-up Tables'!$B$7,1)))))","v":false},null,{"$f":"IF(Y180='Look-up Tables'!$C$3,5,IF(Y180='Look-up Tables'!$C$4,4,IF(Y180='Look-up Tables'!$C$5,3,IF(Y180='Look-up Tables'!$C$6,2,IF(Y180='Look-up Tables'!$C$7,1)))))","v":false},{"$f":"IFERROR(VLOOKUP(AB180,'Look-up Tables'!$D$3:$E$127,2),\"\")","v":""},0]
[null,null,null,null,null,null,{"$f":"IF(F181='Look-up Tables'!$A$3,5,IF(F181='Look-up Tables'!$A$4,4,IF(F181='Look-up Tables'!$A$5,3,IF(F181='Look-up Tables'!$A$6,2,IF(F181='Look-up Tables'!$A$7,1)))))","v":false},null,null,{"$f":"IF(I181='Look-up Tables'!$B$3,5,IF(I181='Look-up Tables'!$B$4,4,IF(I181='Look-up Tables'!$B$5,3,IF(I181='Look-up Tables'!$B$6,2,IF(I181='Look-up Tables'!$B$7,1)))))","v":false},null,null,null,{"$f":"IF(M181='Look-up Tables'!$C$3,5,IF(M181='Look-up Tables'!$C$4,4,IF(M181='Look-up Tables'!$C$5,3,IF(M181='Look-up Tables'!$C$6,2,IF(M181='Look-up Tables'!$C$7,1)))))","v":false},{"$f":"IFERROR(VLOOKUP(P181,'Look-up Tables'!$D$3:$E$127,2),\"\")","v":""},0,null,null,null,null,null,{"$f":"IF(U181='Look-up Tables'!$A$3,5,IF(U181='Look-up Tables'!$A$4,4,IF(U181='Look-up Tables'!$A$5,3,IF(U181='Look-up Tables'!$A$6,2,IF(U181='Look-up Tables'!$A$7,1)))))","v":false},null,{"$f":"IF(W181='Look-up Tables'!$B$3,5,IF(W181='Look-up Tables'!$B$4,4,IF(W181='Look-up Tables'!$B$5,3,IF(W181='Look-up Tables'!$B$6,2,IF(W181='Look-up Tables'!$B$7,1)))))","v":false},null,{"$f":"IF(Y181='Look-up Tables'!$C$3,5,IF(Y181='Look-up Tables'!$C$4,4,IF(Y181='Look-up Tables'!$C$5,3,IF(Y181='Look-up Tables'!$C$6,2,IF(Y181='Look-up Tables'!$C$7,1)))))","v":false},{"$f":"IFERROR(VLOOKUP(AB181,'Look-up Tables'!$D$3:$E$127,2),\"\")","v":""},0]
[null,null,null,null,null,null,{"$f":"IF(F182='Look-up Tables'!$A$3,5,IF(F182='Look-up Tables'!$A$4,4,IF(F182='Look-up Tables'!$A$5,3,IF(F182='Look-up Tables'!$A$6,2,IF(F182='Look-up Tables'!$A$7,1)))))","v":false},null,null,{"$f":"IF(I182='Look-up Tables'!$B$3,5,IF(I182='Look-up Tables'!$B$4,4,IF(I182='Look-up Tables'!$B$5,3,IF(I182='Look-up Tables'!$B$6,2,IF(I182='Look-up Tables'!$B$7,1)))))","v":false},null,null,null,{"$f":"IF(M182='Look-up Tables'!$C$3,5,IF(M182='Look-up Tables'!$C$4,4,IF(M182='Look-up Tables'!$C$5,3,IF(M182='Look-up Tables'!$C$6,2,IF(M182='Look-up Tables'!$C$7,1)))))","v":false},{"$f":"IFERROR(VLOOKUP(P182,'Look-up Tables'!$D$3:$E$127,2),\"\")","v":""},0,null,null,null,null,null,{"$f":"IF(U182='Look-up Tables'!$A$3,5,IF(U182='Look-up Tables'!$A$4,4,IF(U182='Look-up Tables'!$A$5,3,IF(U182='Look-up Tables'!$A$6,2,IF(U182='Look-up Tables'!$A$7,1)))))","v":false},null,{"$f":"IF(W182='Look-up Tables'!$B$3,5,IF(W182='Look-up Tables'!$B$4,4,IF(W182='Look-up Tables'!$B$5,3,IF(W182='Look-up Tables'!$B$6,2,IF(W182='Look-up Tables'!$B$7,1)))))","v":false},null,{"$f":"IF(Y182='Look-up Tables'!$C$3,5,IF(Y182='Look-up Tables'!$C$4,4,IF(Y182='Look-up Tables'!$C$5,3,IF(Y182='Look-up Tables'!$C$6,2,IF(Y182='Look-up Tables'!$C$7,1)))))","v":false},{"$f":"IFERROR(VLOOKUP(AB182,'Look-up Tables'!$D$3:$E$127,2),\"\")","v":""},0]
[null,null,null,null,null,null,{"$f":"IF(F183='Look-up Tables'!$A$3,5,IF(F183='Look-up Tables'!$A$4,4,IF(F183='Look-up Tables'!$A$5,3,IF(F183='Look-up Tables'!$A$6,2,IF(F183='Look-up Tables'!$A$7,1)))))","v":false},null,null,{"$f":"IF(I183='Look-up Tables'!$B$3,5,IF(I183='Look-up Tables'!$B$4,4,IF(I183='Look-up Tables'!$B$5,3,IF(I183='Look-up Tables'!$B$6,2,IF(I183='Look-up Tables'!$B$7,1)))))","v":false},null,null,null,{"$f":"IF(M183='Look-up Tables'!$C$3,5,IF(M183='Look-up Tables'!$C$4,4,IF(M183='Look-up Tables'!$C$5,3,IF(M183='Look-up Tables'!$C$6,2,IF(M183='Look-up Tables'!$C$7,1)))))","v":false},{"$f":"IFERROR(VLOOKUP(P183,'Look-up Tables'!$D$3:$E$127,2),\"\")","v":""},0,null,null,null,null,null,{"$f":"IF(U183='Look-up Tables'!$A$3,5,IF(U183='Look-up Tables'!$A$4,4,IF(U183='Look-up Tables'!$A$5,3,IF(U183='Look-up Tables'!$A$6,2,IF(U183='Look-up Tables'!$A$7,1)))))","v":false},null,{"$f":"IF(W183='Look-up Tables'!$B$3,5,IF(W183='Look-up Tables'!$B$4,4,IF(W183='Look-up Tables'!$B$5,3,IF(W183='Look-up Tables'!$B$6,2,IF(W183='Look-up Tables'!$B$7,1)))))","v":false},null,{"$f":"IF(Y183='Look-up Tables'!$C$3,5,IF(Y183='Look-up Tables'!$C$4,4,IF(Y183='Look-up Tables'!$C$5,3,IF(Y183='Look-up Tables'!$C$6,2,IF(Y183='Look-up Tables'!$C$7,1)))))","v":false},{"$f":"IFERROR(VLOOKUP(AB183,'Look-up Tables'!$D$3:$E$127,2),\"\")","v":""},0]
[null,null,null,null,null,null,{"$f":"IF(F184='Look-up Tables'!$A$3,5,IF(F184='Look-up Tables'!$A$4,4,IF(F184='Look-up Tables'!$A$5,3,IF(F184='Look-up Tables'!$A$6,2,IF(F184='Look-up Tables'!$A$7,1)))))","v":false},null,null,{"$f":"IF(I184='Look-up Tables'!$B$3,5,IF(I184='Look-up Tables'!$B$4,4,IF(I184='Look-up Tables'!$B$5,3,IF(I184='Look-up Tables'!$B$6,2,IF(I184='Look-up Tables'!$B$7,1)))))","v":false},null,null,null,{"$f":"IF(M184='Look-up Tables'!$C$3,5,IF(M184='Look-up Tables'!$C$4,4,IF(M184='Look-up Tables'!$C$5,3,IF(M184='Look-up Tables'!$C$6,2,IF(M184='Look-up Tables'!$C$7,1)))))","v":false},{"$f":"IFERROR(VLOOKUP(P184,'Look-up Tables'!$D$3:$E$127,2),\"\")","v":""},0,null,null,null,null,null,{"$f":"IF(U184='Look-up Tables'!$A$3,5,IF(U184='Look-up Tables'!$A$4,4,IF(U184='Look-up Tables'!$A$5,3,IF(U184='Look-up Tables'!$A$6,2,IF(U184='Look-up Tables'!$A$7,1)))))","v":false},null,{"$f":"IF(W184='Look-up Tables'!$B$3,5,IF(W184='Look-up Tables'!$B$4,4,IF(W184='Look-up Tables'!$B$5,3,IF(W184='Look-up Tables'!$B$6,2,IF(W184='Look-up Tables'!$B$7,1)))))","v":false},null,{"$f":"IF(Y184='Look-up Tables'!$C$3,5,IF(Y184='Look-up Tables'!$C$4,4,IF(Y184='Look-up Tables'!$C$5,3,IF(Y184='Look-up Tables'!$C$6,2,IF(Y184='Look-up Tables'!$C$7,1)))))","v":false},{"$f":"IFERROR(VLOOKUP(AB184,'Look-up Tables'!$D$3:$E$127,2),\"\")","v":""},0]
[null,null,null,null,null,null,{"$f":"IF(F185='Look-up Tables'!$A$3,5,IF(F185='Look-up Tables'!$A$4,4,IF(F185='Look-up Tables'!$A$5,3,IF(F185='Look-up Tables'!$A$6,2,IF(F185='Look-up Tables'!$A$7,1)))))","v":false},null,null,{"$f":"IF(I185='Look-up Tables'!$B$3,5,IF(I185='Look-up Tables'!$B$4,4,IF(I185='Look-up Tables'!$B$5,3,IF(I185='Look-up Tables'!$B$6,2,IF(I185='Look-up Tables'!$B$7,1)))))","v":false},null,null,null,{"$f":"IF(M185='Look-up Tables'!$C$3,5,IF(M185='Look-up Tables'!$C$4,4,IF(M185='Look-up Tables'!$C$5,3,IF(M185='Look-up Tables'!$C$6,2,IF(M185='Look-up Tables'!$C$7,1)))))","v":false},{"$f":"IFERROR(VLOOKUP(P185,'Look-up Tables'!$D$3:$E$127,2),\"\")","v":""},0,null,null,null,null,null,{"$f":"IF(U185='Look-up Tables'!$A$3,5,IF(U185='Look-up Tables'!$A$4,4,IF(U185='Look-up Tables'!$A$5,3,IF(U185='Look-up Tables'!$A$6,2,IF(U185='Look-up Tables'!$A$7,1)))))","v":false},null,{"$f":"IF(W185='Look-up Tables'!$B$3,5,IF(W185='Look-up Tables'!$B$4,4,IF(W185='Look-up Tables'!$B$5,3,IF(W185='Look-up Tables'!$B$6,2,IF(W185='Look-up Tables'!$B$7,1)))))","v":false},null,{"$f":"IF(Y185='Look-up Tables'!$C$3,5,IF(Y185='Look-up Tables'!$C$4,4,IF(Y185='Look-up Tables'!$C$5,3,IF(Y185='Look-up Tables'!$C$6,2,IF(Y185='Look-up Tables'!$C$7,1)))))","v":false},{"$f":"IFERROR(VLOOKUP(AB185,'Look-up Tables'!$D$3:$E$127,2),\"\")","v":""},0]
[null,null,null,null,null,null,{"$f":"IF(F186='Look-up Tables'!$A$3,5,IF(F186='Look-up Tables'!$A$4,4,IF(F186='Look-up Tables'!$A$5,3,IF(F186='Look-up Tables'!$A$6,2,IF(F186='Look-up Tables'!$A$7,1)))))","v":false},null,null,{"$f":"IF(I186='Look-up Tables'!$B$3,5,IF(I186='Look-up Tables'!$B$4,4,IF(I186='Look-up Tables'!$B$5,3,IF(I186='Look-up Tables'!$B$6,2,IF(I186='Look-up Tables'!$B$7,1)))))","v":false},null,null,null,{"$f":"IF(M186='Look-up Tables'!$C$3,5,IF(M186='Look-up Tables'!$C$4,4,IF(M186='Look-up Tables'!$C$5,3,IF(M186='Look-up Tables'!$C$6,2,IF(M186='Look-up Tables'!$C$7,1)))))","v":false},{"$f":"IFERROR(VLOOKUP(P186,'Look-up Tables'!$D$3:$E$127,2),\"\")","v":""},0,null,null,null,null,null,{"$f":"IF(U186='Look-up Tables'!$A$3,5,IF(U186='Look-up Tables'!$A$4,4,IF(U186='Look-up Tables'!$A$5,3,IF(U186='Look-up Tables'!$A$6,2,IF(U186='Look-up Tables'!$A$7,1)))))","v":false},null,{"$f":"IF(W186='Look-up Tables'!$B$3,5,IF(W186='Look-up Tables'!$B$4,4,IF(W186='Look-up Tables'!$B$5,3,IF(W186='Look-up Tables'!$B$6,2,IF(W186='Look-up Tables'!$B$7,1)))))","v":false},null,{"$f":"IF(Y186='Look-up Tables'!$C$3,5,IF(Y186='Look-up Tables'!$C$4,4,IF(Y186='Look-up Tables'!$C$5,3,IF(Y186='Look-up Tables'!$C$6,2,IF(Y186='Look-up Tables'!$C$7,1)))))","v":false},{"$f":"IFERROR(VLOOKUP(AB186,'Look-up Tables'!$D$3:$E$127,2),\"\")","v":""},0]
[null,null,null,null,null,null,{"$f":"IF(F187='Look-up Tables'!$A$3,5,IF(F187='Look-up Tables'!$A$4,4,IF(F187='Look-up Tables'!$A$5,3,IF(F187='Look-up Tables'!$A$6,2,IF(F187='Look-up Tables'!$A$7,1)))))","v":false},null,null,{"$f":"IF(I187='Look-up Tables'!$B$3,5,IF(I187='Look-up Tables'!$B$4,4,IF(I187='Look-up Tables'!$B$5,3,IF(I187='Look-up Tables'!$B$6,2,IF(I187='Look-up Tables'!$B$7,1)))))","v":false},null,null,null,{"$f":"IF(M187='Look-up Tables'!$C$3,5,IF(M187='Look-up Tables'!$C$4,4,IF(M187='Look-up Tables'!$C$5,3,IF(M187='Look-up Tables'!$C$6,2,IF(M187='Look-up Tables'!$C$7,1)))))","v":false},{"$f":"IFERROR(VLOOKUP(P187,'Look-up Tables'!$D$3:$E$127,2),\"\")","v":""},0,null,null,null,null,null,{"$f":"IF(U187='Look-up Tables'!$A$3,5,IF(U187='Look-up Tables'!$A$4,4,IF(U187='Look-up Tables'!$A$5,3,IF(U187='Look-up Tables'!$A$6,2,IF(U187='Look-up Tables'!$A$7,1)))))","v":false},null,{"$f":"IF(W187='Look-up Tables'!$B$3,5,IF(W187='Look-up Tables'!$B$4,4,IF(W187='Look-up Tables'!$B$5,3,IF(W187='Look-up Tables'!$B$6,2,IF(W187='Look-up Tables'!$B$7,1)))))","v":false},null,{"$f":"IF(Y187='Look-up Tables'!$C$3,5,IF(Y187='Look-up Tables'!$C$4,4,IF(Y187='Look-up Tables'!$C$5,3,IF(Y187='Look-up Tables'!$C$6,2,IF(Y187='Look-up Tables'!$C$7,1)))))","v":false},{"$f":"IFERROR(VLOOKUP(AB187,'Look-up Tables'!$D$3:$E$127,2),\"\")","v":""},0]
[null,null,null,null,null,null,{"$f":"IF(F188='Look-up Tables'!$A$3,5,IF(F188='Look-up Tables'!$A$4,4,IF(F188='Look-up Tables'!$A$5,3,IF(F188='Look-up Tables'!$A$6,2,IF(F188='Look-up Tables'!$A$7,1)))))","v":false},null,null,{"$f":"IF(I188='Look-up Tables'!$B$3,5,IF(I188='Look-up Tables'!$B$4,4,IF(I188='Look-up Tables'!$B$5,3,IF(I188='Look-up Tables'!$B$6,2,IF(I188='Look-up Tables'!$B$7,1)))))","v":false},null,null,null,{"$f":"IF(M188='Look-up Tables'!$C$3,5,IF(M188='Look-up Tables'!$C$4,4,IF(M188='Look-up Tables'!$C$5,3,IF(M188='Look-up Tables'!$C$6,2,IF(M188='Look-up Tables'!$C$7,1)))))","v":false},{"$f":"IFERROR(VLOOKUP(P188,'Look-up Tables'!$D$3:$E$127,2),\"\")","v":""},0,null,null,null,null,null,{"$f":"IF(U188='Look-up Tables'!$A$3,5,IF(U188='Look-up Tables'!$A$4,4,IF(U188='Look-up Tables'!$A$5,3,IF(U188='Look-up Tables'!$A$6,2,IF(U188='Look-up Tables'!$A$7,1)))))","v":false},null,{"$f":"IF(W188='Look-up Tables'!$B$3,5,IF(W188='Look-up Tables'!$B$4,4,IF(W188='Look-up Tables'!$B$5,3,IF(W188='Look-up Tables'!$B$6,2,IF(W188='Look-up Tables'!$B$7,1)))))","v":false},null,{"$f":"IF(Y188='Look-up Tables'!$C$3,5,IF(Y188='Look-up Tables'!$C$4,4,IF(Y188='Look-up Tables'!$C$5,3,IF(Y188='Look-up Tables'!$C$6,2,IF(Y188='Look-up Tables'!$C$7,1)))))","v":false},{"$f":"IFERROR(VLOOKUP(AB188,'Look-up Tables'!$D$3:$E$127,2),\"\")","v":""},0]
[null,null,null,null,null,null,{"$f":"IF(F189='Look-up Tables'!$A$3,5,IF(F189='Look-up Tables'!$A$4,4,IF(F189='Look-up Tables'!$A$5,3,IF(F189='Look-up Tables'!$A$6,2,IF(F189='Look-up Tables'!$A$7,1)))))","v":false},null,null,{"$f":"IF(I189='Look-up Tables'!$B$3,5,IF(I189='Look-up Tables'!$B$4,4,IF(I189='Look-up Tables'!$B$5,3,IF(I189='Look-up Tables'!$B$6,2,IF(I189='Look-up Tables'!$B$7,1)))))","v":false},null,null,null,{"$f":"IF(M189='Look-up Tables'!$C$3,5,IF(M189='Look-up Tables'!$C$4,4,IF(M189='Look-up Tables'!$C$5,3,IF(M189='Look-up Tables'!$C$6,2,IF(M189='Look-up Tables'!$C$7,1)))))","v":false},{"$f":"IFERROR(VLOOKUP(P189,'Look-up Tables'!$D$3:$E$127,2),\"\")","v":""},0,null,null,null,null,null,{"$f":"IF(U189='Look-up Tables'!$A$3,5,IF(U189='Look-up Tables'!$A$4,4,IF(U189='Look-up Tables'!$A$5,3,IF(U189='Look-up Tables'!$A$6,2,IF(U189='Look-up Tables'!$A$7,1)))))","v":false},null,{"$f":"IF(W189='Look-up Tables'!$B$3,5,IF(W189='Look-up Tables'!$B$4,4,IF(W189='Look-up Tables'!$B$5,3,IF(W189='Look-up Tables'!$B$6,2,IF(W189='Look-up Tables'!$B$7,1)))))","v":false},null,{"$f":"IF(Y189='Look-up Tables'!$C$3,5,IF(Y189='Look-up Tables'!$C$4,4,IF(Y189='Look-up Tables'!$C$5,3,IF(Y189='Look-up Tables'!$C$6,2,IF(Y189='Look-up Tables'!$C$7,1)))))","v":false},{"$f":"IFERROR(VLOOKUP(AB189,'Look-up Tables'!$D$3:$E$127,2),\"\")","v":""},0]
[null,null,null,null,null,null,{"$f":"IF(F190='Look-up Tables'!$A$3,5,IF(F190='Look-up Tables'!$A$4,4,IF(F190='Look-up Tables'!$A$5,3,IF(F190='Look-up Tables'!$A$6,2,IF(F190='Look-up Tables'!$A$7,1)))))","v":false},null,null,{"$f":"IF(I190='Look-up Tables'!$B$3,5,IF(I190='Look-up Tables'!$B$4,4,IF(I190='Look-up Tables'!$B$5,3,IF(I190='Look-up Tables'!$B$6,2,IF(I190='Look-up Tables'!$B$7,1)))))","v":false},null,null,null,{"$f":"IF(M190='Look-up Tables'!$C$3,5,IF(M190='Look-up Tables'!$C$4,4,IF(M190='Look-up Tables'!$C$5,3,IF(M190='Look-up Tables'!$C$6,2,IF(M190='Look-up Tables'!$C$7,1)))))","v":false},{"$f":"IFERROR(VLOOKUP(P190,'Look-up Tables'!$D$3:$E$127,2),\"\")","v":""},0,null,null,null,null,null,{"$f":"IF(U190='Look-up Tables'!$A$3,5,IF(U190='Look-up Tables'!$A$4,4,IF(U190='Look-up Tables'!$A$5,3,IF(U190='Look-up Tables'!$A$6,2,IF(U190='Look-up Tables'!$A$7,1)))))","v":false},null,{"$f":"IF(W190='Look-up Tables'!$B$3,5,IF(W190='Look-up Tables'!$B$4,4,IF(W190='Look-up Tables'!$B$5,3,IF(W190='Look-up Tables'!$B$6,2,IF(W190='Look-up Tables'!$B$7,1)))))","v":false},null,{"$f":"IF(Y190='Look-up Tables'!$C$3,5,IF(Y190='Look-up Tables'!$C$4,4,IF(Y190='Look-up Tables'!$C$5,3,IF(Y190='Look-up Tables'!$C$6,2,IF(Y190='Look-up Tables'!$C$7,1)))))","v":false},{"$f":"IFERROR(VLOOKUP(AB190,'Look-up Tables'!$D$3:$E$127,2),\"\")","v":""},0]
[null,null,null,null,null,null,{"$f":"IF(F191='Look-up Tables'!$A$3,5,IF(F191='Look-up Tables'!$A$4,4,IF(F191='Look-up Tables'!$A$5,3,IF(F191='Look-up Tables'!$A$6,2,IF(F191='Look-up Tables'!$A$7,1)))))","v":false},null,null,{"$f":"IF(I191='Look-up Tables'!$B$3,5,IF(I191='Look-up Tables'!$B$4,4,IF(I191='Look-up Tables'!$B$5,3,IF(I191='Look-up Tables'!$B$6,2,IF(I191='Look-up Tables'!$B$7,1)))))","v":false},null,null,null,{"$f":"IF(M191='Look-up Tables'!$C$3,5,IF(M191='Look-up Tables'!$C$4,4,IF(M191='Look-up Tables'!$C$5,3,IF(M191='Look-up Tables'!$C$6,2,IF(M191='Look-up Tables'!$C$7,1)))))","v":false},{"$f":"IFERROR(VLOOKUP(P191,'Look-up Tables'!$D$3:$E$127,2),\"\")","v":""},0,null,null,null,null,null,{"$f":"IF(U191='Look-up Tables'!$A$3,5,IF(U191='Look-up Tables'!$A$4,4,IF(U191='Look-up Tables'!$A$5,3,IF(U191='Look-up Tables'!$A$6,2,IF(U191='Look-up Tables'!$A$7,1)))))","v":false},null,{"$f":"IF(W191='Look-up Tables'!$B$3,5,IF(W191='Look-up Tables'!$B$4,4,IF(W191='Look-up Tables'!$B$5,3,IF(W191='Look-up Tables'!$B$6,2,IF(W191='Look-up Tables'!$B$7,1)))))","v":false},null,{"$f":"IF(Y191='Look-up Tables'!$C$3,5,IF(Y191='Look-up Tables'!$C$4,4,IF(Y191='Look-up Tables'!$C$5,3,IF(Y191='Look-up Tables'!$C$6,2,IF(Y191='Look-up Tables'!$C$7,1)))))","v":false},{"$f":"IFERROR(VLOOKUP(AB191,'Look-up Tables'!$D$3:$E$127,2),\"\")","v":""},0]
[null,null,null,null,null,null,{"$f":"IF(F192='Look-up Tables'!$A$3,5,IF(F192='Look-up Tables'!$A$4,4,IF(F192='Look-up Tables'!$A$5,3,IF(F192='Look-up Tables'!$A$6,2,IF(F192='Look-up Tables'!$A$7,1)))))","v":false},null,null,{"$f":"IF(I192='Look-up Tables'!$B$3,5,IF(I192='Look-up Tables'!$B$4,4,IF(I192='Look-up Tables'!$B$5,3,IF(I192='Look-up Tables'!$B$6,2,IF(I192='Look-up Tables'!$B$7,1)))))","v":false},null,null,null,{"$f":"IF(M192='Look-up Tables'!$C$3,5,IF(M192='Look-up Tables'!$C$4,4,IF(M192='Look-up Tables'!$C$5,3,IF(M192='Look-up Tables'!$C$6,2,IF(M192='Look-up Tables'!$C$7,1)))))","v":false},{"$f":"IFERROR(VLOOKUP(P192,'Look-up Tables'!$D$3:$E$127,2),\"\")","v":""},0,null,null,null,null,null,{"$f":"IF(U192='Look-up Tables'!$A$3,5,IF(U192='Look-up Tables'!$A$4,4,IF(U192='Look-up Tables'!$A$5,3,IF(U192='Look-up Tables'!$A$6,2,IF(U192='Look-up Tables'!$A$7,1)))))","v":false},null,{"$f":"IF(W192='Look-up Tables'!$B$3,5,IF(W192='Look-up Tables'!$B$4,4,IF(W192='Look-up Tables'!$B$5,3,IF(W192='Look-up Tables'!$B$6,2,IF(W192='Look-up Tables'!$B$7,1)))))","v":false},null,{"$f":"IF(Y192='Look-up Tables'!$C$3,5,IF(Y192='Look-up Tables'!$C$4,4,IF(Y192='Look-up Tables'!$C$5,3,IF(Y192='Look-up Tables'!$C$6,2,IF(Y192='Look-up Tables'!$C$7,1)))))","v":false},{"$f":"IFERROR(VLOOKUP(AB192,'Look-up Tables'!$D$3:$E$127,2),\"\")","v":""},0]
[null,null,null,null,null,null,{"$f":"IF(F193='Look-up Tables'!$A$3,5,IF(F193='Look-up Tables'!$A$4,4,IF(F193='Look-up Tables'!$A$5,3,IF(F193='Look-up Tables'!$A$6,2,IF(F193='Look-up Tables'!$A$7,1)))))","v":false},null,null,{"$f":"IF(I193='Look-up Tables'!$B$3,5,IF(I193='Look-up Tables'!$B$4,4,IF(I193='Look-up Tables'!$B$5,3,IF(I193='Look-up Tables'!$B$6,2,IF(I193='Look-up Tables'!$B$7,1)))))","v":false},null,null,null,{"$f":"IF(M193='Look-up Tables'!$C$3,5,IF(M193='Look-up Tables'!$C$4,4,IF(M193='Look-up Tables'!$C$5,3,IF(M193='Look-up Tables'!$C$6,2,IF(M193='Look-up Tables'!$C$7,1)))))","v":false},{"$f":"IFERROR(VLOOKUP(P193,'Look-up Tables'!$D$3:$E$127,2),\"\")","v":""},0,null,null,null,null,null,{"$f":"IF(U193='Look-up Tables'!$A$3,5,IF(U193='Look-up Tables'!$A$4,4,IF(U193='Look-up Tables'!$A$5,3,IF(U193='Look-up Tables'!$A$6,2,IF(U193='Look-up Tables'!$A$7,1)))))","v":false},null,{"$f":"IF(W193='Look-up Tables'!$B$3,5,IF(W193='Look-up Tables'!$B$4,4,IF(W193='Look-up Tables'!$B$5,3,IF(W193='Look-up Tables'!$B$6,2,IF(W193='Look-up Tables'!$B$7,1)))))","v":false},null,{"$f":"IF(Y193='Look-up Tables'!$C$3,5,IF(Y193='Look-up Tables'!$C$4,4,IF(Y193='Look-up Tables'!$C$5,3,IF(Y193='Look-up Tables'!$C$6,2,IF(Y193='Look-up Tables'!$C$7,1)))))","v":false},{"$f":"IFERROR(VLOOKUP(AB193,'Look-up Tables'!$D$3:$E$127,2),\"\")","v":""},0]
[null,null,null,null,null,null,{"$f":"IF(F194='Look-up Tables'!$A$3,5,IF(F194='Look-up Tables'!$A$4,4,IF(F194='Look-up Tables'!$A$5,3,IF(F194='Look-up Tables'!$A$6,2,IF(F194='Look-up Tables'!$A$7,1)))))","v":false},null,null,{"$f":"IF(I194='Look-up Tables'!$B$3,5,IF(I194='Look-up Tables'!$B$4,4,IF(I194='Look-up Tables'!$B$5,3,IF(I194='Look-up Tables'!$B$6,2,IF(I194='Look-up Tables'!$B$7,1)))))","v":false},null,null,null,{"$f":"IF(M194='Look-up Tables'!$C$3,5,IF(M194='Look-up Tables'!$C$4,4,IF(M194='Look-up Tables'!$C$5,3,IF(M194='Look-up Tables'!$C$6,2,IF(M194='Look-up Tables'!$C$7,1)))))","v":false},{"$f":"IFERROR(VLOOKUP(P194,'Look-up Tables'!$D$3:$E$127,2),\"\")","v":""},0,null,null,null,null,null,{"$f":"IF(U194='Look-up Tables'!$A$3,5,IF(U194='Look-up Tables'!$A$4,4,IF(U194='Look-up Tables'!$A$5,3,IF(U194='Look-up Tables'!$A$6,2,IF(U194='Look-up Tables'!$A$7,1)))))","v":false},null,{"$f":"IF(W194='Look-up Tables'!$B$3,5,IF(W194='Look-up Tables'!$B$4,4,IF(W194='Look-up Tables'!$B$5,3,IF(W194='Look-up Tables'!$B$6,2,IF(W194='Look-up Tables'!$B$7,1)))))","v":false},null,{"$f":"IF(Y194='Look-up Tables'!$C$3,5,IF(Y194='Look-up Tables'!$C$4,4,IF(Y194='Look-up Tables'!$C$5,3,IF(Y194='Look-up Tables'!$C$6,2,IF(Y194='Look-up Tables'!$C$7,1)))))","v":false},{"$f":"IFERROR(VLOOKUP(AB194,'Look-up Tables'!$D$3:$E$127,2),\"\")","v":""},0]
[null,null,null,null,null,null,{"$f":"IF(F195='Look-up Tables'!$A$3,5,IF(F195='Look-up Tables'!$A$4,4,IF(F195='Look-up Tables'!$A$5,3,IF(F195='Look-up Tables'!$A$6,2,IF(F195='Look-up Tables'!$A$7,1)))))","v":false},null,null,{"$f":"IF(I195='Look-up Tables'!$B$3,5,IF(I195='Look-up Tables'!$B$4,4,IF(I195='Look-up Tables'!$B$5,3,IF(I195='Look-up Tables'!$B$6,2,IF(I195='Look-up Tables'!$B$7,1)))))","v":false},null,null,null,{"$f":"IF(M195='Look-up Tables'!$C$3,5,IF(M195='Look-up Tables'!$C$4,4,IF(M195='Look-up Tables'!$C$5,3,IF(M195='Look-up Tables'!$C$6,2,IF(M195='Look-up Tables'!$C$7,1)))))","v":false},{"$f":"IFERROR(VLOOKUP(P195,'Look-up Tables'!$D$3:$E$127,2),\"\")","v":""},0,null,null,null,null,null,{"$f":"IF(U195='Look-up Tables'!$A$3,5,IF(U195='Look-up Tables'!$A$4,4,IF(U195='Look-up Tables'!$A$5,3,IF(U195='Look-up Tables'!$A$6,2,IF(U195='Look-up Tables'!$A$7,1)))))","v":false},null,{"$f":"IF(W195='Look-up Tables'!$B$3,5,IF(W195='Look-up Tables'!$B$4,4,IF(W195='Look-up Tables'!$B$5,3,IF(W195='Look-up Tables'!$B$6,2,IF(W195='Look-up Tables'!$B$7,1)))))","v":false},null,{"$f":"IF(Y195='Look-up Tables'!$C$3,5,IF(Y195='Look-up Tables'!$C$4,4,IF(Y195='Look-up Tables'!$C$5,3,IF(Y195='Look-up Tables'!$C$6,2,IF(Y195='Look-up Tables'!$C$7,1)))))","v":false},{"$f":"IFERROR(VLOOKUP(AB195,'Look-up Tables'!$D$3:$E$127,2),\"\")","v":""},0]
[null,null,null,null,null,null,{"$f":"IF(F196='Look-up Tables'!$A$3,5,IF(F196='Look-up Tables'!$A$4,4,IF(F196='Look-up Tables'!$A$5,3,IF(F196='Look-up Tables'!$A$6,2,IF(F196='Look-up Tables'!$A$7,1)))))","v":false},null,null,{"$f":"IF(I196='Look-up Tables'!$B$3,5,IF(I196='Look-up Tables'!$B$4,4,IF(I196='Look-up Tables'!$B$5,3,IF(I196='Look-up Tables'!$B$6,2,IF(I196='Look-up Tables'!$B$7,1)))))","v":false},null,null,null,{"$f":"IF(M196='Look-up Tables'!$C$3,5,IF(M196='Look-up Tables'!$C$4,4,IF(M196='Look-up Tables'!$C$5,3,IF(M196='Look-up Tables'!$C$6,2,IF(M196='Look-up Tables'!$C$7,1)))))","v":false},{"$f":"IFERROR(VLOOKUP(P196,'Look-up Tables'!$D$3:$E$127,2),\"\")","v":""},0,null,null,null,null,null,{"$f":"IF(U196='Look-up Tables'!$A$3,5,IF(U196='Look-up Tables'!$A$4,4,IF(U196='Look-up Tables'!$A$5,3,IF(U196='Look-up Tables'!$A$6,2,IF(U196='Look-up Tables'!$A$7,1)))))","v":false},null,{"$f":"IF(W196='Look-up Tables'!$B$3,5,IF(W196='Look-up Tables'!$B$4,4,IF(W196='Look-up Tables'!$B$5,3,IF(W196='Look-up Tables'!$B$6,2,IF(W196='Look-up Tables'!$B$7,1)))))","v":false},null,{"$f":"IF(Y196='Look-up Tables'!$C$3,5,IF(Y196='Look-up Tables'!$C$4,4,IF(Y196='Look-up Tables'!$C$5,3,IF(Y196='Look-up Tables'!$C$6,2,IF(Y196='Look-up Tables'!$C$7,1)))))","v":false},{"$f":"IFERROR(VLOOKUP(AB196,'Look-up Tables'!$D$3:$E$127,2),\"\")","v":""},0]
[null,null,null,null,null,null,{"$f":"IF(F197='Look-up Tables'!$A$3,5,IF(F197='Look-up Tables'!$A$4,4,IF(F197='Look-up Tables'!$A$5,3,IF(F197='Look-up Tables'!$A$6,2,IF(F197='Look-up Tables'!$A$7,1)))))","v":false},null,null,{"$f":"IF(I197='Look-up Tables'!$B$3,5,IF(I197='Look-up Tables'!$B$4,4,IF(I197='Look-up Tables'!$B$5,3,IF(I197='Look-up Tables'!$B$6,2,IF(I197='Look-up Tables'!$B$7,1)))))","v":false},null,null,null,{"$f":"IF(M197='Look-up Tables'!$C$3,5,IF(M197='Look-up Tables'!$C$4,4,IF(M197='Look-up Tables'!$C$5,3,IF(M197='Look-up Tables'!$C$6,2,IF(M197='Look-up Tables'!$C$7,1)))))","v":false},{"$f":"IFERROR(VLOOKUP(P197,'Look-up Tables'!$D$3:$E$127,2),\"\")","v":""},0,null,null,null,null,null,{"$f":"IF(U197='Look-up Tables'!$A$3,5,IF(U197='Look-up Tables'!$A$4,4,IF(U197='Look-up Tables'!$A$5,3,IF(U197='Look-up Tables'!$A$6,2,IF(U197='Look-up Tables'!$A$7,1)))))","v":false},null,{"$f":"IF(W197='Look-up Tables'!$B$3,5,IF(W197='Look-up Tables'!$B$4,4,IF(W197='Look-up Tables'!$B$5,3,IF(W197='Look-up Tables'!$B$6,2,IF(W197='Look-up Tables'!$B$7,1)))))","v":false},null,{"$f":"IF(Y197='Look-up Tables'!$C$3,5,IF(Y197='Look-up Tables'!$C$4,4,IF(Y197='Look-up Tables'!$C$5,3,IF(Y197='Look-up Tables'!$C$6,2,IF(Y197='Look-up Tables'!$C$7,1)))))","v":false},{"$f":"IFERROR(VLOOKUP(AB197,'Look-up Tables'!$D$3:$E$127,2),\"\")","v":""},0]
[null,null,null,null,null,null,{"$f":"IF(F198='Look-up Tables'!$A$3,5,IF(F198='Look-up Tables'!$A$4,4,IF(F198='Look-up Tables'!$A$5,3,IF(F198='Look-up Tables'!$A$6,2,IF(F198='Look-up Tables'!$A$7,1)))))","v":false},null,null,{"$f":"IF(I198='Look-up Tables'!$B$3,5,IF(I198='Look-up Tables'!$B$4,4,IF(I198='Look-up Tables'!$B$5,3,IF(I198='Look-up Tables'!$B$6,2,IF(I198='Look-up Tables'!$B$7,1)))))","v":false},null,null,null,{"$f":"IF(M198='Look-up Tables'!$C$3,5,IF(M198='Look-up Tables'!$C$4,4,IF(M198='Look-up Tables'!$C$5,3,IF(M198='Look-up Tables'!$C$6,2,IF(M198='Look-up Tables'!$C$7,1)))))","v":false},{"$f":"IFERROR(VLOOKUP(P198,'Look-up Tables'!$D$3:$E$127,2),\"\")","v":""},0,null,null,null,null,null,{"$f":"IF(U198='Look-up Tables'!$A$3,5,IF(U198='Look-up Tables'!$A$4,4,IF(U198='Look-up Tables'!$A$5,3,IF(U198='Look-up Tables'!$A$6,2,IF(U198='Look-up Tables'!$A$7,1)))))","v":false},null,{"$f":"IF(W198='Look-up Tables'!$B$3,5,IF(W198='Look-up Tables'!$B$4,4,IF(W198='Look-up Tables'!$B$5,3,IF(W198='Look-up Tables'!$B$6,2,IF(W198='Look-up Tables'!$B$7,1)))))","v":false},null,{"$f":"IF(Y198='Look-up Tables'!$C$3,5,IF(Y198='Look-up Tables'!$C$4,4,IF(Y198='Look-up Tables'!$C$5,3,IF(Y198='Look-up Tables'!$C$6,2,IF(Y198='Look-up Tables'!$C$7,1)))))","v":false},{"$f":"IFERROR(VLOOKUP(AB198,'Look-up Tables'!$D$3:$E$127,2),\"\")","v":""},0]
[null,null,null,null,null,null,{"$f":"IF(F199='Look-up Tables'!$A$3,5,IF(F199='Look-up Tables'!$A$4,4,IF(F199='Look-up Tables'!$A$5,3,IF(F199='Look-up Tables'!$A$6,2,IF(F199='Look-up Tables'!$A$7,1)))))","v":false},null,null,{"$f":"IF(I199='Look-up Tables'!$B$3,5,IF(I199='Look-up Tables'!$B$4,4,IF(I199='Look-up Tables'!$B$5,3,IF(I199='Look-up Tables'!$B$6,2,IF(I199='Look-up Tables'!$B$7,1)))))","v":false},null,null,null,{"$f":"IF(M199='Look-up Tables'!$C$3,5,IF(M199='Look-up Tables'!$C$4,4,IF(M199='Look-up Tables'!$C$5,3,IF(M199='Look-up Tables'!$C$6,2,IF(M199='Look-up Tables'!$C$7,1)))))","v":false},{"$f":"IFERROR(VLOOKUP(P199,'Look-up Tables'!$D$3:$E$127,2),\"\")","v":""},0,null,null,null,null,null,{"$f":"IF(U199='Look-up Tables'!$A$3,5,IF(U199='Look-up Tables'!$A$4,4,IF(U199='Look-up Tables'!$A$5,3,IF(U199='Look-up Tables'!$A$6,2,IF(U199='Look-up Tables'!$A$7,1)))))","v":false},null,{"$f":"IF(W199='Look-up Tables'!$B$3,5,IF(W199='Look-up Tables'!$B$4,4,IF(W199='Look-up Tables'!$B$5,3,IF(W199='Look-up Tables'!$B$6,2,IF(W199='Look-up Tables'!$B$7,1)))))","v":false},null,{"$f":"IF(Y199='Look-up Tables'!$C$3,5,IF(Y199='Look-up Tables'!$C$4,4,IF(Y199='Look-up Tables'!$C$5,3,IF(Y199='Look-up Tables'!$C$6,2,IF(Y199='Look-up Tables'!$C$7,1)))))","v":false},{"$f":"IFERROR(VLOOKUP(AB199,'Look-up Tables'!$D$3:$E$127,2),\"\")","v":""},0]
[null,null,null,null,null,null,{"$f":"IF(F200='Look-up Tables'!$A$3,5,IF(F200='Look-up Tables'!$A$4,4,IF(F200='Look-up Tables'!$A$5,3,IF(F200='Look-up Tables'!$A$6,2,IF(F200='Look-up Tables'!$A$7,1)))))","v":false},null,null,{"$f":"IF(I200='Look-up Tables'!$B$3,5,IF(I200='Look-up Tables'!$B$4,4,IF(I200='Look-up Tables'!$B$5,3,IF(I200='Look-up Tables'!$B$6,2,IF(I200='Look-up Tables'!$B$7,1)))))","v":false},null,null,null,{"$f":"IF(M200='Look-up Tables'!$C$3,5,IF(M200='Look-up Tables'!$C$4,4,IF(M200='Look-up Tables'!$C$5,3,IF(M200='Look-up Tables'!$C$6,2,IF(M200='Look-up Tables'!$C$7,1)))))","v":false},{"$f":"IFERROR(VLOOKUP(P200,'Look-up Tables'!$D$3:$E$127,2),\"\")","v":""},0,null,null,null,null,null,{"$f":"IF(U200='Look-up Tables'!$A$3,5,IF(U200='Look-up Tables'!$A$4,4,IF(U200='Look-up Tables'!$A$5,3,IF(U200='Look-up Tables'!$A$6,2,IF(U200='Look-up Tables'!$A$7,1)))))","v":false},null,{"$f":"IF(W200='Look-up Tables'!$B$3,5,IF(W200='Look-up Tables'!$B$4,4,IF(W200='Look-up Tables'!$B$5,3,IF(W200='Look-up Tables'!$B$6,2,IF(W200='Look-up Tables'!$B$7,1)))))","v":false},null,{"$f":"IF(Y200='Look-up Tables'!$C$3,5,IF(Y200='Look-up Tables'!$C$4,4,IF(Y200='Look-up Tables'!$C$5,3,IF(Y200='Look-up Tables'!$C$6,2,IF(Y200='Look-up Tables'!$C$7,1)))))","v":false},{"$f":"IFERROR(VLOOKUP(AB200,'Look-up Tables'!$D$3:$E$127,2),\"\")","v":""},0]
[null,null,null,null,null,null,{"$f":"IF(F201='Look-up Tables'!$A$3,5,IF(F201='Look-up Tables'!$A$4,4,IF(F201='Look-up Tables'!$A$5,3,IF(F201='Look-up Tables'!$A$6,2,IF(F201='Look-up Tables'!$A$7,1)))))","v":false},null,null,{"$f":"IF(I201='Look-up Tables'!$B$3,5,IF(I201='Look-up Tables'!$B$4,4,IF(I201='Look-up Tables'!$B$5,3,IF(I201='Look-up Tables'!$B$6,2,IF(I201='Look-up Tables'!$B$7,1)))))","v":false},null,null,null,{"$f":"IF(M201='Look-up Tables'!$C$3,5,IF(M201='Look-up Tables'!$C$4,4,IF(M201='Look-up Tables'!$C$5,3,IF(M201='Look-up Tables'!$C$6,2,IF(M201='Look-up Tables'!$C$7,1)))))","v":false},{"$f":"IFERROR(VLOOKUP(P201,'Look-up Tables'!$D$3:$E$127,2),\"\")","v":""},0,null,null,null,null,null,{"$f":"IF(U201='Look-up Tables'!$A$3,5,IF(U201='Look-up Tables'!$A$4,4,IF(U201='Look-up Tables'!$A$5,3,IF(U201='Look-up Tables'!$A$6,2,IF(U201='Look-up Tables'!$A$7,1)))))","v":false},null,{"$f":"IF(W201='Look-up Tables'!$B$3,5,IF(W201='Look-up Tables'!$B$4,4,IF(W201='Look-up Tables'!$B$5,3,IF(W201='Look-up Tables'!$B$6,2,IF(W201='Look-up Tables'!$B$7,1)))))","v":false},null,{"$f":"IF(Y201='Look-up Tables'!$C$3,5,IF(Y201='Look-up Tables'!$C$4,4,IF(Y201='Look-up Tables'!$C$5,3,IF(Y201='Look-up Tables'!$C$6,2,IF(Y201='Look-up Tables'!$C$7,1)))))","v":false},{"$f":"IFERROR(VLOOKUP(AB201,'Look-up Tables'!$D$3:$E$127,2),\"\")","v":""},0]
[null,null,null,null,null,null,{"$f":"IF(F202='Look-up Tables'!$A$3,5,IF(F202='Look-up Tables'!$A$4,4,IF(F202='Look-up Tables'!$A$5,3,IF(F202='Look-up Tables'!$A$6,2,IF(F202='Look-up Tables'!$A$7,1)))))","v":false},null,null,{"$f":"IF(I202='Look-up Tables'!$B$3,5,IF(I202='Look-up Tables'!$B$4,4,IF(I202='Look-up Tables'!$B$5,3,IF(I202='Look-up Tables'!$B$6,2,IF(I202='Look-up Tables'!$B$7,1)))))","v":false},null,null,null,{"$f":"IF(M202='Look-up Tables'!$C$3,5,IF(M202='Look-up Tables'!$C$4,4,IF(M202='Look-up Tables'!$C$5,3,IF(M202='Look-up Tables'!$C$6,2,IF(M202='Look-up Tables'!$C$7,1)))))","v":false},{"$f":"IFERROR(VLOOKUP(P202,'Look-up Tables'!$D$3:$E$127,2),\"\")","v":""},0,null,null,null,null,null,{"$f":"IF(U202='Look-up Tables'!$A$3,5,IF(U202='Look-up Tables'!$A$4,4,IF(U202='Look-up Tables'!$A$5,3,IF(U202='Look-up Tables'!$A$6,2,IF(U202='Look-up Tables'!$A$7,1)))))","v":false},null,{"$f":"IF(W202='Look-up Tables'!$B$3,5,IF(W202='Look-up Tables'!$B$4,4,IF(W202='Look-up Tables'!$B$5,3,IF(W202='Look-up Tables'!$B$6,2,IF(W202='Look-up Tables'!$B$7,1)))))","v":false},null,{"$f":"IF(Y202='Look-up Tables'!$C$3,5,IF(Y202='Look-up Tables'!$C$4,4,IF(Y202='Look-up Tables'!$C$5,3,IF(Y202='Look-up Tables'!$C$6,2,IF(Y202='Look-up Tables'!$C$7,1)))))","v":false},{"$f":"IFERROR(VLOOKUP(AB202,'Look-up Tables'!$D$3:$E$127,2),\"\")","v":""},0]
[null,null,null,null,null,null,{"$f":"IF(F203='Look-up Tables'!$A$3,5,IF(F203='Look-up Tables'!$A$4,4,IF(F203='Look-up Tables'!$A$5,3,IF(F203='Look-up Tables'!$A$6,2,IF(F203='Look-up Tables'!$A$7,1)))))","v":false},null,null,{"$f":"IF(I203='Look-up Tables'!$B$3,5,IF(I203='Look-up Tables'!$B$4,4,IF(I203='Look-up Tables'!$B$5,3,IF(I203='Look-up Tables'!$B$6,2,IF(I203='Look-up Tables'!$B$7,1)))))","v":false},null,null,null,{"$f":"IF(M203='Look-up Tables'!$C$3,5,IF(M203='Look-up Tables'!$C$4,4,IF(M203='Look-up Tables'!$C$5,3,IF(M203='Look-up Tables'!$C$6,2,IF(M203='Look-up Tables'!$C$7,1)))))","v":false},{"$f":"IFERROR(VLOOKUP(P203,'Look-up Tables'!$D$3:$E$127,2),\"\")","v":""},0,null,null,null,null,null,{"$f":"IF(U203='Look-up Tables'!$A$3,5,IF(U203='Look-up Tables'!$A$4,4,IF(U203='Look-up Tables'!$A$5,3,IF(U203='Look-up Tables'!$A$6,2,IF(U203='Look-up Tables'!$A$7,1)))))","v":false},null,{"$f":"IF(W203='Look-up Tables'!$B$3,5,IF(W203='Look-up Tables'!$B$4,4,IF(W203='Look-up Tables'!$B$5,3,IF(W203='Look-up Tables'!$B$6,2,IF(W203='Look-up Tables'!$B$7,1)))))","v":false},null,{"$f":"IF(Y203='Look-up Tables'!$C$3,5,IF(Y203='Look-up Tables'!$C$4,4,IF(Y203='Look-up Tables'!$C$5,3,IF(Y203='Look-up Tables'!$C$6,2,IF(Y203='Look-up Tables'!$C$7,1)))))","v":false},{"$f":"IFERROR(VLOOKUP(AB203,'Look-up Tables'!$D$3:$E$127,2),\"\")","v":""},0]
[null,null,null,null,null,null,{"$f":"IF(F204='Look-up Tables'!$A$3,5,IF(F204='Look-up Tables'!$A$4,4,IF(F204='Look-up Tables'!$A$5,3,IF(F204='Look-up Tables'!$A$6,2,IF(F204='Look-up Tables'!$A$7,1)))))","v":false},null,null,{"$f":"IF(I204='Look-up Tables'!$B$3,5,IF(I204='Look-up Tables'!$B$4,4,IF(I204='Look-up Tables'!$B$5,3,IF(I204='Look-up Tables'!$B$6,2,IF(I204='Look-up Tables'!$B$7,1)))))","v":false},null,null,null,{"$f":"IF(M204='Look-up Tables'!$C$3,5,IF(M204='Look-up Tables'!$C$4,4,IF(M204='Look-up Tables'!$C$5,3,IF(M204='Look-up Tables'!$C$6,2,IF(M204='Look-up Tables'!$C$7,1)))))","v":false},{"$f":"IFERROR(VLOOKUP(P204,'Look-up Tables'!$D$3:$E$127,2),\"\")","v":""},0,null,null,null,null,null,{"$f":"IF(U204='Look-up Tables'!$A$3,5,IF(U204='Look-up Tables'!$A$4,4,IF(U204='Look-up Tables'!$A$5,3,IF(U204='Look-up Tables'!$A$6,2,IF(U204='Look-up Tables'!$A$7,1)))))","v":false},null,{"$f":"IF(W204='Look-up Tables'!$B$3,5,IF(W204='Look-up Tables'!$B$4,4,IF(W204='Look-up Tables'!$B$5,3,IF(W204='Look-up Tables'!$B$6,2,IF(W204='Look-up Tables'!$B$7,1)))))","v":false},null,{"$f":"IF(Y204='Look-up Tables'!$C$3,5,IF(Y204='Look-up Tables'!$C$4,4,IF(Y204='Look-up Tables'!$C$5,3,IF(Y204='Look-up Tables'!$C$6,2,IF(Y204='Look-up Tables'!$C$7,1)))))","v":false},{"$f":"IFERROR(VLOOKUP(AB204,'Look-up Tables'!$D$3:$E$127,2),\"\")","v":""},0]
[null,null,null,null,null,null,{"$f":"IF(F205='Look-up Tables'!$A$3,5,IF(F205='Look-up Tables'!$A$4,4,IF(F205='Look-up Tables'!$A$5,3,IF(F205='Look-up Tables'!$A$6,2,IF(F205='Look-up Tables'!$A$7,1)))))","v":false},null,null,{"$f":"IF(I205='Look-up Tables'!$B$3,5,IF(I205='Look-up Tables'!$B$4,4,IF(I205='Look-up Tables'!$B$5,3,IF(I205='Look-up Tables'!$B$6,2,IF(I205='Look-up Tables'!$B$7,1)))))","v":false},null,null,null,{"$f":"IF(M205='Look-up Tables'!$C$3,5,IF(M205='Look-up Tables'!$C$4,4,IF(M205='Look-up Tables'!$C$5,3,IF(M205='Look-up Tables'!$C$6,2,IF(M205='Look-up Tables'!$C$7,1)))))","v":false},{"$f":"IFERROR(VLOOKUP(P205,'Look-up Tables'!$D$3:$E$127,2),\"\")","v":""},0,null,null,null,null,null,{"$f":"IF(U205='Look-up Tables'!$A$3,5,IF(U205='Look-up Tables'!$A$4,4,IF(U205='Look-up Tables'!$A$5,3,IF(U205='Look-up Tables'!$A$6,2,IF(U205='Look-up Tables'!$A$7,1)))))","v":false},null,{"$f":"IF(W205='Look-up Tables'!$B$3,5,IF(W205='Look-up Tables'!$B$4,4,IF(W205='Look-up Tables'!$B$5,3,IF(W205='Look-up Tables'!$B$6,2,IF(W205='Look-up Tables'!$B$7,1)))))","v":false},null,{"$f":"IF(Y205='Look-up Tables'!$C$3,5,IF(Y205='Look-up Tables'!$C$4,4,IF(Y205='Look-up Tables'!$C$5,3,IF(Y205='Look-up Tables'!$C$6,2,IF(Y205='Look-up Tables'!$C$7,1)))))","v":false},{"$f":"IFERROR(VLOOKUP(AB205,'Look-up Tables'!$D$3:$E$127,2),\"\")","v":""},0]
[null,null,null,null,null,null,{"$f":"IF(F206='Look-up Tables'!$A$3,5,IF(F206='Look-up Tables'!$A$4,4,IF(F206='Look-up Tables'!$A$5,3,IF(F206='Look-up Tables'!$A$6,2,IF(F206='Look-up Tables'!$A$7,1)))))","v":false},null,null,{"$f":"IF(I206='Look-up Tables'!$B$3,5,IF(I206='Look-up Tables'!$B$4,4,IF(I206='Look-up Tables'!$B$5,3,IF(I206='Look-up Tables'!$B$6,2,IF(I206='Look-up Tables'!$B$7,1)))))","v":false},null,null,null,{"$f":"IF(M206='Look-up Tables'!$C$3,5,IF(M206='Look-up Tables'!$C$4,4,IF(M206='Look-up Tables'!$C$5,3,IF(M206='Look-up Tables'!$C$6,2,IF(M206='Look-up Tables'!$C$7,1)))))","v":false},{"$f":"IFERROR(VLOOKUP(P206,'Look-up Tables'!$D$3:$E$127,2),\"\")","v":""},0,null,null,null,null,null,{"$f":"IF(U206='Look-up Tables'!$A$3,5,IF(U206='Look-up Tables'!$A$4,4,IF(U206='Look-up Tables'!$A$5,3,IF(U206='Look-up Tables'!$A$6,2,IF(U206='Look-up Tables'!$A$7,1)))))","v":false},null,{"$f":"IF(W206='Look-up Tables'!$B$3,5,IF(W206='Look-up Tables'!$B$4,4,IF(W206='Look-up Tables'!$B$5,3,IF(W206='Look-up Tables'!$B$6,2,IF(W206='Look-up Tables'!$B$7,1)))))","v":false},null,{"$f":"IF(Y206='Look-up Tables'!$C$3,5,IF(Y206='Look-up Tables'!$C$4,4,IF(Y206='Look-up Tables'!$C$5,3,IF(Y206='Look-up Tables'!$C$6,2,IF(Y206='Look-up Tables'!$C$7,1)))))","v":false},{"$f":"IFERROR(VLOOKUP(AB206,'Look-up Tables'!$D$3:$E$127,2),\"\")","v":""},0]
[null,null,null,null,null,null,{"$f":"IF(F207='Look-up Tables'!$A$3,5,IF(F207='Look-up Tables'!$A$4,4,IF(F207='Look-up Tables'!$A$5,3,IF(F207='Look-up Tables'!$A$6,2,IF(F207='Look-up Tables'!$A$7,1)))))","v":false},null,null,{"$f":"IF(I207='Look-up Tables'!$B$3,5,IF(I207='Look-up Tables'!$B$4,4,IF(I207='Look-up Tables'!$B$5,3,IF(I207='Look-up Tables'!$B$6,2,IF(I207='Look-up Tables'!$B$7,1)))))","v":false},null,null,null,{"$f":"IF(M207='Look-up Tables'!$C$3,5,IF(M207='Look-up Tables'!$C$4,4,IF(M207='Look-up Tables'!$C$5,3,IF(M207='Look-up Tables'!$C$6,2,IF(M207='Look-up Tables'!$C$7,1)))))","v":false},{"$f":"IFERROR(VLOOKUP(P207,'Look-up Tables'!$D$3:$E$127,2),\"\")","v":""},0,null,null,null,null,null,{"$f":"IF(U207='Look-up Tables'!$A$3,5,IF(U207='Look-up Tables'!$A$4,4,IF(U207='Look-up Tables'!$A$5,3,IF(U207='Look-up Tables'!$A$6,2,IF(U207='Look-up Tables'!$A$7,1)))))","v":false},null,{"$f":"IF(W207='Look-up Tables'!$B$3,5,IF(W207='Look-up Tables'!$B$4,4,IF(W207='Look-up Tables'!$B$5,3,IF(W207='Look-up Tables'!$B$6,2,IF(W207='Look-up Tables'!$B$7,1)))))","v":false},null,{"$f":"IF(Y207='Look-up Tables'!$C$3,5,IF(Y207='Look-up Tables'!$C$4,4,IF(Y207='Look-up Tables'!$C$5,3,IF(Y207='Look-up Tables'!$C$6,2,IF(Y207='Look-up Tables'!$C$7,1)))))","v":false},{"$f":"IFERROR(VLOOKUP(AB207,'Look-up Tables'!$D$3:$E$127,2),\"\")","v":""},0]
[null,null,null,null,null,null,{"$f":"IF(F208='Look-up Tables'!$A$3,5,IF(F208='Look-up Tables'!$A$4,4,IF(F208='Look-up Tables'!$A$5,3,IF(F208='Look-up Tables'!$A$6,2,IF(F208='Look-up Tables'!$A$7,1)))))","v":false},null,null,{"$f":"IF(I208='Look-up Tables'!$B$3,5,IF(I208='Look-up Tables'!$B$4,4,IF(I208='Look-up Tables'!$B$5,3,IF(I208='Look-up Tables'!$B$6,2,IF(I208='Look-up Tables'!$B$7,1)))))","v":false},null,null,null,{"$f":"IF(M208='Look-up Tables'!$C$3,5,IF(M208='Look-up Tables'!$C$4,4,IF(M208='Look-up Tables'!$C$5,3,IF(M208='Look-up Tables'!$C$6,2,IF(M208='Look-up Tables'!$C$7,1)))))","v":false},{"$f":"IFERROR(VLOOKUP(P208,'Look-up Tables'!$D$3:$E$127,2),\"\")","v":""},0,null,null,null,null,null,{"$f":"IF(U208='Look-up Tables'!$A$3,5,IF(U208='Look-up Tables'!$A$4,4,IF(U208='Look-up Tables'!$A$5,3,IF(U208='Look-up Tables'!$A$6,2,IF(U208='Look-up Tables'!$A$7,1)))))","v":false},null,{"$f":"IF(W208='Look-up Tables'!$B$3,5,IF(W208='Look-up Tables'!$B$4,4,IF(W208='Look-up Tables'!$B$5,3,IF(W208='Look-up Tables'!$B$6,2,IF(W208='Look-up Tables'!$B$7,1)))))","v":false},null,{"$f":"IF(Y208='Look-up Tables'!$C$3,5,IF(Y208='Look-up Tables'!$C$4,4,IF(Y208='Look-up Tables'!$C$5,3,IF(Y208='Look-up Tables'!$C$6,2,IF(Y208='Look-up Tables'!$C$7,1)))))","v":false},{"$f":"IFERROR(VLOOKUP(AB208,'Look-up Tables'!$D$3:$E$127,2),\"\")","v":""},0]
[null,null,null,null,null,null,{"$f":"IF(F209='Look-up Tables'!$A$3,5,IF(F209='Look-up Tables'!$A$4,4,IF(F209='Look-up Tables'!$A$5,3,IF(F209='Look-up Tables'!$A$6,2,IF(F209='Look-up Tables'!$A$7,1)))))","v":false},null,null,{"$f":"IF(I209='Look-up Tables'!$B$3,5,IF(I209='Look-up Tables'!$B$4,4,IF(I209='Look-up Tables'!$B$5,3,IF(I209='Look-up Tables'!$B$6,2,IF(I209='Look-up Tables'!$B$7,1)))))","v":false},null,null,null,{"$f":"IF(M209='Look-up Tables'!$C$3,5,IF(M209='Look-up Tables'!$C$4,4,IF(M209='Look-up Tables'!$C$5,3,IF(M209='Look-up Tables'!$C$6,2,IF(M209='Look-up Tables'!$C$7,1)))))","v":false},{"$f":"IFERROR(VLOOKUP(P209,'Look-up Tables'!$D$3:$E$127,2),\"\")","v":""},0,null,null,null,null,null,{"$f":"IF(U209='Look-up Tables'!$A$3,5,IF(U209='Look-up Tables'!$A$4,4,IF(U209='Look-up Tables'!$A$5,3,IF(U209='Look-up Tables'!$A$6,2,IF(U209='Look-up Tables'!$A$7,1)))))","v":false},null,{"$f":"IF(W209='Look-up Tables'!$B$3,5,IF(W209='Look-up Tables'!$B$4,4,IF(W209='Look-up Tables'!$B$5,3,IF(W209='Look-up Tables'!$B$6,2,IF(W209='Look-up Tables'!$B$7,1)))))","v":false},null,{"$f":"IF(Y209='Look-up Tables'!$C$3,5,IF(Y209='Look-up Tables'!$C$4,4,IF(Y209='Look-up Tables'!$C$5,3,IF(Y209='Look-up Tables'!$C$6,2,IF(Y209='Look-up Tables'!$C$7,1)))))","v":false},{"$f":"IFERROR(VLOOKUP(AB209,'Look-up Tables'!$D$3:$E$127,2),\"\")","v":""},0]
[null,null,null,null,null,null,{"$f":"IF(F210='Look-up Tables'!$A$3,5,IF(F210='Look-up Tables'!$A$4,4,IF(F210='Look-up Tables'!$A$5,3,IF(F210='Look-up Tables'!$A$6,2,IF(F210='Look-up Tables'!$A$7,1)))))","v":false},null,null,{"$f":"IF(I210='Look-up Tables'!$B$3,5,IF(I210='Look-up Tables'!$B$4,4,IF(I210='Look-up Tables'!$B$5,3,IF(I210='Look-up Tables'!$B$6,2,IF(I210='Look-up Tables'!$B$7,1)))))","v":false},null,null,null,{"$f":"IF(M210='Look-up Tables'!$C$3,5,IF(M210='Look-up Tables'!$C$4,4,IF(M210='Look-up Tables'!$C$5,3,IF(M210='Look-up Tables'!$C$6,2,IF(M210='Look-up Tables'!$C$7,1)))))","v":false},{"$f":"IFERROR(VLOOKUP(P210,'Look-up Tables'!$D$3:$E$127,2),\"\")","v":""},0,null,null,null,null,null,{"$f":"IF(U210='Look-up Tables'!$A$3,5,IF(U210='Look-up Tables'!$A$4,4,IF(U210='Look-up Tables'!$A$5,3,IF(U210='Look-up Tables'!$A$6,2,IF(U210='Look-up Tables'!$A$7,1)))))","v":false},null,{"$f":"IF(W210='Look-up Tables'!$B$3,5,IF(W210='Look-up Tables'!$B$4,4,IF(W210='Look-up Tables'!$B$5,3,IF(W210='Look-up Tables'!$B$6,2,IF(W210='Look-up Tables'!$B$7,1)))))","v":false},null,{"$f":"IF(Y210='Look-up Tables'!$C$3,5,IF(Y210='Look-up Tables'!$C$4,4,IF(Y210='Look-up Tables'!$C$5,3,IF(Y210='Look-up Tables'!$C$6,2,IF(Y210='Look-up Tables'!$C$7,1)))))","v":false},{"$f":"IFERROR(VLOOKUP(AB210,'Look-up Tables'!$D$3:$E$127,2),\"\")","v":""},0]
[null,null,null,null,null,null,{"$f":"IF(F211='Look-up Tables'!$A$3,5,IF(F211='Look-up Tables'!$A$4,4,IF(F211='Look-up Tables'!$A$5,3,IF(F211='Look-up Tables'!$A$6,2,IF(F211='Look-up Tables'!$A$7,1)))))","v":false},null,null,{"$f":"IF(I211='Look-up Tables'!$B$3,5,IF(I211='Look-up Tables'!$B$4,4,IF(I211='Look-up Tables'!$B$5,3,IF(I211='Look-up Tables'!$B$6,2,IF(I211='Look-up Tables'!$B$7,1)))))","v":false},null,null,null,{"$f":"IF(M211='Look-up Tables'!$C$3,5,IF(M211='Look-up Tables'!$C$4,4,IF(M211='Look-up Tables'!$C$5,3,IF(M211='Look-up Tables'!$C$6,2,IF(M211='Look-up Tables'!$C$7,1)))))","v":false},{"$f":"IFERROR(VLOOKUP(P211,'Look-up Tables'!$D$3:$E$127,2),\"\")","v":""},0,null,null,null,null,null,{"$f":"IF(U211='Look-up Tables'!$A$3,5,IF(U211='Look-up Tables'!$A$4,4,IF(U211='Look-up Tables'!$A$5,3,IF(U211='Look-up Tables'!$A$6,2,IF(U211='Look-up Tables'!$A$7,1)))))","v":false},null,{"$f":"IF(W211='Look-up Tables'!$B$3,5,IF(W211='Look-up Tables'!$B$4,4,IF(W211='Look-up Tables'!$B$5,3,IF(W211='Look-up Tables'!$B$6,2,IF(W211='Look-up Tables'!$B$7,1)))))","v":false},null,{"$f":"IF(Y211='Look-up Tables'!$C$3,5,IF(Y211='Look-up Tables'!$C$4,4,IF(Y211='Look-up Tables'!$C$5,3,IF(Y211='Look-up Tables'!$C$6,2,IF(Y211='Look-up Tables'!$C$7,1)))))","v":false},{"$f":"IFERROR(VLOOKUP(AB211,'Look-up Tables'!$D$3:$E$127,2),\"\")","v":""},0]
[null,null,null,null,null,null,{"$f":"IF(F212='Look-up Tables'!$A$3,5,IF(F212='Look-up Tables'!$A$4,4,IF(F212='Look-up Tables'!$A$5,3,IF(F212='Look-up Tables'!$A$6,2,IF(F212='Look-up Tables'!$A$7,1)))))","v":false},null,null,{"$f":"IF(I212='Look-up Tables'!$B$3,5,IF(I212='Look-up Tables'!$B$4,4,IF(I212='Look-up Tables'!$B$5,3,IF(I212='Look-up Tables'!$B$6,2,IF(I212='Look-up Tables'!$B$7,1)))))","v":false},null,null,null,{"$f":"IF(M212='Look-up Tables'!$C$3,5,IF(M212='Look-up Tables'!$C$4,4,IF(M212='Look-up Tables'!$C$5,3,IF(M212='Look-up Tables'!$C$6,2,IF(M212='Look-up Tables'!$C$7,1)))))","v":false},{"$f":"IFERROR(VLOOKUP(P212,'Look-up Tables'!$D$3:$E$127,2),\"\")","v":""},0,null,null,null,null,null,{"$f":"IF(U212='Look-up Tables'!$A$3,5,IF(U212='Look-up Tables'!$A$4,4,IF(U212='Look-up Tables'!$A$5,3,IF(U212='Look-up Tables'!$A$6,2,IF(U212='Look-up Tables'!$A$7,1)))))","v":false},null,{"$f":"IF(W212='Look-up Tables'!$B$3,5,IF(W212='Look-up Tables'!$B$4,4,IF(W212='Look-up Tables'!$B$5,3,IF(W212='Look-up Tables'!$B$6,2,IF(W212='Look-up Tables'!$B$7,1)))))","v":false},null,{"$f":"IF(Y212='Look-up Tables'!$C$3,5,IF(Y212='Look-up Tables'!$C$4,4,IF(Y212='Look-up Tables'!$C$5,3,IF(Y212='Look-up Tables'!$C$6,2,IF(Y212='Look-up Tables'!$C$7,1)))))","v":false},{"$f":"IFERROR(VLOOKUP(AB212,'Look-up Tables'!$D$3:$E$127,2),\"\")","v":""},0]
[null,null,null,null,null,null,{"$f":"IF(F213='Look-up Tables'!$A$3,5,IF(F213='Look-up Tables'!$A$4,4,IF(F213='Look-up Tables'!$A$5,3,IF(F213='Look-up Tables'!$A$6,2,IF(F213='Look-up Tables'!$A$7,1)))))","v":false},null,null,{"$f":"IF(I213='Look-up Tables'!$B$3,5,IF(I213='Look-up Tables'!$B$4,4,IF(I213='Look-up Tables'!$B$5,3,IF(I213='Look-up Tables'!$B$6,2,IF(I213='Look-up Tables'!$B$7,1)))))","v":false},null,null,null,{"$f":"IF(M213='Look-up Tables'!$C$3,5,IF(M213='Look-up Tables'!$C$4,4,IF(M213='Look-up Tables'!$C$5,3,IF(M213='Look-up Tables'!$C$6,2,IF(M213='Look-up Tables'!$C$7,1)))))","v":false},{"$f":"IFERROR(VLOOKUP(P213,'Look-up Tables'!$D$3:$E$127,2),\"\")","v":""},0,null,null,null,null,null,{"$f":"IF(U213='Look-up Tables'!$A$3,5,IF(U213='Look-up Tables'!$A$4,4,IF(U213='Look-up Tables'!$A$5,3,IF(U213='Look-up Tables'!$A$6,2,IF(U213='Look-up Tables'!$A$7,1)))))","v":false},null,{"$f":"IF(W213='Look-up Tables'!$B$3,5,IF(W213='Look-up Tables'!$B$4,4,IF(W213='Look-up Tables'!$B$5,3,IF(W213='Look-up Tables'!$B$6,2,IF(W213='Look-up Tables'!$B$7,1)))))","v":false},null,{"$f":"IF(Y213='Look-up Tables'!$C$3,5,IF(Y213='Look-up Tables'!$C$4,4,IF(Y213='Look-up Tables'!$C$5,3,IF(Y213='Look-up Tables'!$C$6,2,IF(Y213='Look-up Tables'!$C$7,1)))))","v":false},{"$f":"IFERROR(VLOOKUP(AB213,'Look-up Tables'!$D$3:$E$127,2),\"\")","v":""},0]
[null,null,null,null,null,null,{"$f":"IF(F214='Look-up Tables'!$A$3,5,IF(F214='Look-up Tables'!$A$4,4,IF(F214='Look-up Tables'!$A$5,3,IF(F214='Look-up Tables'!$A$6,2,IF(F214='Look-up Tables'!$A$7,1)))))","v":false},null,null,{"$f":"IF(I214='Look-up Tables'!$B$3,5,IF(I214='Look-up Tables'!$B$4,4,IF(I214='Look-up Tables'!$B$5,3,IF(I214='Look-up Tables'!$B$6,2,IF(I214='Look-up Tables'!$B$7,1)))))","v":false},null,null,null,{"$f":"IF(M214='Look-up Tables'!$C$3,5,IF(M214='Look-up Tables'!$C$4,4,IF(M214='Look-up Tables'!$C$5,3,IF(M214='Look-up Tables'!$C$6,2,IF(M214='Look-up Tables'!$C$7,1)))))","v":false},{"$f":"IFERROR(VLOOKUP(P214,'Look-up Tables'!$D$3:$E$127,2),\"\")","v":""},0,null,null,null,null,null,{"$f":"IF(U214='Look-up Tables'!$A$3,5,IF(U214='Look-up Tables'!$A$4,4,IF(U214='Look-up Tables'!$A$5,3,IF(U214='Look-up Tables'!$A$6,2,IF(U214='Look-up Tables'!$A$7,1)))))","v":false},null,{"$f":"IF(W214='Look-up Tables'!$B$3,5,IF(W214='Look-up Tables'!$B$4,4,IF(W214='Look-up Tables'!$B$5,3,IF(W214='Look-up Tables'!$B$6,2,IF(W214='Look-up Tables'!$B$7,1)))))","v":false},null,{"$f":"IF(Y214='Look-up Tables'!$C$3,5,IF(Y214='Look-up Tables'!$C$4,4,IF(Y214='Look-up Tables'!$C$5,3,IF(Y214='Look-up Tables'!$C$6,2,IF(Y214='Look-up Tables'!$C$7,1)))))","v":false},{"$f":"IFERROR(VLOOKUP(AB214,'Look-up Tables'!$D$3:$E$127,2),\"\")","v":""},0]
[null,null,null,null,null,null,{"$f":"IF(F215='Look-up Tables'!$A$3,5,IF(F215='Look-up Tables'!$A$4,4,IF(F215='Look-up Tables'!$A$5,3,IF(F215='Look-up Tables'!$A$6,2,IF(F215='Look-up Tables'!$A$7,1)))))","v":false},null,null,{"$f":"IF(I215='Look-up Tables'!$B$3,5,IF(I215='Look-up Tables'!$B$4,4,IF(I215='Look-up Tables'!$B$5,3,IF(I215='Look-up Tables'!$B$6,2,IF(I215='Look-up Tables'!$B$7,1)))))","v":false},null,null,null,{"$f":"IF(M215='Look-up Tables'!$C$3,5,IF(M215='Look-up Tables'!$C$4,4,IF(M215='Look-up Tables'!$C$5,3,IF(M215='Look-up Tables'!$C$6,2,IF(M215='Look-up Tables'!$C$7,1)))))","v":false},{"$f":"IFERROR(VLOOKUP(P215,'Look-up Tables'!$D$3:$E$127,2),\"\")","v":""},0,null,null,null,null,null,{"$f":"IF(U215='Look-up Tables'!$A$3,5,IF(U215='Look-up Tables'!$A$4,4,IF(U215='Look-up Tables'!$A$5,3,IF(U215='Look-up Tables'!$A$6,2,IF(U215='Look-up Tables'!$A$7,1)))))","v":false},null,{"$f":"IF(W215='Look-up Tables'!$B$3,5,IF(W215='Look-up Tables'!$B$4,4,IF(W215='Look-up Tables'!$B$5,3,IF(W215='Look-up Tables'!$B$6,2,IF(W215='Look-up Tables'!$B$7,1)))))","v":false},null,{"$f":"IF(Y215='Look-up Tables'!$C$3,5,IF(Y215='Look-up Tables'!$C$4,4,IF(Y215='Look-up Tables'!$C$5,3,IF(Y215='Look-up Tables'!$C$6,2,IF(Y215='Look-up Tables'!$C$7,1)))))","v":false},{"$f":"IFERROR(VLOOKUP(AB215,'Look-up Tables'!$D$3:$E$127,2),\"\")","v":""},0]
[null,null,null,null,null,null,{"$f":"IF(F216='Look-up Tables'!$A$3,5,IF(F216='Look-up Tables'!$A$4,4,IF(F216='Look-up Tables'!$A$5,3,IF(F216='Look-up Tables'!$A$6,2,IF(F216='Look-up Tables'!$A$7,1)))))","v":false},null,null,{"$f":"IF(I216='Look-up Tables'!$B$3,5,IF(I216='Look-up Tables'!$B$4,4,IF(I216='Look-up Tables'!$B$5,3,IF(I216='Look-up Tables'!$B$6,2,IF(I216='Look-up Tables'!$B$7,1)))))","v":false},null,null,null,{"$f":"IF(M216='Look-up Tables'!$C$3,5,IF(M216='Look-up Tables'!$C$4,4,IF(M216='Look-up Tables'!$C$5,3,IF(M216='Look-up Tables'!$C$6,2,IF(M216='Look-up Tables'!$C$7,1)))))","v":false},{"$f":"IFERROR(VLOOKUP(P216,'Look-up Tables'!$D$3:$E$127,2),\"\")","v":""},0,null,null,null,null,null,{"$f":"IF(U216='Look-up Tables'!$A$3,5,IF(U216='Look-up Tables'!$A$4,4,IF(U216='Look-up Tables'!$A$5,3,IF(U216='Look-up Tables'!$A$6,2,IF(U216='Look-up Tables'!$A$7,1)))))","v":false},null,{"$f":"IF(W216='Look-up Tables'!$B$3,5,IF(W216='Look-up Tables'!$B$4,4,IF(W216='Look-up Tables'!$B$5,3,IF(W216='Look-up Tables'!$B$6,2,IF(W216='Look-up Tables'!$B$7,1)))))","v":false},null,{"$f":"IF(Y216='Look-up Tables'!$C$3,5,IF(Y216='Look-up Tables'!$C$4,4,IF(Y216='Look-up Tables'!$C$5,3,IF(Y216='Look-up Tables'!$C$6,2,IF(Y216='Look-up Tables'!$C$7,1)))))","v":false},{"$f":"IFERROR(VLOOKUP(AB216,'Look-up Tables'!$D$3:$E$127,2),\"\")","v":""},0]
[null,null,null,null,null,null,{"$f":"IF(F217='Look-up Tables'!$A$3,5,IF(F217='Look-up Tables'!$A$4,4,IF(F217='Look-up Tables'!$A$5,3,IF(F217='Look-up Tables'!$A$6,2,IF(F217='Look-up Tables'!$A$7,1)))))","v":false},null,null,{"$f":"IF(I217='Look-up Tables'!$B$3,5,IF(I217='Look-up Tables'!$B$4,4,IF(I217='Look-up Tables'!$B$5,3,IF(I217='Look-up Tables'!$B$6,2,IF(I217='Look-up Tables'!$B$7,1)))))","v":false},null,null,null,{"$f":"IF(M217='Look-up Tables'!$C$3,5,IF(M217='Look-up Tables'!$C$4,4,IF(M217='Look-up Tables'!$C$5,3,IF(M217='Look-up Tables'!$C$6,2,IF(M217='Look-up Tables'!$C$7,1)))))","v":false},{"$f":"IFERROR(VLOOKUP(P217,'Look-up Tables'!$D$3:$E$127,2),\"\")","v":""},0,null,null,null,null,null,{"$f":"IF(U217='Look-up Tables'!$A$3,5,IF(U217='Look-up Tables'!$A$4,4,IF(U217='Look-up Tables'!$A$5,3,IF(U217='Look-up Tables'!$A$6,2,IF(U217='Look-up Tables'!$A$7,1)))))","v":false},null,{"$f":"IF(W217='Look-up Tables'!$B$3,5,IF(W217='Look-up Tables'!$B$4,4,IF(W217='Look-up Tables'!$B$5,3,IF(W217='Look-up Tables'!$B$6,2,IF(W217='Look-up Tables'!$B$7,1)))))","v":false},null,{"$f":"IF(Y217='Look-up Tables'!$C$3,5,IF(Y217='Look-up Tables'!$C$4,4,IF(Y217='Look-up Tables'!$C$5,3,IF(Y217='Look-up Tables'!$C$6,2,IF(Y217='Look-up Tables'!$C$7,1)))))","v":false},{"$f":"IFERROR(VLOOKUP(AB217,'Look-up Tables'!$D$3:$E$127,2),\"\")","v":""},0]
[null,null,null,null,null,null,{"$f":"IF(F218='Look-up Tables'!$A$3,5,IF(F218='Look-up Tables'!$A$4,4,IF(F218='Look-up Tables'!$A$5,3,IF(F218='Look-up Tables'!$A$6,2,IF(F218='Look-up Tables'!$A$7,1)))))","v":false},null,null,{"$f":"IF(I218='Look-up Tables'!$B$3,5,IF(I218='Look-up Tables'!$B$4,4,IF(I218='Look-up Tables'!$B$5,3,IF(I218='Look-up Tables'!$B$6,2,IF(I218='Look-up Tables'!$B$7,1)))))","v":false},null,null,null,{"$f":"IF(M218='Look-up Tables'!$C$3,5,IF(M218='Look-up Tables'!$C$4,4,IF(M218='Look-up Tables'!$C$5,3,IF(M218='Look-up Tables'!$C$6,2,IF(M218='Look-up Tables'!$C$7,1)))))","v":false},{"$f":"IFERROR(VLOOKUP(P218,'Look-up Tables'!$D$3:$E$127,2),\"\")","v":""},0,null,null,null,null,null,{"$f":"IF(U218='Look-up Tables'!$A$3,5,IF(U218='Look-up Tables'!$A$4,4,IF(U218='Look-up Tables'!$A$5,3,IF(U218='Look-up Tables'!$A$6,2,IF(U218='Look-up Tables'!$A$7,1)))))","v":false},null,{"$f":"IF(W218='Look-up Tables'!$B$3,5,IF(W218='Look-up Tables'!$B$4,4,IF(W218='Look-up Tables'!$B$5,3,IF(W218='Look-up Tables'!$B$6,2,IF(W218='Look-up Tables'!$B$7,1)))))","v":false},null,{"$f":"IF(Y218='Look-up Tables'!$C$3,5,IF(Y218='Look-up Tables'!$C$4,4,IF(Y218='Look-up Tables'!$C$5,3,IF(Y218='Look-up Tables'!$C$6,2,IF(Y218='Look-up Tables'!$C$7,1)))))","v":false},{"$f":"IFERROR(VLOOKUP(AB218,'Look-up Tables'!$D$3:$E$127,2),\"\")","v":""},0]
[null,null,null,null,null,null,{"$f":"IF(F219='Look-up Tables'!$A$3,5,IF(F219='Look-up Tables'!$A$4,4,IF(F219='Look-up Tables'!$A$5,3,IF(F219='Look-up Tables'!$A$6,2,IF(F219='Look-up Tables'!$A$7,1)))))","v":false},null,null,{"$f":"IF(I219='Look-up Tables'!$B$3,5,IF(I219='Look-up Tables'!$B$4,4,IF(I219='Look-up Tables'!$B$5,3,IF(I219='Look-up Tables'!$B$6,2,IF(I219='Look-up Tables'!$B$7,1)))))","v":false},null,null,null,{"$f":"IF(M219='Look-up Tables'!$C$3,5,IF(M219='Look-up Tables'!$C$4,4,IF(M219='Look-up Tables'!$C$5,3,IF(M219='Look-up Tables'!$C$6,2,IF(M219='Look-up Tables'!$C$7,1)))))","v":false},{"$f":"IFERROR(VLOOKUP(P219,'Look-up Tables'!$D$3:$E$127,2),\"\")","v":""},0,null,null,null,null,null,{"$f":"IF(U219='Look-up Tables'!$A$3,5,IF(U219='Look-up Tables'!$A$4,4,IF(U219='Look-up Tables'!$A$5,3,IF(U219='Look-up Tables'!$A$6,2,IF(U219='Look-up Tables'!$A$7,1)))))","v":false},null,{"$f":"IF(W219='Look-up Tables'!$B$3,5,IF(W219='Look-up Tables'!$B$4,4,IF(W219='Look-up Tables'!$B$5,3,IF(W219='Look-up Tables'!$B$6,2,IF(W219='Look-up Tables'!$B$7,1)))))","v":false},null,{"$f":"IF(Y219='Look-up Tables'!$C$3,5,IF(Y219='Look-up Tables'!$C$4,4,IF(Y219='Look-up Tables'!$C$5,3,IF(Y219='Look-up Tables'!$C$6,2,IF(Y219='Look-up Tables'!$C$7,1)))))","v":false},{"$f":"IFERROR(VLOOKUP(AB219,'Look-up Tables'!$D$3:$E$127,2),\"\")","v":""},0]
[null,null,null,null,null,null,{"$f":"IF(F220='Look-up Tables'!$A$3,5,IF(F220='Look-up Tables'!$A$4,4,IF(F220='Look-up Tables'!$A$5,3,IF(F220='Look-up Tables'!$A$6,2,IF(F220='Look-up Tables'!$A$7,1)))))","v":false},null,null,{"$f":"IF(I220='Look-up Tables'!$B$3,5,IF(I220='Look-up Tables'!$B$4,4,IF(I220='Look-up Tables'!$B$5,3,IF(I220='Look-up Tables'!$B$6,2,IF(I220='Look-up Tables'!$B$7,1)))))","v":false},null,null,null,{"$f":"IF(M220='Look-up Tables'!$C$3,5,IF(M220='Look-up Tables'!$C$4,4,IF(M220='Look-up Tables'!$C$5,3,IF(M220='Look-up Tables'!$C$6,2,IF(M220='Look-up Tables'!$C$7,1)))))","v":false},{"$f":"IFERROR(VLOOKUP(P220,'Look-up Tables'!$D$3:$E$127,2),\"\")","v":""},0,null,null,null,null,null,{"$f":"IF(U220='Look-up Tables'!$A$3,5,IF(U220='Look-up Tables'!$A$4,4,IF(U220='Look-up Tables'!$A$5,3,IF(U220='Look-up Tables'!$A$6,2,IF(U220='Look-up Tables'!$A$7,1)))))","v":false},null,{"$f":"IF(W220='Look-up Tables'!$B$3,5,IF(W220='Look-up Tables'!$B$4,4,IF(W220='Look-up Tables'!$B$5,3,IF(W220='Look-up Tables'!$B$6,2,IF(W220='Look-up Tables'!$B$7,1)))))","v":false},null,{"$f":"IF(Y220='Look-up Tables'!$C$3,5,IF(Y220='Look-up Tables'!$C$4,4,IF(Y220='Look-up Tables'!$C$5,3,IF(Y220='Look-up Tables'!$C$6,2,IF(Y220='Look-up Tables'!$C$7,1)))))","v":false},{"$f":"IFERROR(VLOOKUP(AB220,'Look-up Tables'!$D$3:$E$127,2),\"\")","v":""},0]
[null,null,null,null,null,null,{"$f":"IF(F221='Look-up Tables'!$A$3,5,IF(F221='Look-up Tables'!$A$4,4,IF(F221='Look-up Tables'!$A$5,3,IF(F221='Look-up Tables'!$A$6,2,IF(F221='Look-up Tables'!$A$7,1)))))","v":false},null,null,{"$f":"IF(I221='Look-up Tables'!$B$3,5,IF(I221='Look-up Tables'!$B$4,4,IF(I221='Look-up Tables'!$B$5,3,IF(I221='Look-up Tables'!$B$6,2,IF(I221='Look-up Tables'!$B$7,1)))))","v":false},null,null,null,{"$f":"IF(M221='Look-up Tables'!$C$3,5,IF(M221='Look-up Tables'!$C$4,4,IF(M221='Look-up Tables'!$C$5,3,IF(M221='Look-up Tables'!$C$6,2,IF(M221='Look-up Tables'!$C$7,1)))))","v":false},{"$f":"IFERROR(VLOOKUP(P221,'Look-up Tables'!$D$3:$E$127,2),\"\")","v":""},0,null,null,null,null,null,{"$f":"IF(U221='Look-up Tables'!$A$3,5,IF(U221='Look-up Tables'!$A$4,4,IF(U221='Look-up Tables'!$A$5,3,IF(U221='Look-up Tables'!$A$6,2,IF(U221='Look-up Tables'!$A$7,1)))))","v":false},null,{"$f":"IF(W221='Look-up Tables'!$B$3,5,IF(W221='Look-up Tables'!$B$4,4,IF(W221='Look-up Tables'!$B$5,3,IF(W221='Look-up Tables'!$B$6,2,IF(W221='Look-up Tables'!$B$7,1)))))","v":false},null,{"$f":"IF(Y221='Look-up Tables'!$C$3,5,IF(Y221='Look-up Tables'!$C$4,4,IF(Y221='Look-up Tables'!$C$5,3,IF(Y221='Look-up Tables'!$C$6,2,IF(Y221='Look-up Tables'!$C$7,1)))))","v":false},{"$f":"IFERROR(VLOOKUP(AB221,'Look-up Tables'!$D$3:$E$127,2),\"\")","v":""},0]
[null,null,null,null,null,null,{"$f":"IF(F222='Look-up Tables'!$A$3,5,IF(F222='Look-up Tables'!$A$4,4,IF(F222='Look-up Tables'!$A$5,3,IF(F222='Look-up Tables'!$A$6,2,IF(F222='Look-up Tables'!$A$7,1)))))","v":false},null,null,{"$f":"IF(I222='Look-up Tables'!$B$3,5,IF(I222='Look-up Tables'!$B$4,4,IF(I222='Look-up Tables'!$B$5,3,IF(I222='Look-up Tables'!$B$6,2,IF(I222='Look-up Tables'!$B$7,1)))))","v":false},null,null,null,{"$f":"IF(M222='Look-up Tables'!$C$3,5,IF(M222='Look-up Tables'!$C$4,4,IF(M222='Look-up Tables'!$C$5,3,IF(M222='Look-up Tables'!$C$6,2,IF(M222='Look-up Tables'!$C$7,1)))))","v":false},{"$f":"IFERROR(VLOOKUP(P222,'Look-up Tables'!$D$3:$E$127,2),\"\")","v":""},0,null,null,null,null,null,{"$f":"IF(U222='Look-up Tables'!$A$3,5,IF(U222='Look-up Tables'!$A$4,4,IF(U222='Look-up Tables'!$A$5,3,IF(U222='Look-up Tables'!$A$6,2,IF(U222='Look-up Tables'!$A$7,1)))))","v":false},null,{"$f":"IF(W222='Look-up Tables'!$B$3,5,IF(W222='Look-up Tables'!$B$4,4,IF(W222='Look-up Tables'!$B$5,3,IF(W222='Look-up Tables'!$B$6,2,IF(W222='Look-up Tables'!$B$7,1)))))","v":false},null,{"$f":"IF(Y222='Look-up Tables'!$C$3,5,IF(Y222='Look-up Tables'!$C$4,4,IF(Y222='Look-up Tables'!$C$5,3,IF(Y222='Look-up Tables'!$C$6,2,IF(Y222='Look-up Tables'!$C$7,1)))))","v":false},{"$f":"IFERROR(VLOOKUP(AB222,'Look-up Tables'!$D$3:$E$127,2),\"\")","v":""},0]
[null,null,null,null,null,null,{"$f":"IF(F223='Look-up Tables'!$A$3,5,IF(F223='Look-up Tables'!$A$4,4,IF(F223='Look-up Tables'!$A$5,3,IF(F223='Look-up Tables'!$A$6,2,IF(F223='Look-up Tables'!$A$7,1)))))","v":false},null,null,{"$f":"IF(I223='Look-up Tables'!$B$3,5,IF(I223='Look-up Tables'!$B$4,4,IF(I223='Look-up Tables'!$B$5,3,IF(I223='Look-up Tables'!$B$6,2,IF(I223='Look-up Tables'!$B$7,1)))))","v":false},null,null,null,{"$f":"IF(M223='Look-up Tables'!$C$3,5,IF(M223='Look-up Tables'!$C$4,4,IF(M223='Look-up Tables'!$C$5,3,IF(M223='Look-up Tables'!$C$6,2,IF(M223='Look-up Tables'!$C$7,1)))))","v":false},{"$f":"IFERROR(VLOOKUP(P223,'Look-up Tables'!$D$3:$E$127,2),\"\")","v":""},0,null,null,null,null,null,{"$f":"IF(U223='Look-up Tables'!$A$3,5,IF(U223='Look-up Tables'!$A$4,4,IF(U223='Look-up Tables'!$A$5,3,IF(U223='Look-up Tables'!$A$6,2,IF(U223='Look-up Tables'!$A$7,1)))))","v":false},null,{"$f":"IF(W223='Look-up Tables'!$B$3,5,IF(W223='Look-up Tables'!$B$4,4,IF(W223='Look-up Tables'!$B$5,3,IF(W223='Look-up Tables'!$B$6,2,IF(W223='Look-up Tables'!$B$7,1)))))","v":false},null,{"$f":"IF(Y223='Look-up Tables'!$C$3,5,IF(Y223='Look-up Tables'!$C$4,4,IF(Y223='Look-up Tables'!$C$5,3,IF(Y223='Look-up Tables'!$C$6,2,IF(Y223='Look-up Tables'!$C$7,1)))))","v":false},{"$f":"IFERROR(VLOOKUP(AB223,'Look-up Tables'!$D$3:$E$127,2),\"\")","v":""},0]
[null,null,null,null,null,null,{"$f":"IF(F224='Look-up Tables'!$A$3,5,IF(F224='Look-up Tables'!$A$4,4,IF(F224='Look-up Tables'!$A$5,3,IF(F224='Look-up Tables'!$A$6,2,IF(F224='Look-up Tables'!$A$7,1)))))","v":false},null,null,{"$f":"IF(I224='Look-up Tables'!$B$3,5,IF(I224='Look-up Tables'!$B$4,4,IF(I224='Look-up Tables'!$B$5,3,IF(I224='Look-up Tables'!$B$6,2,IF(I224='Look-up Tables'!$B$7,1)))))","v":false},null,null,null,{"$f":"IF(M224='Look-up Tables'!$C$3,5,IF(M224='Look-up Tables'!$C$4,4,IF(M224='Look-up Tables'!$C$5,3,IF(M224='Look-up Tables'!$C$6,2,IF(M224='Look-up Tables'!$C$7,1)))))","v":false},{"$f":"IFERROR(VLOOKUP(P224,'Look-up Tables'!$D$3:$E$127,2),\"\")","v":""},0,null,null,null,null,null,{"$f":"IF(U224='Look-up Tables'!$A$3,5,IF(U224='Look-up Tables'!$A$4,4,IF(U224='Look-up Tables'!$A$5,3,IF(U224='Look-up Tables'!$A$6,2,IF(U224='Look-up Tables'!$A$7,1)))))","v":false},null,{"$f":"IF(W224='Look-up Tables'!$B$3,5,IF(W224='Look-up Tables'!$B$4,4,IF(W224='Look-up Tables'!$B$5,3,IF(W224='Look-up Tables'!$B$6,2,IF(W224='Look-up Tables'!$B$7,1)))))","v":false},null,{"$f":"IF(Y224='Look-up Tables'!$C$3,5,IF(Y224='Look-up Tables'!$C$4,4,IF(Y224='Look-up Tables'!$C$5,3,IF(Y224='Look-up Tables'!$C$6,2,IF(Y224='Look-up Tables'!$C$7,1)))))","v":false},{"$f":"IFERROR(VLOOKUP(AB224,'Look-up Tables'!$D$3:$E$127,2),\"\")","v":""},0]
[null,null,null,null,null,null,{"$f":"IF(F225='Look-up Tables'!$A$3,5,IF(F225='Look-up Tables'!$A$4,4,IF(F225='Look-up Tables'!$A$5,3,IF(F225='Look-up Tables'!$A$6,2,IF(F225='Look-up Tables'!$A$7,1)))))","v":false},null,null,{"$f":"IF(I225='Look-up Tables'!$B$3,5,IF(I225='Look-up Tables'!$B$4,4,IF(I225='Look-up Tables'!$B$5,3,IF(I225='Look-up Tables'!$B$6,2,IF(I225='Look-up Tables'!$B$7,1)))))","v":false},null,null,null,{"$f":"IF(M225='Look-up Tables'!$C$3,5,IF(M225='Look-up Tables'!$C$4,4,IF(M225='Look-up Tables'!$C$5,3,IF(M225='Look-up Tables'!$C$6,2,IF(M225='Look-up Tables'!$C$7,1)))))","v":false},{"$f":"IFERROR(VLOOKUP(P225,'Look-up Tables'!$D$3:$E$127,2),\"\")","v":""},0,null,null,null,null,null,{"$f":"IF(U225='Look-up Tables'!$A$3,5,IF(U225='Look-up Tables'!$A$4,4,IF(U225='Look-up Tables'!$A$5,3,IF(U225='Look-up Tables'!$A$6,2,IF(U225='Look-up Tables'!$A$7,1)))))","v":false},null,{"$f":"IF(W225='Look-up Tables'!$B$3,5,IF(W225='Look-up Tables'!$B$4,4,IF(W225='Look-up Tables'!$B$5,3,IF(W225='Look-up Tables'!$B$6,2,IF(W225='Look-up Tables'!$B$7,1)))))","v":false},null,{"$f":"IF(Y225='Look-up Tables'!$C$3,5,IF(Y225='Look-up Tables'!$C$4,4,IF(Y225='Look-up Tables'!$C$5,3,IF(Y225='Look-up Tables'!$C$6,2,IF(Y225='Look-up Tables'!$C$7,1)))))","v":false},{"$f":"IFERROR(VLOOKUP(AB225,'Look-up Tables'!$D$3:$E$127,2),\"\")","v":""},0]
[null,null,null,null,null,null,{"$f":"IF(F226='Look-up Tables'!$A$3,5,IF(F226='Look-up Tables'!$A$4,4,IF(F226='Look-up Tables'!$A$5,3,IF(F226='Look-up Tables'!$A$6,2,IF(F226='Look-up Tables'!$A$7,1)))))","v":false},null,null,{"$f":"IF(I226='Look-up Tables'!$B$3,5,IF(I226='Look-up Tables'!$B$4,4,IF(I226='Look-up Tables'!$B$5,3,IF(I226='Look-up Tables'!$B$6,2,IF(I226='Look-up Tables'!$B$7,1)))))","v":false},null,null,null,{"$f":"IF(M226='Look-up Tables'!$C$3,5,IF(M226='Look-up Tables'!$C$4,4,IF(M226='Look-up Tables'!$C$5,3,IF(M226='Look-up Tables'!$C$6,2,IF(M226='Look-up Tables'!$C$7,1)))))","v":false},{"$f":"IFERROR(VLOOKUP(P226,'Look-up Tables'!$D$3:$E$127,2),\"\")","v":""},0,null,null,null,null,null,{"$f":"IF(U226='Look-up Tables'!$A$3,5,IF(U226='Look-up Tables'!$A$4,4,IF(U226='Look-up Tables'!$A$5,3,IF(U226='Look-up Tables'!$A$6,2,IF(U226='Look-up Tables'!$A$7,1)))))","v":false},null,{"$f":"IF(W226='Look-up Tables'!$B$3,5,IF(W226='Look-up Tables'!$B$4,4,IF(W226='Look-up Tables'!$B$5,3,IF(W226='Look-up Tables'!$B$6,2,IF(W226='Look-up Tables'!$B$7,1)))))","v":false},null,{"$f":"IF(Y226='Look-up Tables'!$C$3,5,IF(Y226='Look-up Tables'!$C$4,4,IF(Y226='Look-up Tables'!$C$5,3,IF(Y226='Look-up Tables'!$C$6,2,IF(Y226='Look-up Tables'!$C$7,1)))))","v":false},{"$f":"IFERROR(VLOOKUP(AB226,'Look-up Tables'!$D$3:$E$127,2),\"\")","v":""},0]
[null,null,null,null,null,null,{"$f":"IF(F227='Look-up Tables'!$A$3,5,IF(F227='Look-up Tables'!$A$4,4,IF(F227='Look-up Tables'!$A$5,3,IF(F227='Look-up Tables'!$A$6,2,IF(F227='Look-up Tables'!$A$7,1)))))","v":false},null,null,{"$f":"IF(I227='Look-up Tables'!$B$3,5,IF(I227='Look-up Tables'!$B$4,4,IF(I227='Look-up Tables'!$B$5,3,IF(I227='Look-up Tables'!$B$6,2,IF(I227='Look-up Tables'!$B$7,1)))))","v":false},null,null,null,{"$f":"IF(M227='Look-up Tables'!$C$3,5,IF(M227='Look-up Tables'!$C$4,4,IF(M227='Look-up Tables'!$C$5,3,IF(M227='Look-up Tables'!$C$6,2,IF(M227='Look-up Tables'!$C$7,1)))))","v":false},{"$f":"IFERROR(VLOOKUP(P227,'Look-up Tables'!$D$3:$E$127,2),\"\")","v":""},0,null,null,null,null,null,{"$f":"IF(U227='Look-up Tables'!$A$3,5,IF(U227='Look-up Tables'!$A$4,4,IF(U227='Look-up Tables'!$A$5,3,IF(U227='Look-up Tables'!$A$6,2,IF(U227='Look-up Tables'!$A$7,1)))))","v":false},null,{"$f":"IF(W227='Look-up Tables'!$B$3,5,IF(W227='Look-up Tables'!$B$4,4,IF(W227='Look-up Tables'!$B$5,3,IF(W227='Look-up Tables'!$B$6,2,IF(W227='Look-up Tables'!$B$7,1)))))","v":false},null,{"$f":"IF(Y227='Look-up Tables'!$C$3,5,IF(Y227='Look-up Tables'!$C$4,4,IF(Y227='Look-up Tables'!$C$5,3,IF(Y227='Look-up Tables'!$C$6,2,IF(Y227='Look-up Tables'!$C$7,1)))))","v":false},{"$f":"IFERROR(VLOOKUP(AB227,'Look-up Tables'!$D$3:$E$127,2),\"\")","v":""},0]
[null,null,null,null,null,null,{"$f":"IF(F228='Look-up Tables'!$A$3,5,IF(F228='Look-up Tables'!$A$4,4,IF(F228='Look-up Tables'!$A$5,3,IF(F228='Look-up Tables'!$A$6,2,IF(F228='Look-up Tables'!$A$7,1)))))","v":false},null,null,{"$f":"IF(I228='Look-up Tables'!$B$3,5,IF(I228='Look-up Tables'!$B$4,4,IF(I228='Look-up Tables'!$B$5,3,IF(I228='Look-up Tables'!$B$6,2,IF(I228='Look-up Tables'!$B$7,1)))))","v":false},null,null,null,{"$f":"IF(M228='Look-up Tables'!$C$3,5,IF(M228='Look-up Tables'!$C$4,4,IF(M228='Look-up Tables'!$C$5,3,IF(M228='Look-up Tables'!$C$6,2,IF(M228='Look-up Tables'!$C$7,1)))))","v":false},{"$f":"IFERROR(VLOOKUP(P228,'Look-up Tables'!$D$3:$E$127,2),\"\")","v":""},0,null,null,null,null,null,{"$f":"IF(U228='Look-up Tables'!$A$3,5,IF(U228='Look-up Tables'!$A$4,4,IF(U228='Look-up Tables'!$A$5,3,IF(U228='Look-up Tables'!$A$6,2,IF(U228='Look-up Tables'!$A$7,1)))))","v":false},null,{"$f":"IF(W228='Look-up Tables'!$B$3,5,IF(W228='Look-up Tables'!$B$4,4,IF(W228='Look-up Tables'!$B$5,3,IF(W228='Look-up Tables'!$B$6,2,IF(W228='Look-up Tables'!$B$7,1)))))","v":false},null,{"$f":"IF(Y228='Look-up Tables'!$C$3,5,IF(Y228='Look-up Tables'!$C$4,4,IF(Y228='Look-up Tables'!$C$5,3,IF(Y228='Look-up Tables'!$C$6,2,IF(Y228='Look-up Tables'!$C$7,1)))))","v":false},{"$f":"IFERROR(VLOOKUP(AB228,'Look-up Tables'!$D$3:$E$127,2),\"\")","v":""},0]
[null,null,null,null,null,null,{"$f":"IF(F229='Look-up Tables'!$A$3,5,IF(F229='Look-up Tables'!$A$4,4,IF(F229='Look-up Tables'!$A$5,3,IF(F229='Look-up Tables'!$A$6,2,IF(F229='Look-up Tables'!$A$7,1)))))","v":false},null,null,{"$f":"IF(I229='Look-up Tables'!$B$3,5,IF(I229='Look-up Tables'!$B$4,4,IF(I229='Look-up Tables'!$B$5,3,IF(I229='Look-up Tables'!$B$6,2,IF(I229='Look-up Tables'!$B$7,1)))))","v":false},null,null,null,{"$f":"IF(M229='Look-up Tables'!$C$3,5,IF(M229='Look-up Tables'!$C$4,4,IF(M229='Look-up Tables'!$C$5,3,IF(M229='Look-up Tables'!$C$6,2,IF(M229='Look-up Tables'!$C$7,1)))))","v":false},{"$f":"IFERROR(VLOOKUP(P229,'Look-up Tables'!$D$3:$E$127,2),\"\")","v":""},0,null,null,null,null,null,{"$f":"IF(U229='Look-up Tables'!$A$3,5,IF(U229='Look-up Tables'!$A$4,4,IF(U229='Look-up Tables'!$A$5,3,IF(U229='Look-up Tables'!$A$6,2,IF(U229='Look-up Tables'!$A$7,1)))))","v":false},null,{"$f":"IF(W229='Look-up Tables'!$B$3,5,IF(W229='Look-up Tables'!$B$4,4,IF(W229='Look-up Tables'!$B$5,3,IF(W229='Look-up Tables'!$B$6,2,IF(W229='Look-up Tables'!$B$7,1)))))","v":false},null,{"$f":"IF(Y229='Look-up Tables'!$C$3,5,IF(Y229='Look-up Tables'!$C$4,4,IF(Y229='Look-up Tables'!$C$5,3,IF(Y229='Look-up Tables'!$C$6,2,IF(Y229='Look-up Tables'!$C$7,1)))))","v":false},{"$f":"IFERROR(VLOOKUP(AB229,'Look-up Tables'!$D$3:$E$127,2),\"\")","v":""},0]
[null,null,null,null,null,null,{"$f":"IF(F230='Look-up Tables'!$A$3,5,IF(F230='Look-up Tables'!$A$4,4,IF(F230='Look-up Tables'!$A$5,3,IF(F230='Look-up Tables'!$A$6,2,IF(F230='Look-up Tables'!$A$7,1)))))","v":false},null,null,{"$f":"IF(I230='Look-up Tables'!$B$3,5,IF(I230='Look-up Tables'!$B$4,4,IF(I230='Look-up Tables'!$B$5,3,IF(I230='Look-up Tables'!$B$6,2,IF(I230='Look-up Tables'!$B$7,1)))))","v":false},null,null,null,{"$f":"IF(M230='Look-up Tables'!$C$3,5,IF(M230='Look-up Tables'!$C$4,4,IF(M230='Look-up Tables'!$C$5,3,IF(M230='Look-up Tables'!$C$6,2,IF(M230='Look-up Tables'!$C$7,1)))))","v":false},{"$f":"IFERROR(VLOOKUP(P230,'Look-up Tables'!$D$3:$E$127,2),\"\")","v":""},0,null,null,null,null,null,{"$f":"IF(U230='Look-up Tables'!$A$3,5,IF(U230='Look-up Tables'!$A$4,4,IF(U230='Look-up Tables'!$A$5,3,IF(U230='Look-up Tables'!$A$6,2,IF(U230='Look-up Tables'!$A$7,1)))))","v":false},null,{"$f":"IF(W230='Look-up Tables'!$B$3,5,IF(W230='Look-up Tables'!$B$4,4,IF(W230='Look-up Tables'!$B$5,3,IF(W230='Look-up Tables'!$B$6,2,IF(W230='Look-up Tables'!$B$7,1)))))","v":false},null,{"$f":"IF(Y230='Look-up Tables'!$C$3,5,IF(Y230='Look-up Tables'!$C$4,4,IF(Y230='Look-up Tables'!$C$5,3,IF(Y230='Look-up Tables'!$C$6,2,IF(Y230='Look-up Tables'!$C$7,1)))))","v":false},{"$f":"IFERROR(VLOOKUP(AB230,'Look-up Tables'!$D$3:$E$127,2),\"\")","v":""},0]
[null,null,null,null,null,null,{"$f":"IF(F231='Look-up Tables'!$A$3,5,IF(F231='Look-up Tables'!$A$4,4,IF(F231='Look-up Tables'!$A$5,3,IF(F231='Look-up Tables'!$A$6,2,IF(F231='Look-up Tables'!$A$7,1)))))","v":false},null,null,{"$f":"IF(I231='Look-up Tables'!$B$3,5,IF(I231='Look-up Tables'!$B$4,4,IF(I231='Look-up Tables'!$B$5,3,IF(I231='Look-up Tables'!$B$6,2,IF(I231='Look-up Tables'!$B$7,1)))))","v":false},null,null,null,{"$f":"IF(M231='Look-up Tables'!$C$3,5,IF(M231='Look-up Tables'!$C$4,4,IF(M231='Look-up Tables'!$C$5,3,IF(M231='Look-up Tables'!$C$6,2,IF(M231='Look-up Tables'!$C$7,1)))))","v":false},{"$f":"IFERROR(VLOOKUP(P231,'Look-up Tables'!$D$3:$E$127,2),\"\")","v":""},0,null,null,null,null,null,{"$f":"IF(U231='Look-up Tables'!$A$3,5,IF(U231='Look-up Tables'!$A$4,4,IF(U231='Look-up Tables'!$A$5,3,IF(U231='Look-up Tables'!$A$6,2,IF(U231='Look-up Tables'!$A$7,1)))))","v":false},null,{"$f":"IF(W231='Look-up Tables'!$B$3,5,IF(W231='Look-up Tables'!$B$4,4,IF(W231='Look-up Tables'!$B$5,3,IF(W231='Look-up Tables'!$B$6,2,IF(W231='Look-up Tables'!$B$7,1)))))","v":false},null,{"$f":"IF(Y231='Look-up Tables'!$C$3,5,IF(Y231='Look-up Tables'!$C$4,4,IF(Y231='Look-up Tables'!$C$5,3,IF(Y231='Look-up Tables'!$C$6,2,IF(Y231='Look-up Tables'!$C$7,1)))))","v":false},{"$f":"IFERROR(VLOOKUP(AB231,'Look-up Tables'!$D$3:$E$127,2),\"\")","v":""},0]

{"sheet":"DFMEA Template","index":1,"n_rows":235,"n_cols":28,"rows_kept":235,"cut":false,"hidden":false,"merged":[[6,0,7,0],[6,1,7,1],[6,2,7,2],[6,4,7,4],[6,5,7,5],[6,3,7,3],[0,0,0,26],[2,2,2,4],[3,2,3,4],[4,2,4,11],[4,12,4,14],[6,17,7,17],[6,18,7,18],[6,19,6,26],[6,7,7,7],[6,8,7,8],[6,11,7,11],[6,12,7,12],[6,14,7,14],[6,16,7,16],[6,10,7,10]]}
["Design Failure Modes and Effects Analysis (DFMECA)"]
[]
[null,"Design:","Vacuum Systems",null,null,null,null,null,"L2 WBS (select first):",null,"Accelerator Systems",null,null,null,"DFMEA Date (Orig):",null,"2021-11-15"]
[null,"Author:","Alex Chen, Dan Lambert, Kyle Kendziora, Ron Kellet, Richard Andrews, Raul Campos",null,null,null,null,null,"L3 WBS:",null,"Vacuum",null,null,null,"Doc #:"]
[null,"Core Team:","Alex Chen, Dan Lambert, Richard Andrews, Raul Campos",null,null,null,null,null,null,null,null,null,"Rev:",null,"Rev:"]
[]
["#","Item/Function","Potential Failure Mode","Potentially Impacted External Systems","Potential Effect(s) of Failure","Severity",null,"Potential Cause(s)/Mechanism(s) of Failure","Probability",null,"Current Controls \n(Prevention)","Current Controls \n(Detection)","Detection",null,"Risk",null,"Recommended Action (s)","Responsibility","Target Date","Action Results"]
[null,null,null,null,null,null,"Hidden Column",null,null,"Hidden Column",null,null,null,"Hidden Column",null,"Hidden Column",null,null,null,"Actions Taken","Severity","Hidden Column","Probability","Hidden Column","Detection","Hidden Column","Risk","Hidden Column"]
[null,"Vacuum chambers, Beamtube","Large outgassing",null,"Vacuum level falls below requirements","Minimal",{"$f":"IF(F9='Look-up Tables'!$A$3,5,IF(F9='Look-up Tables'!$A$4,4,IF(F9='Look-up Tables'!$A$5,3,IF(F9='Look-up Tables'!$A$6,2,IF(F9='Look-up Tables'!$A$7,1)))))","v":1},"Virtual leak","Possible",{"$f":"IF(I9='Look-up Tables'!$B$3,5,IF(I9='Look-up Tables'!$B$4,4,IF(I9='Look-up Tables'!$B$5,3,IF(I9='Look-up Tables'!$B$6,2,IF(I9='Look-up Tables'!$B$7,1)))))","v":3},null,"Design review, certification of system (if not reviewed)","Low",{"$f":"IF(M9='Look-up Tables'!$C$3,5,IF(M9='Look-up Tables'!$C$4,4,IF(M9='Look-up Tables'!$C$5,3,IF(M9='Look-up Tables'!$C$6,2,IF(M9='Look-up Tables'!$C$7,1)))))","v":4},{"$f":"IFERROR(VLOOKUP(P9,'Look-up Tables'!$D$3:$E$127,2),\"\")","v":"Minor"},{"$f":"G9*J9*N9","v":12},"Design for no virtual leaks. Use standard vacuum design. Interface with Instrmentation and other Interfaces. Be involved in the review process.",null,null,null,null,{"$f":"IF(U9='Look-up Tables'!$A$3,5,IF(U9='Look-up Tables'!$A$4,4,IF(U9='Look-up Tables'!$A$5,3,IF(U9='Look-up Tables'!$A$6,2,IF(U9='Look-up Tables'!$A$7,1)))))","v":false},null,{"$f":"IF(W9='Look-up Tables'!$B$3,5,IF(W9='Look-up Tables'!$B$4,4,IF(W9='Look-up Tables'!$B$5,3,IF(W9='Look-up Tables'!$B$6,2,IF(W9='Look-up Tables'!$B$7,1)))))","v":false},null,{"$f":"IF(Y9='Look-up Tables'!$C$3,5,IF(Y9='Look-up Tables'!$C$4,4,IF(Y9='Look-up Tables'!$C$5,3,IF(Y9='Look-up Tables'!$C$6,2,IF(Y9='Look-up Tables'!$C$7,1)))))","v":false},{"$f":"IFERROR(VLOOKUP(AB9,'Look-up Tables'!$D$3:$E$127,2),\"\")","v":""},{"$f":"V9*X9*Z9","v":0}]
[null,"Vacuum chambers, Beamtube","Large outgassing",null,"Vacuum level falls below requirements","Minimal",{"$f":"IF(F10='Look-up Tables'!$A$3,5,IF(F10='Look-up Tables'!$A$4,4,IF(F10='Look-up Tables'!$A$5,3,IF(F10='Look-up Tables'!$A$6,2,IF(F10='Look-up Tables'!$A$7,1)))))","v":1},"Incorrect material used","Possible",{"$f":"IF(I10='Look-up Tables'!$B$3,5,IF(I10='Look-up Tables'!$B$4,4,IF(I10='Look-up Tables'!$B$5,3,IF(I10='Look-up Tables'!$B$6,2,IF(I10='Look-up Tables'!$B$7,1)))))","v":3},null,"Design review, certification of system (if not reviewed)","Low",{"$f":"IF(M10='Look-up Tables'!$C$3,5,IF(M10='Look-up Tables'!$C$4,4,IF(M10='Look-up Tables'!$C$5,3,IF(M10='Look-up Tables'!$C$6,2,IF(M10='Look-up Tables'!$C$7,1)))))","v":4},{"$f":"IFERROR(VLOOKUP(P10,'Look-up Tables'!$D$3:$E$127,2),\"\")","v":"Minor"},12,"Design for no virtual leaks. Use standard vacuum design. Interface with Instrmentation and other Interfaces. Be involved in the review process."]
[null,"Vacuum systems, Beam Instrumentation","Vacuum optical windows fail",null,"Loss of vacuum, particles migrate to cryomodules","Medium",{"$f":"IF(F11='Look-up Tables'!$A$3,5,IF(F11='Look-up Tables'!$A$4,4,IF(F11='Look-up Tables'!$A$5,3,IF(F11='Look-up Tables'!$A$6,2,IF(F11='Look-up Tables'!$A$7,1)))))","v":3},"Thermomechanical fatigue, thermal expansion due to energy deposition from laser","Possible",{"$f":"IF(I11='Look-up Tables'!$B$3,5,IF(I11='Look-up Tables'!$B$4,4,IF(I11='Look-up Tables'!$B$5,3,IF(I11='Look-up Tables'!$B$6,2,IF(I11='Look-up Tables'!$B$7,1)))))","v":3},"Engineering Analysis","Vacuum level data logging and alarms","Moderate",{"$f":"IF(M11='Look-up Tables'!$C$3,5,IF(M11='Look-up Tables'!$C$4,4,IF(M11='Look-up Tables'!$C$5,3,IF(M11='Look-up Tables'!$C$6,2,IF(M11='Look-up Tables'!$C$7,1)))))","v":3},{"$f":"IFERROR(VLOOKUP(P11,'Look-up Tables'!$D$3:$E$127,2),\"\")","v":"Moderate"},27,"Develop specifications, develop testing criteria",null,null,null,null,{"$f":"IF(U11='Look-up Tables'!$A$3,5,IF(U11='Look-up Tables'!$A$4,4,IF(U11='Look-up Tables'!$A$5,3,IF(U11='Look-up Tables'!$A$6,2,IF(U11='Look-up Tables'!$A$7,1)))))","v":false},null,{"$f":"IF(W11='Look-up Tables'!$B$3,5,IF(W11='Look-up Tables'!$B$4,4,IF(W11='Look-up Tables'!$B$5,3,IF(W11='Look-up Tables'!$B$6,2,IF(W11='Look-up Tables'!$B$7,1)))))","v":false},null,{"$f":"IF(Y11='Look-up Tables'!$C$3,5,IF(Y11='Look-up Tables'!$C$4,4,IF(Y11='Look-up Tables'!$C$5,3,IF(Y11='Look-up Tables'!$C$6,2,IF(Y11='Look-up Tables'!$C$7,1)))))","v":false},{"$f":"IFERROR(VLOOKUP(AB11,'Look-up Tables'!$D$3:$E$127,2),\"\")","v":""},0]
[null,"Vacuum window","Vacuum windows fail",null,"CMs are compromised","Medium",{"$f":"IF(F12='Look-up Tables'!$A$3,5,IF(F12='Look-up Tables'!$A$4,4,IF(F12='Look-up Tables'!$A$5,3,IF(F12='Look-up Tables'!$A$6,2,IF(F12='Look-up Tables'!$A$7,1)))))","v":3},"Thermomechanical fatigue, thermal expansion due to energy deposition from beam","Unlikely",{"$f":"IF(I12='Look-up Tables'!$B$3,5,IF(I12='Look-up Tables'!$B$4,4,IF(I12='Look-up Tables'!$B$5,3,IF(I12='Look-up Tables'!$B$6,2,IF(I12='Look-up Tables'!$B$7,1)))))","v":2},"Engineering Note review","Vacuum level data logging and alarms","Almost Certain",{"$f":"IF(M12='Look-up Tables'!$C$3,5,IF(M12='Look-up Tables'!$C$4,4,IF(M12='Look-up Tables'!$C$5,3,IF(M12='Look-up Tables'!$C$6,2,IF(M12='Look-up Tables'!$C$7,1)))))","v":1},{"$f":"IFERROR(VLOOKUP(P12,'Look-up Tables'!$D$3:$E$127,2),\"\")","v":"Negligible"},6,"Oversee design and analysis",null,null,null,null,{"$f":"IF(U12='Look-up Tables'!$A$3,5,IF(U12='Look-up Tables'!$A$4,4,IF(U12='Look-up Tables'!$A$5,3,IF(U12='Look-up Tables'!$A$6,2,IF(U12='Look-up Tables'!$A$7,1)))))","v":false},null,{"$f":"IF(W12='Look-up Tables'!$B$3,5,IF(W12='Look-up Tables'!$B$4,4,IF(W12='Look-up Tables'!$B$5,3,IF(W12='Look-up Tables'!$B$6,2,IF(W12='Look-up Tables'!$B$7,1)))))","v":false},null,{"$f":"IF(Y12='Look-up Tables'!$C$3,5,IF(Y12='Look-up Tables'!$C$4,4,IF(Y12='Look-up Tables'!$C$5,3,IF(Y12='Look-up Tables'!$C$6,2,IF(Y12='Look-up Tables'!$C$7,1)))))","v":false},{"$f":"IFERROR(VLOOKUP(AB12,'Look-up Tables'!$D$3:$E$127,2),\"\")","v":""},0]
[null,null,null,null,null,null,{"$f":"IF(F13='Look-up Tables'!$A$3,5,IF(F13='Look-up Tables'!$A$4,4,IF(F13='Look-up Tables'!$A$5,3,IF(F13='Look-up Tables'!$A$6,2,IF(F13='Look-up Tables'!$A$7,1)))))","v":false},null,null,{"$f":"IF(I13='Look-up Tables'!$B$3,5,IF(I13='Look-up Tables'!$B$4,4,IF(I13='Look-up Tables'!$B$5,3,IF(I13='Look-up Tables'!$B$6,2,IF(I13='Look-up Tables'!$B$7,1)))))","v":false},null,null,null,{"$f":"IF(M13='Look-up Tables'!$C$3,5,IF(M13='Look-up Tables'!$C$4,4,IF(M13='Look-up Tables'!$C$5,3,IF(M13='Look-up Tables'!$C$6,2,IF(M13='Look-up Tables'!$C$7,1)))))","v":false},{"$f":"IFERROR(VLOOKUP(P13,'Look-up Tables'!$D$3:$E$127,2),\"\")","v":""},0,null,null,null,null,null,{"$f":"IF(U13='Look-up Tables'!$A$3,5,IF(U13='Look-up Tables'!$A$4,4,IF(U13='Look-up Tables'!$A$5,3,IF(U13='Look-up Tables'!$A$6,2,IF(U13='Look-up Tables'!$A$7,1)))))","v":false},null,{"$f":"IF(W13='Look-up Tables'!$B$3,5,IF(W13='Look-up Tables'!$B$4,4,IF(W13='Look-up Tables'!$B$5,3,IF(W13='Look-up Tables'!$B$6,2,IF(W13='Look-up Tables'!$B$7,1)))))","v":false},null,{"$f":"IF(Y13='Look-up Tables'!$C$3,5,IF(Y13='Look-up Tables'!$C$4,4,IF(Y13='Look-up Tables'!$C$5,3,IF(Y13='Look-up Tables'!$C$6,2,IF(Y13='Look-up Tables'!$C$7,1)))))","v":false},{"$f":"IFERROR(VLOOKUP(AB13,'Look-up Tables'!$D$3:$E$127,2),\"\")","v":""},0]
[null,null,null,null,null,null,{"$f":"IF(F14='Look-up Tables'!$A$3,5,IF(F14='Look-up Tables'!$A$4,4,IF(F14='Look-up Tables'!$A$5,3,IF(F14='Look-up Tables'!$A$6,2,IF(F14='Look-up Tables'!$A$7,1)))))","v":false},null,null,{"$f":"IF(I14='Look-up Tables'!$B$3,5,IF(I14='Look-up Tables'!$B$4,4,IF(I14='Look-up Tables'!$B$5,3,IF(I14='Look-up Tables'!$B$6,2,IF(I14='Look-up Tables'!$B$7,1)))))","v":false},null,null,null,{"$f":"IF(M14='Look-up Tables'!$C$3,5,IF(M14='Look-up Tables'!$C$4,4,IF(M14='Look-up Tables'!$C$5,3,IF(M14='Look-up Tables'!$C$6,2,IF(M14='Look-up Tables'!$C$7,1)))))","v":false},{"$f":"IFERROR(VLOOKUP(P14,'Look-up Tables'!$D$3:$E$127,2),\"\")","v":""},0,null,null,null,null,null,{"$f":"IF(U14='Look-up Tables'!$A$3,5,IF(U14='Look-up Tables'!$A$4,4,IF(U14='Look-up Tables'!$A$5,3,IF(U14='Look-up Tables'!$A$6,2,IF(U14='Look-up Tables'!$A$7,1)))))","v":false},null,{"$f":"IF(W14='Look-up Tables'!$B$3,5,IF(W14='Look-up Tables'!$B$4,4,IF(W14='Look-up Tables'!$B$5,3,IF(W14='Look-up Tables'!$B$6,2,IF(W14='Look-up Tables'!$B$7,1)))))","v":false},null,{"$f":"IF(Y14='Look-up Tables'!$C$3,5,IF(Y14='Look-up Tables'!$C$4,4,IF(Y14='Look-up Tables'!$C$5,3,IF(Y14='Look-up Tables'!$C$6,2,IF(Y14='Look-up Tables'!$C$7,1)))))","v":false},{"$f":"IFERROR(VLOOKUP(AB14,'Look-up Tables'!$D$3:$E$127,2),\"\")","v":""},0]
[null,null,null,null,null,null,{"$f":"IF(F15='Look-up Tables'!$A$3,5,IF(F15='Look-up Tables'!$A$4,4,IF(F15='Look-up Tables'!$A$5,3,IF(F15='Look-up Tables'!$A$6,2,IF(F15='Look-up Tables'!$A$7,1)))))","v":false},null,null,{"$f":"IF(I15='Look-up Tables'!$B$3,5,IF(I15='Look-up Tables'!$B$4,4,IF(I15='Look-up Tables'!$B$5,3,IF(I15='Look-up Tables'!$B$6,2,IF(I15='Look-up Tables'!$B$7,1)))))","v":false},null,null,null,{"$f":"IF(M15='Look-up Tables'!$C$3,5,IF(M15='Look-up Tables'!$C$4,4,IF(M15='Look-up Tables'!$C$5,3,IF(M15='Look-up Tables'!$C$6,2,IF(M15='Look-up Tables'!$C$7,1)))))","v":false},{"$f":"IFERROR(VLOOKUP(P15,'Look-up Tables'!$D$3:$E$127,2),\"\")","v":""},0,null,null,null,null,null,{"$f":"IF(U15='Look-up Tables'!$A$3,5,IF(U15='Look-up Tables'!$A$4,4,IF(U15='Look-up Tables'!$A$5,3,IF(U15='Look-up Tables'!$A$6,2,IF(U15='Look-up Tables'!$A$7,1)))))","v":false},null,{"$f":"IF(W15='Look-up Tables'!$B$3,5,IF(W15='Look-up Tables'!$B$4,4,IF(W15='Look-up Tables'!$B$5,3,IF(W15='Look-up Tables'!$B$6,2,IF(W15='Look-up Tables'!$B$7,1)))))","v":false},null,{"$f":"IF(Y15='Look-up Tables'!$C$3,5,IF(Y15='Look-up Tables'!$C$4,4,IF(Y15='Look-up Tables'!$C$5,3,IF(Y15='Look-up Tables'!$C$6,2,IF(Y15='Look-up Tables'!$C$7,1)))))","v":false},{"$f":"IFERROR(VLOOKUP(AB15,'Look-up Tables'!$D$3:$E$127,2),\"\")","v":""},0]
[null,null,null,null,null,null,{"$f":"IF(F16='Look-up Tables'!$A$3,5,IF(F16='Look-up Tables'!$A$4,4,IF(F16='Look-up Tables'!$A$5,3,IF(F16='Look-up Tables'!$A$6,2,IF(F16='Look-up Tables'!$A$7,1)))))","v":false},null,null,{"$f":"IF(I16='Look-up Tables'!$B$3,5,IF(I16='Look-up Tables'!$B$4,4,IF(I16='Look-up Tables'!$B$5,3,IF(I16='Look-up Tables'!$B$6,2,IF(I16='Look-up Tables'!$B$7,1)))))","v":false},null,null,null,{"$f":"IF(M16='Look-up Tables'!$C$3,5,IF(M16='Look-up Tables'!$C$4,4,IF(M16='Look-up Tables'!$C$5,3,IF(M16='Look-up Tables'!$C$6,2,IF(M16='Look-up Tables'!$C$7,1)))))","v":false},{"$f":"IFERROR(VLOOKUP(P16,'Look-up Tables'!$D$3:$E$127,2),\"\")","v":""},0,null,null,null,null,null,{"$f":"IF(U16='Look-up Tables'!$A$3,5,IF(U16='Look-up Tables'!$A$4,4,IF(U16='Look-up Tables'!$A$5,3,IF(U16='Look-up Tables'!$A$6,2,IF(U16='Look-up Tables'!$A$7,1)))))","v":false},null,{"$f":"IF(W16='Look-up Tables'!$B$3,5,IF(W16='Look-up Tables'!$B$4,4,IF(W16='Look-up Tables'!$B$5,3,IF(W16='Look-up Tables'!$B$6,2,IF(W16='Look-up Tables'!$B$7,1)))))","v":false},null,{"$f":"IF(Y16='Look-up Tables'!$C$3,5,IF(Y16='Look-up Tables'!$C$4,4,IF(Y16='Look-up Tables'!$C$5,3,IF(Y16='Look-up Tables'!$C$6,2,IF(Y16='Look-up Tables'!$C$7,1)))))","v":false},{"$f":"IFERROR(VLOOKUP(AB16,'Look-up Tables'!$D$3:$E$127,2),\"\")","v":""},0]
[null,null,null,null,null,null,{"$f":"IF(F17='Look-up Tables'!$A$3,5,IF(F17='Look-up Tables'!$A$4,4,IF(F17='Look-up Tables'!$A$5,3,IF(F17='Look-up Tables'!$A$6,2,IF(F17='Look-up Tables'!$A$7,1)))))","v":false},null,null,{"$f":"IF(I17='Look-up Tables'!$B$3,5,IF(I17='Look-up Tables'!$B$4,4,IF(I17='Look-up Tables'!$B$5,3,IF(I17='Look-up Tables'!$B$6,2,IF(I17='Look-up Tables'!$B$7,1)))))","v":false},null,null,null,{"$f":"IF(M17='Look-up Tables'!$C$3,5,IF(M17='Look-up Tables'!$C$4,4,IF(M17='Look-up Tables'!$C$5,3,IF(M17='Look-up Tables'!$C$6,2,IF(M17='Look-up Tables'!$C$7,1)))))","v":false},{"$f":"IFERROR(VLOOKUP(P17,'Look-up Tables'!$D$3:$E$127,2),\"\")","v":""},0,null,null,null,null,null,{"$f":"IF(U17='Look-up Tables'!$A$3,5,IF(U17='Look-up Tables'!$A$4,4,IF(U17='Look-up Tables'!$A$5,3,IF(U17='Look-up Tables'!$A$6,2,IF(U17='Look-up Tables'!$A$7,1)))))","v":false},null,{"$f":"IF(W17='Look-up Tables'!$B$3,5,IF(W17='Look-up Tables'!$B$4,4,IF(W17='Look-up Tables'!$B$5,3,IF(W17='Look-up Tables'!$B$6,2,IF(W17='Look-up Tables'!$B$7,1)))))","v":false},null,{"$f":"IF(Y17='Look-up Tables'!$C$3,5,IF(Y17='Look-up Tables'!$C$4,4,IF(Y17='Look-up Tables'!$C$5,3,IF(Y17='Look-up Tables'!$C$6,2,IF(Y17='Look-up Tables'!$C$7,1)))))","v":false},{"$f":"IFERROR(VLOOKUP(AB17,'Look-up Tables'!$D$3:$E$127,2),\"\")","v":""},0]
[null,null,null,null,null,null,{"$f":"IF(F18='Look-up Tables'!$A$3,5,IF(F18='Look-up Tables'!$A$4,4,IF(F18='Look-up Tables'!$A$5,3,IF(F18='Look-up Tables'!$A$6,2,IF(F18='Look-up Tables'!$A$7,1)))))","v":false},null,null,{"$f":"IF(I18='Look-up Tables'!$B$3,5,IF(I18='Look-up Tables'!$B$4,4,IF(I18='Look-up Tables'!$B$5,3,IF(I18='Look-up Tables'!$B$6,2,IF(I18='Look-up Tables'!$B$7,1)))))","v":false},null,null,null,{"$f":"IF(M18='Look-up Tables'!$C$3,5,IF(M18='Look-up Tables'!$C$4,4,IF(M18='Look-up Tables'!$C$5,3,IF(M18='Look-up Tables'!$C$6,2,IF(M18='Look-up Tables'!$C$7,1)))))","v":false},{"$f":"IFERROR(VLOOKUP(P18,'Look-up Tables'!$D$3:$E$127,2),\"\")","v":""},0,null,null,null,null,null,{"$f":"IF(U18='Look-up Tables'!$A$3,5,IF(U18='Look-up Tables'!$A$4,4,IF(U18='Look-up Tables'!$A$5,3,IF(U18='Look-up Tables'!$A$6,2,IF(U18='Look-up Tables'!$A$7,1)))))","v":false},null,{"$f":"IF(W18='Look-up Tables'!$B$3,5,IF(W18='Look-up Tables'!$B$4,4,IF(W18='Look-up Tables'!$B$5,3,IF(W18='Look-up Tables'!$B$6,2,IF(W18='Look-up Tables'!$B$7,1)))))","v":false},null,{"$f":"IF(Y18='Look-up Tables'!$C$3,5,IF(Y18='Look-up Tables'!$C$4,4,IF(Y18='Look-up Tables'!$C$5,3,IF(Y18='Look-up Tables'!$C$6,2,IF(Y18='Look-up Tables'!$C$7,1)))))","v":false},{"$f":"IFERROR(VLOOKUP(AB18,'Look-up Tables'!$D$3:$E$127,2),\"\")","v":""},0]
[null,null,null,null,null,null,{"$f":"IF(F19='Look-up Tables'!$A$3,5,IF(F19='Look-up Tables'!$A$4,4,IF(F19='Look-up Tables'!$A$5,3,IF(F19='Look-up Tables'!$A$6,2,IF(F19='Look-up Tables'!$A$7,1)))))","v":false},null,null,{"$f":"IF(I19='Look-up Tables'!$B$3,5,IF(I19='Look-up Tables'!$B$4,4,IF(I19='Look-up Tables'!$B$5,3,IF(I19='Look-up Tables'!$B$6,2,IF(I19='Look-up Tables'!$B$7,1)))))","v":false},null,null,null,{"$f":"IF(M19='Look-up Tables'!$C$3,5,IF(M19='Look-up Tables'!$C$4,4,IF(M19='Look-up Tables'!$C$5,3,IF(M19='Look-up Tables'!$C$6,2,IF(M19='Look-up Tables'!$C$7,1)))))","v":false},{"$f":"IFERROR(VLOOKUP(P19,'Look-up Tables'!$D$3:$E$127,2),\"\")","v":""},0,null,null,null,null,null,{"$f":"IF(U19='Look-up Tables'!$A$3,5,IF(U19='Look-up Tables'!$A$4,4,IF(U19='Look-up Tables'!$A$5,3,IF(U19='Look-up Tables'!$A$6,2,IF(U19='Look-up Tables'!$A$7,1)))))","v":false},null,{"$f":"IF(W19='Look-up Tables'!$B$3,5,IF(W19='Look-up Tables'!$B$4,4,IF(W19='Look-up Tables'!$B$5,3,IF(W19='Look-up Tables'!$B$6,2,IF(W19='Look-up Tables'!$B$7,1)))))","v":false},null,{"$f":"IF(Y19='Look-up Tables'!$C$3,5,IF(Y19='Look-up Tables'!$C$4,4,IF(Y19='Look-up Tables'!$C$5,3,IF(Y19='Look-up Tables'!$C$6,2,IF(Y19='Look-up Tables'!$C$7,1)))))","v":false},{"$f":"IFERROR(VLOOKUP(AB19,'Look-up Tables'!$D$3:$E$127,2),\"\")","v":""},0]
[null,null,null,null,null,null,{"$f":"IF(F20='Look-up Tables'!$A$3,5,IF(F20='Look-up Tables'!$A$4,4,IF(F20='Look-up Tables'!$A$5,3,IF(F20='Look-up Tables'!$A$6,2,IF(F20='Look-up Tables'!$A$7,1)))))","v":false},null,null,{"$f":"IF(I20='Look-up Tables'!$B$3,5,IF(I20='Look-up Tables'!$B$4,4,IF(I20='Look-up Tables'!$B$5,3,IF(I20='Look-up Tables'!$B$6,2,IF(I20='Look-up Tables'!$B$7,1)))))","v":false},null,null,null,{"$f":"IF(M20='Look-up Tables'!$C$3,5,IF(M20='Look-up Tables'!$C$4,4,IF(M20='Look-up Tables'!$C$5,3,IF(M20='Look-up Tables'!$C$6,2,IF(M20='Look-up Tables'!$C$7,1)))))","v":false},{"$f":"IFERROR(VLOOKUP(P20,'Look-up Tables'!$D$3:$E$127,2),\"\")","v":""},0,null,null,null,null,null,{"$f":"IF(U20='Look-up Tables'!$A$3,5,IF(U20='Look-up Tables'!$A$4,4,IF(U20='Look-up Tables'!$A$5,3,IF(U20='Look-up Tables'!$A$6,2,IF(U20='Look-up Tables'!$A$7,1)))))","v":false},null,{"$f":"IF(W20='Look-up Tables'!$B$3,5,IF(W20='Look-up Tables'!$B$4,4,IF(W20='Look-up Tables'!$B$5,3,IF(W20='Look-up Tables'!$B$6,2,IF(W20='Look-up Tables'!$B$7,1)))))","v":false},null,{"$f":"IF(Y20='Look-up Tables'!$C$3,5,IF(Y20='Look-up Tables'!$C$4,4,IF(Y20='Look-up Tables'!$C$5,3,IF(Y20='Look-up Tables'!$C$6,2,IF(Y20='Look-up Tables'!$C$7,1)))))","v":false},{"$f":"IFERROR(VLOOKUP(AB20,'Look-up Tables'!$D$3:$E$127,2),\"\")","v":""},0]
[null,null,null,null,null,null,{"$f":"IF(F21='Look-up Tables'!$A$3,5,IF(F21='Look-up Tables'!$A$4,4,IF(F21='Look-up Tables'!$A$5,3,IF(F21='Look-up Tables'!$A$6,2,IF(F21='Look-up Tables'!$A$7,1)))))","v":false},null,null,{"$f":"IF(I21='Look-up Tables'!$B$3,5,IF(I21='Look-up Tables'!$B$4,4,IF(I21='Look-up Tables'!$B$5,3,IF(I21='Look-up Tables'!$B$6,2,IF(I21='Look-up Tables'!$B$7,1)))))","v":false},null,null,null,{"$f":"IF(M21='Look-up Tables'!$C$3,5,IF(M21='Look-up Tables'!$C$4,4,IF(M21='Look-up Tables'!$C$5,3,IF(M21='Look-up Tables'!$C$6,2,IF(M21='Look-up Tables'!$C$7,1)))))","v":false},{"$f":"IFERROR(VLOOKUP(P21,'Look-up Tables'!$D$3:$E$127,2),\"\")","v":""},0,null,null,null,null,null,{"$f":"IF(U21='Look-up Tables'!$A$3,5,IF(U21='Look-up Tables'!$A$4,4,IF(U21='Look-up Tables'!$A$5,3,IF(U21='Look-up Tables'!$A$6,2,IF(U21='Look-up Tables'!$A$7,1)))))","v":false},null,{"$f":"IF(W21='Look-up Tables'!$B$3,5,IF(W21='Look-up Tables'!$B$4,4,IF(W21='Look-up Tables'!$B$5,3,IF(W21='Look-up Tables'!$B$6,2,IF(W21='Look-up Tables'!$B$7,1)))))","v":false},null,{"$f":"IF(Y21='Look-up Tables'!$C$3,5,IF(Y21='Look-up Tables'!$C$4,4,IF(Y21='Look-up Tables'!$C$5,3,IF(Y21='Look-up Tables'!$C$6,2,IF(Y21='Look-up Tables'!$C$7,1)))))","v":false},{"$f":"IFERROR(VLOOKUP(AB21,'Look-up Tables'!$D$3:$E$127,2),\"\")","v":""},0]
[null,null,null,null,null,null,{"$f":"IF(F22='Look-up Tables'!$A$3,5,IF(F22='Look-up Tables'!$A$4,4,IF(F22='Look-up Tables'!$A$5,3,IF(F22='Look-up Tables'!$A$6,2,IF(F22='Look-up Tables'!$A$7,1)))))","v":false},null,null,{"$f":"IF(I22='Look-up Tables'!$B$3,5,IF(I22='Look-up Tables'!$B$4,4,IF(I22='Look-up Tables'!$B$5,3,IF(I22='Look-up Tables'!$B$6,2,IF(I22='Look-up Tables'!$B$7,1)))))","v":false},null,null,null,{"$f":"IF(M22='Look-up Tables'!$C$3,5,IF(M22='Look-up Tables'!$C$4,4,IF(M22='Look-up Tables'!$C$5,3,IF(M22='Look-up Tables'!$C$6,2,IF(M22='Look-up Tables'!$C$7,1)))))","v":false},{"$f":"IFERROR(VLOOKUP(P22,'Look-up Tables'!$D$3:$E$127,2),\"\")","v":""},0,null,null,null,null,null,{"$f":"IF(U22='Look-up Tables'!$A$3,5,IF(U22='Look-up Tables'!$A$4,4,IF(U22='Look-up Tables'!$A$5,3,IF(U22='Look-up Tables'!$A$6,2,IF(U22='Look-up Tables'!$A$7,1)))))","v":false},null,{"$f":"IF(W22='Look-up Tables'!$B$3,5,IF(W22='Look-up Tables'!$B$4,4,IF(W22='Look-up Tables'!$B$5,3,IF(W22='Look-up Tables'!$B$6,2,IF(W22='Look-up Tables'!$B$7,1)))))","v":false},null,{"$f":"IF(Y22='Look-up Tables'!$C$3,5,IF(Y22='Look-up Tables'!$C$4,4,IF(Y22='Look-up Tables'!$C$5,3,IF(Y22='Look-up Tables'!$C$6,2,IF(Y22='Look-up Tables'!$C$7,1)))))","v":false},{"$f":"IFERROR(VLOOKUP(AB22,'Look-up Tables'!$D$3:$E$127,2),\"\")","v":""},0]
[null,null,null,null,null,null,{"$f":"IF(F23='Look-up Tables'!$A$3,5,IF(F23='Look-up Tables'!$A$4,4,IF(F23='Look-up Tables'!$A$5,3,IF(F23='Look-up Tables'!$A$6,2,IF(F23='Look-up Tables'!$A$7,1)))))","v":false},null,null,{"$f":"IF(I23='Look-up Tables'!$B$3,5,IF(I23='Look-up Tables'!$B$4,4,IF(I23='Look-up Tables'!$B$5,3,IF(I23='Look-up Tables'!$B$6,2,IF(I23='Look-up Tables'!$B$7,1)))))","v":false},null,null,null,{"$f":"IF(M23='Look-up Tables'!$C$3,5,IF(M23='Look-up Tables'!$C$4,4,IF(M23='Look-up Tables'!$C$5,3,IF(M23='Look-up Tables'!$C$6,2,IF(M23='Look-up Tables'!$C$7,1)))))","v":false},{"$f":"IFERROR(VLOOKUP(P23,'Look-up Tables'!$D$3:$E$127,2),\"\")","v":""},0,null,null,null,null,null,{"$f":"IF(U23='Look-up Tables'!$A$3,5,IF(U23='Look-up Tables'!$A$4,4,IF(U23='Look-up Tables'!$A$5,3,IF(U23='Look-up Tables'!$A$6,2,IF(U23='Look-up Tables'!$A$7,1)))))","v":false},null,{"$f":"IF(W23='Look-up Tables'!$B$3,5,IF(W23='Look-up Tables'!$B$4,4,IF(W23='Look-up Tables'!$B$5,3,IF(W23='Look-up Tables'!$B$6,2,IF(W23='Look-up Tables'!$B$7,1)))))","v":false},null,{"$f":"IF(Y23='Look-up Tables'!$C$3,5,IF(Y23='Look-up Tables'!$C$4,4,IF(Y23='Look-up Tables'!$C$5,3,IF(Y23='Look-up Tables'!$C$6,2,IF(Y23='Look-up Tables'!$C$7,1)))))","v":false},{"$f":"IFERROR(VLOOKUP(AB23,'Look-up Tables'!$D$3:$E$127,2),\"\")","v":""},0]
[null,null,null,null,null,null,{"$f":"IF(F24='Look-up Tables'!$A$3,5,IF(F24='Look-up Tables'!$A$4,4,IF(F24='Look-up Tables'!$A$5,3,IF(F24='Look-up Tables'!$A$6,2,IF(F24='Look-up Tables'!$A$7,1)))))","v":false},null,null,{"$f":"IF(I24='Look-up Tables'!$B$3,5,IF(I24='Look-up Tables'!$B$4,4,IF(I24='Look-up Tables'!$B$5,3,IF(I24='Look-up Tables'!$B$6,2,IF(I24='Look-up Tables'!$B$7,1)))))","v":false},null,null,null,{"$f":"IF(M24='Look-up Tables'!$C$3,5,IF(M24='Look-up Tables'!$C$4,4,IF(M24='Look-up Tables'!$C$5,3,IF(M24='Look-up Tables'!$C$6,2,IF(M24='Look-up Tables'!$C$7,1)))))","v":false},{"$f":"IFERROR(VLOOKUP(P24,'Look-up Tables'!$D$3:$E$127,2),\"\")","v":""},0,null,null,null,null,null,{"$f":"IF(U24='Look-up Tables'!$A$3,5,IF(U24='Look-up Tables'!$A$4,4,IF(U24='Look-up Tables'!$A$5,3,IF(U24='Look-up Tables'!$A$6,2,IF(U24='Look-up Tables'!$A$7,1)))))","v":false},null,{"$f":"IF(W24='Look-up Tables'!$B$3,5,IF(W24='Look-up Tables'!$B$4,4,IF(W24='Look-up Tables'!$B$5,3,IF(W24='Look-up Tables'!$B$6,2,IF(W24='Look-up Tables'!$B$7,1)))))","v":false},null,{"$f":"IF(Y24='Look-up Tables'!$C$3,5,IF(Y24='Look-up Tables'!$C$4,4,IF(Y24='Look-up Tables'!$C$5,3,IF(Y24='Look-up Tables'!$C$6,2,IF(Y24='Look-up Tables'!$C$7,1)))))","v":false},{"$f":"IFERROR(VLOOKUP(AB24,'Look-up Tables'!$D$3:$E$127,2),\"\")","v":""},0]
[null,null,null,null,null,null,{"$f":"IF(F25='Look-up Tables'!$A$3,5,IF(F25='Look-up Tables'!$A$4,4,IF(F25='Look-up Tables'!$A$5,3,IF(F25='Look-up Tables'!$A$6,2,IF(F25='Look-up Tables'!$A$7,1)))))","v":false},null,null,{"$f":"IF(I25='Look-up Tables'!$B$3,5,IF(I25='Look-up Tables'!$B$4,4,IF(I25='Look-up Tables'!$B$5,3,IF(I25='Look-up Tables'!$B$6,2,IF(I25='Look-up Tables'!$B$7,1)))))","v":false},null,null,null,{"$f":"IF(M25='Look-up Tables'!$C$3,5,IF(M25='Look-up Tables'!$C$4,4,IF(M25='Look-up Tables'!$C$5,3,IF(M25='Look-up Tables'!$C$6,2,IF(M25='Look-up Tables'!$C$7,1)))))","v":false},{"$f":"IFERROR(VLOOKUP(P25,'Look-up Tables'!$D$3:$E$127,2),\"\")","v":""},0,null,null,null,null,null,{"$f":"IF(U25='Look-up Tables'!$A$3,5,IF(U25='Look-up Tables'!$A$4,4,IF(U25='Look-up Tables'!$A$5,3,IF(U25='Look-up Tables'!$A$6,2,IF(U25='Look-up Tables'!$A$7,1)))))","v":false},null,{"$f":"IF(W25='Look-up Tables'!$B$3,5,IF(W25='Look-up Tables'!$B$4,4,IF(W25='Look-up Tables'!$B$5,3,IF(W25='Look-up Tables'!$B$6,2,IF(W25='Look-up Tables'!$B$7,1)))))","v":false},null,{"$f":"IF(Y25='Look-up Tables'!$C$3,5,IF(Y25='Look-up Tables'!$C$4,4,IF(Y25='Look-up Tables'!$C$5,3,IF(Y25='Look-up Tables'!$C$6,2,IF(Y25='Look-up Tables'!$C$7,1)))))","v":false},{"$f":"IFERROR(VLOOKUP(AB25,'Look-up Tables'!$D$3:$E$127,2),\"\")","v":""},0]
[null,null,null,null,null,null,{"$f":"IF(F26='Look-up Tables'!$A$3,5,IF(F26='Look-up Tables'!$A$4,4,IF(F26='Look-up Tables'!$A$5,3,IF(F26='Look-up Tables'!$A$6,2,IF(F26='Look-up Tables'!$A$7,1)))))","v":false},null,null,{"$f":"IF(I26='Look-up Tables'!$B$3,5,IF(I26='Look-up Tables'!$B$4,4,IF(I26='Look-up Tables'!$B$5,3,IF(I26='Look-up Tables'!$B$6,2,IF(I26='Look-up Tables'!$B$7,1)))))","v":false},null,null,null,{"$f":"IF(M26='Look-up Tables'!$C$3,5,IF(M26='Look-up Tables'!$C$4,4,IF(M26='Look-up Tables'!$C$5,3,IF(M26='Look-up Tables'!$C$6,2,IF(M26='Look-up Tables'!$C$7,1)))))","v":false},{"$f":"IFERROR(VLOOKUP(P26,'Look-up Tables'!$D$3:$E$127,2),\"\")","v":""},0,null,null,null,null,null,{"$f":"IF(U26='Look-up Tables'!$A$3,5,IF(U26='Look-up Tables'!$A$4,4,IF(U26='Look-up Tables'!$A$5,3,IF(U26='Look-up Tables'!$A$6,2,IF(U26='Look-up Tables'!$A$7,1)))))","v":false},null,{"$f":"IF(W26='Look-up Tables'!$B$3,5,IF(W26='Look-up Tables'!$B$4,4,IF(W26='Look-up Tables'!$B$5,3,IF(W26='Look-up Tables'!$B$6,2,IF(W26='Look-up Tables'!$B$7,1)))))","v":false},null,{"$f":"IF(Y26='Look-up Tables'!$C$3,5,IF(Y26='Look-up Tables'!$C$4,4,IF(Y26='Look-up Tables'!$C$5,3,IF(Y26='Look-up Tables'!$C$6,2,IF(Y26='Look-up Tables'!$C$7,1)))))","v":false},{"$f":"IFERROR(VLOOKUP(AB26,'Look-up Tables'!$D$3:$E$127,2),\"\")","v":""},0]
[null,null,null,null,null,null,{"$f":"IF(F27='Look-up Tables'!$A$3,5,IF(F27='Look-up Tables'!$A$4,4,IF(F27='Look-up Tables'!$A$5,3,IF(F27='Look-up Tables'!$A$6,2,IF(F27='Look-up Tables'!$A$7,1)))))","v":false},null,null,{"$f":"IF(I27='Look-up Tables'!$B$3,5,IF(I27='Look-up Tables'!$B$4,4,IF(I27='Look-up Tables'!$B$5,3,IF(I27='Look-up Tables'!$B$6,2,IF(I27='Look-up Tables'!$B$7,1)))))","v":false},null,null,null,{"$f":"IF(M27='Look-up Tables'!$C$3,5,IF(M27='Look-up Tables'!$C$4,4,IF(M27='Look-up Tables'!$C$5,3,IF(M27='Look-up Tables'!$C$6,2,IF(M27='Look-up Tables'!$C$7,1)))))","v":false},{"$f":"IFERROR(VLOOKUP(P27,'Look-up Tables'!$D$3:$E$127,2),\"\")","v":""},0,null,null,null,null,null,{"$f":"IF(U27='Look-up Tables'!$A$3,5,IF(U27='Look-up Tables'!$A$4,4,IF(U27='Look-up Tables'!$A$5,3,IF(U27='Look-up Tables'!$A$6,2,IF(U27='Look-up Tables'!$A$7,1)))))","v":false},null,{"$f":"IF(W27='Look-up Tables'!$B$3,5,IF(W27='Look-up Tables'!$B$4,4,IF(W27='Look-up Tables'!$B$5,3,IF(W27='Look-up Tables'!$B$6,2,IF(W27='Look-up Tables'!$B$7,1)))))","v":false},null,{"$f":"IF(Y27='Look-up Tables'!$C$3,5,IF(Y27='Look-up Tables'!$C$4,4,IF(Y27='Look-up Tables'!$C$5,3,IF(Y27='Look-up Tables'!$C$6,2,IF(Y27='Look-up Tables'!$C$7,1)))))","v":false},{"$f":"IFERROR(VLOOKUP(AB27,'Look-up Tables'!$D$3:$E$127,2),\"\")","v":""},0]
[null,null,null,null,null,null,{"$f":"IF(F28='Look-up Tables'!$A$3,5,IF(F28='Look-up Tables'!$A$4,4,IF(F28='Look-up Tables'!$A$5,3,IF(F28='Look-up Tables'!$A$6,2,IF(F28='Look-up Tables'!$A$7,1)))))","v":false},null,null,{"$f":"IF(I28='Look-up Tables'!$B$3,5,IF(I28='Look-up Tables'!$B$4,4,IF(I28='Look-up Tables'!$B$5,3,IF(I28='Look-up Tables'!$B$6,2,IF(I28='Look-up Tables'!$B$7,1)))))","v":false},null,null,null,{"$f":"IF(M28='Look-up Tables'!$C$3,5,IF(M28='Look-up Tables'!$C$4,4,IF(M28='Look-up Tables'!$C$5,3,IF(M28='Look-up Tables'!$C$6,2,IF(M28='Look-up Tables'!$C$7,1)))))","v":false},{"$f":"IFERROR(VLOOKUP(P28,'Look-up Tables'!$D$3:$E$127,2),\"\")","v":""},0,null,null,null,null,null,{"$f":"IF(U28='Look-up Tables'!$A$3,5,IF(U28='Look-up Tables'!$A$4,4,IF(U28='Look-up Tables'!$A$5,3,IF(U28='Look-up Tables'!$A$6,2,IF(U28='Look-up Tables'!$A$7,1)))))","v":false},null,{"$f":"IF(W28='Look-up Tables'!$B$3,5,IF(W28='Look-up Tables'!$B$4,4,IF(W28='Look-up Tables'!$B$5,3,IF(W28='Look-up Tables'!$B$6,2,IF(W28='Look-up Tables'!$B$7,1)))))","v":false},null,{"$f":"IF(Y28='Look-up Tables'!$C$3,5,IF(Y28='Look-up Tables'!$C$4,4,IF(Y28='Look-up Tables'!$C$5,3,IF(Y28='Look-up Tables'!$C$6,2,IF(Y28='Look-up Tables'!$C$7,1)))))","v":false},{"$f":"IFERROR(VLOOKUP(AB28,'Look-up Tables'!$D$3:$E$127,2),\"\")","v":""},0]
[null,null,null,null,null,null,{"$f":"IF(F29='Look-up Tables'!$A$3,5,IF(F29='Look-up Tables'!$A$4,4,IF(F29='Look-up Tables'!$A$5,3,IF(F29='Look-up Tables'!$A$6,2,IF(F29='Look-up Tables'!$A$7,1)))))","v":false},null,null,{"$f":"IF(I29='Look-up Tables'!$B$3,5,IF(I29='Look-up Tables'!$B$4,4,IF(I29='Look-up Tables'!$B$5,3,IF(I29='Look-up Tables'!$B$6,2,IF(I29='Look-up Tables'!$B$7,1)))))","v":false},null,null,null,{"$f":"IF(M29='Look-up Tables'!$C$3,5,IF(M29='Look-up Tables'!$C$4,4,IF(M29='Look-up Tables'!$C$5,3,IF(M29='Look-up Tables'!$C$6,2,IF(M29='Look-up Tables'!$C$7,1)))))","v":false},{"$f":"IFERROR(VLOOKUP(P29,'Look-up Tables'!$D$3:$E$127,2),\"\")","v":""},0,null,null,null,null,null,{"$f":"IF(U29='Look-up Tables'!$A$3,5,IF(U29='Look-up Tables'!$A$4,4,IF(U29='Look-up Tables'!$A$5,3,IF(U29='Look-up Tables'!$A$6,2,IF(U29='Look-up Tables'!$A$7,1)))))","v":false},null,{"$f":"IF(W29='Look-up Tables'!$B$3,5,IF(W29='Look-up Tables'!$B$4,4,IF(W29='Look-up Tables'!$B$5,3,IF(W29='Look-up Tables'!$B$6,2,IF(W29='Look-up Tables'!$B$7,1)))))","v":false},null,{"$f":"IF(Y29='Look-up Tables'!$C$3,5,IF(Y29='Look-up Tables'!$C$4,4,IF(Y29='Look-up Tables'!$C$5,3,IF(Y29='Look-up Tables'!$C$6,2,IF(Y29='Look-up Tables'!$C$7,1)))))","v":false},{"$f":"IFERROR(VLOOKUP(AB29,'Look-up Tables'!$D$3:$E$127,2),\"\")","v":""},0]
[null,null,null,null,null,null,{"$f":"IF(F30='Look-up Tables'!$A$3,5,IF(F30='Look-up Tables'!$A$4,4,IF(F30='Look-up Tables'!$A$5,3,IF(F30='Look-up Tables'!$A$6,2,IF(F30='Look-up Tables'!$A$7,1)))))","v":false},null,null,{"$f":"IF(I30='Look-up Tables'!$B$3,5,IF(I30='Look-up Tables'!$B$4,4,IF(I30='Look-up Tables'!$B$5,3,IF(I30='Look-up Tables'!$B$6,2,IF(I30='Look-up Tables'!$B$7,1)))))","v":false},null,null,null,{"$f":"IF(M30='Look-up Tables'!$C$3,5,IF(M30='Look-up Tables'!$C$4,4,IF(M30='Look-up Tables'!$C$5,3,IF(M30='Look-up Tables'!$C$6,2,IF(M30='Look-up Tables'!$C$7,1)))))","v":false},{"$f":"IFERROR(VLOOKUP(P30,'Look-up Tables'!$D$3:$E$127,2),\"\")","v":""},0,null,null,null,null,null,{"$f":"IF(U30='Look-up Tables'!$A$3,5,IF(U30='Look-up Tables'!$A$4,4,IF(U30='Look-up Tables'!$A$5,3,IF(U30='Look-up Tables'!$A$6,2,IF(U30='Look-up Tables'!$A$7,1)))))","v":false},null,{"$f":"IF(W30='Look-up Tables'!$B$3,5,IF(W30='Look-up Tables'!$B$4,4,IF(W30='Look-up Tables'!$B$5,3,IF(W30='Look-up Tables'!$B$6,2,IF(W30='Look-up Tables'!$B$7,1)))))","v":false},null,{"$f":"IF(Y30='Look-up Tables'!$C$3,5,IF(Y30='Look-up Tables'!$C$4,4,IF(Y30='Look-up Tables'!$C$5,3,IF(Y30='Look-up Tables'!$C$6,2,IF(Y30='Look-up Tables'!$C$7,1)))))","v":false},{"$f":"IFERROR(VLOOKUP(AB30,'Look-up Tables'!$D$3:$E$127,2),\"\")","v":""},0]
[null,null,null,null,null,null,{"$f":"IF(F31='Look-up Tables'!$A$3,5,IF(F31='Look-up Tables'!$A$4,4,IF(F31='Look-up Tables'!$A$5,3,IF(F31='Look-up Tables'!$A$6,2,IF(F31='Look-up Tables'!$A$7,1)))))","v":false},null,null,{"$f":"IF(I31='Look-up Tables'!$B$3,5,IF(I31='Look-up Tables'!$B$4,4,IF(I31='Look-up Tables'!$B$5,3,IF(I31='Look-up Tables'!$B$6,2,IF(I31='Look-up Tables'!$B$7,1)))))","v":false},null,null,null,{"$f":"IF(M31='Look-up Tables'!$C$3,5,IF(M31='Look-up Tables'!$C$4,4,IF(M31='Look-up Tables'!$C$5,3,IF(M31='Look-up Tables'!$C$6,2,IF(M31='Look-up Tables'!$C$7,1)))))","v":false},{"$f":"IFERROR(VLOOKUP(P31,'Look-up Tables'!$D$3:$E$127,2),\"\")","v":""},0,null,null,null,null,null,{"$f":"IF(U31='Look-up Tables'!$A$3,5,IF(U31='Look-up Tables'!$A$4,4,IF(U31='Look-up Tables'!$A$5,3,IF(U31='Look-up Tables'!$A$6,2,IF(U31='Look-up Tables'!$A$7,1)))))","v":false},null,{"$f":"IF(W31='Look-up Tables'!$B$3,5,IF(W31='Look-up Tables'!$B$4,4,IF(W31='Look-up Tables'!$B$5,3,IF(W31='Look-up Tables'!$B$6,2,IF(W31='Look-up Tables'!$B$7,1)))))","v":false},null,{"$f":"IF(Y31='Look-up Tables'!$C$3,5,IF(Y31='Look-up Tables'!$C$4,4,IF(Y31='Look-up Tables'!$C$5,3,IF(Y31='Look-up Tables'!$C$6,2,IF(Y31='Look-up Tables'!$C$7,1)))))","v":false},{"$f":"IFERROR(VLOOKUP(AB31,'Look-up Tables'!$D$3:$E$127,2),\"\")","v":""},0]
[null,null,null,null,null,null,{"$f":"IF(F32='Look-up Tables'!$A$3,5,IF(F32='Look-up Tables'!$A$4,4,IF(F32='Look-up Tables'!$A$5,3,IF(F32='Look-up Tables'!$A$6,2,IF(F32='Look-up Tables'!$A$7,1)))))","v":false},null,null,{"$f":"IF(I32='Look-up Tables'!$B$3,5,IF(I32='Look-up Tables'!$B$4,4,IF(I32='Look-up Tables'!$B$5,3,IF(I32='Look-up Tables'!$B$6,2,IF(I32='Look-up Tables'!$B$7,1)))))","v":false},null,null,null,{"$f":"IF(M32='Look-up Tables'!$C$3,5,IF(M32='Look-up Tables'!$C$4,4,IF(M32='Look-up Tables'!$C$5,3,IF(M32='Look-up Tables'!$C$6,2,IF(M32='Look-up Tables'!$C$7,1)))))","v":false},{"$f":"IFERROR(VLOOKUP(P32,'Look-up Tables'!$D$3:$E$127,2),\"\")","v":""},0,null,null,null,null,null,{"$f":"IF(U32='Look-up Tables'!$A$3,5,IF(U32='Look-up Tables'!$A$4,4,IF(U32='Look-up Tables'!$A$5,3,IF(U32='Look-up Tables'!$A$6,2,IF(U32='Look-up Tables'!$A$7,1)))))","v":false},null,{"$f":"IF(W32='Look-up Tables'!$B$3,5,IF(W32='Look-up Tables'!$B$4,4,IF(W32='Look-up Tables'!$B$5,3,IF(W32='Look-up Tables'!$B$6,2,IF(W32='Look-up Tables'!$B$7,1)))))","v":false},null,{"$f":"IF(Y32='Look-up Tables'!$C$3,5,IF(Y32='Look-up Tables'!$C$4,4,IF(Y32='Look-up Tables'!$C$5,3,IF(Y32='Look-up Tables'!$C$6,2,IF(Y32='Look-up Tables'!$C$7,1)))))","v":false},{"$f":"IFERROR(VLOOKUP(AB32,'Look-up Tables'!$D$3:$E$127,2),\"\")","v":""},0]
[null,null,null,null,null,null,{"$f":"IF(F33='Look-up Tables'!$A$3,5,IF(F33='Look-up Tables'!$A$4,4,IF(F33='Look-up Tables'!$A$5,3,IF(F33='Look-up Tables'!$A$6,2,IF(F33='Look-up Tables'!$A$7,1)))))","v":false},null,null,{"$f":"IF(I33='Look-up Tables'!$B$3,5,IF(I33='Look-up Tables'!$B$4,4,IF(I33='Look-up Tables'!$B$5,3,IF(I33='Look-up Tables'!$B$6,2,IF(I33='Look-up Tables'!$B$7,1)))))","v":false},null,null,null,{"$f":"IF(M33='Look-up Tables'!$C$3,5,IF(M33='Look-up Tables'!$C$4,4,IF(M33='Look-up Tables'!$C$5,3,IF(M33='Look-up Tables'!$C$6,2,IF(M33='Look-up Tables'!$C$7,1)))))","v":false},{"$f":"IFERROR(VLOOKUP(P33,'Look-up Tables'!$D$3:$E$127,2),\"\")","v":""},0,null,null,null,null,null,{"$f":"IF(U33='Look-up Tables'!$A$3,5,IF(U33='Look-up Tables'!$A$4,4,IF(U33='Look-up Tables'!$A$5,3,IF(U33='Look-up Tables'!$A$6,2,IF(U33='Look-up Tables'!$A$7,1)))))","v":false},null,{"$f":"IF(W33='Look-up Tables'!$B$3,5,IF(W33='Look-up Tables'!$B$4,4,IF(W33='Look-up Tables'!$B$5,3,IF(W33='Look-up Tables'!$B$6,2,IF(W33='Look-up Tables'!$B$7,1)))))","v":false},null,{"$f":"IF(Y33='Look-up Tables'!$C$3,5,IF(Y33='Look-up Tables'!$C$4,4,IF(Y33='Look-up Tables'!$C$5,3,IF(Y33='Look-up Tables'!$C$6,2,IF(Y33='Look-up Tables'!$C$7,1)))))","v":false},{"$f":"IFERROR(VLOOKUP(AB33,'Look-up Tables'!$D$3:$E$127,2),\"\")","v":""},0]
[null,null,null,null,null,null,{"$f":"IF(F34='Look-up Tables'!$A$3,5,IF(F34='Look-up Tables'!$A$4,4,IF(F34='Look-up Tables'!$A$5,3,IF(F34='Look-up Tables'!$A$6,2,IF(F34='Look-up Tables'!$A$7,1)))))","v":false},null,null,{"$f":"IF(I34='Look-up Tables'!$B$3,5,IF(I34='Look-up Tables'!$B$4,4,IF(I34='Look-up Tables'!$B$5,3,IF(I34='Look-up Tables'!$B$6,2,IF(I34='Look-up Tables'!$B$7,1)))))","v":false},null,null,null,{"$f":"IF(M34='Look-up Tables'!$C$3,5,IF(M34='Look-up Tables'!$C$4,4,IF(M34='Look-up Tables'!$C$5,3,IF(M34='Look-up Tables'!$C$6,2,IF(M34='Look-up Tables'!$C$7,1)))))","v":false},{"$f":"IFERROR(VLOOKUP(P34,'Look-up Tables'!$D$3:$E$127,2),\"\")","v":""},0,null,null,null,null,null,{"$f":"IF(U34='Look-up Tables'!$A$3,5,IF(U34='Look-up Tables'!$A$4,4,IF(U34='Look-up Tables'!$A$5,3,IF(U34='Look-up Tables'!$A$6,2,IF(U34='Look-up Tables'!$A$7,1)))))","v":false},null,{"$f":"IF(W34='Look-up Tables'!$B$3,5,IF(W34='Look-up Tables'!$B$4,4,IF(W34='Look-up Tables'!$B$5,3,IF(W34='Look-up Tables'!$B$6,2,IF(W34='Look-up Tables'!$B$7,1)))))","v":false},null,{"$f":"IF(Y34='Look-up Tables'!$C$3,5,IF(Y34='Look-up Tables'!$C$4,4,IF(Y34='Look-up Tables'!$C$5,3,IF(Y34='Look-up Tables'!$C$6,2,IF(Y34='Look-up Tables'!$C$7,1)))))","v":false},{"$f":"IFERROR(VLOOKUP(AB34,'Look-up Tables'!$D$3:$E$127,2),\"\")","v":""},0]
[null,null,null,null,null,null,{"$f":"IF(F35='Look-up Tables'!$A$3,5,IF(F35='Look-up Tables'!$A$4,4,IF(F35='Look-up Tables'!$A$5,3,IF(F35='Look-up Tables'!$A$6,2,IF(F35='Look-up Tables'!$A$7,1)))))","v":false},null,null,{"$f":"IF(I35='Look-up Tables'!$B$3,5,IF(I35='Look-up Tables'!$B$4,4,IF(I35='Look-up Tables'!$B$5,3,IF(I35='Look-up Tables'!$B$6,2,IF(I35='Look-up Tables'!$B$7,1)))))","v":false},null,null,null,{"$f":"IF(M35='Look-up Tables'!$C$3,5,IF(M35='Look-up Tables'!$C$4,4,IF(M35='Look-up Tables'!$C$5,3,IF(M35='Look-up Tables'!$C$6,2,IF(M35='Look-up Tables'!$C$7,1)))))","v":false},{"$f":"IFERROR(VLOOKUP(P35,'Look-up Tables'!$D$3:$E$127,2),\"\")","v":""},0,null,null,null,null,null,{"$f":"IF(U35='Look-up Tables'!$A$3,5,IF(U35='Look-up Tables'!$A$4,4,IF(U35='Look-up Tables'!$A$5,3,IF(U35='Look-up Tables'!$A$6,2,IF(U35='Look-up Tables'!$A$7,1)))))","v":false},null,{"$f":"IF(W35='Look-up Tables'!$B$3,5,IF(W35='Look-up Tables'!$B$4,4,IF(W35='Look-up Tables'!$B$5,3,IF(W35='Look-up Tables'!$B$6,2,IF(W35='Look-up Tables'!$B$7,1)))))","v":false},null,{"$f":"IF(Y35='Look-up Tables'!$C$3,5,IF(Y35='Look-up Tables'!$C$4,4,IF(Y35='Look-up Tables'!$C$5,3,IF(Y35='Look-up Tables'!$C$6,2,IF(Y35='Look-up Tables'!$C$7,1)))))","v":false},{"$f":"IFERROR(VLOOKUP(AB35,'Look-up Tables'!$D$3:$E$127,2),\"\")","v":""},0]
[null,null,null,null,null,null,{"$f":"IF(F36='Look-up Tables'!$A$3,5,IF(F36='Look-up Tables'!$A$4,4,IF(F36='Look-up Tables'!$A$5,3,IF(F36='Look-up Tables'!$A$6,2,IF(F36='Look-up Tables'!$A$7,1)))))","v":false},null,null,{"$f":"IF(I36='Look-up Tables'!$B$3,5,IF(I36='Look-up Tables'!$B$4,4,IF(I36='Look-up Tables'!$B$5,3,IF(I36='Look-up Tables'!$B$6,2,IF(I36='Look-up Tables'!$B$7,1)))))","v":false},null,null,null,{"$f":"IF(M36='Look-up Tables'!$C$3,5,IF(M36='Look-up Tables'!$C$4,4,IF(M36='Look-up Tables'!$C$5,3,IF(M36='Look-up Tables'!$C$6,2,IF(M36='Look-up Tables'!$C$7,1)))))","v":false},{"$f":"IFERROR(VLOOKUP(P36,'Look-up Tables'!$D$3:$E$127,2),\"\")","v":""},0,null,null,null,null,null,{"$f":"IF(U36='Look-up Tables'!$A$3,5,IF(U36='Look-up Tables'!$A$4,4,IF(U36='Look-up Tables'!$A$5,3,IF(U36='Look-up Tables'!$A$6,2,IF(U36='Look-up Tables'!$A$7,1)))))","v":false},null,{"$f":"IF(W36='Look-up Tables'!$B$3,5,IF(W36='Look-up Tables'!$B$4,4,IF(W36='Look-up Tables'!$B$5,3,IF(W36='Look-up Tables'!$B$6,2,IF(W36='Look-up Tables'!$B$7,1)))))","v":false},null,{"$f":"IF(Y36='Look-up Tables'!$C$3,5,IF(Y36='Look-up Tables'!$C$4,4,IF(Y36='Look-up Tables'!$C$5,3,IF(Y36='Look-up Tables'!$C$6,2,IF(Y36='Look-up Tables'!$C$7,1)))))","v":false},{"$f":"IFERROR(VLOOKUP(AB36,'Look-up Tables'!$D$3:$E$127,2),\"\")","v":""},0]
[null,null,null,null,null,null,{"$f":"IF(F37='Look-up Tables'!$A$3,5,IF(F37='Look-up Tables'!$A$4,4,IF(F37='Look-up Tables'!$A$5,3,IF(F37='Look-up Tables'!$A$6,2,IF(F37='Look-up Tables'!$A$7,1)))))","v":false},null,null,{"$f":"IF(I37='Look-up Tables'!$B$3,5,IF(I37='Look-up Tables'!$B$4,4,IF(I37='Look-up Tables'!$B$5,3,IF(I37='Look-up Tables'!$B$6,2,IF(I37='Look-up Tables'!$B$7,1)))))","v":false},null,null,null,{"$f":"IF(M37='Look-up Tables'!$C$3,5,IF(M37='Look-up Tables'!$C$4,4,IF(M37='Look-up Tables'!$C$5,3,IF(M37='Look-up Tables'!$C$6,2,IF(M37='Look-up Tables'!$C$7,1)))))","v":false},{"$f":"IFERROR(VLOOKUP(P37,'Look-up Tables'!$D$3:$E$127,2),\"\")","v":""},0,null,null,null,null,null,{"$f":"IF(U37='Look-up Tables'!$A$3,5,IF(U37='Look-up Tables'!$A$4,4,IF(U37='Look-up Tables'!$A$5,3,IF(U37='Look-up Tables'!$A$6,2,IF(U37='Look-up Tables'!$A$7,1)))))","v":false},null,{"$f":"IF(W37='Look-up Tables'!$B$3,5,IF(W37='Look-up Tables'!$B$4,4,IF(W37='Look-up Tables'!$B$5,3,IF(W37='Look-up Tables'!$B$6,2,IF(W37='Look-up Tables'!$B$7,1)))))","v":false},null,{"$f":"IF(Y37='Look-up Tables'!$C$3,5,IF(Y37='Look-up Tables'!$C$4,4,IF(Y37='Look-up Tables'!$C$5,3,IF(Y37='Look-up Tables'!$C$6,2,IF(Y37='Look-up Tables'!$C$7,1)))))","v":false},{"$f":"IFERROR(VLOOKUP(AB37,'Look-up Tables'!$D$3:$E$127,2),\"\")","v":""},0]
[null,null,null,null,null,null,{"$f":"IF(F38='Look-up Tables'!$A$3,5,IF(F38='Look-up Tables'!$A$4,4,IF(F38='Look-up Tables'!$A$5,3,IF(F38='Look-up Tables'!$A$6,2,IF(F38='Look-up Tables'!$A$7,1)))))","v":false},null,null,{"$f":"IF(I38='Look-up Tables'!$B$3,5,IF(I38='Look-up Tables'!$B$4,4,IF(I38='Look-up Tables'!$B$5,3,IF(I38='Look-up Tables'!$B$6,2,IF(I38='Look-up Tables'!$B$7,1)))))","v":false},null,null,null,{"$f":"IF(M38='Look-up Tables'!$C$3,5,IF(M38='Look-up Tables'!$C$4,4,IF(M38='Look-up Tables'!$C$5,3,IF(M38='Look-up Tables'!$C$6,2,IF(M38='Look-up Tables'!$C$7,1)))))","v":false},{"$f":"IFERROR(VLOOKUP(P38,'Look-up Tables'!$D$3:$E$127,2),\"\")","v":""},0,null,null,null,null,null,{"$f":"IF(U38='Look-up Tables'!$A$3,5,IF(U38='Look-up Tables'!$A$4,4,IF(U38='Look-up Tables'!$A$5,3,IF(U38='Look-up Tables'!$A$6,2,IF(U38='Look-up Tables'!$A$7,1)))))","v":false},null,{"$f":"IF(W38='Look-up Tables'!$B$3,5,IF(W38='Look-up Tables'!$B$4,4,IF(W38='Look-up Tables'!$B$5,3,IF(W38='Look-up Tables'!$B$6,2,IF(W38='Look-up Tables'!$B$7,1)))))","v":false},null,{"$f":"IF(Y38='Look-up Tables'!$C$3,5,IF(Y38='Look-up Tables'!$C$4,4,IF(Y38='Look-up Tables'!$C$5,3,IF(Y38='Look-up Tables'!$C$6,2,IF(Y38='Look-up Tables'!$C$7,1)))))","v":false},{"$f":"IFERROR(VLOOKUP(AB38,'Look-up Tables'!$D$3:$E$127,2),\"\")","v":""},0]
[null,null,null,null,null,null,{"$f":"IF(F39='Look-up Tables'!$A$3,5,IF(F39='Look-up Tables'!$A$4,4,IF(F39='Look-up Tables'!$A$5,3,IF(F39='Look-up Tables'!$A$6,2,IF(F39='Look-up Tables'!$A$7,1)))))","v":false},null,null,{"$f":"IF(I39='Look-up Tables'!$B$3,5,IF(I39='Look-up Tables'!$B$4,4,IF(I39='Look-up Tables'!$B$5,3,IF(I39='Look-up Tables'!$B$6,2,IF(I39='Look-up Tables'!$B$7,1)))))","v":false},null,null,null,{"$f":"IF(M39='Look-up Tables'!$C$3,5,IF(M39='Look-up Tables'!$C$4,4,IF(M39='Look-up Tables'!$C$5,3,IF(M39='Look-up Tables'!$C$6,2,IF(M39='Look-up Tables'!$C$7,1)))))","v":false},{"$f":"IFERROR(VLOOKUP(P39,'Look-up Tables'!$D$3:$E$127,2),\"\")","v":""},0,null,null,null,null,null,{"$f":"IF(U39='Look-up Tables'!$A$3,5,IF(U39='Look-up Tables'!$A$4,4,IF(U39='Look-up Tables'!$A$5,3,IF(U39='Look-up Tables'!$A$6,2,IF(U39='Look-up Tables'!$A$7,1)))))","v":false},null,{"$f":"IF(W39='Look-up Tables'!$B$3,5,IF(W39='Look-up Tables'!$B$4,4,IF(W39='Look-up Tables'!$B$5,3,IF(W39='Look-up Tables'!$B$6,2,IF(W39='Look-up Tables'!$B$7,1)))))","v":false},null,{"$f":"IF(Y39='Look-up Tables'!$C$3,5,IF(Y39='Look-up Tables'!$C$4,4,IF(Y39='Look-up Tables'!$C$5,3,IF(Y39='Look-up Tables'!$C$6,2,IF(Y39='Look-up Tables'!$C$7,1)))))","v":false},{"$f":"IFERROR(VLOOKUP(AB39,'Look-up Tables'!$D$3:$E$127,2),\"\")","v":""},0]
[null,null,null,null,null,null,{"$f":"IF(F40='Look-up Tables'!$A$3,5,IF(F40='Look-up Tables'!$A$4,4,IF(F40='Look-up Tables'!$A$5,3,IF(F40='Look-up Tables'!$A$6,2,IF(F40='Look-up Tables'!$A$7,1)))))","v":false},null,null,{"$f":"IF(I40='Look-up Tables'!$B$3,5,IF(I40='Look-up Tables'!$B$4,4,IF(I40='Look-up Tables'!$B$5,3,IF(I40='Look-up Tables'!$B$6,2,IF(I40='Look-up Tables'!$B$7,1)))))","v":false},null,null,null,{"$f":"IF(M40='Look-up Tables'!$C$3,5,IF(M40='Look-up Tables'!$C$4,4,IF(M40='Look-up Tables'!$C$5,3,IF(M40='Look-up Tables'!$C$6,2,IF(M40='Look-up Tables'!$C$7,1)))))","v":false},{"$f":"IFERROR(VLOOKUP(P40,'Look-up Tables'!$D$3:$E$127,2),\"\")","v":""},0,null,null,null,null,null,{"$f":"IF(U40='Look-up Tables'!$A$3,5,IF(U40='Look-up Tables'!$A$4,4,IF(U40='Look-up Tables'!$A$5,3,IF(U40='Look-up Tables'!$A$6,2,IF(U40='Look-up Tables'!$A$7,1)))))","v":false},null,{"$f":"IF(W40='Look-up Tables'!$B$3,5,IF(W40='Look-up Tables'!$B$4,4,IF(W40='Look-up Tables'!$B$5,3,IF(W40='Look-up Tables'!$B$6,2,IF(W40='Look-up Tables'!$B$7,1)))))","v":false},null,{"$f":"IF(Y40='Look-up Tables'!$C$3,5,IF(Y40='Look-up Tables'!$C$4,4,IF(Y40='Look-up Tables'!$C$5,3,IF(Y40='Look-up Tables'!$C$6,2,IF(Y40='Look-up Tables'!$C$7,1)))))","v":false},{"$f":"IFERROR(VLOOKUP(AB40,'Look-up Tables'!$D$3:$E$127,2),\"\")","v":""},0]
[null,null,null,null,null,null,{"$f":"IF(F41='Look-up Tables'!$A$3,5,IF(F41='Look-up Tables'!$A$4,4,IF(F41='Look-up Tables'!$A$5,3,IF(F41='Look-up Tables'!$A$6,2,IF(F41='Look-up Tables'!$A$7,1)))))","v":false},null,null,{"$f":"IF(I41='Look-up Tables'!$B$3,5,IF(I41='Look-up Tables'!$B$4,4,IF(I41='Look-up Tables'!$B$5,3,IF(I41='Look-up Tables'!$B$6,2,IF(I41='Look-up Tables'!$B$7,1)))))","v":false},null,null,null,{"$f":"IF(M41='Look-up Tables'!$C$3,5,IF(M41='Look-up Tables'!$C$4,4,IF(M41='Look-up Tables'!$C$5,3,IF(M41='Look-up Tables'!$C$6,2,IF(M41='Look-up Tables'!$C$7,1)))))","v":false},{"$f":"IFERROR(VLOOKUP(P41,'Look-up Tables'!$D$3:$E$127,2),\"\")","v":""},0,null,null,null,null,null,{"$f":"IF(U41='Look-up Tables'!$A$3,5,IF(U41='Look-up Tables'!$A$4,4,IF(U41='Look-up Tables'!$A$5,3,IF(U41='Look-up Tables'!$A$6,2,IF(U41='Look-up Tables'!$A$7,1)))))","v":false},null,{"$f":"IF(W41='Look-up Tables'!$B$3,5,IF(W41='Look-up Tables'!$B$4,4,IF(W41='Look-up Tables'!$B$5,3,IF(W41='Look-up Tables'!$B$6,2,IF(W41='Look-up Tables'!$B$7,1)))))","v":false},null,{"$f":"IF(Y41='Look-up Tables'!$C$3,5,IF(Y41='Look-up Tables'!$C$4,4,IF(Y41='Look-up Tables'!$C$5,3,IF(Y41='Look-up Tables'!$C$6,2,IF(Y41='Look-up Tables'!$C$7,1)))))","v":false},{"$f":"IFERROR(VLOOKUP(AB41,'Look-up Tables'!$D$3:$E$127,2),\"\")","v":""},0]
[null,null,null,null,null,null,{"$f":"IF(F42='Look-up Tables'!$A$3,5,IF(F42='Look-up Tables'!$A$4,4,IF(F42='Look-up Tables'!$A$5,3,IF(F42='Look-up Tables'!$A$6,2,IF(F42='Look-up Tables'!$A$7,1)))))","v":false},null,null,{"$f":"IF(I42='Look-up Tables'!$B$3,5,IF(I42='Look-up Tables'!$B$4,4,IF(I42='Look-up Tables'!$B$5,3,IF(I42='Look-up Tables'!$B$6,2,IF(I42='Look-up Tables'!$B$7,1)))))","v":false},null,null,null,{"$f":"IF(M42='Look-up Tables'!$C$3,5,IF(M42='Look-up Tables'!$C$4,4,IF(M42='Look-up Tables'!$C$5,3,IF(M42='Look-up Tables'!$C$6,2,IF(M42='Look-up Tables'!$C$7,1)))))","v":false},{"$f":"IFERROR(VLOOKUP(P42,'Look-up Tables'!$D$3:$E$127,2),\"\")","v":""},0,null,null,null,null,null,{"$f":"IF(U42='Look-up Tables'!$A$3,5,IF(U42='Look-up Tables'!$A$4,4,IF(U42='Look-up Tables'!$A$5,3,IF(U42='Look-up Tables'!$A$6,2,IF(U42='Look-up Tables'!$A$7,1)))))","v":false},null,{"$f":"IF(W42='Look-up Tables'!$B$3,5,IF(W42='Look-up Tables'!$B$4,4,IF(W42='Look-up Tables'!$B$5,3,IF(W42='Look-up Tables'!$B$6,2,IF(W42='Look-up Tables'!$B$7,1)))))","v":false},null,{"$f":"IF(Y42='Look-up Tables'!$C$3,5,IF(Y42='Look-up Tables'!$C$4,4,IF(Y42='Look-up Tables'!$C$5,3,IF(Y42='Look-up Tables'!$C$6,2,IF(Y42='Look-up Tables'!$C$7,1)))))","v":false},{"$f":"IFERROR(VLOOKUP(AB42,'Look-up Tables'!$D$3:$E$127,2),\"\")","v":""},0]
[null,null,null,null,null,null,{"$f":"IF(F43='Look-up Tables'!$A$3,5,IF(F43='Look-up Tables'!$A$4,4,IF(F43='Look-up Tables'!$A$5,3,IF(F43='Look-up Tables'!$A$6,2,IF(F43='Look-up Tables'!$A$7,1)))))","v":false},null,null,{"$f":"IF(I43='Look-up Tables'!$B$3,5,IF(I43='Look-up Tables'!$B$4,4,IF(I43='Look-up Tables'!$B$5,3,IF(I43='Look-up Tables'!$B$6,2,IF(I43='Look-up Tables'!$B$7,1)))))","v":false},null,null,null,{"$f":"IF(M43='Look-up Tables'!$C$3,5,IF(M43='Look-up Tables'!$C$4,4,IF(M43='Look-up Tables'!$C$5,3,IF(M43='Look-up Tables'!$C$6,2,IF(M43='Look-up Tables'!$C$7,1)))))","v":false},{"$f":"IFERROR(VLOOKUP(P43,'Look-up Tables'!$D$3:$E$127,2),\"\")","v":""},0,null,null,null,null,null,{"$f":"IF(U43='Look-up Tables'!$A$3,5,IF(U43='Look-up Tables'!$A$4,4,IF(U43='Look-up Tables'!$A$5,3,IF(U43='Look-up Tables'!$A$6,2,IF(U43='Look-up Tables'!$A$7,1)))))","v":false},null,{"$f":"IF(W43='Look-up Tables'!$B$3,5,IF(W43='Look-up Tables'!$B$4,4,IF(W43='Look-up Tables'!$B$5,3,IF(W43='Look-up Tables'!$B$6,2,IF(W43='Look-up Tables'!$B$7,1)))))","v":false},null,{"$f":"IF(Y43='Look-up Tables'!$C$3,5,IF(Y43='Look-up Tables'!$C$4,4,IF(Y43='Look-up Tables'!$C$5,3,IF(Y43='Look-up Tables'!$C$6,2,IF(Y43='Look-up Tables'!$C$7,1)))))","v":false},{"$f":"IFERROR(VLOOKUP(AB43,'Look-up Tables'!$D$3:$E$127,2),\"\")","v":""},0]
[null,null,null,null,null,null,{"$f":"IF(F44='Look-up Tables'!$A$3,5,IF(F44='Look-up Tables'!$A$4,4,IF(F44='Look-up Tables'!$A$5,3,IF(F44='Look-up Tables'!$A$6,2,IF(F44='Look-up Tables'!$A$7,1)))))","v":false},null,null,{"$f":"IF(I44='Look-up Tables'!$B$3,5,IF(I44='Look-up Tables'!$B$4,4,IF(I44='Look-up Tables'!$B$5,3,IF(I44='Look-up Tables'!$B$6,2,IF(I44='Look-up Tables'!$B$7,1)))))","v":false},null,null,null,{"$f":"IF(M44='Look-up Tables'!$C$3,5,IF(M44='Look-up Tables'!$C$4,4,IF(M44='Look-up Tables'!$C$5,3,IF(M44='Look-up Tables'!$C$6,2,IF(M44='Look-up Tables'!$C$7,1)))))","v":false},{"$f":"IFERROR(VLOOKUP(P44,'Look-up Tables'!$D$3:$E$127,2),\"\")","v":""},0,null,null,null,null,null,{"$f":"IF(U44='Look-up Tables'!$A$3,5,IF(U44='Look-up Tables'!$A$4,4,IF(U44='Look-up Tables'!$A$5,3,IF(U44='Look-up Tables'!$A$6,2,IF(U44='Look-up Tables'!$A$7,1)))))","v":false},null,{"$f":"IF(W44='Look-up Tables'!$B$3,5,IF(W44='Look-up Tables'!$B$4,4,IF(W44='Look-up Tables'!$B$5,3,IF(W44='Look-up Tables'!$B$6,2,IF(W44='Look-up Tables'!$B$7,1)))))","v":false},null,{"$f":"IF(Y44='Look-up Tables'!$C$3,5,IF(Y44='Look-up Tables'!$C$4,4,IF(Y44='Look-up Tables'!$C$5,3,IF(Y44='Look-up Tables'!$C$6,2,IF(Y44='Look-up Tables'!$C$7,1)))))","v":false},{"$f":"IFERROR(VLOOKUP(AB44,'Look-up Tables'!$D$3:$E$127,2),\"\")","v":""},0]
[null,null,null,null,null,null,{"$f":"IF(F45='Look-up Tables'!$A$3,5,IF(F45='Look-up Tables'!$A$4,4,IF(F45='Look-up Tables'!$A$5,3,IF(F45='Look-up Tables'!$A$6,2,IF(F45='Look-up Tables'!$A$7,1)))))","v":false},null,null,{"$f":"IF(I45='Look-up Tables'!$B$3,5,IF(I45='Look-up Tables'!$B$4,4,IF(I45='Look-up Tables'!$B$5,3,IF(I45='Look-up Tables'!$B$6,2,IF(I45='Look-up Tables'!$B$7,1)))))","v":false},null,null,null,{"$f":"IF(M45='Look-up Tables'!$C$3,5,IF(M45='Look-up Tables'!$C$4,4,IF(M45='Look-up Tables'!$C$5,3,IF(M45='Look-up Tables'!$C$6,2,IF(M45='Look-up Tables'!$C$7,1)))))","v":false},{"$f":"IFERROR(VLOOKUP(P45,'Look-up Tables'!$D$3:$E$127,2),\"\")","v":""},0,null,null,null,null,null,{"$f":"IF(U45='Look-up Tables'!$A$3,5,IF(U45='Look-up Tables'!$A$4,4,IF(U45='Look-up Tables'!$A$5,3,IF(U45='Look-up Tables'!$A$6,2,IF(U45='Look-up Tables'!$A$7,1)))))","v":false},null,{"$f":"IF(W45='Look-up Tables'!$B$3,5,IF(W45='Look-up Tables'!$B$4,4,IF(W45='Look-up Tables'!$B$5,3,IF(W45='Look-up Tables'!$B$6,2,IF(W45='Look-up Tables'!$B$7,1)))))","v":false},null,{"$f":"IF(Y45='Look-up Tables'!$C$3,5,IF(Y45='Look-up Tables'!$C$4,4,IF(Y45='Look-up Tables'!$C$5,3,IF(Y45='Look-up Tables'!$C$6,2,IF(Y45='Look-up Tables'!$C$7,1)))))","v":false},{"$f":"IFERROR(VLOOKUP(AB45,'Look-up Tables'!$D$3:$E$127,2),\"\")","v":""},0]
[null,null,null,null,null,null,{"$f":"IF(F46='Look-up Tables'!$A$3,5,IF(F46='Look-up Tables'!$A$4,4,IF(F46='Look-up Tables'!$A$5,3,IF(F46='Look-up Tables'!$A$6,2,IF(F46='Look-up Tables'!$A$7,1)))))","v":false},null,null,{"$f":"IF(I46='Look-up Tables'!$B$3,5,IF(I46='Look-up Tables'!$B$4,4,IF(I46='Look-up Tables'!$B$5,3,IF(I46='Look-up Tables'!$B$6,2,IF(I46='Look-up Tables'!$B$7,1)))))","v":false},null,null,null,{"$f":"IF(M46='Look-up Tables'!$C$3,5,IF(M46='Look-up Tables'!$C$4,4,IF(M46='Look-up Tables'!$C$5,3,IF(M46='Look-up Tables'!$C$6,2,IF(M46='Look-up Tables'!$C$7,1)))))","v":false},{"$f":"IFERROR(VLOOKUP(P46,'Look-up Tables'!$D$3:$E$127,2),\"\")","v":""},0,null,null,null,null,null,{"$f":"IF(U46='Look-up Tables'!$A$3,5,IF(U46='Look-up Tables'!$A$4,4,IF(U46='Look-up Tables'!$A$5,3,IF(U46='Look-up Tables'!$A$6,2,IF(U46='Look-up Tables'!$A$7,1)))))","v":false},null,{"$f":"IF(W46='Look-up Tables'!$B$3,5,IF(W46='Look-up Tables'!$B$4,4,IF(W46='Look-up Tables'!$B$5,3,IF(W46='Look-up Tables'!$B$6,2,IF(W46='Look-up Tables'!$B$7,1)))))","v":false},null,{"$f":"IF(Y46='Look-up Tables'!$C$3,5,IF(Y46='Look-up Tables'!$C$4,4,IF(Y46='Look-up Tables'!$C$5,3,IF(Y46='Look-up Tables'!$C$6,2,IF(Y46='Look-up Tables'!$C$7,1)))))","v":false},{"$f":"IFERROR(VLOOKUP(AB46,'Look-up Tables'!$D$3:$E$127,2),\"\")","v":""},0]
[null,null,null,null,null,null,{"$f":"IF(F47='Look-up Tables'!$A$3,5,IF(F47='Look-up Tables'!$A$4,4,IF(F47='Look-up Tables'!$A$5,3,IF(F47='Look-up Tables'!$A$6,2,IF(F47='Look-up Tables'!$A$7,1)))))","v":false},null,null,{"$f":"IF(I47='Look-up Tables'!$B$3,5,IF(I47='Look-up Tables'!$B$4,4,IF(I47='Look-up Tables'!$B$5,3,IF(I47='Look-up Tables'!$B$6,2,IF(I47='Look-up Tables'!$B$7,1)))))","v":false},null,null,null,{"$f":"IF(M47='Look-up Tables'!$C$3,5,IF(M47='Look-up Tables'!$C$4,4,IF(M47='Look-up Tables'!$C$5,3,IF(M47='Look-up Tables'!$C$6,2,IF(M47='Look-up Tables'!$C$7,1)))))","v":false},{"$f":"IFERROR(VLOOKUP(P47,'Look-up Tables'!$D$3:$E$127,2),\"\")","v":""},0,null,null,null,null,null,{"$f":"IF(U47='Look-up Tables'!$A$3,5,IF(U47='Look-up Tables'!$A$4,4,IF(U47='Look-up Tables'!$A$5,3,IF(U47='Look-up Tables'!$A$6,2,IF(U47='Look-up Tables'!$A$7,1)))))","v":false},null,{"$f":"IF(W47='Look-up Tables'!$B$3,5,IF(W47='Look-up Tables'!$B$4,4,IF(W47='Look-up Tables'!$B$5,3,IF(W47='Look-up Tables'!$B$6,2,IF(W47='Look-up Tables'!$B$7,1)))))","v":false},null,{"$f":"IF(Y47='Look-up Tables'!$C$3,5,IF(Y47='Look-up Tables'!$C$4,4,IF(Y47='Look-up Tables'!$C$5,3,IF(Y47='Look-up Tables'!$C$6,2,IF(Y47='Look-up Tables'!$C$7,1)))))","v":false},{"$f":"IFERROR(VLOOKUP(AB47,'Look-up Tables'!$D$3:$E$127,2),\"\")","v":""},0]
[null,null,null,null,null,null,{"$f":"IF(F48='Look-up Tables'!$A$3,5,IF(F48='Look-up Tables'!$A$4,4,IF(F48='Look-up Tables'!$A$5,3,IF(F48='Look-up Tables'!$A$6,2,IF(F48='Look-up Tables'!$A$7,1)))))","v":false},null,null,{"$f":"IF(I48='Look-up Tables'!$B$3,5,IF(I48='Look-up Tables'!$B$4,4,IF(I48='Look-up Tables'!$B$5,3,IF(I48='Look-up Tables'!$B$6,2,IF(I48='Look-up Tables'!$B$7,1)))))","v":false},null,null,null,{"$f":"IF(M48='Look-up Tables'!$C$3,5,IF(M48='Look-up Tables'!$C$4,4,IF(M48='Look-up Tables'!$C$5,3,IF(M48='Look-up Tables'!$C$6,2,IF(M48='Look-up Tables'!$C$7,1)))))","v":false},{"$f":"IFERROR(VLOOKUP(P48,'Look-up Tables'!$D$3:$E$127,2),\"\")","v":""},0,null,null,null,null,null,{"$f":"IF(U48='Look-up Tables'!$A$3,5,IF(U48='Look-up Tables'!$A$4,4,IF(U48='Look-up Tables'!$A$5,3,IF(U48='Look-up Tables'!$A$6,2,IF(U48='Look-up Tables'!$A$7,1)))))","v":false},null,{"$f":"IF(W48='Look-up Tables'!$B$3,5,IF(W48='Look-up Tables'!$B$4,4,IF(W48='Look-up Tables'!$B$5,3,IF(W48='Look-up Tables'!$B$6,2,IF(W48='Look-up Tables'!$B$7,1)))))","v":false},null,{"$f":"IF(Y48='Look-up Tables'!$C$3,5,IF(Y48='Look-up Tables'!$C$4,4,IF(Y48='Look-up Tables'!$C$5,3,IF(Y48='Look-up Tables'!$C$6,2,IF(Y48='Look-up Tables'!$C$7,1)))))","v":false},{"$f":"IFERROR(VLOOKUP(AB48,'Look-up Tables'!$D$3:$E$127,2),\"\")","v":""},0]
[null,null,null,null,null,null,{"$f":"IF(F49='Look-up Tables'!$A$3,5,IF(F49='Look-up Tables'!$A$4,4,IF(F49='Look-up Tables'!$A$5,3,IF(F49='Look-up Tables'!$A$6,2,IF(F49='Look-up Tables'!$A$7,1)))))","v":false},null,null,{"$f":"IF(I49='Look-up Tables'!$B$3,5,IF(I49='Look-up Tables'!$B$4,4,IF(I49='Look-up Tables'!$B$5,3,IF(I49='Look-up Tables'!$B$6,2,IF(I49='Look-up Tables'!$B$7,1)))))","v":false},null,null,null,{"$f":"IF(M49='Look-up Tables'!$C$3,5,IF(M49='Look-up Tables'!$C$4,4,IF(M49='Look-up Tables'!$C$5,3,IF(M49='Look-up Tables'!$C$6,2,IF(M49='Look-up Tables'!$C$7,1)))))","v":false},{"$f":"IFERROR(VLOOKUP(P49,'Look-up Tables'!$D$3:$E$127,2),\"\")","v":""},0,null,null,null,null,null,{"$f":"IF(U49='Look-up Tables'!$A$3,5,IF(U49='Look-up Tables'!$A$4,4,IF(U49='Look-up Tables'!$A$5,3,IF(U49='Look-up Tables'!$A$6,2,IF(U49='Look-up Tables'!$A$7,1)))))","v":false},null,{"$f":"IF(W49='Look-up Tables'!$B$3,5,IF(W49='Look-up Tables'!$B$4,4,IF(W49='Look-up Tables'!$B$5,3,IF(W49='Look-up Tables'!$B$6,2,IF(W49='Look-up Tables'!$B$7,1)))))","v":false},null,{"$f":"IF(Y49='Look-up Tables'!$C$3,5,IF(Y49='Look-up Tables'!$C$4,4,IF(Y49='Look-up Tables'!$C$5,3,IF(Y49='Look-up Tables'!$C$6,2,IF(Y49='Look-up Tables'!$C$7,1)))))","v":false},{"$f":"IFERROR(VLOOKUP(AB49,'Look-up Tables'!$D$3:$E$127,2),\"\")","v":""},0]
[null,null,null,null,null,null,{"$f":"IF(F50='Look-up Tables'!$A$3,5,IF(F50='Look-up Tables'!$A$4,4,IF(F50='Look-up Tables'!$A$5,3,IF(F50='Look-up Tables'!$A$6,2,IF(F50='Look-up Tables'!$A$7,1)))))","v":false},null,null,{"$f":"IF(I50='Look-up Tables'!$B$3,5,IF(I50='Look-up Tables'!$B$4,4,IF(I50='Look-up Tables'!$B$5,3,IF(I50='Look-up Tables'!$B$6,2,IF(I50='Look-up Tables'!$B$7,1)))))","v":false},null,null,null,{"$f":"IF(M50='Look-up Tables'!$C$3,5,IF(M50='Look-up Tables'!$C$4,4,IF(M50='Look-up Tables'!$C$5,3,IF(M50='Look-up Tables'!$C$6,2,IF(M50='Look-up Tables'!$C$7,1)))))","v":false},{"$f":"IFERROR(VLOOKUP(P50,'Look-up Tables'!$D$3:$E$127,2),\"\")","v":""},0,null,null,null,null,null,{"$f":"IF(U50='Look-up Tables'!$A$3,5,IF(U50='Look-up Tables'!$A$4,4,IF(U50='Look-up Tables'!$A$5,3,IF(U50='Look-up Tables'!$A$6,2,IF(U50='Look-up Tables'!$A$7,1)))))","v":false},null,{"$f":"IF(W50='Look-up Tables'!$B$3,5,IF(W50='Look-up Tables'!$B$4,4,IF(W50='Look-up Tables'!$B$5,3,IF(W50='Look-up Tables'!$B$6,2,IF(W50='Look-up Tables'!$B$7,1)))))","v":false},null,{"$f":"IF(Y50='Look-up Tables'!$C$3,5,IF(Y50='Look-up Tables'!$C$4,4,IF(Y50='Look-up Tables'!$C$5,3,IF(Y50='Look-up Tables'!$C$6,2,IF(Y50='Look-up Tables'!$C$7,1)))))","v":false},{"$f":"IFERROR(VLOOKUP(AB50,'Look-up Tables'!$D$3:$E$127,2),\"\")","v":""},0]
[null,null,null,null,null,null,{"$f":"IF(F51='Look-up Tables'!$A$3,5,IF(F51='Look-up Tables'!$A$4,4,IF(F51='Look-up Tables'!$A$5,3,IF(F51='Look-up Tables'!$A$6,2,IF(F51='Look-up Tables'!$A$7,1)))))","v":false},null,null,{"$f":"IF(I51='Look-up Tables'!$B$3,5,IF(I51='Look-up Tables'!$B$4,4,IF(I51='Look-up Tables'!$B$5,3,IF(I51='Look-up Tables'!$B$6,2,IF(I51='Look-up Tables'!$B$7,1)))))","v":false},null,null,null,{"$f":"IF(M51='Look-up Tables'!$C$3,5,IF(M51='Look-up Tables'!$C$4,4,IF(M51='Look-up Tables'!$C$5,3,IF(M51='Look-up Tables'!$C$6,2,IF(M51='Look-up Tables'!$C$7,1)))))","v":false},{"$f":"IFERROR(VLOOKUP(P51,'Look-up Tables'!$D$3:$E$127,2),\"\")","v":""},{"$f":"G51*J51*N51","v":0},null,null,null,null,null,{"$f":"IF(U51='Look-up Tables'!$A$3,5,IF(U51='Look-up Tables'!$A$4,4,IF(U51='Look-up Tables'!$A$5,3,IF(U51='Look-up Tables'!$A$6,2,IF(U51='Look-up Tables'!$A$7,1)))))","v":false},null,{"$f":"IF(W51='Look-up Tables'!$B$3,5,IF(W51='Look-up Tables'!$B$4,4,IF(W51='Look-up Tables'!$B$5,3,IF(W51='Look-up Tables'!$B$6,2,IF(W51='Look-up Tables'!$B$7,1)))))","v":false},null,{"$f":"IF(Y51='Look-up Tables'!$C$3,5,IF(Y51='Look-up Tables'!$C$4,4,IF(Y51='Look-up Tables'!$C$5,3,IF(Y51='Look-up Tables'!$C$6,2,IF(Y51='Look-up Tables'!$C$7,1)))))","v":false},{"$f":"IFERROR(VLOOKUP(AB51,'Look-up Tables'!$D$3:$E$127,2),\"\")","v":""},{"$f":"V51*X51*Z51","v":0}]
[null,null,null,null,null,null,{"$f":"IF(F52='Look-up Tables'!$A$3,5,IF(F52='Look-up Tables'!$A$4,4,IF(F52='Look-up Tables'!$A$5,3,IF(F52='Look-up Tables'!$A$6,2,IF(F52='Look-up Tables'!$A$7,1)))))","v":false},null,null,{"$f":"IF(I52='Look-up Tables'!$B$3,5,IF(I52='Look-up Tables'!$B$4,4,IF(I52='Look-up Tables'!$B$5,3,IF(I52='Look-up Tables'!$B$6,2,IF(I52='Look-up Tables'!$B$7,1)))))","v":false},null,null,null,{"$f":"IF(M52='Look-up Tables'!$C$3,5,IF(M52='Look-up Tables'!$C$4,4,IF(M52='Look-up Tables'!$C$5,3,IF(M52='Look-up Tables'!$C$6,2,IF(M52='Look-up Tables'!$C$7,1)))))","v":false},{"$f":"IFERROR(VLOOKUP(P52,'Look-up Tables'!$D$3:$E$127,2),\"\")","v":""},0,null,null,null,null,null,{"$f":"IF(U52='Look-up Tables'!$A$3,5,IF(U52='Look-up Tables'!$A$4,4,IF(U52='Look-up Tables'!$A$5,3,IF(U52='Look-up Tables'!$A$6,2,IF(U52='Look-up Tables'!$A$7,1)))))","v":false},null,{"$f":"IF(W52='Look-up Tables'!$B$3,5,IF(W52='Look-up Tables'!$B$4,4,IF(W52='Look-up Tables'!$B$5,3,IF(W52='Look-up Tables'!$B$6,2,IF(W52='Look-up Tables'!$B$7,1)))))","v":false},null,{"$f":"IF(Y52='Look-up Tables'!$C$3,5,IF(Y52='Look-up Tables'!$C$4,4,IF(Y52='Look-up Tables'!$C$5,3,IF(Y52='Look-up Tables'!$C$6,2,IF(Y52='Look-up Tables'!$C$7,1)))))","v":false},{"$f":"IFERROR(VLOOKUP(AB52,'Look-up Tables'!$D$3:$E$127,2),\"\")","v":""},0]
[null,null,null,null,null,null,{"$f":"IF(F53='Look-up Tables'!$A$3,5,IF(F53='Look-up Tables'!$A$4,4,IF(F53='Look-up Tables'!$A$5,3,IF(F53='Look-up Tables'!$A$6,2,IF(F53='Look-up Tables'!$A$7,1)))))","v":false},null,null,{"$f":"IF(I53='Look-up Tables'!$B$3,5,IF(I53='Look-up Tables'!$B$4,4,IF(I53='Look-up Tables'!$B$5,3,IF(I53='Look-up Tables'!$B$6,2,IF(I53='Look-up Tables'!$B$7,1)))))","v":false},null,null,null,{"$f":"IF(M53='Look-up Tables'!$C$3,5,IF(M53='Look-up Tables'!$C$4,4,IF(M53='Look-up Tables'!$C$5,3,IF(M53='Look-up Tables'!$C$6,2,IF(M53='Look-up Tables'!$C$7,1)))))","v":false},{"$f":"IFERROR(VLOOKUP(P53,'Look-up Tables'!$D$3:$E$127,2),\"\")","v":""},0,null,null,null,null,null,{"$f":"IF(U53='Look-up Tables'!$A$3,5,IF(U53='Look-up Tables'!$A$4,4,IF(U53='Look-up Tables'!$A$5,3,IF(U53='Look-up Tables'!$A$6,2,IF(U53='Look-up Tables'!$A$7,1)))))","v":false},null,{"$f":"IF(W53='Look-up Tables'!$B$3,5,IF(W53='Look-up Tables'!$B$4,4,IF(W53='Look-up Tables'!$B$5,3,IF(W53='Look-up Tables'!$B$6,2,IF(W53='Look-up Tables'!$B$7,1)))))","v":false},null,{"$f":"IF(Y53='Look-up Tables'!$C$3,5,IF(Y53='Look-up Tables'!$C$4,4,IF(Y53='Look-up Tables'!$C$5,3,IF(Y53='Look-up Tables'!$C$6,2,IF(Y53='Look-up Tables'!$C$7,1)))))","v":false},{"$f":"IFERROR(VLOOKUP(AB53,'Look-up Tables'!$D$3:$E$127,2),\"\")","v":""},0]
[null,null,null,null,null,null,{"$f":"IF(F54='Look-up Tables'!$A$3,5,IF(F54='Look-up Tables'!$A$4,4,IF(F54='Look-up Tables'!$A$5,3,IF(F54='Look-up Tables'!$A$6,2,IF(F54='Look-up Tables'!$A$7,1)))))","v":false},null,null,{"$f":"IF(I54='Look-up Tables'!$B$3,5,IF(I54='Look-up Tables'!$B$4,4,IF(I54='Look-up Tables'!$B$5,3,IF(I54='Look-up Tables'!$B$6,2,IF(I54='Look-up Tables'!$B$7,1)))))","v":false},null,null,null,{"$f":"IF(M54='Look-up Tables'!$C$3,5,IF(M54='Look-up Tables'!$C$4,4,IF(M54='Look-up Tables'!$C$5,3,IF(M54='Look-up Tables'!$C$6,2,IF(M54='Look-up Tables'!$C$7,1)))))","v":false},{"$f":"IFERROR(VLOOKUP(P54,'Look-up Tables'!$D$3:$E$127,2),\"\")","v":""},0,null,null,null,null,null,{"$f":"IF(U54='Look-up Tables'!$A$3,5,IF(U54='Look-up Tables'!$A$4,4,IF(U54='Look-up Tables'!$A$5,3,IF(U54='Look-up Tables'!$A$6,2,IF(U54='Look-up Tables'!$A$7,1)))))","v":false},null,{"$f":"IF(W54='Look-up Tables'!$B$3,5,IF(W54='Look-up Tables'!$B$4,4,IF(W54='Look-up Tables'!$B$5,3,IF(W54='Look-up Tables'!$B$6,2,IF(W54='Look-up Tables'!$B$7,1)))))","v":false},null,{"$f":"IF(Y54='Look-up Tables'!$C$3,5,IF(Y54='Look-up Tables'!$C$4,4,IF(Y54='Look-up Tables'!$C$5,3,IF(Y54='Look-up Tables'!$C$6,2,IF(Y54='Look-up Tables'!$C$7,1)))))","v":false},{"$f":"IFERROR(VLOOKUP(AB54,'Look-up Tables'!$D$3:$E$127,2),\"\")","v":""},0]
[null,null,null,null,null,null,{"$f":"IF(F55='Look-up Tables'!$A$3,5,IF(F55='Look-up Tables'!$A$4,4,IF(F55='Look-up Tables'!$A$5,3,IF(F55='Look-up Tables'!$A$6,2,IF(F55='Look-up Tables'!$A$7,1)))))","v":false},null,null,{"$f":"IF(I55='Look-up Tables'!$B$3,5,IF(I55='Look-up Tables'!$B$4,4,IF(I55='Look-up Tables'!$B$5,3,IF(I55='Look-up Tables'!$B$6,2,IF(I55='Look-up Tables'!$B$7,1)))))","v":false},null,null,null,{"$f":"IF(M55='Look-up Tables'!$C$3,5,IF(M55='Look-up Tables'!$C$4,4,IF(M55='Look-up Tables'!$C$5,3,IF(M55='Look-up Tables'!$C$6,2,IF(M55='Look-up Tables'!$C$7,1)))))","v":false},{"$f":"IFERROR(VLOOKUP(P55,'Look-up Tables'!$D$3:$E$127,2),\"\")","v":""},0,null,null,null,null,null,{"$f":"IF(U55='Look-up Tables'!$A$3,5,IF(U55='Look-up Tables'!$A$4,4,IF(U55='Look-up Tables'!$A$5,3,IF(U55='Look-up Tables'!$A$6,2,IF(U55='Look-up Tables'!$A$7,1)))))","v":false},null,{"$f":"IF(W55='Look-up Tables'!$B$3,5,IF(W55='Look-up Tables'!$B$4,4,IF(W55='Look-up Tables'!$B$5,3,IF(W55='Look-up Tables'!$B$6,2,IF(W55='Look-up Tables'!$B$7,1)))))","v":false},null,{"$f":"IF(Y55='Look-up Tables'!$C$3,5,IF(Y55='Look-up Tables'!$C$4,4,IF(Y55='Look-up Tables'!$C$5,3,IF(Y55='Look-up Tables'!$C$6,2,IF(Y55='Look-up Tables'!$C$7,1)))))","v":false},{"$f":"IFERROR(VLOOKUP(AB55,'Look-up Tables'!$D$3:$E$127,2),\"\")","v":""},0]
[null,null,null,null,null,null,{"$f":"IF(F56='Look-up Tables'!$A$3,5,IF(F56='Look-up Tables'!$A$4,4,IF(F56='Look-up Tables'!$A$5,3,IF(F56='Look-up Tables'!$A$6,2,IF(F56='Look-up Tables'!$A$7,1)))))","v":false},null,null,{"$f":"IF(I56='Look-up Tables'!$B$3,5,IF(I56='Look-up Tables'!$B$4,4,IF(I56='Look-up Tables'!$B$5,3,IF(I56='Look-up Tables'!$B$6,2,IF(I56='Look-up Tables'!$B$7,1)))))","v":false},null,null,null,{"$f":"IF(M56='Look-up Tables'!$C$3,5,IF(M56='Look-up Tables'!$C$4,4,IF(M56='Look-up Tables'!$C$5,3,IF(M56='Look-up Tables'!$C$6,2,IF(M56='Look-up Tables'!$C$7,1)))))","v":false},{"$f":"IFERROR(VLOOKUP(P56,'Look-up Tables'!$D$3:$E$127,2),\"\")","v":""},0,null,null,null,null,null,{"$f":"IF(U56='Look-up Tables'!$A$3,5,IF(U56='Look-up Tables'!$A$4,4,IF(U56='Look-up Tables'!$A$5,3,IF(U56='Look-up Tables'!$A$6,2,IF(U56='Look-up Tables'!$A$7,1)))))","v":false},null,{"$f":"IF(W56='Look-up Tables'!$B$3,5,IF(W56='Look-up Tables'!$B$4,4,IF(W56='Look-up Tables'!$B$5,3,IF(W56='Look-up Tables'!$B$6,2,IF(W56='Look-up Tables'!$B$7,1)))))","v":false},null,{"$f":"IF(Y56='Look-up Tables'!$C$3,5,IF(Y56='Look-up Tables'!$C$4,4,IF(Y56='Look-up Tables'!$C$5,3,IF(Y56='Look-up Tables'!$C$6,2,IF(Y56='Look-up Tables'!$C$7,1)))))","v":false},{"$f":"IFERROR(VLOOKUP(AB56,'Look-up Tables'!$D$3:$E$127,2),\"\")","v":""},0]
[null,null,null,null,null,null,{"$f":"IF(F57='Look-up Tables'!$A$3,5,IF(F57='Look-up Tables'!$A$4,4,IF(F57='Look-up Tables'!$A$5,3,IF(F57='Look-up Tables'!$A$6,2,IF(F57='Look-up Tables'!$A$7,1)))))","v":false},null,null,{"$f":"IF(I57='Look-up Tables'!$B$3,5,IF(I57='Look-up Tables'!$B$4,4,IF(I57='Look-up Tables'!$B$5,3,IF(I57='Look-up Tables'!$B$6,2,IF(I57='Look-up Tables'!$B$7,1)))))","v":false},null,null,null,{"$f":"IF(M57='Look-up Tables'!$C$3,5,IF(M57='Look-up Tables'!$C$4,4,IF(M57='Look-up Tables'!$C$5,3,IF(M57='Look-up Tables'!$C$6,2,IF(M57='Look-up Tables'!$C$7,1)))))","v":false},{"$f":"IFERROR(VLOOKUP(P57,'Look-up Tables'!$D$3:$E$127,2),\"\")","v":""},0,null,null,null,null,null,{"$f":"IF(U57='Look-up Tables'!$A$3,5,IF(U57='Look-up Tables'!$A$4,4,IF(U57='Look-up Tables'!$A$5,3,IF(U57='Look-up Tables'!$A$6,2,IF(U57='Look-up Tables'!$A$7,1)))))","v":false},null,{"$f":"IF(W57='Look-up Tables'!$B$3,5,IF(W57='Look-up Tables'!$B$4,4,IF(W57='Look-up Tables'!$B$5,3,IF(W57='Look-up Tables'!$B$6,2,IF(W57='Look-up Tables'!$B$7,1)))))","v":false},null,{"$f":"IF(Y57='Look-up Tables'!$C$3,5,IF(Y57='Look-up Tables'!$C$4,4,IF(Y57='Look-up Tables'!$C$5,3,IF(Y57='Look-up Tables'!$C$6,2,IF(Y57='Look-up Tables'!$C$7,1)))))","v":false},{"$f":"IFERROR(VLOOKUP(AB57,'Look-up Tables'!$D$3:$E$127,2),\"\")","v":""},0]
[null,null,null,null,null,null,{"$f":"IF(F58='Look-up Tables'!$A$3,5,IF(F58='Look-up Tables'!$A$4,4,IF(F58='Look-up Tables'!$A$5,3,IF(F58='Look-up Tables'!$A$6,2,IF(F58='Look-up Tables'!$A$7,1)))))","v":false},null,null,{"$f":"IF(I58='Look-up Tables'!$B$3,5,IF(I58='Look-up Tables'!$B$4,4,IF(I58='Look-up Tables'!$B$5,3,IF(I58='Look-up Tables'!$B$6,2,IF(I58='Look-up Tables'!$B$7,1)))))","v":false},null,null,null,{"$f":"IF(M58='Look-up Tables'!$C$3,5,IF(M58='Look-up Tables'!$C$4,4,IF(M58='Look-up Tables'!$C$5,3,IF(M58='Look-up Tables'!$C$6,2,IF(M58='Look-up Tables'!$C$7,1)))))","v":false},{"$f":"IFERROR(VLOOKUP(P58,'Look-up Tables'!$D$3:$E$127,2),\"\")","v":""},0,null,null,null,null,null,{"$f":"IF(U58='Look-up Tables'!$A$3,5,IF(U58='Look-up Tables'!$A$4,4,IF(U58='Look-up Tables'!$A$5,3,IF(U58='Look-up Tables'!$A$6,2,IF(U58='Look-up Tables'!$A$7,1)))))","v":false},null,{"$f":"IF(W58='Look-up Tables'!$B$3,5,IF(W58='Look-up Tables'!$B$4,4,IF(W58='Look-up Tables'!$B$5,3,IF(W58='Look-up Tables'!$B$6,2,IF(W58='Look-up Tables'!$B$7,1)))))","v":false},null,{"$f":"IF(Y58='Look-up Tables'!$C$3,5,IF(Y58='Look-up Tables'!$C$4,4,IF(Y58='Look-up Tables'!$C$5,3,IF(Y58='Look-up Tables'!$C$6,2,IF(Y58='Look-up Tables'!$C$7,1)))))","v":false},{"$f":"IFERROR(VLOOKUP(AB58,'Look-up Tables'!$D$3:$E$127,2),\"\")","v":""},0]
[null,null,null,null,null,null,{"$f":"IF(F59='Look-up Tables'!$A$3,5,IF(F59='Look-up Tables'!$A$4,4,IF(F59='Look-up Tables'!$A$5,3,IF(F59='Look-up Tables'!$A$6,2,IF(F59='Look-up Tables'!$A$7,1)))))","v":false},null,null,{"$f":"IF(I59='Look-up Tables'!$B$3,5,IF(I59='Look-up Tables'!$B$4,4,IF(I59='Look-up Tables'!$B$5,3,IF(I59='Look-up Tables'!$B$6,2,IF(I59='Look-up Tables'!$B$7,1)))))","v":false},null,null,null,{"$f":"IF(M59='Look-up Tables'!$C$3,5,IF(M59='Look-up Tables'!$C$4,4,IF(M59='Look-up Tables'!$C$5,3,IF(M59='Look-up Tables'!$C$6,2,IF(M59='Look-up Tables'!$C$7,1)))))","v":false},{"$f":"IFERROR(VLOOKUP(P59,'Look-up Tables'!$D$3:$E$127,2),\"\")","v":""},0,null,null,null,null,null,{"$f":"IF(U59='Look-up Tables'!$A$3,5,IF(U59='Look-up Tables'!$A$4,4,IF(U59='Look-up Tables'!$A$5,3,IF(U59='Look-up Tables'!$A$6,2,IF(U59='Look-up Tables'!$A$7,1)))))","v":false},null,{"$f":"IF(W59='Look-up Tables'!$B$3,5,IF(W59='Look-up Tables'!$B$4,4,IF(W59='Look-up Tables'!$B$5,3,IF(W59='Look-up Tables'!$B$6,2,IF(W59='Look-up Tables'!$B$7,1)))))","v":false},null,{"$f":"IF(Y59='Look-up Tables'!$C$3,5,IF(Y59='Look-up Tables'!$C$4,4,IF(Y59='Look-up Tables'!$C$5,3,IF(Y59='Look-up Tables'!$C$6,2,IF(Y59='Look-up Tables'!$C$7,1)))))","v":false},{"$f":"IFERROR(VLOOKUP(AB59,'Look-up Tables'!$D$3:$E$127,2),\"\")","v":""},0]
[null,null,null,null,null,null,{"$f":"IF(F60='Look-up Tables'!$A$3,5,IF(F60='Look-up Tables'!$A$4,4,IF(F60='Look-up Tables'!$A$5,3,IF(F60='Look-up Tables'!$A$6,2,IF(F60='Look-up Tables'!$A$7,1)))))","v":false},null,null,{"$f":"IF(I60='Look-up Tables'!$B$3,5,IF(I60='Look-up Tables'!$B$4,4,IF(I60='Look-up Tables'!$B$5,3,IF(I60='Look-up Tables'!$B$6,2,IF(I60='Look-up Tables'!$B$7,1)))))","v":false},null,null,null,{"$f":"IF(M60='Look-up Tables'!$C$3,5,IF(M60='Look-up Tables'!$C$4,4,IF(M60='Look-up Tables'!$C$5,3,IF(M60='Look-up Tables'!$C$6,2,IF(M60='Look-up Tables'!$C$7,1)))))","v":false},{"$f":"IFERROR(VLOOKUP(P60,'Look-up Tables'!$D$3:$E$127,2),\"\")","v":""},0,null,null,null,null,null,{"$f":"IF(U60='Look-up Tables'!$A$3,5,IF(U60='Look-up Tables'!$A$4,4,IF(U60='Look-up Tables'!$A$5,3,IF(U60='Look-up Tables'!$A$6,2,IF(U60='Look-up Tables'!$A$7,1)))))","v":false},null,{"$f":"IF(W60='Look-up Tables'!$B$3,5,IF(W60='Look-up Tables'!$B$4,4,IF(W60='Look-up Tables'!$B$5,3,IF(W60='Look-up Tables'!$B$6,2,IF(W60='Look-up Tables'!$B$7,1)))))","v":false},null,{"$f":"IF(Y60='Look-up Tables'!$C$3,5,IF(Y60='Look-up Tables'!$C$4,4,IF(Y60='Look-up Tables'!$C$5,3,IF(Y60='Look-up Tables'!$C$6,2,IF(Y60='Look-up Tables'!$C$7,1)))))","v":false},{"$f":"IFERROR(VLOOKUP(AB60,'Look-up Tables'!$D$3:$E$127,2),\"\")","v":""},0]
[null,null,null,null,null,null,{"$f":"IF(F61='Look-up Tables'!$A$3,5,IF(F61='Look-up Tables'!$A$4,4,IF(F61='Look-up Tables'!$A$5,3,IF(F61='Look-up Tables'!$A$6,2,IF(F61='Look-up Tables'!$A$7,1)))))","v":false},null,null,{"$f":"IF(I61='Look-up Tables'!$B$3,5,IF(I61='Look-up Tables'!$B$4,4,IF(I61='Look-up Tables'!$B$5,3,IF(I61='Look-up Tables'!$B$6,2,IF(I61='Look-up Tables'!$B$7,1)))))","v":false},null,null,null,{"$f":"IF(M61='Look-up Tables'!$C$3,5,IF(M61='Look-up Tables'!$C$4,4,IF(M61='Look-up Tables'!$C$5,3,IF(M61='Look-up Tables'!$C$6,2,IF(M61='Look-up Tables'!$C$7,1)))))","v":false},{"$f":"IFERROR(VLOOKUP(P61,'Look-up Tables'!$D$3:$E$127,2),\"\")","v":""},0,null,null,null,null,null,{"$f":"IF(U61='Look-up Tables'!$A$3,5,IF(U61='Look-up Tables'!$A$4,4,IF(U61='Look-up Tables'!$A$5,3,IF(U61='Look-up Tables'!$A$6,2,IF(U61='Look-up Tables'!$A$7,1)))))","v":false},null,{"$f":"IF(W61='Look-up Tables'!$B$3,5,IF(W61='Look-up Tables'!$B$4,4,IF(W61='Look-up Tables'!$B$5,3,IF(W61='Look-up Tables'!$B$6,2,IF(W61='Look-up Tables'!$B$7,1)))))","v":false},null,{"$f":"IF(Y61='Look-up Tables'!$C$3,5,IF(Y61='Look-up Tables'!$C$4,4,IF(Y61='Look-up Tables'!$C$5,3,IF(Y61='Look-up Tables'!$C$6,2,IF(Y61='Look-up Tables'!$C$7,1)))))","v":false},{"$f":"IFERROR(VLOOKUP(AB61,'Look-up Tables'!$D$3:$E$127,2),\"\")","v":""},0]
[null,null,null,null,null,null,{"$f":"IF(F62='Look-up Tables'!$A$3,5,IF(F62='Look-up Tables'!$A$4,4,IF(F62='Look-up Tables'!$A$5,3,IF(F62='Look-up Tables'!$A$6,2,IF(F62='Look-up Tables'!$A$7,1)))))","v":false},null,null,{"$f":"IF(I62='Look-up Tables'!$B$3,5,IF(I62='Look-up Tables'!$B$4,4,IF(I62='Look-up Tables'!$B$5,3,IF(I62='Look-up Tables'!$B$6,2,IF(I62='Look-up Tables'!$B$7,1)))))","v":false},null,null,null,{"$f":"IF(M62='Look-up Tables'!$C$3,5,IF(M62='Look-up Tables'!$C$4,4,IF(M62='Look-up Tables'!$C$5,3,IF(M62='Look-up Tables'!$C$6,2,IF(M62='Look-up Tables'!$C$7,1)))))","v":false},{"$f":"IFERROR(VLOOKUP(P62,'Look-up Tables'!$D$3:$E$127,2),\"\")","v":""},0,null,null,null,null,null,{"$f":"IF(U62='Look-up Tables'!$A$3,5,IF(U62='Look-up Tables'!$A$4,4,IF(U62='Look-up Tables'!$A$5,3,IF(U62='Look-up Tables'!$A$6,2,IF(U62='Look-up Tables'!$A$7,1)))))","v":false},null,{"$f":"IF(W62='Look-up Tables'!$B$3,5,IF(W62='Look-up Tables'!$B$4,4,IF(W62='Look-up Tables'!$B$5,3,IF(W62='Look-up Tables'!$B$6,2,IF(W62='Look-up Tables'!$B$7,1)))))","v":false},null,{"$f":"IF(Y62='Look-up Tables'!$C$3,5,IF(Y62='Look-up Tables'!$C$4,4,IF(Y62='Look-up Tables'!$C$5,3,IF(Y62='Look-up Tables'!$C$6,2,IF(Y62='Look-up Tables'!$C$7,1)))))","v":false},{"$f":"IFERROR(VLOOKUP(AB62,'Look-up Tables'!$D$3:$E$127,2),\"\")","v":""},0]
[null,null,null,null,null,null,{"$f":"IF(F63='Look-up Tables'!$A$3,5,IF(F63='Look-up Tables'!$A$4,4,IF(F63='Look-up Tables'!$A$5,3,IF(F63='Look-up Tables'!$A$6,2,IF(F63='Look-up Tables'!$A$7,1)))))","v":false},null,null,{"$f":"IF(I63='Look-up Tables'!$B$3,5,IF(I63='Look-up Tables'!$B$4,4,IF(I63='Look-up Tables'!$B$5,3,IF(I63='Look-up Tables'!$B$6,2,IF(I63='Look-up Tables'!$B$7,1)))))","v":false},null,null,null,{"$f":"IF(M63='Look-up Tables'!$C$3,5,IF(M63='Look-up Tables'!$C$4,4,IF(M63='Look-up Tables'!$C$5,3,IF(M63='Look-up Tables'!$C$6,2,IF(M63='Look-up Tables'!$C$7,1)))))","v":false},{"$f":"IFERROR(VLOOKUP(P63,'Look-up Tables'!$D$3:$E$127,2),\"\")","v":""},0,null,null,null,null,null,{"$f":"IF(U63='Look-up Tables'!$A$3,5,IF(U63='Look-up Tables'!$A$4,4,IF(U63='Look-up Tables'!$A$5,3,IF(U63='Look-up Tables'!$A$6,2,IF(U63='Look-up Tables'!$A$7,1)))))","v":false},null,{"$f":"IF(W63='Look-up Tables'!$B$3,5,IF(W63='Look-up Tables'!$B$4,4,IF(W63='Look-up Tables'!$B$5,3,IF(W63='Look-up Tables'!$B$6,2,IF(W63='Look-up Tables'!$B$7,1)))))","v":false},null,{"$f":"IF(Y63='Look-up Tables'!$C$3,5,IF(Y63='Look-up Tables'!$C$4,4,IF(Y63='Look-up Tables'!$C$5,3,IF(Y63='Look-up Tables'!$C$6,2,IF(Y63='Look-up Tables'!$C$7,1)))))","v":false},{"$f":"IFERROR(VLOOKUP(AB63,'Look-up Tables'!$D$3:$E$127,2),\"\")","v":""},0]
[null,null,null,null,null,null,{"$f":"IF(F64='Look-up Tables'!$A$3,5,IF(F64='Look-up Tables'!$A$4,4,IF(F64='Look-up Tables'!$A$5,3,IF(F64='Look-up Tables'!$A$6,2,IF(F64='Look-up Tables'!$A$7,1)))))","v":false},null,null,{"$f":"IF(I64='Look-up Tables'!$B$3,5,IF(I64='Look-up Tables'!$B$4,4,IF(I64='Look-up Tables'!$B$5,3,IF(I64='Look-up Tables'!$B$6,2,IF(I64='Look-up Tables'!$B$7,1)))))","v":false},null,null,null,{"$f":"IF(M64='Look-up Tables'!$C$3,5,IF(M64='Look-up Tables'!$C$4,4,IF(M64='Look-up Tables'!$C$5,3,IF(M64='Look-up Tables'!$C$6,2,IF(M64='Look-up Tables'!$C$7,1)))))","v":false},{"$f":"IFERROR(VLOOKUP(P64,'Look-up Tables'!$D$3:$E$127,2),\"\")","v":""},0,null,null,null,null,null,{"$f":"IF(U64='Look-up Tables'!$A$3,5,IF(U64='Look-up Tables'!$A$4,4,IF(U64='Look-up Tables'!$A$5,3,IF(U64='Look-up Tables'!$A$6,2,IF(U64='Look-up Tables'!$A$7,1)))))","v":false},null,{"$f":"IF(W64='Look-up Tables'!$B$3,5,IF(W64='Look-up Tables'!$B$4,4,IF(W64='Look-up Tables'!$B$5,3,IF(W64='Look-up Tables'!$B$6,2,IF(W64='Look-up Tables'!$B$7,1)))))","v":false},null,{"$f":"IF(Y64='Look-up Tables'!$C$3,5,IF(Y64='Look-up Tables'!$C$4,4,IF(Y64='Look-up Tables'!$C$5,3,IF(Y64='Look-up Tables'!$C$6,2,IF(Y64='Look-up Tables'!$C$7,1)))))","v":false},{"$f":"IFERROR(VLOOKUP(AB64,'Look-up Tables'!$D$3:$E$127,2),\"\")","v":""},0]
[null,null,null,null,null,null,{"$f":"IF(F65='Look-up Tables'!$A$3,5,IF(F65='Look-up Tables'!$A$4,4,IF(F65='Look-up Tables'!$A$5,3,IF(F65='Look-up Tables'!$A$6,2,IF(F65='Look-up Tables'!$A$7,1)))))","v":false},null,null,{"$f":"IF(I65='Look-up Tables'!$B$3,5,IF(I65='Look-up Tables'!$B$4,4,IF(I65='Look-up Tables'!$B$5,3,IF(I65='Look-up Tables'!$B$6,2,IF(I65='Look-up Tables'!$B$7,1)))))","v":false},null,null,null,{"$f":"IF(M65='Look-up Tables'!$C$3,5,IF(M65='Look-up Tables'!$C$4,4,IF(M65='Look-up Tables'!$C$5,3,IF(M65='Look-up Tables'!$C$6,2,IF(M65='Look-up Tables'!$C$7,1)))))","v":false},{"$f":"IFERROR(VLOOKUP(P65,'Look-up Tables'!$D$3:$E$127,2),\"\")","v":""},0,null,null,null,null,null,{"$f":"IF(U65='Look-up Tables'!$A$3,5,IF(U65='Look-up Tables'!$A$4,4,IF(U65='Look-up Tables'!$A$5,3,IF(U65='Look-up Tables'!$A$6,2,IF(U65='Look-up Tables'!$A$7,1)))))","v":false},null,{"$f":"IF(W65='Look-up Tables'!$B$3,5,IF(W65='Look-up Tables'!$B$4,4,IF(W65='Look-up Tables'!$B$5,3,IF(W65='Look-up Tables'!$B$6,2,IF(W65='Look-up Tables'!$B$7,1)))))","v":false},null,{"$f":"IF(Y65='Look-up Tables'!$C$3,5,IF(Y65='Look-up Tables'!$C$4,4,IF(Y65='Look-up Tables'!$C$5,3,IF(Y65='Look-up Tables'!$C$6,2,IF(Y65='Look-up Tables'!$C$7,1)))))","v":false},{"$f":"IFERROR(VLOOKUP(AB65,'Look-up Tables'!$D$3:$E$127,2),\"\")","v":""},0]
[null,null,null,null,null,null,{"$f":"IF(F66='Look-up Tables'!$A$3,5,IF(F66='Look-up Tables'!$A$4,4,IF(F66='Look-up Tables'!$A$5,3,IF(F66='Look-up Tables'!$A$6,2,IF(F66='Look-up Tables'!$A$7,1)))))","v":false},null,null,{"$f":"IF(I66='Look-up Tables'!$B$3,5,IF(I66='Look-up Tables'!$B$4,4,IF(I66='Look-up Tables'!$B$5,3,IF(I66='Look-up Tables'!$B$6,2,IF(I66='Look-up Tables'!$B$7,1)))))","v":false},null,null,null,{"$f":"IF(M66='Look-up Tables'!$C$3,5,IF(M66='Look-up Tables'!$C$4,4,IF(M66='Look-up Tables'!$C$5,3,IF(M66='Look-up Tables'!$C$6,2,IF(M66='Look-up Tables'!$C$7,1)))))","v":false},{"$f":"IFERROR(VLOOKUP(P66,'Look-up Tables'!$D$3:$E$127,2),\"\")","v":""},0,null,null,null,null,null,{"$f":"IF(U66='Look-up Tables'!$A$3,5,IF(U66='Look-up Tables'!$A$4,4,IF(U66='Look-up Tables'!$A$5,3,IF(U66='Look-up Tables'!$A$6,2,IF(U66='Look-up Tables'!$A$7,1)))))","v":false},null,{"$f":"IF(W66='Look-up Tables'!$B$3,5,IF(W66='Look-up Tables'!$B$4,4,IF(W66='Look-up Tables'!$B$5,3,IF(W66='Look-up Tables'!$B$6,2,IF(W66='Look-up Tables'!$B$7,1)))))","v":false},null,{"$f":"IF(Y66='Look-up Tables'!$C$3,5,IF(Y66='Look-up Tables'!$C$4,4,IF(Y66='Look-up Tables'!$C$5,3,IF(Y66='Look-up Tables'!$C$6,2,IF(Y66='Look-up Tables'!$C$7,1)))))","v":false},{"$f":"IFERROR(VLOOKUP(AB66,'Look-up Tables'!$D$3:$E$127,2),\"\")","v":""},0]
[null,null,null,null,null,null,{"$f":"IF(F67='Look-up Tables'!$A$3,5,IF(F67='Look-up Tables'!$A$4,4,IF(F67='Look-up Tables'!$A$5,3,IF(F67='Look-up Tables'!$A$6,2,IF(F67='Look-up Tables'!$A$7,1)))))","v":false},null,null,{"$f":"IF(I67='Look-up Tables'!$B$3,5,IF(I67='Look-up Tables'!$B$4,4,IF(I67='Look-up Tables'!$B$5,3,IF(I67='Look-up Tables'!$B$6,2,IF(I67='Look-up Tables'!$B$7,1)))))","v":false},null,null,null,{"$f":"IF(M67='Look-up Tables'!$C$3,5,IF(M67='Look-up Tables'!$C$4,4,IF(M67='Look-up Tables'!$C$5,3,IF(M67='Look-up Tables'!$C$6,2,IF(M67='Look-up Tables'!$C$7,1)))))","v":false},{"$f":"IFERROR(VLOOKUP(P67,'Look-up Tables'!$D$3:$E$127,2),\"\")","v":""},0,null,null,null,null,null,{"$f":"IF(U67='Look-up Tables'!$A$3,5,IF(U67='Look-up Tables'!$A$4,4,IF(U67='Look-up Tables'!$A$5,3,IF(U67='Look-up Tables'!$A$6,2,IF(U67='Look-up Tables'!$A$7,1)))))","v":false},null,{"$f":"IF(W67='Look-up Tables'!$B$3,5,IF(W67='Look-up Tables'!$B$4,4,IF(W67='Look-up Tables'!$B$5,3,IF(W67='Look-up Tables'!$B$6,2,IF(W67='Look-up Tables'!$B$7,1)))))","v":false},null,{"$f":"IF(Y67='Look-up Tables'!$C$3,5,IF(Y67='Look-up Tables'!$C$4,4,IF(Y67='Look-up Tables'!$C$5,3,IF(Y67='Look-up Tables'!$C$6,2,IF(Y67='Look-up Tables'!$C$7,1)))))","v":false},{"$f":"IFERROR(VLOOKUP(AB67,'Look-up Tables'!$D$3:$E$127,2),\"\")","v":""},0]
[null,null,null,null,null,null,{"$f":"IF(F68='Look-up Tables'!$A$3,5,IF(F68='Look-up Tables'!$A$4,4,IF(F68='Look-up Tables'!$A$5,3,IF(F68='Look-up Tables'!$A$6,2,IF(F68='Look-up Tables'!$A$7,1)))))","v":false},null,null,{"$f":"IF(I68='Look-up Tables'!$B$3,5,IF(I68='Look-up Tables'!$B$4,4,IF(I68='Look-up Tables'!$B$5,3,IF(I68='Look-up Tables'!$B$6,2,IF(I68='Look-up Tables'!$B$7,1)))))","v":false},null,null,null,{"$f":"IF(M68='Look-up Tables'!$C$3,5,IF(M68='Look-up Tables'!$C$4,4,IF(M68='Look-up Tables'!$C$5,3,IF(M68='Look-up Tables'!$C$6,2,IF(M68='Look-up Tables'!$C$7,1)))))","v":false},{"$f":"IFERROR(VLOOKUP(P68,'Look-up Tables'!$D$3:$E$127,2),\"\")","v":""},0,null,null,null,null,null,{"$f":"IF(U68='Look-up Tables'!$A$3,5,IF(U68='Look-up Tables'!$A$4,4,IF(U68='Look-up Tables'!$A$5,3,IF(U68='Look-up Tables'!$A$6,2,IF(U68='Look-up Tables'!$A$7,1)))))","v":false},null,{"$f":"IF(W68='Look-up Tables'!$B$3,5,IF(W68='Look-up Tables'!$B$4,4,IF(W68='Look-up Tables'!$B$5,3,IF(W68='Look-up Tables'!$B$6,2,IF(W68='Look-up Tables'!$B$7,1)))))","v":false},null,{"$f":"IF(Y68='Look-up Tables'!$C$3,5,IF(Y68='Look-up Tables'!$C$4,4,IF(Y68='Look-up Tables'!$C$5,3,IF(Y68='Look-up Tables'!$C$6,2,IF(Y68='Look-up Tables'!$C$7,1)))))","v":false},{"$f":"IFERROR(VLOOKUP(AB68,'Look-up Tables'!$D$3:$E$127,2),\"\")","v":""},0]
[null,null,null,null,null,null,{"$f":"IF(F69='Look-up Tables'!$A$3,5,IF(F69='Look-up Tables'!$A$4,4,IF(F69='Look-up Tables'!$A$5,3,IF(F69='Look-up Tables'!$A$6,2,IF(F69='Look-up Tables'!$A$7,1)))))","v":false},null,null,{"$f":"IF(I69='Look-up Tables'!$B$3,5,IF(I69='Look-up Tables'!$B$4,4,IF(I69='Look-up Tables'!$B$5,3,IF(I69='Look-up Tables'!$B$6,2,IF(I69='Look-up Tables'!$B$7,1)))))","v":false},null,null,null,{"$f":"IF(M69='Look-up Tables'!$C$3,5,IF(M69='Look-up Tables'!$C$4,4,IF(M69='Look-up Tables'!$C$5,3,IF(M69='Look-up Tables'!$C$6,2,IF(M69='Look-up Tables'!$C$7,1)))))","v":false},{"$f":"IFERROR(VLOOKUP(P69,'Look-up Tables'!$D$3:$E$127,2),\"\")","v":""},0,null,null,null,null,null,{"$f":"IF(U69='Look-up Tables'!$A$3,5,IF(U69='Look-up Tables'!$A$4,4,IF(U69='Look-up Tables'!$A$5,3,IF(U69='Look-up Tables'!$A$6,2,IF(U69='Look-up Tables'!$A$7,1)))))","v":false},null,{"$f":"IF(W69='Look-up Tables'!$B$3,5,IF(W69='Look-up Tables'!$B$4,4,IF(W69='Look-up Tables'!$B$5,3,IF(W69='Look-up Tables'!$B$6,2,IF(W69='Look-up Tables'!$B$7,1)))))","v":false},null,{"$f":"IF(Y69='Look-up Tables'!$C$3,5,IF(Y69='Look-up Tables'!$C$4,4,IF(Y69='Look-up Tables'!$C$5,3,IF(Y69='Look-up Tables'!$C$6,2,IF(Y69='Look-up Tables'!$C$7,1)))))","v":false},{"$f":"IFERROR(VLOOKUP(AB69,'Look-up Tables'!$D$3:$E$127,2),\"\")","v":""},0]
[null,null,null,null,null,null,{"$f":"IF(F70='Look-up Tables'!$A$3,5,IF(F70='Look-up Tables'!$A$4,4,IF(F70='Look-up Tables'!$A$5,3,IF(F70='Look-up Tables'!$A$6,2,IF(F70='Look-up Tables'!$A$7,1)))))","v":false},null,null,{"$f":"IF(I70='Look-up Tables'!$B$3,5,IF(I70='Look-up Tables'!$B$4,4,IF(I70='Look-up Tables'!$B$5,3,IF(I70='Look-up Tables'!$B$6,2,IF(I70='Look-up Tables'!$B$7,1)))))","v":false},null,null,null,{"$f":"IF(M70='Look-up Tables'!$C$3,5,IF(M70='Look-up Tables'!$C$4,4,IF(M70='Look-up Tables'!$C$5,3,IF(M70='Look-up Tables'!$C$6,2,IF(M70='Look-up Tables'!$C$7,1)))))","v":false},{"$f":"IFERROR(VLOOKUP(P70,'Look-up Tables'!$D$3:$E$127,2),\"\")","v":""},0,null,null,null,null,null,{"$f":"IF(U70='Look-up Tables'!$A$3,5,IF(U70='Look-up Tables'!$A$4,4,IF(U70='Look-up Tables'!$A$5,3,IF(U70='Look-up Tables'!$A$6,2,IF(U70='Look-up Tables'!$A$7,1)))))","v":false},null,{"$f":"IF(W70='Look-up Tables'!$B$3,5,IF(W70='Look-up Tables'!$B$4,4,IF(W70='Look-up Tables'!$B$5,3,IF(W70='Look-up Tables'!$B$6,2,IF(W70='Look-up Tables'!$B$7,1)))))","v":false},null,{"$f":"IF(Y70='Look-up Tables'!$C$3,5,IF(Y70='Look-up Tables'!$C$4,4,IF(Y70='Look-up Tables'!$C$5,3,IF(Y70='Look-up Tables'!$C$6,2,IF(Y70='Look-up Tables'!$C$7,1)))))","v":false},{"$f":"IFERROR(VLOOKUP(AB70,'Look-up Tables'!$D$3:$E$127,2),\"\")","v":""},0]
[null,null,null,null,null,null,{"$f":"IF(F71='Look-up Tables'!$A$3,5,IF(F71='Look-up Tables'!$A$4,4,IF(F71='Look-up Tables'!$A$5,3,IF(F71='Look-up Tables'!$A$6,2,IF(F71='Look-up Tables'!$A$7,1)))))","v":false},null,null,{"$f":"IF(I71='Look-up Tables'!$B$3,5,IF(I71='Look-up Tables'!$B$4,4,IF(I71='Look-up Tables'!$B$5,3,IF(I71='Look-up Tables'!$B$6,2,IF(I71='Look-up Tables'!$B$7,1)))))","v":false},null,null,null,{"$f":"IF(M71='Look-up Tables'!$C$3,5,IF(M71='Look-up Tables'!$C$4,4,IF(M71='Look-up Tables'!$C$5,3,IF(M71='Look-up Tables'!$C$6,2,IF(M71='Look-up Tables'!$C$7,1)))))","v":false},{"$f":"IFERROR(VLOOKUP(P71,'Look-up Tables'!$D$3:$E$127,2),\"\")","v":""},0,null,null,null,null,null,{"$f":"IF(U71='Look-up Tables'!$A$3,5,IF(U71='Look-up Tables'!$A$4,4,IF(U71='Look-up Tables'!$A$5,3,IF(U71='Look-up Tables'!$A$6,2,IF(U71='Look-up Tables'!$A$7,1)))))","v":false},null,{"$f":"IF(W71='Look-up Tables'!$B$3,5,IF(W71='Look-up Tables'!$B$4,4,IF(W71='Look-up Tables'!$B$5,3,IF(W71='Look-up Tables'!$B$6,2,IF(W71='Look-up Tables'!$B$7,1)))))","v":false},null,{"$f":"IF(Y71='Look-up Tables'!$C$3,5,IF(Y71='Look-up Tables'!$C$4,4,IF(Y71='Look-up Tables'!$C$5,3,IF(Y71='Look-up Tables'!$C$6,2,IF(Y71='Look-up Tables'!$C$7,1)))))","v":false},{"$f":"IFERROR(VLOOKUP(AB71,'Look-up Tables'!$D$3:$E$127,2),\"\")","v":""},0]
[null,null,null,null,null,null,{"$f":"IF(F72='Look-up Tables'!$A$3,5,IF(F72='Look-up Tables'!$A$4,4,IF(F72='Look-up Tables'!$A$5,3,IF(F72='Look-up Tables'!$A$6,2,IF(F72='Look-up Tables'!$A$7,1)))))","v":false},null,null,{"$f":"IF(I72='Look-up Tables'!$B$3,5,IF(I72='Look-up Tables'!$B$4,4,IF(I72='Look-up Tables'!$B$5,3,IF(I72='Look-up Tables'!$B$6,2,IF(I72='Look-up Tables'!$B$7,1)))))","v":false},null,null,null,{"$f":"IF(M72='Look-up Tables'!$C$3,5,IF(M72='Look-up Tables'!$C$4,4,IF(M72='Look-up Tables'!$C$5,3,IF(M72='Look-up Tables'!$C$6,2,IF(M72='Look-up Tables'!$C$7,1)))))","v":false},{"$f":"IFERROR(VLOOKUP(P72,'Look-up Tables'!$D$3:$E$127,2),\"\")","v":""},0,null,null,null,null,null,{"$f":"IF(U72='Look-up Tables'!$A$3,5,IF(U72='Look-up Tables'!$A$4,4,IF(U72='Look-up Tables'!$A$5,3,IF(U72='Look-up Tables'!$A$6,2,IF(U72='Look-up Tables'!$A$7,1)))))","v":false},null,{"$f":"IF(W72='Look-up Tables'!$B$3,5,IF(W72='Look-up Tables'!$B$4,4,IF(W72='Look-up Tables'!$B$5,3,IF(W72='Look-up Tables'!$B$6,2,IF(W72='Look-up Tables'!$B$7,1)))))","v":false},null,{"$f":"IF(Y72='Look-up Tables'!$C$3,5,IF(Y72='Look-up Tables'!$C$4,4,IF(Y72='Look-up Tables'!$C$5,3,IF(Y72='Look-up Tables'!$C$6,2,IF(Y72='Look-up Tables'!$C$7,1)))))","v":false},{"$f":"IFERROR(VLOOKUP(AB72,'Look-up Tables'!$D$3:$E$127,2),\"\")","v":""},0]
[null,null,null,null,null,null,{"$f":"IF(F73='Look-up Tables'!$A$3,5,IF(F73='Look-up Tables'!$A$4,4,IF(F73='Look-up Tables'!$A$5,3,IF(F73='Look-up Tables'!$A$6,2,IF(F73='Look-up Tables'!$A$7,1)))))","v":false},null,null,{"$f":"IF(I73='Look-up Tables'!$B$3,5,IF(I73='Look-up Tables'!$B$4,4,IF(I73='Look-up Tables'!$B$5,3,IF(I73='Look-up Tables'!$B$6,2,IF(I73='Look-up Tables'!$B$7,1)))))","v":false},null,null,null,{"$f":"IF(M73='Look-up Tables'!$C$3,5,IF(M73='Look-up Tables'!$C$4,4,IF(M73='Look-up Tables'!$C$5,3,IF(M73='Look-up Tables'!$C$6,2,IF(M73='Look-up Tables'!$C$7,1)))))","v":false},{"$f":"IFERROR(VLOOKUP(P73,'Look-up Tables'!$D$3:$E$127,2),\"\")","v":""},0,null,null,null,null,null,{"$f":"IF(U73='Look-up Tables'!$A$3,5,IF(U73='Look-up Tables'!$A$4,4,IF(U73='Look-up Tables'!$A$5,3,IF(U73='Look-up Tables'!$A$6,2,IF(U73='Look-up Tables'!$A$7,1)))))","v":false},null,{"$f":"IF(W73='Look-up Tables'!$B$3,5,IF(W73='Look-up Tables'!$B$4,4,IF(W73='Look-up Tables'!$B$5,3,IF(W73='Look-up Tables'!$B$6,2,IF(W73='Look-up Tables'!$B$7,1)))))","v":false},null,{"$f":"IF(Y73='Look-up Tables'!$C$3,5,IF(Y73='Look-up Tables'!$C$4,4,IF(Y73='Look-up Tables'!$C$5,3,IF(Y73='Look-up Tables'!$C$6,2,IF(Y73='Look-up Tables'!$C$7,1)))))","v":false},{"$f":"IFERROR(VLOOKUP(AB73,'Look-up Tables'!$D$3:$E$127,2),\"\")","v":""},0]
[null,null,null,null,null,null,{"$f":"IF(F74='Look-up Tables'!$A$3,5,IF(F74='Look-up Tables'!$A$4,4,IF(F74='Look-up Tables'!$A$5,3,IF(F74='Look-up Tables'!$A$6,2,IF(F74='Look-up Tables'!$A$7,1)))))","v":false},null,null,{"$f":"IF(I74='Look-up Tables'!$B$3,5,IF(I74='Look-up Tables'!$B$4,4,IF(I74='Look-up Tables'!$B$5,3,IF(I74='Look-up Tables'!$B$6,2,IF(I74='Look-up Tables'!$B$7,1)))))","v":false},null,null,null,{"$f":"IF(M74='Look-up Tables'!$C$3,5,IF(M74='Look-up Tables'!$C$4,4,IF(M74='Look-up Tables'!$C$5,3,IF(M74='Look-up Tables'!$C$6,2,IF(M74='Look-up Tables'!$C$7,1)))))","v":false},{"$f":"IFERROR(VLOOKUP(P74,'Look-up Tables'!$D$3:$E$127,2),\"\")","v":""},0,null,null,null,null,null,{"$f":"IF(U74='Look-up Tables'!$A$3,5,IF(U74='Look-up Tables'!$A$4,4,IF(U74='Look-up Tables'!$A$5,3,IF(U74='Look-up Tables'!$A$6,2,IF(U74='Look-up Tables'!$A$7,1)))))","v":false},null,{"$f":"IF(W74='Look-up Tables'!$B$3,5,IF(W74='Look-up Tables'!$B$4,4,IF(W74='Look-up Tables'!$B$5,3,IF(W74='Look-up Tables'!$B$6,2,IF(W74='Look-up Tables'!$B$7,1)))))","v":false},null,{"$f":"IF(Y74='Look-up Tables'!$C$3,5,IF(Y74='Look-up Tables'!$C$4,4,IF(Y74='Look-up Tables'!$C$5,3,IF(Y74='Look-up Tables'!$C$6,2,IF(Y74='Look-up Tables'!$C$7,1)))))","v":false},{"$f":"IFERROR(VLOOKUP(AB74,'Look-up Tables'!$D$3:$E$127,2),\"\")","v":""},0]
[null,null,null,null,null,null,{"$f":"IF(F75='Look-up Tables'!$A$3,5,IF(F75='Look-up Tables'!$A$4,4,IF(F75='Look-up Tables'!$A$5,3,IF(F75='Look-up Tables'!$A$6,2,IF(F75='Look-up Tables'!$A$7,1)))))","v":false},null,null,{"$f":"IF(I75='Look-up Tables'!$B$3,5,IF(I75='Look-up Tables'!$B$4,4,IF(I75='Look-up Tables'!$B$5,3,IF(I75='Look-up Tables'!$B$6,2,IF(I75='Look-up Tables'!$B$7,1)))))","v":false},null,null,null,{"$f":"IF(M75='Look-up Tables'!$C$3,5,IF(M75='Look-up Tables'!$C$4,4,IF(M75='Look-up Tables'!$C$5,3,IF(M75='Look-up Tables'!$C$6,2,IF(M75='Look-up Tables'!$C$7,1)))))","v":false},{"$f":"IFERROR(VLOOKUP(P75,'Look-up Tables'!$D$3:$E$127,2),\"\")","v":""},0,null,null,null,null,null,{"$f":"IF(U75='Look-up Tables'!$A$3,5,IF(U75='Look-up Tables'!$A$4,4,IF(U75='Look-up Tables'!$A$5,3,IF(U75='Look-up Tables'!$A$6,2,IF(U75='Look-up Tables'!$A$7,1)))))","v":false},null,{"$f":"IF(W75='Look-up Tables'!$B$3,5,IF(W75='Look-up Tables'!$B$4,4,IF(W75='Look-up Tables'!$B$5,3,IF(W75='Look-up Tables'!$B$6,2,IF(W75='Look-up Tables'!$B$7,1)))))","v":false},null,{"$f":"IF(Y75='Look-up Tables'!$C$3,5,IF(Y75='Look-up Tables'!$C$4,4,IF(Y75='Look-up Tables'!$C$5,3,IF(Y75='Look-up Tables'!$C$6,2,IF(Y75='Look-up Tables'!$C$7,1)))))","v":false},{"$f":"IFERROR(VLOOKUP(AB75,'Look-up Tables'!$D$3:$E$127,2),\"\")","v":""},0]
[null,null,null,null,null,null,{"$f":"IF(F76='Look-up Tables'!$A$3,5,IF(F76='Look-up Tables'!$A$4,4,IF(F76='Look-up Tables'!$A$5,3,IF(F76='Look-up Tables'!$A$6,2,IF(F76='Look-up Tables'!$A$7,1)))))","v":false},null,null,{"$f":"IF(I76='Look-up Tables'!$B$3,5,IF(I76='Look-up Tables'!$B$4,4,IF(I76='Look-up Tables'!$B$5,3,IF(I76='Look-up Tables'!$B$6,2,IF(I76='Look-up Tables'!$B$7,1)))))","v":false},null,null,null,{"$f":"IF(M76='Look-up Tables'!$C$3,5,IF(M76='Look-up Tables'!$C$4,4,IF(M76='Look-up Tables'!$C$5,3,IF(M76='Look-up Tables'!$C$6,2,IF(M76='Look-up Tables'!$C$7,1)))))","v":false},{"$f":"IFERROR(VLOOKUP(P76,'Look-up Tables'!$D$3:$E$127,2),\"\")","v":""},0,null,null,null,null,null,{"$f":"IF(U76='Look-up Tables'!$A$3,5,IF(U76='Look-up Tables'!$A$4,4,IF(U76='Look-up Tables'!$A$5,3,IF(U76='Look-up Tables'!$A$6,2,IF(U76='Look-up Tables'!$A$7,1)))))","v":false},null,{"$f":"IF(W76='Look-up Tables'!$B$3,5,IF(W76='Look-up Tables'!$B$4,4,IF(W76='Look-up Tables'!$B$5,3,IF(W76='Look-up Tables'!$B$6,2,IF(W76='Look-up Tables'!$B$7,1)))))","v":false},null,{"$f":"IF(Y76='Look-up Tables'!$C$3,5,IF(Y76='Look-up Tables'!$C$4,4,IF(Y76='Look-up Tables'!$C$5,3,IF(Y76='Look-up Tables'!$C$6,2,IF(Y76='Look-up Tables'!$C$7,1)))))","v":false},{"$f":"IFERROR(VLOOKUP(AB76,'Look-up Tables'!$D$3:$E$127,2),\"\")","v":""},0]
[null,null,null,null,null,null,{"$f":"IF(F77='Look-up Tables'!$A$3,5,IF(F77='Look-up Tables'!$A$4,4,IF(F77='Look-up Tables'!$A$5,3,IF(F77='Look-up Tables'!$A$6,2,IF(F77='Look-up Tables'!$A$7,1)))))","v":false},null,null,{"$f":"IF(I77='Look-up Tables'!$B$3,5,IF(I77='Look-up Tables'!$B$4,4,IF(I77='Look-up Tables'!$B$5,3,IF(I77='Look-up Tables'!$B$6,2,IF(I77='Look-up Tables'!$B$7,1)))))","v":false},null,null,null,{"$f":"IF(M77='Look-up Tables'!$C$3,5,IF(M77='Look-up Tables'!$C$4,4,IF(M77='Look-up Tables'!$C$5,3,IF(M77='Look-up Tables'!$C$6,2,IF(M77='Look-up Tables'!$C$7,1)))))","v":false},{"$f":"IFERROR(VLOOKUP(P77,'Look-up Tables'!$D$3:$E$127,2),\"\")","v":""},0,null,null,null,null,null,{"$f":"IF(U77='Look-up Tables'!$A$3,5,IF(U77='Look-up Tables'!$A$4,4,IF(U77='Look-up Tables'!$A$5,3,IF(U77='Look-up Tables'!$A$6,2,IF(U77='Look-up Tables'!$A$7,1)))))","v":false},null,{"$f":"IF(W77='Look-up Tables'!$B$3,5,IF(W77='Look-up Tables'!$B$4,4,IF(W77='Look-up Tables'!$B$5,3,IF(W77='Look-up Tables'!$B$6,2,IF(W77='Look-up Tables'!$B$7,1)))))","v":false},null,{"$f":"IF(Y77='Look-up Tables'!$C$3,5,IF(Y77='Look-up Tables'!$C$4,4,IF(Y77='Look-up Tables'!$C$5,3,IF(Y77='Look-up Tables'!$C$6,2,IF(Y77='Look-up Tables'!$C$7,1)))))","v":false},{"$f":"IFERROR(VLOOKUP(AB77,'Look-up Tables'!$D$3:$E$127,2),\"\")","v":""},0]
[null,null,null,null,null,null,{"$f":"IF(F78='Look-up Tables'!$A$3,5,IF(F78='Look-up Tables'!$A$4,4,IF(F78='Look-up Tables'!$A$5,3,IF(F78='Look-up Tables'!$A$6,2,IF(F78='Look-up Tables'!$A$7,1)))))","v":false},null,null,{"$f":"IF(I78='Look-up Tables'!$B$3,5,IF(I78='Look-up Tables'!$B$4,4,IF(I78='Look-up Tables'!$B$5,3,IF(I78='Look-up Tables'!$B$6,2,IF(I78='Look-up Tables'!$B$7,1)))))","v":false},null,null,null,{"$f":"IF(M78='Look-up Tables'!$C$3,5,IF(M78='Look-up Tables'!$C$4,4,IF(M78='Look-up Tables'!$C$5,3,IF(M78='Look-up Tables'!$C$6,2,IF(M78='Look-up Tables'!$C$7,1)))))","v":false},{"$f":"IFERROR(VLOOKUP(P78,'Look-up Tables'!$D$3:$E$127,2),\"\")","v":""},0,null,null,null,null,null,{"$f":"IF(U78='Look-up Tables'!$A$3,5,IF(U78='Look-up Tables'!$A$4,4,IF(U78='Look-up Tables'!$A$5,3,IF(U78='Look-up Tables'!$A$6,2,IF(U78='Look-up Tables'!$A$7,1)))))","v":false},null,{"$f":"IF(W78='Look-up Tables'!$B$3,5,IF(W78='Look-up Tables'!$B$4,4,IF(W78='Look-up Tables'!$B$5,3,IF(W78='Look-up Tables'!$B$6,2,IF(W78='Look-up Tables'!$B$7,1)))))","v":false},null,{"$f":"IF(Y78='Look-up Tables'!$C$3,5,IF(Y78='Look-up Tables'!$C$4,4,IF(Y78='Look-up Tables'!$C$5,3,IF(Y78='Look-up Tables'!$C$6,2,IF(Y78='Look-up Tables'!$C$7,1)))))","v":false},{"$f":"IFERROR(VLOOKUP(AB78,'Look-up Tables'!$D$3:$E$127,2),\"\")","v":""},0]
[null,null,null,null,null,null,{"$f":"IF(F79='Look-up Tables'!$A$3,5,IF(F79='Look-up Tables'!$A$4,4,IF(F79='Look-up Tables'!$A$5,3,IF(F79='Look-up Tables'!$A$6,2,IF(F79='Look-up Tables'!$A$7,1)))))","v":false},null,null,{"$f":"IF(I79='Look-up Tables'!$B$3,5,IF(I79='Look-up Tables'!$B$4,4,IF(I79='Look-up Tables'!$B$5,3,IF(I79='Look-up Tables'!$B$6,2,IF(I79='Look-up Tables'!$B$7,1)))))","v":false},null,null,null,{"$f":"IF(M79='Look-up Tables'!$C$3,5,IF(M79='Look-up Tables'!$C$4,4,IF(M79='Look-up Tables'!$C$5,3,IF(M79='Look-up Tables'!$C$6,2,IF(M79='Look-up Tables'!$C$7,1)))))","v":false},{"$f":"IFERROR(VLOOKUP(P79,'Look-up Tables'!$D$3:$E$127,2),\"\")","v":""},0,null,null,null,null,null,{"$f":"IF(U79='Look-up Tables'!$A$3,5,IF(U79='Look-up Tables'!$A$4,4,IF(U79='Look-up Tables'!$A$5,3,IF(U79='Look-up Tables'!$A$6,2,IF(U79='Look-up Tables'!$A$7,1)))))","v":false},null,{"$f":"IF(W79='Look-up Tables'!$B$3,5,IF(W79='Look-up Tables'!$B$4,4,IF(W79='Look-up Tables'!$B$5,3,IF(W79='Look-up Tables'!$B$6,2,IF(W79='Look-up Tables'!$B$7,1)))))","v":false},null,{"$f":"IF(Y79='Look-up Tables'!$C$3,5,IF(Y79='Look-up Tables'!$C$4,4,IF(Y79='Look-up Tables'!$C$5,3,IF(Y79='Look-up Tables'!$C$6,2,IF(Y79='Look-up Tables'!$C$7,1)))))","v":false},{"$f":"IFERROR(VLOOKUP(AB79,'Look-up Tables'!$D$3:$E$127,2),\"\")","v":""},0]
[null,null,null,null,null,null,{"$f":"IF(F80='Look-up Tables'!$A$3,5,IF(F80='Look-up Tables'!$A$4,4,IF(F80='Look-up Tables'!$A$5,3,IF(F80='Look-up Tables'!$A$6,2,IF(F80='Look-up Tables'!$A$7,1)))))","v":false},null,null,{"$f":"IF(I80='Look-up Tables'!$B$3,5,IF(I80='Look-up Tables'!$B$4,4,IF(I80='Look-up Tables'!$B$5,3,IF(I80='Look-up Tables'!$B$6,2,IF(I80='Look-up Tables'!$B$7,1)))))","v":false},null,null,null,{"$f":"IF(M80='Look-up Tables'!$C$3,5,IF(M80='Look-up Tables'!$C$4,4,IF(M80='Look-up Tables'!$C$5,3,IF(M80='Look-up Tables'!$C$6,2,IF(M80='Look-up Tables'!$C$7,1)))))","v":false},{"$f":"IFERROR(VLOOKUP(P80,'Look-up Tables'!$D$3:$E$127,2),\"\")","v":""},0,null,null,null,null,null,{"$f":"IF(U80='Look-up Tables'!$A$3,5,IF(U80='Look-up Tables'!$A$4,4,IF(U80='Look-up Tables'!$A$5,3,IF(U80='Look-up Tables'!$A$6,2,IF(U80='Look-up Tables'!$A$7,1)))))","v":false},null,{"$f":"IF(W80='Look-up Tables'!$B$3,5,IF(W80='Look-up Tables'!$B$4,4,IF(W80='Look-up Tables'!$B$5,3,IF(W80='Look-up Tables'!$B$6,2,IF(W80='Look-up Tables'!$B$7,1)))))","v":false},null,{"$f":"IF(Y80='Look-up Tables'!$C$3,5,IF(Y80='Look-up Tables'!$C$4,4,IF(Y80='Look-up Tables'!$C$5,3,IF(Y80='Look-up Tables'!$C$6,2,IF(Y80='Look-up Tables'!$C$7,1)))))","v":false},{"$f":"IFERROR(VLOOKUP(AB80,'Look-up Tables'!$D$3:$E$127,2),\"\")","v":""},0]
[null,null,null,null,null,null,{"$f":"IF(F81='Look-up Tables'!$A$3,5,IF(F81='Look-up Tables'!$A$4,4,IF(F81='Look-up Tables'!$A$5,3,IF(F81='Look-up Tables'!$A$6,2,IF(F81='Look-up Tables'!$A$7,1)))))","v":false},null,null,{"$f":"IF(I81='Look-up Tables'!$B$3,5,IF(I81='Look-up Tables'!$B$4,4,IF(I81='Look-up Tables'!$B$5,3,IF(I81='Look-up Tables'!$B$6,2,IF(I81='Look-up Tables'!$B$7,1)))))","v":false},null,null,null,{"$f":"IF(M81='Look-up Tables'!$C$3,5,IF(M81='Look-up Tables'!$C$4,4,IF(M81='Look-up Tables'!$C$5,3,IF(M81='Look-up Tables'!$C$6,2,IF(M81='Look-up Tables'!$C$7,1)))))","v":false},{"$f":"IFERROR(VLOOKUP(P81,'Look-up Tables'!$D$3:$E$127,2),\"\")","v":""},0,null,null,null,null,null,{"$f":"IF(U81='Look-up Tables'!$A$3,5,IF(U81='Look-up Tables'!$A$4,4,IF(U81='Look-up Tables'!$A$5,3,IF(U81='Look-up Tables'!$A$6,2,IF(U81='Look-up Tables'!$A$7,1)))))","v":false},null,{"$f":"IF(W81='Look-up Tables'!$B$3,5,IF(W81='Look-up Tables'!$B$4,4,IF(W81='Look-up Tables'!$B$5,3,IF(W81='Look-up Tables'!$B$6,2,IF(W81='Look-up Tables'!$B$7,1)))))","v":false},null,{"$f":"IF(Y81='Look-up Tables'!$C$3,5,IF(Y81='Look-up Tables'!$C$4,4,IF(Y81='Look-up Tables'!$C$5,3,IF(Y81='Look-up Tables'!$C$6,2,IF(Y81='Look-up Tables'!$C$7,1)))))","v":false},{"$f":"IFERROR(VLOOKUP(AB81,'Look-up Tables'!$D$3:$E$127,2),\"\")","v":""},0]
[null,null,null,null,null,null,{"$f":"IF(F82='Look-up Tables'!$A$3,5,IF(F82='Look-up Tables'!$A$4,4,IF(F82='Look-up Tables'!$A$5,3,IF(F82='Look-up Tables'!$A$6,2,IF(F82='Look-up Tables'!$A$7,1)))))","v":false},null,null,{"$f":"IF(I82='Look-up Tables'!$B$3,5,IF(I82='Look-up Tables'!$B$4,4,IF(I82='Look-up Tables'!$B$5,3,IF(I82='Look-up Tables'!$B$6,2,IF(I82='Look-up Tables'!$B$7,1)))))","v":false},null,null,null,{"$f":"IF(M82='Look-up Tables'!$C$3,5,IF(M82='Look-up Tables'!$C$4,4,IF(M82='Look-up Tables'!$C$5,3,IF(M82='Look-up Tables'!$C$6,2,IF(M82='Look-up Tables'!$C$7,1)))))","v":false},{"$f":"IFERROR(VLOOKUP(P82,'Look-up Tables'!$D$3:$E$127,2),\"\")","v":""},0,null,null,null,null,null,{"$f":"IF(U82='Look-up Tables'!$A$3,5,IF(U82='Look-up Tables'!$A$4,4,IF(U82='Look-up Tables'!$A$5,3,IF(U82='Look-up Tables'!$A$6,2,IF(U82='Look-up Tables'!$A$7,1)))))","v":false},null,{"$f":"IF(W82='Look-up Tables'!$B$3,5,IF(W82='Look-up Tables'!$B$4,4,IF(W82='Look-up Tables'!$B$5,3,IF(W82='Look-up Tables'!$B$6,2,IF(W82='Look-up Tables'!$B$7,1)))))","v":false},null,{"$f":"IF(Y82='Look-up Tables'!$C$3,5,IF(Y82='Look-up Tables'!$C$4,4,IF(Y82='Look-up Tables'!$C$5,3,IF(Y82='Look-up Tables'!$C$6,2,IF(Y82='Look-up Tables'!$C$7,1)))))","v":false},{"$f":"IFERROR(VLOOKUP(AB82,'Look-up Tables'!$D$3:$E$127,2),\"\")","v":""},0]
[null,null,null,null,null,null,{"$f":"IF(F83='Look-up Tables'!$A$3,5,IF(F83='Look-up Tables'!$A$4,4,IF(F83='Look-up Tables'!$A$5,3,IF(F83='Look-up Tables'!$A$6,2,IF(F83='Look-up Tables'!$A$7,1)))))","v":false},null,null,{"$f":"IF(I83='Look-up Tables'!$B$3,5,IF(I83='Look-up Tables'!$B$4,4,IF(I83='Look-up Tables'!$B$5,3,IF(I83='Look-up Tables'!$B$6,2,IF(I83='Look-up Tables'!$B$7,1)))))","v":false},null,null,null,{"$f":"IF(M83='Look-up Tables'!$C$3,5,IF(M83='Look-up Tables'!$C$4,4,IF(M83='Look-up Tables'!$C$5,3,IF(M83='Look-up Tables'!$C$6,2,IF(M83='Look-up Tables'!$C$7,1)))))","v":false},{"$f":"IFERROR(VLOOKUP(P83,'Look-up Tables'!$D$3:$E$127,2),\"\")","v":""},0,null,null,null,null,null,{"$f":"IF(U83='Look-up Tables'!$A$3,5,IF(U83='Look-up Tables'!$A$4,4,IF(U83='Look-up Tables'!$A$5,3,IF(U83='Look-up Tables'!$A$6,2,IF(U83='Look-up Tables'!$A$7,1)))))","v":false},null,{"$f":"IF(W83='Look-up Tables'!$B$3,5,IF(W83='Look-up Tables'!$B$4,4,IF(W83='Look-up Tables'!$B$5,3,IF(W83='Look-up Tables'!$B$6,2,IF(W83='Look-up Tables'!$B$7,1)))))","v":false},null,{"$f":"IF(Y83='Look-up Tables'!$C$3,5,IF(Y83='Look-up Tables'!$C$4,4,IF(Y83='Look-up Tables'!$C$5,3,IF(Y83='Look-up Tables'!$C$6,2,IF(Y83='Look-up Tables'!$C$7,1)))))","v":false},{"$f":"IFERROR(VLOOKUP(AB83,'Look-up Tables'!$D$3:$E$127,2),\"\")","v":""},0]
[null,null,null,null,null,null,{"$f":"IF(F84='Look-up Tables'!$A$3,5,IF(F84='Look-up Tables'!$A$4,4,IF(F84='Look-up Tables'!$A$5,3,IF(F84='Look-up Tables'!$A$6,2,IF(F84='Look-up Tables'!$A$7,1)))))","v":false},null,null,{"$f":"IF(I84='Look-up Tables'!$B$3,5,IF(I84='Look-up Tables'!$B$4,4,IF(I84='Look-up Tables'!$B$5,3,IF(I84='Look-up Tables'!$B$6,2,IF(I84='Look-up Tables'!$B$7,1)))))","v":false},null,null,null,{"$f":"IF(M84='Look-up Tables'!$C$3,5,IF(M84='Look-up Tables'!$C$4,4,IF(M84='Look-up Tables'!$C$5,3,IF(M84='Look-up Tables'!$C$6,2,IF(M84='Look-up Tables'!$C$7,1)))))","v":false},{"$f":"IFERROR(VLOOKUP(P84,'Look-up Tables'!$D$3:$E$127,2),\"\")","v":""},0,null,null,null,null,null,{"$f":"IF(U84='Look-up Tables'!$A$3,5,IF(U84='Look-up Tables'!$A$4,4,IF(U84='Look-up Tables'!$A$5,3,IF(U84='Look-up Tables'!$A$6,2,IF(U84='Look-up Tables'!$A$7,1)))))","v":false},null,{"$f":"IF(W84='Look-up Tables'!$B$3,5,IF(W84='Look-up Tables'!$B$4,4,IF(W84='Look-up Tables'!$B$5,3,IF(W84='Look-up Tables'!$B$6,2,IF(W84='Look-up Tables'!$B$7,1)))))","v":false},null,{"$f":"IF(Y84='Look-up Tables'!$C$3,5,IF(Y84='Look-up Tables'!$C$4,4,IF(Y84='Look-up Tables'!$C$5,3,IF(Y84='Look-up Tables'!$C$6,2,IF(Y84='Look-up Tables'!$C$7,1)))))","v":false},{"$f":"IFERROR(VLOOKUP(AB84,'Look-up Tables'!$D$3:$E$127,2),\"\")","v":""},0]
[null,null,null,null,null,null,{"$f":"IF(F85='Look-up Tables'!$A$3,5,IF(F85='Look-up Tables'!$A$4,4,IF(F85='Look-up Tables'!$A$5,3,IF(F85='Look-up Tables'!$A$6,2,IF(F85='Look-up Tables'!$A$7,1)))))","v":false},null,null,{"$f":"IF(I85='Look-up Tables'!$B$3,5,IF(I85='Look-up Tables'!$B$4,4,IF(I85='Look-up Tables'!$B$5,3,IF(I85='Look-up Tables'!$B$6,2,IF(I85='Look-up Tables'!$B$7,1)))))","v":false},null,null,null,{"$f":"IF(M85='Look-up Tables'!$C$3,5,IF(M85='Look-up Tables'!$C$4,4,IF(M85='Look-up Tables'!$C$5,3,IF(M85='Look-up Tables'!$C$6,2,IF(M85='Look-up Tables'!$C$7,1)))))","v":false},{"$f":"IFERROR(VLOOKUP(P85,'Look-up Tables'!$D$3:$E$127,2),\"\")","v":""},0,null,null,null,null,null,{"$f":"IF(U85='Look-up Tables'!$A$3,5,IF(U85='Look-up Tables'!$A$4,4,IF(U85='Look-up Tables'!$A$5,3,IF(U85='Look-up Tables'!$A$6,2,IF(U85='Look-up Tables'!$A$7,1)))))","v":false},null,{"$f":"IF(W85='Look-up Tables'!$B$3,5,IF(W85='Look-up Tables'!$B$4,4,IF(W85='Look-up Tables'!$B$5,3,IF(W85='Look-up Tables'!$B$6,2,IF(W85='Look-up Tables'!$B$7,1)))))","v":false},null,{"$f":"IF(Y85='Look-up Tables'!$C$3,5,IF(Y85='Look-up Tables'!$C$4,4,IF(Y85='Look-up Tables'!$C$5,3,IF(Y85='Look-up Tables'!$C$6,2,IF(Y85='Look-up Tables'!$C$7,1)))))","v":false},{"$f":"IFERROR(VLOOKUP(AB85,'Look-up Tables'!$D$3:$E$127,2),\"\")","v":""},0]
[null,null,null,null,null,null,{"$f":"IF(F86='Look-up Tables'!$A$3,5,IF(F86='Look-up Tables'!$A$4,4,IF(F86='Look-up Tables'!$A$5,3,IF(F86='Look-up Tables'!$A$6,2,IF(F86='Look-up Tables'!$A$7,1)))))","v":false},null,null,{"$f":"IF(I86='Look-up Tables'!$B$3,5,IF(I86='Look-up Tables'!$B$4,4,IF(I86='Look-up Tables'!$B$5,3,IF(I86='Look-up Tables'!$B$6,2,IF(I86='Look-up Tables'!$B$7,1)))))","v":false},null,null,null,{"$f":"IF(M86='Look-up Tables'!$C$3,5,IF(M86='Look-up Tables'!$C$4,4,IF(M86='Look-up Tables'!$C$5,3,IF(M86='Look-up Tables'!$C$6,2,IF(M86='Look-up Tables'!$C$7,1)))))","v":false},{"$f":"IFERROR(VLOOKUP(P86,'Look-up Tables'!$D$3:$E$127,2),\"\")","v":""},0,null,null,null,null,null,{"$f":"IF(U86='Look-up Tables'!$A$3,5,IF(U86='Look-up Tables'!$A$4,4,IF(U86='Look-up Tables'!$A$5,3,IF(U86='Look-up Tables'!$A$6,2,IF(U86='Look-up Tables'!$A$7,1)))))","v":false},null,{"$f":"IF(W86='Look-up Tables'!$B$3,5,IF(W86='Look-up Tables'!$B$4,4,IF(W86='Look-up Tables'!$B$5,3,IF(W86='Look-up Tables'!$B$6,2,IF(W86='Look-up Tables'!$B$7,1)))))","v":false},null,{"$f":"IF(Y86='Look-up Tables'!$C$3,5,IF(Y86='Look-up Tables'!$C$4,4,IF(Y86='Look-up Tables'!$C$5,3,IF(Y86='Look-up Tables'!$C$6,2,IF(Y86='Look-up Tables'!$C$7,1)))))","v":false},{"$f":"IFERROR(VLOOKUP(AB86,'Look-up Tables'!$D$3:$E$127,2),\"\")","v":""},0]
[null,null,null,null,null,null,{"$f":"IF(F87='Look-up Tables'!$A$3,5,IF(F87='Look-up Tables'!$A$4,4,IF(F87='Look-up Tables'!$A$5,3,IF(F87='Look-up Tables'!$A$6,2,IF(F87='Look-up Tables'!$A$7,1)))))","v":false},null,null,{"$f":"IF(I87='Look-up Tables'!$B$3,5,IF(I87='Look-up Tables'!$B$4,4,IF(I87='Look-up Tables'!$B$5,3,IF(I87='Look-up Tables'!$B$6,2,IF(I87='Look-up Tables'!$B$7,1)))))","v":false},null,null,null,{"$f":"IF(M87='Look-up Tables'!$C$3,5,IF(M87='Look-up Tables'!$C$4,4,IF(M87='Look-up Tables'!$C$5,3,IF(M87='Look-up Tables'!$C$6,2,IF(M87='Look-up Tables'!$C$7,1)))))","v":false},{"$f":"IFERROR(VLOOKUP(P87,'Look-up Tables'!$D$3:$E$127,2),\"\")","v":""},0,null,null,null,null,null,{"$f":"IF(U87='Look-up Tables'!$A$3,5,IF(U87='Look-up Tables'!$A$4,4,IF(U87='Look-up Tables'!$A$5,3,IF(U87='Look-up Tables'!$A$6,2,IF(U87='Look-up Tables'!$A$7,1)))))","v":false},null,{"$f":"IF(W87='Look-up Tables'!$B$3,5,IF(W87='Look-up Tables'!$B$4,4,IF(W87='Look-up Tables'!$B$5,3,IF(W87='Look-up Tables'!$B$6,2,IF(W87='Look-up Tables'!$B$7,1)))))","v":false},null,{"$f":"IF(Y87='Look-up Tables'!$C$3,5,IF(Y87='Look-up Tables'!$C$4,4,IF(Y87='Look-up Tables'!$C$5,3,IF(Y87='Look-up Tables'!$C$6,2,IF(Y87='Look-up Tables'!$C$7,1)))))","v":false},{"$f":"IFERROR(VLOOKUP(AB87,'Look-up Tables'!$D$3:$E$127,2),\"\")","v":""},0]
[null,null,null,null,null,null,{"$f":"IF(F88='Look-up Tables'!$A$3,5,IF(F88='Look-up Tables'!$A$4,4,IF(F88='Look-up Tables'!$A$5,3,IF(F88='Look-up Tables'!$A$6,2,IF(F88='Look-up Tables'!$A$7,1)))))","v":false},null,null,{"$f":"IF(I88='Look-up Tables'!$B$3,5,IF(I88='Look-up Tables'!$B$4,4,IF(I88='Look-up Tables'!$B$5,3,IF(I88='Look-up Tables'!$B$6,2,IF(I88='Look-up Tables'!$B$7,1)))))","v":false},null,null,null,{"$f":"IF(M88='Look-up Tables'!$C$3,5,IF(M88='Look-up Tables'!$C$4,4,IF(M88='Look-up Tables'!$C$5,3,IF(M88='Look-up Tables'!$C$6,2,IF(M88='Look-up Tables'!$C$7,1)))))","v":false},{"$f":"IFERROR(VLOOKUP(P88,'Look-up Tables'!$D$3:$E$127,2),\"\")","v":""},0,null,null,null,null,null,{"$f":"IF(U88='Look-up Tables'!$A$3,5,IF(U88='Look-up Tables'!$A$4,4,IF(U88='Look-up Tables'!$A$5,3,IF(U88='Look-up Tables'!$A$6,2,IF(U88='Look-up Tables'!$A$7,1)))))","v":false},null,{"$f":"IF(W88='Look-up Tables'!$B$3,5,IF(W88='Look-up Tables'!$B$4,4,IF(W88='Look-up Tables'!$B$5,3,IF(W88='Look-up Tables'!$B$6,2,IF(W88='Look-up Tables'!$B$7,1)))))","v":false},null,{"$f":"IF(Y88='Look-up Tables'!$C$3,5,IF(Y88='Look-up Tables'!$C$4,4,IF(Y88='Look-up Tables'!$C$5,3,IF(Y88='Look-up Tables'!$C$6,2,IF(Y88='Look-up Tables'!$C$7,1)))))","v":false},{"$f":"IFERROR(VLOOKUP(AB88,'Look-up Tables'!$D$3:$E$127,2),\"\")","v":""},0]
[null,null,null,null,null,null,{"$f":"IF(F89='Look-up Tables'!$A$3,5,IF(F89='Look-up Tables'!$A$4,4,IF(F89='Look-up Tables'!$A$5,3,IF(F89='Look-up Tables'!$A$6,2,IF(F89='Look-up Tables'!$A$7,1)))))","v":false},null,null,{"$f":"IF(I89='Look-up Tables'!$B$3,5,IF(I89='Look-up Tables'!$B$4,4,IF(I89='Look-up Tables'!$B$5,3,IF(I89='Look-up Tables'!$B$6,2,IF(I89='Look-up Tables'!$B$7,1)))))","v":false},null,null,null,{"$f":"IF(M89='Look-up Tables'!$C$3,5,IF(M89='Look-up Tables'!$C$4,4,IF(M89='Look-up Tables'!$C$5,3,IF(M89='Look-up Tables'!$C$6,2,IF(M89='Look-up Tables'!$C$7,1)))))","v":false},{"$f":"IFERROR(VLOOKUP(P89,'Look-up Tables'!$D$3:$E$127,2),\"\")","v":""},0,null,null,null,null,null,{"$f":"IF(U89='Look-up Tables'!$A$3,5,IF(U89='Look-up Tables'!$A$4,4,IF(U89='Look-up Tables'!$A$5,3,IF(U89='Look-up Tables'!$A$6,2,IF(U89='Look-up Tables'!$A$7,1)))))","v":false},null,{"$f":"IF(W89='Look-up Tables'!$B$3,5,IF(W89='Look-up Tables'!$B$4,4,IF(W89='Look-up Tables'!$B$5,3,IF(W89='Look-up Tables'!$B$6,2,IF(W89='Look-up Tables'!$B$7,1)))))","v":false},null,{"$f":"IF(Y89='Look-up Tables'!$C$3,5,IF(Y89='Look-up Tables'!$C$4,4,IF(Y89='Look-up Tables'!$C$5,3,IF(Y89='Look-up Tables'!$C$6,2,IF(Y89='Look-up Tables'!$C$7,1)))))","v":false},{"$f":"IFERROR(VLOOKUP(AB89,'Look-up Tables'!$D$3:$E$127,2),\"\")","v":""},0]
[null,null,null,null,null,null,{"$f":"IF(F90='Look-up Tables'!$A$3,5,IF(F90='Look-up Tables'!$A$4,4,IF(F90='Look-up Tables'!$A$5,3,IF(F90='Look-up Tables'!$A$6,2,IF(F90='Look-up Tables'!$A$7,1)))))","v":false},null,null,{"$f":"IF(I90='Look-up Tables'!$B$3,5,IF(I90='Look-up Tables'!$B$4,4,IF(I90='Look-up Tables'!$B$5,3,IF(I90='Look-up Tables'!$B$6,2,IF(I90='Look-up Tables'!$B$7,1)))))","v":false},null,null,null,{"$f":"IF(M90='Look-up Tables'!$C$3,5,IF(M90='Look-up Tables'!$C$4,4,IF(M90='Look-up Tables'!$C$5,3,IF(M90='Look-up Tables'!$C$6,2,IF(M90='Look-up Tables'!$C$7,1)))))","v":false},{"$f":"IFERROR(VLOOKUP(P90,'Look-up Tables'!$D$3:$E$127,2),\"\")","v":""},0,null,null,null,null,null,{"$f":"IF(U90='Look-up Tables'!$A$3,5,IF(U90='Look-up Tables'!$A$4,4,IF(U90='Look-up Tables'!$A$5,3,IF(U90='Look-up Tables'!$A$6,2,IF(U90='Look-up Tables'!$A$7,1)))))","v":false},null,{"$f":"IF(W90='Look-up Tables'!$B$3,5,IF(W90='Look-up Tables'!$B$4,4,IF(W90='Look-up Tables'!$B$5,3,IF(W90='Look-up Tables'!$B$6,2,IF(W90='Look-up Tables'!$B$7,1)))))","v":false},null,{"$f":"IF(Y90='Look-up Tables'!$C$3,5,IF(Y90='Look-up Tables'!$C$4,4,IF(Y90='Look-up Tables'!$C$5,3,IF(Y90='Look-up Tables'!$C$6,2,IF(Y90='Look-up Tables'!$C$7,1)))))","v":false},{"$f":"IFERROR(VLOOKUP(AB90,'Look-up Tables'!$D$3:$E$127,2),\"\")","v":""},0]
[null,null,null,null,null,null,{"$f":"IF(F91='Look-up Tables'!$A$3,5,IF(F91='Look-up Tables'!$A$4,4,IF(F91='Look-up Tables'!$A$5,3,IF(F91='Look-up Tables'!$A$6,2,IF(F91='Look-up Tables'!$A$7,1)))))","v":false},null,null,{"$f":"IF(I91='Look-up Tables'!$B$3,5,IF(I91='Look-up Tables'!$B$4,4,IF(I91='Look-up Tables'!$B$5,3,IF(I91='Look-up Tables'!$B$6,2,IF(I91='Look-up Tables'!$B$7,1)))))","v":false},null,null,null,{"$f":"IF(M91='Look-up Tables'!$C$3,5,IF(M91='Look-up Tables'!$C$4,4,IF(M91='Look-up Tables'!$C$5,3,IF(M91='Look-up Tables'!$C$6,2,IF(M91='Look-up Tables'!$C$7,1)))))","v":false},{"$f":"IFERROR(VLOOKUP(P91,'Look-up Tables'!$D$3:$E$127,2),\"\")","v":""},0,null,null,null,null,null,{"$f":"IF(U91='Look-up Tables'!$A$3,5,IF(U91='Look-up Tables'!$A$4,4,IF(U91='Look-up Tables'!$A$5,3,IF(U91='Look-up Tables'!$A$6,2,IF(U91='Look-up Tables'!$A$7,1)))))","v":false},null,{"$f":"IF(W91='Look-up Tables'!$B$3,5,IF(W91='Look-up Tables'!$B$4,4,IF(W91='Look-up Tables'!$B$5,3,IF(W91='Look-up Tables'!$B$6,2,IF(W91='Look-up Tables'!$B$7,1)))))","v":false},null,{"$f":"IF(Y91='Look-up Tables'!$C$3,5,IF(Y91='Look-up Tables'!$C$4,4,IF(Y91='Look-up Tables'!$C$5,3,IF(Y91='Look-up Tables'!$C$6,2,IF(Y91='Look-up Tables'!$C$7,1)))))","v":false},{"$f":"IFERROR(VLOOKUP(AB91,'Look-up Tables'!$D$3:$E$127,2),\"\")","v":""},0]
[null,null,null,null,null,null,{"$f":"IF(F92='Look-up Tables'!$A$3,5,IF(F92='Look-up Tables'!$A$4,4,IF(F92='Look-up Tables'!$A$5,3,IF(F92='Look-up Tables'!$A$6,2,IF(F92='Look-up Tables'!$A$7,1)))))","v":false},null,null,{"$f":"IF(I92='Look-up Tables'!$B$3,5,IF(I92='Look-up Tables'!$B$4,4,IF(I92='Look-up Tables'!$B$5,3,IF(I92='Look-up Tables'!$B$6,2,IF(I92='Look-up Tables'!$B$7,1)))))","v":false},null,null,null,{"$f":"IF(M92='Look-up Tables'!$C$3,5,IF(M92='Look-up Tables'!$C$4,4,IF(M92='Look-up Tables'!$C$5,3,IF(M92='Look-up Tables'!$C$6,2,IF(M92='Look-up Tables'!$C$7,1)))))","v":false},{"$f":"IFERROR(VLOOKUP(P92,'Look-up Tables'!$D$3:$E$127,2),\"\")","v":""},0,null,null,null,null,null,{"$f":"IF(U92='Look-up Tables'!$A$3,5,IF(U92='Look-up Tables'!$A$4,4,IF(U92='Look-up Tables'!$A$5,3,IF(U92='Look-up Tables'!$A$6,2,IF(U92='Look-up Tables'!$A$7,1)))))","v":false},null,{"$f":"IF(W92='Look-up Tables'!$B$3,5,IF(W92='Look-up Tables'!$B$4,4,IF(W92='Look-up Tables'!$B$5,3,IF(W92='Look-up Tables'!$B$6,2,IF(W92='Look-up Tables'!$B$7,1)))))","v":false},null,{"$f":"IF(Y92='Look-up Tables'!$C$3,5,IF(Y92='Look-up Tables'!$C$4,4,IF(Y92='Look-up Tables'!$C$5,3,IF(Y92='Look-up Tables'!$C$6,2,IF(Y92='Look-up Tables'!$C$7,1)))))","v":false},{"$f":"IFERROR(VLOOKUP(AB92,'Look-up Tables'!$D$3:$E$127,2),\"\")","v":""},0]
[null,null,null,null,null,null,{"$f":"IF(F93='Look-up Tables'!$A$3,5,IF(F93='Look-up Tables'!$A$4,4,IF(F93='Look-up Tables'!$A$5,3,IF(F93='Look-up Tables'!$A$6,2,IF(F93='Look-up Tables'!$A$7,1)))))","v":false},null,null,{"$f":"IF(I93='Look-up Tables'!$B$3,5,IF(I93='Look-up Tables'!$B$4,4,IF(I93='Look-up Tables'!$B$5,3,IF(I93='Look-up Tables'!$B$6,2,IF(I93='Look-up Tables'!$B$7,1)))))","v":false},null,null,null,{"$f":"IF(M93='Look-up Tables'!$C$3,5,IF(M93='Look-up Tables'!$C$4,4,IF(M93='Look-up Tables'!$C$5,3,IF(M93='Look-up Tables'!$C$6,2,IF(M93='Look-up Tables'!$C$7,1)))))","v":false},{"$f":"IFERROR(VLOOKUP(P93,'Look-up Tables'!$D$3:$E$127,2),\"\")","v":""},0,null,null,null,null,null,{"$f":"IF(U93='Look-up Tables'!$A$3,5,IF(U93='Look-up Tables'!$A$4,4,IF(U93='Look-up Tables'!$A$5,3,IF(U93='Look-up Tables'!$A$6,2,IF(U93='Look-up Tables'!$A$7,1)))))","v":false},null,{"$f":"IF(W93='Look-up Tables'!$B$3,5,IF(W93='Look-up Tables'!$B$4,4,IF(W93='Look-up Tables'!$B$5,3,IF(W93='Look-up Tables'!$B$6,2,IF(W93='Look-up Tables'!$B$7,1)))))","v":false},null,{"$f":"IF(Y93='Look-up Tables'!$C$3,5,IF(Y93='Look-up Tables'!$C$4,4,IF(Y93='Look-up Tables'!$C$5,3,IF(Y93='Look-up Tables'!$C$6,2,IF(Y93='Look-up Tables'!$C$7,1)))))","v":false},{"$f":"IFERROR(VLOOKUP(AB93,'Look-up Tables'!$D$3:$E$127,2),\"\")","v":""},0]
[null,null,null,null,null,null,{"$f":"IF(F94='Look-up Tables'!$A$3,5,IF(F94='Look-up Tables'!$A$4,4,IF(F94='Look-up Tables'!$A$5,3,IF(F94='Look-up Tables'!$A$6,2,IF(F94='Look-up Tables'!$A$7,1)))))","v":false},null,null,{"$f":"IF(I94='Look-up Tables'!$B$3,5,IF(I94='Look-up Tables'!$B$4,4,IF(I94='Look-up Tables'!$B$5,3,IF(I94='Look-up Tables'!$B$6,2,IF(I94='Look-up Tables'!$B$7,1)))))","v":false},null,null,null,{"$f":"IF(M94='Look-up Tables'!$C$3,5,IF(M94='Look-up Tables'!$C$4,4,IF(M94='Look-up Tables'!$C$5,3,IF(M94='Look-up Tables'!$C$6,2,IF(M94='Look-up Tables'!$C$7,1)))))","v":false},{"$f":"IFERROR(VLOOKUP(P94,'Look-up Tables'!$D$3:$E$127,2),\"\")","v":""},0,null,null,null,null,null,{"$f":"IF(U94='Look-up Tables'!$A$3,5,IF(U94='Look-up Tables'!$A$4,4,IF(U94='Look-up Tables'!$A$5,3,IF(U94='Look-up Tables'!$A$6,2,IF(U94='Look-up Tables'!$A$7,1)))))","v":false},null,{"$f":"IF(W94='Look-up Tables'!$B$3,5,IF(W94='Look-up Tables'!$B$4,4,IF(W94='Look-up Tables'!$B$5,3,IF(W94='Look-up Tables'!$B$6,2,IF(W94='Look-up Tables'!$B$7,1)))))","v":false},null,{"$f":"IF(Y94='Look-up Tables'!$C$3,5,IF(Y94='Look-up Tables'!$C$4,4,IF(Y94='Look-up Tables'!$C$5,3,IF(Y94='Look-up Tables'!$C$6,2,IF(Y94='Look-up Tables'!$C$7,1)))))","v":false},{"$f":"IFERROR(VLOOKUP(AB94,'Look-up Tables'!$D$3:$E$127,2),\"\")","v":""},0]
[null,null,null,null,null,null,{"$f":"IF(F95='Look-up Tables'!$A$3,5,IF(F95='Look-up Tables'!$A$4,4,IF(F95='Look-up Tables'!$A$5,3,IF(F95='Look-up Tables'!$A$6,2,IF(F95='Look-up Tables'!$A$7,1)))))","v":false},null,null,{"$f":"IF(I95='Look-up Tables'!$B$3,5,IF(I95='Look-up Tables'!$B$4,4,IF(I95='Look-up Tables'!$B$5,3,IF(I95='Look-up Tables'!$B$6,2,IF(I95='Look-up Tables'!$B$7,1)))))","v":false},null,null,null,{"$f":"IF(M95='Look-up Tables'!$C$3,5,IF(M95='Look-up Tables'!$C$4,4,IF(M95='Look-up Tables'!$C$5,3,IF(M95='Look-up Tables'!$C$6,2,IF(M95='Look-up Tables'!$C$7,1)))))","v":false},{"$f":"IFERROR(VLOOKUP(P95,'Look-up Tables'!$D$3:$E$127,2),\"\")","v":""},0,null,null,null,null,null,{"$f":"IF(U95='Look-up Tables'!$A$3,5,IF(U95='Look-up Tables'!$A$4,4,IF(U95='Look-up Tables'!$A$5,3,IF(U95='Look-up Tables'!$A$6,2,IF(U95='Look-up Tables'!$A$7,1)))))","v":false},null,{"$f":"IF(W95='Look-up Tables'!$B$3,5,IF(W95='Look-up Tables'!$B$4,4,IF(W95='Look-up Tables'!$B$5,3,IF(W95='Look-up Tables'!$B$6,2,IF(W95='Look-up Tables'!$B$7,1)))))","v":false},null,{"$f":"IF(Y95='Look-up Tables'!$C$3,5,IF(Y95='Look-up Tables'!$C$4,4,IF(Y95='Look-up Tables'!$C$5,3,IF(Y95='Look-up Tables'!$C$6,2,IF(Y95='Look-up Tables'!$C$7,1)))))","v":false},{"$f":"IFERROR(VLOOKUP(AB95,'Look-up Tables'!$D$3:$E$127,2),\"\")","v":""},0]
[null,null,null,null,null,null,{"$f":"IF(F96='Look-up Tables'!$A$3,5,IF(F96='Look-up Tables'!$A$4,4,IF(F96='Look-up Tables'!$A$5,3,IF(F96='Look-up Tables'!$A$6,2,IF(F96='Look-up Tables'!$A$7,1)))))","v":false},null,null,{"$f":"IF(I96='Look-up Tables'!$B$3,5,IF(I96='Look-up Tables'!$B$4,4,IF(I96='Look-up Tables'!$B$5,3,IF(I96='Look-up Tables'!$B$6,2,IF(I96='Look-up Tables'!$B$7,1)))))","v":false},null,null,null,{"$f":"IF(M96='Look-up Tables'!$C$3,5,IF(M96='Look-up Tables'!$C$4,4,IF(M96='Look-up Tables'!$C$5,3,IF(M96='Look-up Tables'!$C$6,2,IF(M96='Look-up Tables'!$C$7,1)))))","v":false},{"$f":"IFERROR(VLOOKUP(P96,'Look-up Tables'!$D$3:$E$127,2),\"\")","v":""},0,null,null,null,null,null,{"$f":"IF(U96='Look-up Tables'!$A$3,5,IF(U96='Look-up Tables'!$A$4,4,IF(U96='Look-up Tables'!$A$5,3,IF(U96='Look-up Tables'!$A$6,2,IF(U96='Look-up Tables'!$A$7,1)))))","v":false},null,{"$f":"IF(W96='Look-up Tables'!$B$3,5,IF(W96='Look-up Tables'!$B$4,4,IF(W96='Look-up Tables'!$B$5,3,IF(W96='Look-up Tables'!$B$6,2,IF(W96='Look-up Tables'!$B$7,1)))))","v":false},null,{"$f":"IF(Y96='Look-up Tables'!$C$3,5,IF(Y96='Look-up Tables'!$C$4,4,IF(Y96='Look-up Tables'!$C$5,3,IF(Y96='Look-up Tables'!$C$6,2,IF(Y96='Look-up Tables'!$C$7,1)))))","v":false},{"$f":"IFERROR(VLOOKUP(AB96,'Look-up Tables'!$D$3:$E$127,2),\"\")","v":""},0]
[null,null,null,null,null,null,{"$f":"IF(F97='Look-up Tables'!$A$3,5,IF(F97='Look-up Tables'!$A$4,4,IF(F97='Look-up Tables'!$A$5,3,IF(F97='Look-up Tables'!$A$6,2,IF(F97='Look-up Tables'!$A$7,1)))))","v":false},null,null,{"$f":"IF(I97='Look-up Tables'!$B$3,5,IF(I97='Look-up Tables'!$B$4,4,IF(I97='Look-up Tables'!$B$5,3,IF(I97='Look-up Tables'!$B$6,2,IF(I97='Look-up Tables'!$B$7,1)))))","v":false},null,null,null,{"$f":"IF(M97='Look-up Tables'!$C$3,5,IF(M97='Look-up Tables'!$C$4,4,IF(M97='Look-up Tables'!$C$5,3,IF(M97='Look-up Tables'!$C$6,2,IF(M97='Look-up Tables'!$C$7,1)))))","v":false},{"$f":"IFERROR(VLOOKUP(P97,'Look-up Tables'!$D$3:$E$127,2),\"\")","v":""},0,null,null,null,null,null,{"$f":"IF(U97='Look-up Tables'!$A$3,5,IF(U97='Look-up Tables'!$A$4,4,IF(U97='Look-up Tables'!$A$5,3,IF(U97='Look-up Tables'!$A$6,2,IF(U97='Look-up Tables'!$A$7,1)))))","v":false},null,{"$f":"IF(W97='Look-up Tables'!$B$3,5,IF(W97='Look-up Tables'!$B$4,4,IF(W97='Look-up Tables'!$B$5,3,IF(W97='Look-up Tables'!$B$6,2,IF(W97='Look-up Tables'!$B$7,1)))))","v":false},null,{"$f":"IF(Y97='Look-up Tables'!$C$3,5,IF(Y97='Look-up Tables'!$C$4,4,IF(Y97='Look-up Tables'!$C$5,3,IF(Y97='Look-up Tables'!$C$6,2,IF(Y97='Look-up Tables'!$C$7,1)))))","v":false},{"$f":"IFERROR(VLOOKUP(AB97,'Look-up Tables'!$D$3:$E$127,2),\"\")","v":""},0]
[null,null,null,null,null,null,{"$f":"IF(F98='Look-up Tables'!$A$3,5,IF(F98='Look-up Tables'!$A$4,4,IF(F98='Look-up Tables'!$A$5,3,IF(F98='Look-up Tables'!$A$6,2,IF(F98='Look-up Tables'!$A$7,1)))))","v":false},null,null,{"$f":"IF(I98='Look-up Tables'!$B$3,5,IF(I98='Look-up Tables'!$B$4,4,IF(I98='Look-up Tables'!$B$5,3,IF(I98='Look-up Tables'!$B$6,2,IF(I98='Look-up Tables'!$B$7,1)))))","v":false},null,null,null,{"$f":"IF(M98='Look-up Tables'!$C$3,5,IF(M98='Look-up Tables'!$C$4,4,IF(M98='Look-up Tables'!$C$5,3,IF(M98='Look-up Tables'!$C$6,2,IF(M98='Look-up Tables'!$C$7,1)))))","v":false},{"$f":"IFERROR(VLOOKUP(P98,'Look-up Tables'!$D$3:$E$127,2),\"\")","v":""},0,null,null,null,null,null,{"$f":"IF(U98='Look-up Tables'!$A$3,5,IF(U98='Look-up Tables'!$A$4,4,IF(U98='Look-up Tables'!$A$5,3,IF(U98='Look-up Tables'!$A$6,2,IF(U98='Look-up Tables'!$A$7,1)))))","v":false},null,{"$f":"IF(W98='Look-up Tables'!$B$3,5,IF(W98='Look-up Tables'!$B$4,4,IF(W98='Look-up Tables'!$B$5,3,IF(W98='Look-up Tables'!$B$6,2,IF(W98='Look-up Tables'!$B$7,1)))))","v":false},null,{"$f":"IF(Y98='Look-up Tables'!$C$3,5,IF(Y98='Look-up Tables'!$C$4,4,IF(Y98='Look-up Tables'!$C$5,3,IF(Y98='Look-up Tables'!$C$6,2,IF(Y98='Look-up Tables'!$C$7,1)))))","v":false},{"$f":"IFERROR(VLOOKUP(AB98,'Look-up Tables'!$D$3:$E$127,2),\"\")","v":""},0]
[null,null,null,null,null,null,{"$f":"IF(F99='Look-up Tables'!$A$3,5,IF(F99='Look-up Tables'!$A$4,4,IF(F99='Look-up Tables'!$A$5,3,IF(F99='Look-up Tables'!$A$6,2,IF(F99='Look-up Tables'!$A$7,1)))))","v":false},null,null,{"$f":"IF(I99='Look-up Tables'!$B$3,5,IF(I99='Look-up Tables'!$B$4,4,IF(I99='Look-up Tables'!$B$5,3,IF(I99='Look-up Tables'!$B$6,2,IF(I99='Look-up Tables'!$B$7,1)))))","v":false},null,null,null,{"$f":"IF(M99='Look-up Tables'!$C$3,5,IF(M99='Look-up Tables'!$C$4,4,IF(M99='Look-up Tables'!$C$5,3,IF(M99='Look-up Tables'!$C$6,2,IF(M99='Look-up Tables'!$C$7,1)))))","v":false},{"$f":"IFERROR(VLOOKUP(P99,'Look-up Tables'!$D$3:$E$127,2),\"\")","v":""},0,null,null,null,null,null,{"$f":"IF(U99='Look-up Tables'!$A$3,5,IF(U99='Look-up Tables'!$A$4,4,IF(U99='Look-up Tables'!$A$5,3,IF(U99='Look-up Tables'!$A$6,2,IF(U99='Look-up Tables'!$A$7,1)))))","v":false},null,{"$f":"IF(W99='Look-up Tables'!$B$3,5,IF(W99='Look-up Tables'!$B$4,4,IF(W99='Look-up Tables'!$B$5,3,IF(W99='Look-up Tables'!$B$6,2,IF(W99='Look-up Tables'!$B$7,1)))))","v":false},null,{"$f":"IF(Y99='Look-up Tables'!$C$3,5,IF(Y99='Look-up Tables'!$C$4,4,IF(Y99='Look-up Tables'!$C$5,3,IF(Y99='Look-up Tables'!$C$6,2,IF(Y99='Look-up Tables'!$C$7,1)))))","v":false},{"$f":"IFERROR(VLOOKUP(AB99,'Look-up Tables'!$D$3:$E$127,2),\"\")","v":""},0]
[null,null,null,null,null,null,{"$f":"IF(F100='Look-up Tables'!$A$3,5,IF(F100='Look-up Tables'!$A$4,4,IF(F100='Look-up Tables'!$A$5,3,IF(F100='Look-up Tables'!$A$6,2,IF(F100='Look-up Tables'!$A$7,1)))))","v":false},null,null,{"$f":"IF(I100='Look-up Tables'!$B$3,5,IF(I100='Look-up Tables'!$B$4,4,IF(I100='Look-up Tables'!$B$5,3,IF(I100='Look-up Tables'!$B$6,2,IF(I100='Look-up Tables'!$B$7,1)))))","v":false},null,null,null,{"$f":"IF(M100='Look-up Tables'!$C$3,5,IF(M100='Look-up Tables'!$C$4,4,IF(M100='Look-up Tables'!$C$5,3,IF(M100='Look-up Tables'!$C$6,2,IF(M100='Look-up Tables'!$C$7,1)))))","v":false},{"$f":"IFERROR(VLOOKUP(P100,'Look-up Tables'!$D$3:$E$127,2),\"\")","v":""},0,null,null,null,null,null,{"$f":"IF(U100='Look-up Tables'!$A$3,5,IF(U100='Look-up Tables'!$A$4,4,IF(U100='Look-up Tables'!$A$5,3,IF(U100='Look-up Tables'!$A$6,2,IF(U100='Look-up Tables'!$A$7,1)))))","v":false},null,{"$f":"IF(W100='Look-up Tables'!$B$3,5,IF(W100='Look-up Tables'!$B$4,4,IF(W100='Look-up Tables'!$B$5,3,IF(W100='Look-up Tables'!$B$6,2,IF(W100='Look-up Tables'!$B$7,1)))))","v":false},null,{"$f":"IF(Y100='Look-up Tables'!$C$3,5,IF(Y100='Look-up Tables'!$C$4,4,IF(Y100='Look-up Tables'!$C$5,3,IF(Y100='Look-up Tables'!$C$6,2,IF(Y100='Look-up Tables'!$C$7,1)))))","v":false},{"$f":"IFERROR(VLOOKUP(AB100,'Look-up Tables'!$D$3:$E$127,2),\"\")","v":""},0]
[null,null,null,null,null,null,{"$f":"IF(F101='Look-up Tables'!$A$3,5,IF(F101='Look-up Tables'!$A$4,4,IF(F101='Look-up Tables'!$A$5,3,IF(F101='Look-up Tables'!$A$6,2,IF(F101='Look-up Tables'!$A$7,1)))))","v":false},null,null,{"$f":"IF(I101='Look-up Tables'!$B$3,5,IF(I101='Look-up Tables'!$B$4,4,IF(I101='Look-up Tables'!$B$5,3,IF(I101='Look-up Tables'!$B$6,2,IF(I101='Look-up Tables'!$B$7,1)))))","v":false},null,null,null,{"$f":"IF(M101='Look-up Tables'!$C$3,5,IF(M101='Look-up Tables'!$C$4,4,IF(M101='Look-up Tables'!$C$5,3,IF(M101='Look-up Tables'!$C$6,2,IF(M101='Look-up Tables'!$C$7,1)))))","v":false},{"$f":"IFERROR(VLOOKUP(P101,'Look-up Tables'!$D$3:$E$127,2),\"\")","v":""},0,null,null,null,null,null,{"$f":"IF(U101='Look-up Tables'!$A$3,5,IF(U101='Look-up Tables'!$A$4,4,IF(U101='Look-up Tables'!$A$5,3,IF(U101='Look-up Tables'!$A$6,2,IF(U101='Look-up Tables'!$A$7,1)))))","v":false},null,{"$f":"IF(W101='Look-up Tables'!$B$3,5,IF(W101='Look-up Tables'!$B$4,4,IF(W101='Look-up Tables'!$B$5,3,IF(W101='Look-up Tables'!$B$6,2,IF(W101='Look-up Tables'!$B$7,1)))))","v":false},null,{"$f":"IF(Y101='Look-up Tables'!$C$3,5,IF(Y101='Look-up Tables'!$C$4,4,IF(Y101='Look-up Tables'!$C$5,3,IF(Y101='Look-up Tables'!$C$6,2,IF(Y101='Look-up Tables'!$C$7,1)))))","v":false},{"$f":"IFERROR(VLOOKUP(AB101,'Look-up Tables'!$D$3:$E$127,2),\"\")","v":""},0]
[null,null,null,null,null,null,{"$f":"IF(F102='Look-up Tables'!$A$3,5,IF(F102='Look-up Tables'!$A$4,4,IF(F102='Look-up Tables'!$A$5,3,IF(F102='Look-up Tables'!$A$6,2,IF(F102='Look-up Tables'!$A$7,1)))))","v":false},null,null,{"$f":"IF(I102='Look-up Tables'!$B$3,5,IF(I102='Look-up Tables'!$B$4,4,IF(I102='Look-up Tables'!$B$5,3,IF(I102='Look-up Tables'!$B$6,2,IF(I102='Look-up Tables'!$B$7,1)))))","v":false},null,null,null,{"$f":"IF(M102='Look-up Tables'!$C$3,5,IF(M102='Look-up Tables'!$C$4,4,IF(M102='Look-up Tables'!$C$5,3,IF(M102='Look-up Tables'!$C$6,2,IF(M102='Look-up Tables'!$C$7,1)))))","v":false},{"$f":"IFERROR(VLOOKUP(P102,'Look-up Tables'!$D$3:$E$127,2),\"\")","v":""},0,null,null,null,null,null,{"$f":"IF(U102='Look-up Tables'!$A$3,5,IF(U102='Look-up Tables'!$A$4,4,IF(U102='Look-up Tables'!$A$5,3,IF(U102='Look-up Tables'!$A$6,2,IF(U102='Look-up Tables'!$A$7,1)))))","v":false},null,{"$f":"IF(W102='Look-up Tables'!$B$3,5,IF(W102='Look-up Tables'!$B$4,4,IF(W102='Look-up Tables'!$B$5,3,IF(W102='Look-up Tables'!$B$6,2,IF(W102='Look-up Tables'!$B$7,1)))))","v":false},null,{"$f":"IF(Y102='Look-up Tables'!$C$3,5,IF(Y102='Look-up Tables'!$C$4,4,IF(Y102='Look-up Tables'!$C$5,3,IF(Y102='Look-up Tables'!$C$6,2,IF(Y102='Look-up Tables'!$C$7,1)))))","v":false},{"$f":"IFERROR(VLOOKUP(AB102,'Look-up Tables'!$D$3:$E$127,2),\"\")","v":""},0]
[null,null,null,null,null,null,{"$f":"IF(F103='Look-up Tables'!$A$3,5,IF(F103='Look-up Tables'!$A$4,4,IF(F103='Look-up Tables'!$A$5,3,IF(F103='Look-up Tables'!$A$6,2,IF(F103='Look-up Tables'!$A$7,1)))))","v":false},null,null,{"$f":"IF(I103='Look-up Tables'!$B$3,5,IF(I103='Look-up Tables'!$B$4,4,IF(I103='Look-up Tables'!$B$5,3,IF(I103='Look-up Tables'!$B$6,2,IF(I103='Look-up Tables'!$B$7,1)))))","v":false},null,null,null,{"$f":"IF(M103='Look-up Tables'!$C$3,5,IF(M103='Look-up Tables'!$C$4,4,IF(M103='Look-up Tables'!$C$5,3,IF(M103='Look-up Tables'!$C$6,2,IF(M103='Look-up Tables'!$C$7,1)))))","v":false},{"$f":"IFERROR(VLOOKUP(P103,'Look-up Tables'!$D$3:$E$127,2),\"\")","v":""},0,null,null,null,null,null,{"$f":"IF(U103='Look-up Tables'!$A$3,5,IF(U103='Look-up Tables'!$A$4,4,IF(U103='Look-up Tables'!$A$5,3,IF(U103='Look-up Tables'!$A$6,2,IF(U103='Look-up Tables'!$A$7,1)))))","v":false},null,{"$f":"IF(W103='Look-up Tables'!$B$3,5,IF(W103='Look-up Tables'!$B$4,4,IF(W103='Look-up Tables'!$B$5,3,IF(W103='Look-up Tables'!$B$6,2,IF(W103='Look-up Tables'!$B$7,1)))))","v":false},null,{"$f":"IF(Y103='Look-up Tables'!$C$3,5,IF(Y103='Look-up Tables'!$C$4,4,IF(Y103='Look-up Tables'!$C$5,3,IF(Y103='Look-up Tables'!$C$6,2,IF(Y103='Look-up Tables'!$C$7,1)))))","v":false},{"$f":"IFERROR(VLOOKUP(AB103,'Look-up Tables'!$D$3:$E$127,2),\"\")","v":""},0]
[null,null,null,null,null,null,{"$f":"IF(F104='Look-up Tables'!$A$3,5,IF(F104='Look-up Tables'!$A$4,4,IF(F104='Look-up Tables'!$A$5,3,IF(F104='Look-up Tables'!$A$6,2,IF(F104='Look-up Tables'!$A$7,1)))))","v":false},null,null,{"$f":"IF(I104='Look-up Tables'!$B$3,5,IF(I104='Look-up Tables'!$B$4,4,IF(I104='Look-up Tables'!$B$5,3,IF(I104='Look-up Tables'!$B$6,2,IF(I104='Look-up Tables'!$B$7,1)))))","v":false},null,null,null,{"$f":"IF(M104='Look-up Tables'!$C$3,5,IF(M104='Look-up Tables'!$C$4,4,IF(M104='Look-up Tables'!$C$5,3,IF(M104='Look-up Tables'!$C$6,2,IF(M104='Look-up Tables'!$C$7,1)))))","v":false},{"$f":"IFERROR(VLOOKUP(P104,'Look-up Tables'!$D$3:$E$127,2),\"\")","v":""},0,null,null,null,null,null,{"$f":"IF(U104='Look-up Tables'!$A$3,5,IF(U104='Look-up Tables'!$A$4,4,IF(U104='Look-up Tables'!$A$5,3,IF(U104='Look-up Tables'!$A$6,2,IF(U104='Look-up Tables'!$A$7,1)))))","v":false},null,{"$f":"IF(W104='Look-up Tables'!$B$3,5,IF(W104='Look-up Tables'!$B$4,4,IF(W104='Look-up Tables'!$B$5,3,IF(W104='Look-up Tables'!$B$6,2,IF(W104='Look-up Tables'!$B$7,1)))))","v":false},null,{"$f":"IF(Y104='Look-up Tables'!$C$3,5,IF(Y104='Look-up Tables'!$C$4,4,IF(Y104='Look-up Tables'!$C$5,3,IF(Y104='Look-up Tables'!$C$6,2,IF(Y104='Look-up Tables'!$C$7,1)))))","v":false},{"$f":"IFERROR(VLOOKUP(AB104,'Look-up Tables'!$D$3:$E$127,2),\"\")","v":""},0]
[null,null,null,null,null,null,{"$f":"IF(F105='Look-up Tables'!$A$3,5,IF(F105='Look-up Tables'!$A$4,4,IF(F105='Look-up Tables'!$A$5,3,IF(F105='Look-up Tables'!$A$6,2,IF(F105='Look-up Tables'!$A$7,1)))))","v":false},null,null,{"$f":"IF(I105='Look-up Tables'!$B$3,5,IF(I105='Look-up Tables'!$B$4,4,IF(I105='Look-up Tables'!$B$5,3,IF(I105='Look-up Tables'!$B$6,2,IF(I105='Look-up Tables'!$B$7,1)))))","v":false},null,null,null,{"$f":"IF(M105='Look-up Tables'!$C$3,5,IF(M105='Look-up Tables'!$C$4,4,IF(M105='Look-up Tables'!$C$5,3,IF(M105='Look-up Tables'!$C$6,2,IF(M105='Look-up Tables'!$C$7,1)))))","v":false},{"$f":"IFERROR(VLOOKUP(P105,'Look-up Tables'!$D$3:$E$127,2),\"\")","v":""},0,null,null,null,null,null,{"$f":"IF(U105='Look-up Tables'!$A$3,5,IF(U105='Look-up Tables'!$A$4,4,IF(U105='Look-up Tables'!$A$5,3,IF(U105='Look-up Tables'!$A$6,2,IF(U105='Look-up Tables'!$A$7,1)))))","v":false},null,{"$f":"IF(W105='Look-up Tables'!$B$3,5,IF(W105='Look-up Tables'!$B$4,4,IF(W105='Look-up Tables'!$B$5,3,IF(W105='Look-up Tables'!$B$6,2,IF(W105='Look-up Tables'!$B$7,1)))))","v":false},null,{"$f":"IF(Y105='Look-up Tables'!$C$3,5,IF(Y105='Look-up Tables'!$C$4,4,IF(Y105='Look-up Tables'!$C$5,3,IF(Y105='Look-up Tables'!$C$6,2,IF(Y105='Look-up Tables'!$C$7,1)))))","v":false},{"$f":"IFERROR(VLOOKUP(AB105,'Look-up Tables'!$D$3:$E$127,2),\"\")","v":""},0]
[null,null,null,null,null,null,{"$f":"IF(F106='Look-up Tables'!$A$3,5,IF(F106='Look-up Tables'!$A$4,4,IF(F106='Look-up Tables'!$A$5,3,IF(F106='Look-up Tables'!$A$6,2,IF(F106='Look-up Tables'!$A$7,1)))))","v":false},null,null,{"$f":"IF(I106='Look-up Tables'!$B$3,5,IF(I106='Look-up Tables'!$B$4,4,IF(I106='Look-up Tables'!$B$5,3,IF(I106='Look-up Tables'!$B$6,2,IF(I106='Look-up Tables'!$B$7,1)))))","v":false},null,null,null,{"$f":"IF(M106='Look-up Tables'!$C$3,5,IF(M106='Look-up Tables'!$C$4,4,IF(M106='Look-up Tables'!$C$5,3,IF(M106='Look-up Tables'!$C$6,2,IF(M106='Look-up Tables'!$C$7,1)))))","v":false},{"$f":"IFERROR(VLOOKUP(P106,'Look-up Tables'!$D$3:$E$127,2),\"\")","v":""},0,null,null,null,null,null,{"$f":"IF(U106='Look-up Tables'!$A$3,5,IF(U106='Look-up Tables'!$A$4,4,IF(U106='Look-up Tables'!$A$5,3,IF(U106='Look-up Tables'!$A$6,2,IF(U106='Look-up Tables'!$A$7,1)))))","v":false},null,{"$f":"IF(W106='Look-up Tables'!$B$3,5,IF(W106='Look-up Tables'!$B$4,4,IF(W106='Look-up Tables'!$B$5,3,IF(W106='Look-up Tables'!$B$6,2,IF(W106='Look-up Tables'!$B$7,1)))))","v":false},null,{"$f":"IF(Y106='Look-up Tables'!$C$3,5,IF(Y106='Look-up Tables'!$C$4,4,IF(Y106='Look-up Tables'!$C$5,3,IF(Y106='Look-up Tables'!$C$6,2,IF(Y106='Look-up Tables'!$C$7,1)))))","v":false},{"$f":"IFERROR(VLOOKUP(AB106,'Look-up Tables'!$D$3:$E$127,2),\"\")","v":""},0]
[null,null,null,null,null,null,{"$f":"IF(F107='Look-up Tables'!$A$3,5,IF(F107='Look-up Tables'!$A$4,4,IF(F107='Look-up Tables'!$A$5,3,IF(F107='Look-up Tables'!$A$6,2,IF(F107='Look-up Tables'!$A$7,1)))))","v":false},null,null,{"$f":"IF(I107='Look-up Tables'!$B$3,5,IF(I107='Look-up Tables'!$B$4,4,IF(I107='Look-up Tables'!$B$5,3,IF(I107='Look-up Tables'!$B$6,2,IF(I107='Look-up Tables'!$B$7,1)))))","v":false},null,null,null,{"$f":"IF(M107='Look-up Tables'!$C$3,5,IF(M107='Look-up Tables'!$C$4,4,IF(M107='Look-up Tables'!$C$5,3,IF(M107='Look-up Tables'!$C$6,2,IF(M107='Look-up Tables'!$C$7,1)))))","v":false},{"$f":"IFERROR(VLOOKUP(P107,'Look-up Tables'!$D$3:$E$127,2),\"\")","v":""},0,null,null,null,null,null,{"$f":"IF(U107='Look-up Tables'!$A$3,5,IF(U107='Look-up Tables'!$A$4,4,IF(U107='Look-up Tables'!$A$5,3,IF(U107='Look-up Tables'!$A$6,2,IF(U107='Look-up Tables'!$A$7,1)))))","v":false},null,{"$f":"IF(W107='Look-up Tables'!$B$3,5,IF(W107='Look-up Tables'!$B$4,4,IF(W107='Look-up Tables'!$B$5,3,IF(W107='Look-up Tables'!$B$6,2,IF(W107='Look-up Tables'!$B$7,1)))))","v":false},null,{"$f":"IF(Y107='Look-up Tables'!$C$3,5,IF(Y107='Look-up Tables'!$C$4,4,IF(Y107='Look-up Tables'!$C$5,3,IF(Y107='Look-up Tables'!$C$6,2,IF(Y107='Look-up Tables'!$C$7,1)))))","v":false},{"$f":"IFERROR(VLOOKUP(AB107,'Look-up Tables'!$D$3:$E$127,2),\"\")","v":""},0]
[null,null,null,null,null,null,{"$f":"IF(F108='Look-up Tables'!$A$3,5,IF(F108='Look-up Tables'!$A$4,4,IF(F108='Look-up Tables'!$A$5,3,IF(F108='Look-up Tables'!$A$6,2,IF(F108='Look-up Tables'!$A$7,1)))))","v":false},null,null,{"$f":"IF(I108='Look-up Tables'!$B$3,5,IF(I108='Look-up Tables'!$B$4,4,IF(I108='Look-up Tables'!$B$5,3,IF(I108='Look-up Tables'!$B$6,2,IF(I108='Look-up Tables'!$B$7,1)))))","v":false},null,null,null,{"$f":"IF(M108='Look-up Tables'!$C$3,5,IF(M108='Look-up Tables'!$C$4,4,IF(M108='Look-up Tables'!$C$5,3,IF(M108='Look-up Tables'!$C$6,2,IF(M108='Look-up Tables'!$C$7,1)))))","v":false},{"$f":"IFERROR(VLOOKUP(P108,'Look-up Tables'!$D$3:$E$127,2),\"\")","v":""},0,null,null,null,null,null,{"$f":"IF(U108='Look-up Tables'!$A$3,5,IF(U108='Look-up Tables'!$A$4,4,IF(U108='Look-up Tables'!$A$5,3,IF(U108='Look-up Tables'!$A$6,2,IF(U108='Look-up Tables'!$A$7,1)))))","v":false},null,{"$f":"IF(W108='Look-up Tables'!$B$3,5,IF(W108='Look-up Tables'!$B$4,4,IF(W108='Look-up Tables'!$B$5,3,IF(W108='Look-up Tables'!$B$6,2,IF(W108='Look-up Tables'!$B$7,1)))))","v":false},null,{"$f":"IF(Y108='Look-up Tables'!$C$3,5,IF(Y108='Look-up Tables'!$C$4,4,IF(Y108='Look-up Tables'!$C$5,3,IF(Y108='Look-up Tables'!$C$6,2,IF(Y108='Look-up Tables'!$C$7,1)))))","v":false},{"$f":"IFERROR(VLOOKUP(AB108,'Look-up Tables'!$D$3:$E$127,2),\"\")","v":""},0]
[null,null,null,null,null,null,{"$f":"IF(F109='Look-up Tables'!$A$3,5,IF(F109='Look-up Tables'!$A$4,4,IF(F109='Look-up Tables'!$A$5,3,IF(F109='Look-up Tables'!$A$6,2,IF(F109='Look-up Tables'!$A$7,1)))))","v":false},null,null,{"$f":"IF(I109='Look-up Tables'!$B$3,5,IF(I109='Look-up Tables'!$B$4,4,IF(I109='Look-up Tables'!$B$5,3,IF(I109='Look-up Tables'!$B$6,2,IF(I109='Look-up Tables'!$B$7,1)))))","v":false},null,null,null,{"$f":"IF(M109='Look-up Tables'!$C$3,5,IF(M109='Look-up Tables'!$C$4,4,IF(M109='Look-up Tables'!$C$5,3,IF(M109='Look-up Tables'!$C$6,2,IF(M109='Look-up Tables'!$C$7,1)))))","v":false},{"$f":"IFERROR(VLOOKUP(P109,'Look-up Tables'!$D$3:$E$127,2),\"\")","v":""},0,null,null,null,null,null,{"$f":"IF(U109='Look-up Tables'!$A$3,5,IF(U109='Look-up Tables'!$A$4,4,IF(U109='Look-up Tables'!$A$5,3,IF(U109='Look-up Tables'!$A$6,2,IF(U109='Look-up Tables'!$A$7,1)))))","v":false},null,{"$f":"IF(W109='Look-up Tables'!$B$3,5,IF(W109='Look-up Tables'!$B$4,4,IF(W109='Look-up Tables'!$B$5,3,IF(W109='Look-up Tables'!$B$6,2,IF(W109='Look-up Tables'!$B$7,1)))))","v":false},null,{"$f":"IF(Y109='Look-up Tables'!$C$3,5,IF(Y109='Look-up Tables'!$C$4,4,IF(Y109='Look-up Tables'!$C$5,3,IF(Y109='Look-up Tables'!$C$6,2,IF(Y109='Look-up Tables'!$C$7,1)))))","v":false},{"$f":"IFERROR(VLOOKUP(AB109,'Look-up Tables'!$D$3:$E$127,2),\"\")","v":""},0]
[null,null,null,null,null,null,{"$f":"IF(F110='Look-up Tables'!$A$3,5,IF(F110='Look-up Tables'!$A$4,4,IF(F110='Look-up Tables'!$A$5,3,IF(F110='Look-up Tables'!$A$6,2,IF(F110='Look-up Tables'!$A$7,1)))))","v":false},null,null,{"$f":"IF(I110='Look-up Tables'!$B$3,5,IF(I110='Look-up Tables'!$B$4,4,IF(I110='Look-up Tables'!$B$5,3,IF(I110='Look-up Tables'!$B$6,2,IF(I110='Look-up Tables'!$B$7,1)))))","v":false},null,null,null,{"$f":"IF(M110='Look-up Tables'!$C$3,5,IF(M110='Look-up Tables'!$C$4,4,IF(M110='Look-up Tables'!$C$5,3,IF(M110='Look-up Tables'!$C$6,2,IF(M110='Look-up Tables'!$C$7,1)))))","v":false},{"$f":"IFERROR(VLOOKUP(P110,'Look-up Tables'!$D$3:$E$127,2),\"\")","v":""},0,null,null,null,null,null,{"$f":"IF(U110='Look-up Tables'!$A$3,5,IF(U110='Look-up Tables'!$A$4,4,IF(U110='Look-up Tables'!$A$5,3,IF(U110='Look-up Tables'!$A$6,2,IF(U110='Look-up Tables'!$A$7,1)))))","v":false},null,{"$f":"IF(W110='Look-up Tables'!$B$3,5,IF(W110='Look-up Tables'!$B$4,4,IF(W110='Look-up Tables'!$B$5,3,IF(W110='Look-up Tables'!$B$6,2,IF(W110='Look-up Tables'!$B$7,1)))))","v":false},null,{"$f":"IF(Y110='Look-up Tables'!$C$3,5,IF(Y110='Look-up Tables'!$C$4,4,IF(Y110='Look-up Tables'!$C$5,3,IF(Y110='Look-up Tables'!$C$6,2,IF(Y110='Look-up Tables'!$C$7,1)))))","v":false},{"$f":"IFERROR(VLOOKUP(AB110,'Look-up Tables'!$D$3:$E$127,2),\"\")","v":""},0]
[null,null,null,null,null,null,{"$f":"IF(F111='Look-up Tables'!$A$3,5,IF(F111='Look-up Tables'!$A$4,4,IF(F111='Look-up Tables'!$A$5,3,IF(F111='Look-up Tables'!$A$6,2,IF(F111='Look-up Tables'!$A$7,1)))))","v":false},null,null,{"$f":"IF(I111='Look-up Tables'!$B$3,5,IF(I111='Look-up Tables'!$B$4,4,IF(I111='Look-up Tables'!$B$5,3,IF(I111='Look-up Tables'!$B$6,2,IF(I111='Look-up Tables'!$B$7,1)))))","v":false},null,null,null,{"$f":"IF(M111='Look-up Tables'!$C$3,5,IF(M111='Look-up Tables'!$C$4,4,IF(M111='Look-up Tables'!$C$5,3,IF(M111='Look-up Tables'!$C$6,2,IF(M111='Look-up Tables'!$C$7,1)))))","v":false},{"$f":"IFERROR(VLOOKUP(P111,'Look-up Tables'!$D$3:$E$127,2),\"\")","v":""},0,null,null,null,null,null,{"$f":"IF(U111='Look-up Tables'!$A$3,5,IF(U111='Look-up Tables'!$A$4,4,IF(U111='Look-up Tables'!$A$5,3,IF(U111='Look-up Tables'!$A$6,2,IF(U111='Look-up Tables'!$A$7,1)))))","v":false},null,{"$f":"IF(W111='Look-up Tables'!$B$3,5,IF(W111='Look-up Tables'!$B$4,4,IF(W111='Look-up Tables'!$B$5,3,IF(W111='Look-up Tables'!$B$6,2,IF(W111='Look-up Tables'!$B$7,1)))))","v":false},null,{"$f":"IF(Y111='Look-up Tables'!$C$3,5,IF(Y111='Look-up Tables'!$C$4,4,IF(Y111='Look-up Tables'!$C$5,3,IF(Y111='Look-up Tables'!$C$6,2,IF(Y111='Look-up Tables'!$C$7,1)))))","v":false},{"$f":"IFERROR(VLOOKUP(AB111,'Look-up Tables'!$D$3:$E$127,2),\"\")","v":""},0]
[null,null,null,null,null,null,{"$f":"IF(F112='Look-up Tables'!$A$3,5,IF(F112='Look-up Tables'!$A$4,4,IF(F112='Look-up Tables'!$A$5,3,IF(F112='Look-up Tables'!$A$6,2,IF(F112='Look-up Tables'!$A$7,1)))))","v":false},null,null,{"$f":"IF(I112='Look-up Tables'!$B$3,5,IF(I112='Look-up Tables'!$B$4,4,IF(I112='Look-up Tables'!$B$5,3,IF(I112='Look-up Tables'!$B$6,2,IF(I112='Look-up Tables'!$B$7,1)))))","v":false},null,null,null,{"$f":"IF(M112='Look-up Tables'!$C$3,5,IF(M112='Look-up Tables'!$C$4,4,IF(M112='Look-up Tables'!$C$5,3,IF(M112='Look-up Tables'!$C$6,2,IF(M112='Look-up Tables'!$C$7,1)))))","v":false},{"$f":"IFERROR(VLOOKUP(P112,'Look-up Tables'!$D$3:$E$127,2),\"\")","v":""},0,null,null,null,null,null,{"$f":"IF(U112='Look-up Tables'!$A$3,5,IF(U112='Look-up Tables'!$A$4,4,IF(U112='Look-up Tables'!$A$5,3,IF(U112='Look-up Tables'!$A$6,2,IF(U112='Look-up Tables'!$A$7,1)))))","v":false},null,{"$f":"IF(W112='Look-up Tables'!$B$3,5,IF(W112='Look-up Tables'!$B$4,4,IF(W112='Look-up Tables'!$B$5,3,IF(W112='Look-up Tables'!$B$6,2,IF(W112='Look-up Tables'!$B$7,1)))))","v":false},null,{"$f":"IF(Y112='Look-up Tables'!$C$3,5,IF(Y112='Look-up Tables'!$C$4,4,IF(Y112='Look-up Tables'!$C$5,3,IF(Y112='Look-up Tables'!$C$6,2,IF(Y112='Look-up Tables'!$C$7,1)))))","v":false},{"$f":"IFERROR(VLOOKUP(AB112,'Look-up Tables'!$D$3:$E$127,2),\"\")","v":""},0]
[null,null,null,null,null,null,{"$f":"IF(F113='Look-up Tables'!$A$3,5,IF(F113='Look-up Tables'!$A$4,4,IF(F113='Look-up Tables'!$A$5,3,IF(F113='Look-up Tables'!$A$6,2,IF(F113='Look-up Tables'!$A$7,1)))))","v":false},null,null,{"$f":"IF(I113='Look-up Tables'!$B$3,5,IF(I113='Look-up Tables'!$B$4,4,IF(I113='Look-up Tables'!$B$5,3,IF(I113='Look-up Tables'!$B$6,2,IF(I113='Look-up Tables'!$B$7,1)))))","v":false},null,null,null,{"$f":"IF(M113='Look-up Tables'!$C$3,5,IF(M113='Look-up Tables'!$C$4,4,IF(M113='Look-up Tables'!$C$5,3,IF(M113='Look-up Tables'!$C$6,2,IF(M113='Look-up Tables'!$C$7,1)))))","v":false},{"$f":"IFERROR(VLOOKUP(P113,'Look-up Tables'!$D$3:$E$127,2),\"\")","v":""},0,null,null,null,null,null,{"$f":"IF(U113='Look-up Tables'!$A$3,5,IF(U113='Look-up Tables'!$A$4,4,IF(U113='Look-up Tables'!$A$5,3,IF(U113='Look-up Tables'!$A$6,2,IF(U113='Look-up Tables'!$A$7,1)))))","v":false},null,{"$f":"IF(W113='Look-up Tables'!$B$3,5,IF(W113='Look-up Tables'!$B$4,4,IF(W113='Look-up Tables'!$B$5,3,IF(W113='Look-up Tables'!$B$6,2,IF(W113='Look-up Tables'!$B$7,1)))))","v":false},null,{"$f":"IF(Y113='Look-up Tables'!$C$3,5,IF(Y113='Look-up Tables'!$C$4,4,IF(Y113='Look-up Tables'!$C$5,3,IF(Y113='Look-up Tables'!$C$6,2,IF(Y113='Look-up Tables'!$C$7,1)))))","v":false},{"$f":"IFERROR(VLOOKUP(AB113,'Look-up Tables'!$D$3:$E$127,2),\"\")","v":""},0]
[null,null,null,null,null,null,{"$f":"IF(F114='Look-up Tables'!$A$3,5,IF(F114='Look-up Tables'!$A$4,4,IF(F114='Look-up Tables'!$A$5,3,IF(F114='Look-up Tables'!$A$6,2,IF(F114='Look-up Tables'!$A$7,1)))))","v":false},null,null,{"$f":"IF(I114='Look-up Tables'!$B$3,5,IF(I114='Look-up Tables'!$B$4,4,IF(I114='Look-up Tables'!$B$5,3,IF(I114='Look-up Tables'!$B$6,2,IF(I114='Look-up Tables'!$B$7,1)))))","v":false},null,null,null,{"$f":"IF(M114='Look-up Tables'!$C$3,5,IF(M114='Look-up Tables'!$C$4,4,IF(M114='Look-up Tables'!$C$5,3,IF(M114='Look-up Tables'!$C$6,2,IF(M114='Look-up Tables'!$C$7,1)))))","v":false},{"$f":"IFERROR(VLOOKUP(P114,'Look-up Tables'!$D$3:$E$127,2),\"\")","v":""},0,null,null,null,null,null,{"$f":"IF(U114='Look-up Tables'!$A$3,5,IF(U114='Look-up Tables'!$A$4,4,IF(U114='Look-up Tables'!$A$5,3,IF(U114='Look-up Tables'!$A$6,2,IF(U114='Look-up Tables'!$A$7,1)))))","v":false},null,{"$f":"IF(W114='Look-up Tables'!$B$3,5,IF(W114='Look-up Tables'!$B$4,4,IF(W114='Look-up Tables'!$B$5,3,IF(W114='Look-up Tables'!$B$6,2,IF(W114='Look-up Tables'!$B$7,1)))))","v":false},null,{"$f":"IF(Y114='Look-up Tables'!$C$3,5,IF(Y114='Look-up Tables'!$C$4,4,IF(Y114='Look-up Tables'!$C$5,3,IF(Y114='Look-up Tables'!$C$6,2,IF(Y114='Look-up Tables'!$C$7,1)))))","v":false},{"$f":"IFERROR(VLOOKUP(AB114,'Look-up Tables'!$D$3:$E$127,2),\"\")","v":""},0]
[null,null,null,null,null,null,{"$f":"IF(F115='Look-up Tables'!$A$3,5,IF(F115='Look-up Tables'!$A$4,4,IF(F115='Look-up Tables'!$A$5,3,IF(F115='Look-up Tables'!$A$6,2,IF(F115='Look-up Tables'!$A$7,1)))))","v":false},null,null,{"$f":"IF(I115='Look-up Tables'!$B$3,5,IF(I115='Look-up Tables'!$B$4,4,IF(I115='Look-up Tables'!$B$5,3,IF(I115='Look-up Tables'!$B$6,2,IF(I115='Look-up Tables'!$B$7,1)))))","v":false},null,null,null,{"$f":"IF(M115='Look-up Tables'!$C$3,5,IF(M115='Look-up Tables'!$C$4,4,IF(M115='Look-up Tables'!$C$5,3,IF(M115='Look-up Tables'!$C$6,2,IF(M115='Look-up Tables'!$C$7,1)))))","v":false},{"$f":"IFERROR(VLOOKUP(P115,'Look-up Tables'!$D$3:$E$127,2),\"\")","v":""},{"$f":"G115*J115*N115","v":0},null,null,null,null,null,{"$f":"IF(U115='Look-up Tables'!$A$3,5,IF(U115='Look-up Tables'!$A$4,4,IF(U115='Look-up Tables'!$A$5,3,IF(U115='Look-up Tables'!$A$6,2,IF(U115='Look-up Tables'!$A$7,1)))))","v":false},null,{"$f":"IF(W115='Look-up Tables'!$B$3,5,IF(W115='Look-up Tables'!$B$4,4,IF(W115='Look-up Tables'!$B$5,3,IF(W115='Look-up Tables'!$B$6,2,IF(W115='Look-up Tables'!$B$7,1)))))","v":false},null,{"$f":"IF(Y115='Look-up Tables'!$C$3,5,IF(Y115='Look-up Tables'!$C$4,4,IF(Y115='Look-up Tables'!$C$5,3,IF(Y115='Look-up Tables'!$C$6,2,IF(Y115='Look-up Tables'!$C$7,1)))))","v":false},{"$f":"IFERROR(VLOOKUP(AB115,'Look-up Tables'!$D$3:$E$127,2),\"\")","v":""},{"$f":"V115*X115*Z115","v":0}]
[null,null,null,null,null,null,{"$f":"IF(F116='Look-up Tables'!$A$3,5,IF(F116='Look-up Tables'!$A$4,4,IF(F116='Look-up Tables'!$A$5,3,IF(F116='Look-up Tables'!$A$6,2,IF(F116='Look-up Tables'!$A$7,1)))))","v":false},null,null,{"$f":"IF(I116='Look-up Tables'!$B$3,5,IF(I116='Look-up Tables'!$B$4,4,IF(I116='Look-up Tables'!$B$5,3,IF(I116='Look-up Tables'!$B$6,2,IF(I116='Look-up Tables'!$B$7,1)))))","v":false},null,null,null,{"$f":"IF(M116='Look-up Tables'!$C$3,5,IF(M116='Look-up Tables'!$C$4,4,IF(M116='Look-up Tables'!$C$5,3,IF(M116='Look-up Tables'!$C$6,2,IF(M116='Look-up Tables'!$C$7,1)))))","v":false},{"$f":"IFERROR(VLOOKUP(P116,'Look-up Tables'!$D$3:$E$127,2),\"\")","v":""},0,null,null,null,null,null,{"$f":"IF(U116='Look-up Tables'!$A$3,5,IF(U116='Look-up Tables'!$A$4,4,IF(U116='Look-up Tables'!$A$5,3,IF(U116='Look-up Tables'!$A$6,2,IF(U116='Look-up Tables'!$A$7,1)))))","v":false},null,{"$f":"IF(W116='Look-up Tables'!$B$3,5,IF(W116='Look-up Tables'!$B$4,4,IF(W116='Look-up Tables'!$B$5,3,IF(W116='Look-up Tables'!$B$6,2,IF(W116='Look-up Tables'!$B$7,1)))))","v":false},null,{"$f":"IF(Y116='Look-up Tables'!$C$3,5,IF(Y116='Look-up Tables'!$C$4,4,IF(Y116='Look-up Tables'!$C$5,3,IF(Y116='Look-up Tables'!$C$6,2,IF(Y116='Look-up Tables'!$C$7,1)))))","v":false},{"$f":"IFERROR(VLOOKUP(AB116,'Look-up Tables'!$D$3:$E$127,2),\"\")","v":""},0]
[null,null,null,null,null,null,{"$f":"IF(F117='Look-up Tables'!$A$3,5,IF(F117='Look-up Tables'!$A$4,4,IF(F117='Look-up Tables'!$A$5,3,IF(F117='Look-up Tables'!$A$6,2,IF(F117='Look-up Tables'!$A$7,1)))))","v":false},null,null,{"$f":"IF(I117='Look-up Tables'!$B$3,5,IF(I117='Look-up Tables'!$B$4,4,IF(I117='Look-up Tables'!$B$5,3,IF(I117='Look-up Tables'!$B$6,2,IF(I117='Look-up Tables'!$B$7,1)))))","v":false},null,null,null,{"$f":"IF(M117='Look-up Tables'!$C$3,5,IF(M117='Look-up Tables'!$C$4,4,IF(M117='Look-up Tables'!$C$5,3,IF(M117='Look-up Tables'!$C$6,2,IF(M117='Look-up Tables'!$C$7,1)))))","v":false},{"$f":"IFERROR(VLOOKUP(P117,'Look-up Tables'!$D$3:$E$127,2),\"\")","v":""},0,null,null,null,null,null,{"$f":"IF(U117='Look-up Tables'!$A$3,5,IF(U117='Look-up Tables'!$A$4,4,IF(U117='Look-up Tables'!$A$5,3,IF(U117='Look-up Tables'!$A$6,2,IF(U117='Look-up Tables'!$A$7,1)))))","v":false},null,{"$f":"IF(W117='Look-up Tables'!$B$3,5,IF(W117='Look-up Tables'!$B$4,4,IF(W117='Look-up Tables'!$B$5,3,IF(W117='Look-up Tables'!$B$6,2,IF(W117='Look-up Tables'!$B$7,1)))))","v":false},null,{"$f":"IF(Y117='Look-up Tables'!$C$3,5,IF(Y117='Look-up Tables'!$C$4,4,IF(Y117='Look-up Tables'!$C$5,3,IF(Y117='Look-up Tables'!$C$6,2,IF(Y117='Look-up Tables'!$C$7,1)))))","v":false},{"$f":"IFERROR(VLOOKUP(AB117,'Look-up Tables'!$D$3:$E$127,2),\"\")","v":""},0]
[null,null,null,null,null,null,{"$f":"IF(F118='Look-up Tables'!$A$3,5,IF(F118='Look-up Tables'!$A$4,4,IF(F118='Look-up Tables'!$A$5,3,IF(F118='Look-up Tables'!$A$6,2,IF(F118='Look-up Tables'!$A$7,1)))))","v":false},null,null,{"$f":"IF(I118='Look-up Tables'!$B$3,5,IF(I118='Look-up Tables'!$B$4,4,IF(I118='Look-up Tables'!$B$5,3,IF(I118='Look-up Tables'!$B$6,2,IF(I118='Look-up Tables'!$B$7,1)))))","v":false},null,null,null,{"$f":"IF(M118='Look-up Tables'!$C$3,5,IF(M118='Look-up Tables'!$C$4,4,IF(M118='Look-up Tables'!$C$5,3,IF(M118='Look-up Tables'!$C$6,2,IF(M118='Look-up Tables'!$C$7,1)))))","v":false},{"$f":"IFERROR(VLOOKUP(P118,'Look-up Tables'!$D$3:$E$127,2),\"\")","v":""},0,null,null,null,null,null,{"$f":"IF(U118='Look-up Tables'!$A$3,5,IF(U118='Look-up Tables'!$A$4,4,IF(U118='Look-up Tables'!$A$5,3,IF(U118='Look-up Tables'!$A$6,2,IF(U118='Look-up Tables'!$A$7,1)))))","v":false},null,{"$f":"IF(W118='Look-up Tables'!$B$3,5,IF(W118='Look-up Tables'!$B$4,4,IF(W118='Look-up Tables'!$B$5,3,IF(W118='Look-up Tables'!$B$6,2,IF(W118='Look-up Tables'!$B$7,1)))))","v":false},null,{"$f":"IF(Y118='Look-up Tables'!$C$3,5,IF(Y118='Look-up Tables'!$C$4,4,IF(Y118='Look-up Tables'!$C$5,3,IF(Y118='Look-up Tables'!$C$6,2,IF(Y118='Look-up Tables'!$C$7,1)))))","v":false},{"$f":"IFERROR(VLOOKUP(AB118,'Look-up Tables'!$D$3:$E$127,2),\"\")","v":""},0]
[null,null,null,null,null,null,{"$f":"IF(F119='Look-up Tables'!$A$3,5,IF(F119='Look-up Tables'!$A$4,4,IF(F119='Look-up Tables'!$A$5,3,IF(F119='Look-up Tables'!$A$6,2,IF(F119='Look-up Tables'!$A$7,1)))))","v":false},null,null,{"$f":"IF(I119='Look-up Tables'!$B$3,5,IF(I119='Look-up Tables'!$B$4,4,IF(I119='Look-up Tables'!$B$5,3,IF(I119='Look-up Tables'!$B$6,2,IF(I119='Look-up Tables'!$B$7,1)))))","v":false},null,null,null,{"$f":"IF(M119='Look-up Tables'!$C$3,5,IF(M119='Look-up Tables'!$C$4,4,IF(M119='Look-up Tables'!$C$5,3,IF(M119='Look-up Tables'!$C$6,2,IF(M119='Look-up Tables'!$C$7,1)))))","v":false},{"$f":"IFERROR(VLOOKUP(P119,'Look-up Tables'!$D$3:$E$127,2),\"\")","v":""},0,null,null,null,null,null,{"$f":"IF(U119='Look-up Tables'!$A$3,5,IF(U119='Look-up Tables'!$A$4,4,IF(U119='Look-up Tables'!$A$5,3,IF(U119='Look-up Tables'!$A$6,2,IF(U119='Look-up Tables'!$A$7,1)))))","v":false},null,{"$f":"IF(W119='Look-up Tables'!$B$3,5,IF(W119='Look-up Tables'!$B$4,4,IF(W119='Look-up Tables'!$B$5,3,IF(W119='Look-up Tables'!$B$6,2,IF(W119='Look-up Tables'!$B$7,1)))))","v":false},null,{"$f":"IF(Y119='Look-up Tables'!$C$3,5,IF(Y119='Look-up Tables'!$C$4,4,IF(Y119='Look-up Tables'!$C$5,3,IF(Y119='Look-up Tables'!$C$6,2,IF(Y119='Look-up Tables'!$C$7,1)))))","v":false},{"$f":"IFERROR(VLOOKUP(AB119,'Look-up Tables'!$D$3:$E$127,2),\"\")","v":""},0]
[null,null,null,null,null,null,{"$f":"IF(F120='Look-up Tables'!$A$3,5,IF(F120='Look-up Tables'!$A$4,4,IF(F120='Look-up Tables'!$A$5,3,IF(F120='Look-up Tables'!$A$6,2,IF(F120='Look-up Tables'!$A$7,1)))))","v":false},null,null,{"$f":"IF(I120='Look-up Tables'!$B$3,5,IF(I120='Look-up Tables'!$B$4,4,IF(I120='Look-up Tables'!$B$5,3,IF(I120='Look-up Tables'!$B$6,2,IF(I120='Look-up Tables'!$B$7,1)))))","v":false},null,null,null,{"$f":"IF(M120='Look-up Tables'!$C$3,5,IF(M120='Look-up Tables'!$C$4,4,IF(M120='Look-up Tables'!$C$5,3,IF(M120='Look-up Tables'!$C$6,2,IF(M120='Look-up Tables'!$C$7,1)))))","v":false},{"$f":"IFERROR(VLOOKUP(P120,'Look-up Tables'!$D$3:$E$127,2),\"\")","v":""},0,null,null,null,null,null,{"$f":"IF(U120='Look-up Tables'!$A$3,5,IF(U120='Look-up Tables'!$A$4,4,IF(U120='Look-up Tables'!$A$5,3,IF(U120='Look-up Tables'!$A$6,2,IF(U120='Look-up Tables'!$A$7,1)))))","v":false},null,{"$f":"IF(W120='Look-up Tables'!$B$3,5,IF(W120='Look-up Tables'!$B$4,4,IF(W120='Look-up Tables'!$B$5,3,IF(W120='Look-up Tables'!$B$6,2,IF(W120='Look-up Tables'!$B$7,1)))))","v":false},null,{"$f":"IF(Y120='Look-up Tables'!$C$3,5,IF(Y120='Look-up Tables'!$C$4,4,IF(Y120='Look-up Tables'!$C$5,3,IF(Y120='Look-up Tables'!$C$6,2,IF(Y120='Look-up Tables'!$C$7,1)))))","v":false},{"$f":"IFERROR(VLOOKUP(AB120,'Look-up Tables'!$D$3:$E$127,2),\"\")","v":""},0]
[null,null,null,null,null,null,{"$f":"IF(F121='Look-up Tables'!$A$3,5,IF(F121='Look-up Tables'!$A$4,4,IF(F121='Look-up Tables'!$A$5,3,IF(F121='Look-up Tables'!$A$6,2,IF(F121='Look-up Tables'!$A$7,1)))))","v":false},null,null,{"$f":"IF(I121='Look-up Tables'!$B$3,5,IF(I121='Look-up Tables'!$B$4,4,IF(I121='Look-up Tables'!$B$5,3,IF(I121='Look-up Tables'!$B$6,2,IF(I121='Look-up Tables'!$B$7,1)))))","v":false},null,null,null,{"$f":"IF(M121='Look-up Tables'!$C$3,5,IF(M121='Look-up Tables'!$C$4,4,IF(M121='Look-up Tables'!$C$5,3,IF(M121='Look-up Tables'!$C$6,2,IF(M121='Look-up Tables'!$C$7,1)))))","v":false},{"$f":"IFERROR(VLOOKUP(P121,'Look-up Tables'!$D$3:$E$127,2),\"\")","v":""},0,null,null,null,null,null,{"$f":"IF(U121='Look-up Tables'!$A$3,5,IF(U121='Look-up Tables'!$A$4,4,IF(U121='Look-up Tables'!$A$5,3,IF(U121='Look-up Tables'!$A$6,2,IF(U121='Look-up Tables'!$A$7,1)))))","v":false},null,{"$f":"IF(W121='Look-up Tables'!$B$3,5,IF(W121='Look-up Tables'!$B$4,4,IF(W121='Look-up Tables'!$B$5,3,IF(W121='Look-up Tables'!$B$6,2,IF(W121='Look-up Tables'!$B$7,1)))))","v":false},null,{"$f":"IF(Y121='Look-up Tables'!$C$3,5,IF(Y121='Look-up Tables'!$C$4,4,IF(Y121='Look-up Tables'!$C$5,3,IF(Y121='Look-up Tables'!$C$6,2,IF(Y121='Look-up Tables'!$C$7,1)))))","v":false},{"$f":"IFERROR(VLOOKUP(AB121,'Look-up Tables'!$D$3:$E$127,2),\"\")","v":""},0]
[null,null,null,null,null,null,{"$f":"IF(F122='Look-up Tables'!$A$3,5,IF(F122='Look-up Tables'!$A$4,4,IF(F122='Look-up Tables'!$A$5,3,IF(F122='Look-up Tables'!$A$6,2,IF(F122='Look-up Tables'!$A$7,1)))))","v":false},null,null,{"$f":"IF(I122='Look-up Tables'!$B$3,5,IF(I122='Look-up Tables'!$B$4,4,IF(I122='Look-up Tables'!$B$5,3,IF(I122='Look-up Tables'!$B$6,2,IF(I122='Look-up Tables'!$B$7,1)))))","v":false},null,null,null,{"$f":"IF(M122='Look-up Tables'!$C$3,5,IF(M122='Look-up Tables'!$C$4,4,IF(M122='Look-up Tables'!$C$5,3,IF(M122='Look-up Tables'!$C$6,2,IF(M122='Look-up Tables'!$C$7,1)))))","v":false},{"$f":"IFERROR(VLOOKUP(P122,'Look-up Tables'!$D$3:$E$127,2),\"\")","v":""},0,null,null,null,null,null,{"$f":"IF(U122='Look-up Tables'!$A$3,5,IF(U122='Look-up Tables'!$A$4,4,IF(U122='Look-up Tables'!$A$5,3,IF(U122='Look-up Tables'!$A$6,2,IF(U122='Look-up Tables'!$A$7,1)))))","v":false},null,{"$f":"IF(W122='Look-up Tables'!$B$3,5,IF(W122='Look-up Tables'!$B$4,4,IF(W122='Look-up Tables'!$B$5,3,IF(W122='Look-up Tables'!$B$6,2,IF(W122='Look-up Tables'!$B$7,1)))))","v":false},null,{"$f":"IF(Y122='Look-up Tables'!$C$3,5,IF(Y122='Look-up Tables'!$C$4,4,IF(Y122='Look-up Tables'!$C$5,3,IF(Y122='Look-up Tables'!$C$6,2,IF(Y122='Look-up Tables'!$C$7,1)))))","v":false},{"$f":"IFERROR(VLOOKUP(AB122,'Look-up Tables'!$D$3:$E$127,2),\"\")","v":""},0]
[null,null,null,null,null,null,{"$f":"IF(F123='Look-up Tables'!$A$3,5,IF(F123='Look-up Tables'!$A$4,4,IF(F123='Look-up Tables'!$A$5,3,IF(F123='Look-up Tables'!$A$6,2,IF(F123='Look-up Tables'!$A$7,1)))))","v":false},null,null,{"$f":"IF(I123='Look-up Tables'!$B$3,5,IF(I123='Look-up Tables'!$B$4,4,IF(I123='Look-up Tables'!$B$5,3,IF(I123='Look-up Tables'!$B$6,2,IF(I123='Look-up Tables'!$B$7,1)))))","v":false},null,null,null,{"$f":"IF(M123='Look-up Tables'!$C$3,5,IF(M123='Look-up Tables'!$C$4,4,IF(M123='Look-up Tables'!$C$5,3,IF(M123='Look-up Tables'!$C$6,2,IF(M123='Look-up Tables'!$C$7,1)))))","v":false},{"$f":"IFERROR(VLOOKUP(P123,'Look-up Tables'!$D$3:$E$127,2),\"\")","v":""},0,null,null,null,null,null,{"$f":"IF(U123='Look-up Tables'!$A$3,5,IF(U123='Look-up Tables'!$A$4,4,IF(U123='Look-up Tables'!$A$5,3,IF(U123='Look-up Tables'!$A$6,2,IF(U123='Look-up Tables'!$A$7,1)))))","v":false},null,{"$f":"IF(W123='Look-up Tables'!$B$3,5,IF(W123='Look-up Tables'!$B$4,4,IF(W123='Look-up Tables'!$B$5,3,IF(W123='Look-up Tables'!$B$6,2,IF(W123='Look-up Tables'!$B$7,1)))))","v":false},null,{"$f":"IF(Y123='Look-up Tables'!$C$3,5,IF(Y123='Look-up Tables'!$C$4,4,IF(Y123='Look-up Tables'!$C$5,3,IF(Y123='Look-up Tables'!$C$6,2,IF(Y123='Look-up Tables'!$C$7,1)))))","v":false},{"$f":"IFERROR(VLOOKUP(AB123,'Look-up Tables'!$D$3:$E$127,2),\"\")","v":""},0]
[null,null,null,null,null,null,{"$f":"IF(F124='Look-up Tables'!$A$3,5,IF(F124='Look-up Tables'!$A$4,4,IF(F124='Look-up Tables'!$A$5,3,IF(F124='Look-up Tables'!$A$6,2,IF(F124='Look-up Tables'!$A$7,1)))))","v":false},null,null,{"$f":"IF(I124='Look-up Tables'!$B$3,5,IF(I124='Look-up Tables'!$B$4,4,IF(I124='Look-up Tables'!$B$5,3,IF(I124='Look-up Tables'!$B$6,2,IF(I124='Look-up Tables'!$B$7,1)))))","v":false},null,null,null,{"$f":"IF(M124='Look-up Tables'!$C$3,5,IF(M124='Look-up Tables'!$C$4,4,IF(M124='Look-up Tables'!$C$5,3,IF(M124='Look-up Tables'!$C$6,2,IF(M124='Look-up Tables'!$C$7,1)))))","v":false},{"$f":"IFERROR(VLOOKUP(P124,'Look-up Tables'!$D$3:$E$127,2),\"\")","v":""},0,null,null,null,null,null,{"$f":"IF(U124='Look-up Tables'!$A$3,5,IF(U124='Look-up Tables'!$A$4,4,IF(U124='Look-up Tables'!$A$5,3,IF(U124='Look-up Tables'!$A$6,2,IF(U124='Look-up Tables'!$A$7,1)))))","v":false},null,{"$f":"IF(W124='Look-up Tables'!$B$3,5,IF(W124='Look-up Tables'!$B$4,4,IF(W124='Look-up Tables'!$B$5,3,IF(W124='Look-up Tables'!$B$6,2,IF(W124='Look-up Tables'!$B$7,1)))))","v":false},null,{"$f":"IF(Y124='Look-up Tables'!$C$3,5,IF(Y124='Look-up Tables'!$C$4,4,IF(Y124='Look-up Tables'!$C$5,3,IF(Y124='Look-up Tables'!$C$6,2,IF(Y124='Look-up Tables'!$C$7,1)))))","v":false},{"$f":"IFERROR(VLOOKUP(AB124,'Look-up Tables'!$D$3:$E$127,2),\"\")","v":""},0]
[null,null,null,null,null,null,{"$f":"IF(F125='Look-up Tables'!$A$3,5,IF(F125='Look-up Tables'!$A$4,4,IF(F125='Look-up Tables'!$A$5,3,IF(F125='Look-up Tables'!$A$6,2,IF(F125='Look-up Tables'!$A$7,1)))))","v":false},null,null,{"$f":"IF(I125='Look-up Tables'!$B$3,5,IF(I125='Look-up Tables'!$B$4,4,IF(I125='Look-up Tables'!$B$5,3,IF(I125='Look-up Tables'!$B$6,2,IF(I125='Look-up Tables'!$B$7,1)))))","v":false},null,null,null,{"$f":"IF(M125='Look-up Tables'!$C$3,5,IF(M125='Look-up Tables'!$C$4,4,IF(M125='Look-up Tables'!$C$5,3,IF(M125='Look-up Tables'!$C$6,2,IF(M125='Look-up Tables'!$C$7,1)))))","v":false},{"$f":"IFERROR(VLOOKUP(P125,'Look-up Tables'!$D$3:$E$127,2),\"\")","v":""},0,null,null,null,null,null,{"$f":"IF(U125='Look-up Tables'!$A$3,5,IF(U125='Look-up Tables'!$A$4,4,IF(U125='Look-up Tables'!$A$5,3,IF(U125='Look-up Tables'!$A$6,2,IF(U125='Look-up Tables'!$A$7,1)))))","v":false},null,{"$f":"IF(W125='Look-up Tables'!$B$3,5,IF(W125='Look-up Tables'!$B$4,4,IF(W125='Look-up Tables'!$B$5,3,IF(W125='Look-up Tables'!$B$6,2,IF(W125='Look-up Tables'!$B$7,1)))))","v":false},null,{"$f":"IF(Y125='Look-up Tables'!$C$3,5,IF(Y125='Look-up Tables'!$C$4,4,IF(Y125='Look-up Tables'!$C$5,3,IF(Y125='Look-up Tables'!$C$6,2,IF(Y125='Look-up Tables'!$C$7,1)))))","v":false},{"$f":"IFERROR(VLOOKUP(AB125,'Look-up Tables'!$D$3:$E$127,2),\"\")","v":""},0]
[null,null,null,null,null,null,{"$f":"IF(F126='Look-up Tables'!$A$3,5,IF(F126='Look-up Tables'!$A$4,4,IF(F126='Look-up Tables'!$A$5,3,IF(F126='Look-up Tables'!$A$6,2,IF(F126='Look-up Tables'!$A$7,1)))))","v":false},null,null,{"$f":"IF(I126='Look-up Tables'!$B$3,5,IF(I126='Look-up Tables'!$B$4,4,IF(I126='Look-up Tables'!$B$5,3,IF(I126='Look-up Tables'!$B$6,2,IF(I126='Look-up Tables'!$B$7,1)))))","v":false},null,null,null,{"$f":"IF(M126='Look-up Tables'!$C$3,5,IF(M126='Look-up Tables'!$C$4,4,IF(M126='Look-up Tables'!$C$5,3,IF(M126='Look-up Tables'!$C$6,2,IF(M126='Look-up Tables'!$C$7,1)))))","v":false},{"$f":"IFERROR(VLOOKUP(P126,'Look-up Tables'!$D$3:$E$127,2),\"\")","v":""},0,null,null,null,null,null,{"$f":"IF(U126='Look-up Tables'!$A$3,5,IF(U126='Look-up Tables'!$A$4,4,IF(U126='Look-up Tables'!$A$5,3,IF(U126='Look-up Tables'!$A$6,2,IF(U126='Look-up Tables'!$A$7,1)))))","v":false},null,{"$f":"IF(W126='Look-up Tables'!$B$3,5,IF(W126='Look-up Tables'!$B$4,4,IF(W126='Look-up Tables'!$B$5,3,IF(W126='Look-up Tables'!$B$6,2,IF(W126='Look-up Tables'!$B$7,1)))))","v":false},null,{"$f":"IF(Y126='Look-up Tables'!$C$3,5,IF(Y126='Look-up Tables'!$C$4,4,IF(Y126='Look-up Tables'!$C$5,3,IF(Y126='Look-up Tables'!$C$6,2,IF(Y126='Look-up Tables'!$C$7,1)))))","v":false},{"$f":"IFERROR(VLOOKUP(AB126,'Look-up Tables'!$D$3:$E$127,2),\"\")","v":""},0]
[null,null,null,null,null,null,{"$f":"IF(F127='Look-up Tables'!$A$3,5,IF(F127='Look-up Tables'!$A$4,4,IF(F127='Look-up Tables'!$A$5,3,IF(F127='Look-up Tables'!$A$6,2,IF(F127='Look-up Tables'!$A$7,1)))))","v":false},null,null,{"$f":"IF(I127='Look-up Tables'!$B$3,5,IF(I127='Look-up Tables'!$B$4,4,IF(I127='Look-up Tables'!$B$5,3,IF(I127='Look-up Tables'!$B$6,2,IF(I127='Look-up Tables'!$B$7,1)))))","v":false},null,null,null,{"$f":"IF(M127='Look-up Tables'!$C$3,5,IF(M127='Look-up Tables'!$C$4,4,IF(M127='Look-up Tables'!$C$5,3,IF(M127='Look-up Tables'!$C$6,2,IF(M127='Look-up Tables'!$C$7,1)))))","v":false},{"$f":"IFERROR(VLOOKUP(P127,'Look-up Tables'!$D$3:$E$127,2),\"\")","v":""},0,null,null,null,null,null,{"$f":"IF(U127='Look-up Tables'!$A$3,5,IF(U127='Look-up Tables'!$A$4,4,IF(U127='Look-up Tables'!$A$5,3,IF(U127='Look-up Tables'!$A$6,2,IF(U127='Look-up Tables'!$A$7,1)))))","v":false},null,{"$f":"IF(W127='Look-up Tables'!$B$3,5,IF(W127='Look-up Tables'!$B$4,4,IF(W127='Look-up Tables'!$B$5,3,IF(W127='Look-up Tables'!$B$6,2,IF(W127='Look-up Tables'!$B$7,1)))))","v":false},null,{"$f":"IF(Y127='Look-up Tables'!$C$3,5,IF(Y127='Look-up Tables'!$C$4,4,IF(Y127='Look-up Tables'!$C$5,3,IF(Y127='Look-up Tables'!$C$6,2,IF(Y127='Look-up Tables'!$C$7,1)))))","v":false},{"$f":"IFERROR(VLOOKUP(AB127,'Look-up Tables'!$D$3:$E$127,2),\"\")","v":""},0]
[null,null,null,null,null,null,{"$f":"IF(F128='Look-up Tables'!$A$3,5,IF(F128='Look-up Tables'!$A$4,4,IF(F128='Look-up Tables'!$A$5,3,IF(F128='Look-up Tables'!$A$6,2,IF(F128='Look-up Tables'!$A$7,1)))))","v":false},null,null,{"$f":"IF(I128='Look-up Tables'!$B$3,5,IF(I128='Look-up Tables'!$B$4,4,IF(I128='Look-up Tables'!$B$5,3,IF(I128='Look-up Tables'!$B$6,2,IF(I128='Look-up Tables'!$B$7,1)))))","v":false},null,null,null,{"$f":"IF(M128='Look-up Tables'!$C$3,5,IF(M128='Look-up Tables'!$C$4,4,IF(M128='Look-up Tables'!$C$5,3,IF(M128='Look-up Tables'!$C$6,2,IF(M128='Look-up Tables'!$C$7,1)))))","v":false},{"$f":"IFERROR(VLOOKUP(P128,'Look-up Tables'!$D$3:$E$127,2),\"\")","v":""},0,null,null,null,null,null,{"$f":"IF(U128='Look-up Tables'!$A$3,5,IF(U128='Look-up Tables'!$A$4,4,IF(U128='Look-up Tables'!$A$5,3,IF(U128='Look-up Tables'!$A$6,2,IF(U128='Look-up Tables'!$A$7,1)))))","v":false},null,{"$f":"IF(W128='Look-up Tables'!$B$3,5,IF(W128='Look-up Tables'!$B$4,4,IF(W128='Look-up Tables'!$B$5,3,IF(W128='Look-up Tables'!$B$6,2,IF(W128='Look-up Tables'!$B$7,1)))))","v":false},null,{"$f":"IF(Y128='Look-up Tables'!$C$3,5,IF(Y128='Look-up Tables'!$C$4,4,IF(Y128='Look-up Tables'!$C$5,3,IF(Y128='Look-up Tables'!$C$6,2,IF(Y128='Look-up Tables'!$C$7,1)))))","v":false},{"$f":"IFERROR(VLOOKUP(AB128,'Look-up Tables'!$D$3:$E$127,2),\"\")","v":""},0]
[null,null,null,null,null,null,{"$f":"IF(F129='Look-up Tables'!$A$3,5,IF(F129='Look-up Tables'!$A$4,4,IF(F129='Look-up Tables'!$A$5,3,IF(F129='Look-up Tables'!$A$6,2,IF(F129='Look-up Tables'!$A$7,1)))))","v":false},null,null,{"$f":"IF(I129='Look-up Tables'!$B$3,5,IF(I129='Look-up Tables'!$B$4,4,IF(I129='Look-up Tables'!$B$5,3,IF(I129='Look-up Tables'!$B$6,2,IF(I129='Look-up Tables'!$B$7,1)))))","v":false},null,null,null,{"$f":"IF(M129='Look-up Tables'!$C$3,5,IF(M129='Look-up Tables'!$C$4,4,IF(M129='Look-up Tables'!$C$5,3,IF(M129='Look-up Tables'!$C$6,2,IF(M129='Look-up Tables'!$C$7,1)))))","v":false},{"$f":"IFERROR(VLOOKUP(P129,'Look-up Tables'!$D$3:$E$127,2),\"\")","v":""},0,null,null,null,null,null,{"$f":"IF(U129='Look-up Tables'!$A$3,5,IF(U129='Look-up Tables'!$A$4,4,IF(U129='Look-up Tables'!$A$5,3,IF(U129='Look-up Tables'!$A$6,2,IF(U129='Look-up Tables'!$A$7,1)))))","v":false},null,{"$f":"IF(W129='Look-up Tables'!$B$3,5,IF(W129='Look-up Tables'!$B$4,4,IF(W129='Look-up Tables'!$B$5,3,IF(W129='Look-up Tables'!$B$6,2,IF(W129='Look-up Tables'!$B$7,1)))))","v":false},null,{"$f":"IF(Y129='Look-up Tables'!$C$3,5,IF(Y129='Look-up Tables'!$C$4,4,IF(Y129='Look-up Tables'!$C$5,3,IF(Y129='Look-up Tables'!$C$6,2,IF(Y129='Look-up Tables'!$C$7,1)))))","v":false},{"$f":"IFERROR(VLOOKUP(AB129,'Look-up Tables'!$D$3:$E$127,2),\"\")","v":""},0]
[null,null,null,null,null,null,{"$f":"IF(F130='Look-up Tables'!$A$3,5,IF(F130='Look-up Tables'!$A$4,4,IF(F130='Look-up Tables'!$A$5,3,IF(F130='Look-up Tables'!$A$6,2,IF(F130='Look-up Tables'!$A$7,1)))))","v":false},null,null,{"$f":"IF(I130='Look-up Tables'!$B$3,5,IF(I130='Look-up Tables'!$B$4,4,IF(I130='Look-up Tables'!$B$5,3,IF(I130='Look-up Tables'!$B$6,2,IF(I130='Look-up Tables'!$B$7,1)))))","v":false},null,null,null,{"$f":"IF(M130='Look-up Tables'!$C$3,5,IF(M130='Look-up Tables'!$C$4,4,IF(M130='Look-up Tables'!$C$5,3,IF(M130='Look-up Tables'!$C$6,2,IF(M130='Look-up Tables'!$C$7,1)))))","v":false},{"$f":"IFERROR(VLOOKUP(P130,'Look-up Tables'!$D$3:$E$127,2),\"\")","v":""},0,null,null,null,null,null,{"$f":"IF(U130='Look-up Tables'!$A$3,5,IF(U130='Look-up Tables'!$A$4,4,IF(U130='Look-up Tables'!$A$5,3,IF(U130='Look-up Tables'!$A$6,2,IF(U130='Look-up Tables'!$A$7,1)))))","v":false},null,{"$f":"IF(W130='Look-up Tables'!$B$3,5,IF(W130='Look-up Tables'!$B$4,4,IF(W130='Look-up Tables'!$B$5,3,IF(W130='Look-up Tables'!$B$6,2,IF(W130='Look-up Tables'!$B$7,1)))))","v":false},null,{"$f":"IF(Y130='Look-up Tables'!$C$3,5,IF(Y130='Look-up Tables'!$C$4,4,IF(Y130='Look-up Tables'!$C$5,3,IF(Y130='Look-up Tables'!$C$6,2,IF(Y130='Look-up Tables'!$C$7,1)))))","v":false},{"$f":"IFERROR(VLOOKUP(AB130,'Look-up Tables'!$D$3:$E$127,2),\"\")","v":""},0]
[null,null,null,null,null,null,{"$f":"IF(F131='Look-up Tables'!$A$3,5,IF(F131='Look-up Tables'!$A$4,4,IF(F131='Look-up Tables'!$A$5,3,IF(F131='Look-up Tables'!$A$6,2,IF(F131='Look-up Tables'!$A$7,1)))))","v":false},null,null,{"$f":"IF(I131='Look-up Tables'!$B$3,5,IF(I131='Look-up Tables'!$B$4,4,IF(I131='Look-up Tables'!$B$5,3,IF(I131='Look-up Tables'!$B$6,2,IF(I131='Look-up Tables'!$B$7,1)))))","v":false},null,null,null,{"$f":"IF(M131='Look-up Tables'!$C$3,5,IF(M131='Look-up Tables'!$C$4,4,IF(M131='Look-up Tables'!$C$5,3,IF(M131='Look-up Tables'!$C$6,2,IF(M131='Look-up Tables'!$C$7,1)))))","v":false},{"$f":"IFERROR(VLOOKUP(P131,'Look-up Tables'!$D$3:$E$127,2),\"\")","v":""},0,null,null,null,null,null,{"$f":"IF(U131='Look-up Tables'!$A$3,5,IF(U131='Look-up Tables'!$A$4,4,IF(U131='Look-up Tables'!$A$5,3,IF(U131='Look-up Tables'!$A$6,2,IF(U131='Look-up Tables'!$A$7,1)))))","v":false},null,{"$f":"IF(W131='Look-up Tables'!$B$3,5,IF(W131='Look-up Tables'!$B$4,4,IF(W131='Look-up Tables'!$B$5,3,IF(W131='Look-up Tables'!$B$6,2,IF(W131='Look-up Tables'!$B$7,1)))))","v":false},null,{"$f":"IF(Y131='Look-up Tables'!$C$3,5,IF(Y131='Look-up Tables'!$C$4,4,IF(Y131='Look-up Tables'!$C$5,3,IF(Y131='Look-up Tables'!$C$6,2,IF(Y131='Look-up Tables'!$C$7,1)))))","v":false},{"$f":"IFERROR(VLOOKUP(AB131,'Look-up Tables'!$D$3:$E$127,2),\"\")","v":""},0]
[null,null,null,null,null,null,{"$f":"IF(F132='Look-up Tables'!$A$3,5,IF(F132='Look-up Tables'!$A$4,4,IF(F132='Look-up Tables'!$A$5,3,IF(F132='Look-up Tables'!$A$6,2,IF(F132='Look-up Tables'!$A$7,1)))))","v":false},null,null,{"$f":"IF(I132='Look-up Tables'!$B$3,5,IF(I132='Look-up Tables'!$B$4,4,IF(I132='Look-up Tables'!$B$5,3,IF(I132='Look-up Tables'!$B$6,2,IF(I132='Look-up Tables'!$B$7,1)))))","v":false},null,null,null,{"$f":"IF(M132='Look-up Tables'!$C$3,5,IF(M132='Look-up Tables'!$C$4,4,IF(M132='Look-up Tables'!$C$5,3,IF(M132='Look-up Tables'!$C$6,2,IF(M132='Look-up Tables'!$C$7,1)))))","v":false},{"$f":"IFERROR(VLOOKUP(P132,'Look-up Tables'!$D$3:$E$127,2),\"\")","v":""},0,null,null,null,null,null,{"$f":"IF(U132='Look-up Tables'!$A$3,5,IF(U132='Look-up Tables'!$A$4,4,IF(U132='Look-up Tables'!$A$5,3,IF(U132='Look-up Tables'!$A$6,2,IF(U132='Look-up Tables'!$A$7,1)))))","v":false},null,{"$f":"IF(W132='Look-up Tables'!$B$3,5,IF(W132='Look-up Tables'!$B$4,4,IF(W132='Look-up Tables'!$B$5,3,IF(W132='Look-up Tables'!$B$6,2,IF(W132='Look-up Tables'!$B$7,1)))))","v":false},null,{"$f":"IF(Y132='Look-up Tables'!$C$3,5,IF(Y132='Look-up Tables'!$C$4,4,IF(Y132='Look-up Tables'!$C$5,3,IF(Y132='Look-up Tables'!$C$6,2,IF(Y132='Look-up Tables'!$C$7,1)))))","v":false},{"$f":"IFERROR(VLOOKUP(AB132,'Look-up Tables'!$D$3:$E$127,2),\"\")","v":""},0]
[null,null,null,null,null,null,{"$f":"IF(F133='Look-up Tables'!$A$3,5,IF(F133='Look-up Tables'!$A$4,4,IF(F133='Look-up Tables'!$A$5,3,IF(F133='Look-up Tables'!$A$6,2,IF(F133='Look-up Tables'!$A$7,1)))))","v":false},null,null,{"$f":"IF(I133='Look-up Tables'!$B$3,5,IF(I133='Look-up Tables'!$B$4,4,IF(I133='Look-up Tables'!$B$5,3,IF(I133='Look-up Tables'!$B$6,2,IF(I133='Look-up Tables'!$B$7,1)))))","v":false},null,null,null,{"$f":"IF(M133='Look-up Tables'!$C$3,5,IF(M133='Look-up Tables'!$C$4,4,IF(M133='Look-up Tables'!$C$5,3,IF(M133='Look-up Tables'!$C$6,2,IF(M133='Look-up Tables'!$C$7,1)))))","v":false},{"$f":"IFERROR(VLOOKUP(P133,'Look-up Tables'!$D$3:$E$127,2),\"\")","v":""},0,null,null,null,null,null,{"$f":"IF(U133='Look-up Tables'!$A$3,5,IF(U133='Look-up Tables'!$A$4,4,IF(U133='Look-up Tables'!$A$5,3,IF(U133='Look-up Tables'!$A$6,2,IF(U133='Look-up Tables'!$A$7,1)))))","v":false},null,{"$f":"IF(W133='Look-up Tables'!$B$3,5,IF(W133='Look-up Tables'!$B$4,4,IF(W133='Look-up Tables'!$B$5,3,IF(W133='Look-up Tables'!$B$6,2,IF(W133='Look-up Tables'!$B$7,1)))))","v":false},null,{"$f":"IF(Y133='Look-up Tables'!$C$3,5,IF(Y133='Look-up Tables'!$C$4,4,IF(Y133='Look-up Tables'!$C$5,3,IF(Y133='Look-up Tables'!$C$6,2,IF(Y133='Look-up Tables'!$C$7,1)))))","v":false},{"$f":"IFERROR(VLOOKUP(AB133,'Look-up Tables'!$D$3:$E$127,2),\"\")","v":""},0]
[null,null,null,null,null,null,{"$f":"IF(F134='Look-up Tables'!$A$3,5,IF(F134='Look-up Tables'!$A$4,4,IF(F134='Look-up Tables'!$A$5,3,IF(F134='Look-up Tables'!$A$6,2,IF(F134='Look-up Tables'!$A$7,1)))))","v":false},null,null,{"$f":"IF(I134='Look-up Tables'!$B$3,5,IF(I134='Look-up Tables'!$B$4,4,IF(I134='Look-up Tables'!$B$5,3,IF(I134='Look-up Tables'!$B$6,2,IF(I134='Look-up Tables'!$B$7,1)))))","v":false},null,null,null,{"$f":"IF(M134='Look-up Tables'!$C$3,5,IF(M134='Look-up Tables'!$C$4,4,IF(M134='Look-up Tables'!$C$5,3,IF(M134='Look-up Tables'!$C$6,2,IF(M134='Look-up Tables'!$C$7,1)))))","v":false},{"$f":"IFERROR(VLOOKUP(P134,'Look-up Tables'!$D$3:$E$127,2),\"\")","v":""},0,null,null,null,null,null,{"$f":"IF(U134='Look-up Tables'!$A$3,5,IF(U134='Look-up Tables'!$A$4,4,IF(U134='Look-up Tables'!$A$5,3,IF(U134='Look-up Tables'!$A$6,2,IF(U134='Look-up Tables'!$A$7,1)))))","v":false},null,{"$f":"IF(W134='Look-up Tables'!$B$3,5,IF(W134='Look-up Tables'!$B$4,4,IF(W134='Look-up Tables'!$B$5,3,IF(W134='Look-up Tables'!$B$6,2,IF(W134='Look-up Tables'!$B$7,1)))))","v":false},null,{"$f":"IF(Y134='Look-up Tables'!$C$3,5,IF(Y134='Look-up Tables'!$C$4,4,IF(Y134='Look-up Tables'!$C$5,3,IF(Y134='Look-up Tables'!$C$6,2,IF(Y134='Look-up Tables'!$C$7,1)))))","v":false},{"$f":"IFERROR(VLOOKUP(AB134,'Look-up Tables'!$D$3:$E$127,2),\"\")","v":""},0]
[null,null,null,null,null,null,{"$f":"IF(F135='Look-up Tables'!$A$3,5,IF(F135='Look-up Tables'!$A$4,4,IF(F135='Look-up Tables'!$A$5,3,IF(F135='Look-up Tables'!$A$6,2,IF(F135='Look-up Tables'!$A$7,1)))))","v":false},null,null,{"$f":"IF(I135='Look-up Tables'!$B$3,5,IF(I135='Look-up Tables'!$B$4,4,IF(I135='Look-up Tables'!$B$5,3,IF(I135='Look-up Tables'!$B$6,2,IF(I135='Look-up Tables'!$B$7,1)))))","v":false},null,null,null,{"$f":"IF(M135='Look-up Tables'!$C$3,5,IF(M135='Look-up Tables'!$C$4,4,IF(M135='Look-up Tables'!$C$5,3,IF(M135='Look-up Tables'!$C$6,2,IF(M135='Look-up Tables'!$C$7,1)))))","v":false},{"$f":"IFERROR(VLOOKUP(P135,'Look-up Tables'!$D$3:$E$127,2),\"\")","v":""},0,null,null,null,null,null,{"$f":"IF(U135='Look-up Tables'!$A$3,5,IF(U135='Look-up Tables'!$A$4,4,IF(U135='Look-up Tables'!$A$5,3,IF(U135='Look-up Tables'!$A$6,2,IF(U135='Look-up Tables'!$A$7,1)))))","v":false},null,{"$f":"IF(W135='Look-up Tables'!$B$3,5,IF(W135='Look-up Tables'!$B$4,4,IF(W135='Look-up Tables'!$B$5,3,IF(W135='Look-up Tables'!$B$6,2,IF(W135='Look-up Tables'!$B$7,1)))))","v":false},null,{"$f":"IF(Y135='Look-up Tables'!$C$3,5,IF(Y135='Look-up Tables'!$C$4,4,IF(Y135='Look-up Tables'!$C$5,3,IF(Y135='Look-up Tables'!$C$6,2,IF(Y135='Look-up Tables'!$C$7,1)))))","v":false},{"$f":"IFERROR(VLOOKUP(AB135,'Look-up Tables'!$D$3:$E$127,2),\"\")","v":""},0]
[null,null,null,null,null,null,{"$f":"IF(F136='Look-up Tables'!$A$3,5,IF(F136='Look-up Tables'!$A$4,4,IF(F136='Look-up Tables'!$A$5,3,IF(F136='Look-up Tables'!$A$6,2,IF(F136='Look-up Tables'!$A$7,1)))))","v":false},null,null,{"$f":"IF(I136='Look-up Tables'!$B$3,5,IF(I136='Look-up Tables'!$B$4,4,IF(I136='Look-up Tables'!$B$5,3,IF(I136='Look-up Tables'!$B$6,2,IF(I136='Look-up Tables'!$B$7,1)))))","v":false},null,null,null,{"$f":"IF(M136='Look-up Tables'!$C$3,5,IF(M136='Look-up Tables'!$C$4,4,IF(M136='Look-up Tables'!$C$5,3,IF(M136='Look-up Tables'!$C$6,2,IF(M136='Look-up Tables'!$C$7,1)))))","v":false},{"$f":"IFERROR(VLOOKUP(P136,'Look-up Tables'!$D$3:$E$127,2),\"\")","v":""},0,null,null,null,null,null,{"$f":"IF(U136='Look-up Tables'!$A$3,5,IF(U136='Look-up Tables'!$A$4,4,IF(U136='Look-up Tables'!$A$5,3,IF(U136='Look-up Tables'!$A$6,2,IF(U136='Look-up Tables'!$A$7,1)))))","v":false},null,{"$f":"IF(W136='Look-up Tables'!$B$3,5,IF(W136='Look-up Tables'!$B$4,4,IF(W136='Look-up Tables'!$B$5,3,IF(W136='Look-up Tables'!$B$6,2,IF(W136='Look-up Tables'!$B$7,1)))))","v":false},null,{"$f":"IF(Y136='Look-up Tables'!$C$3,5,IF(Y136='Look-up Tables'!$C$4,4,IF(Y136='Look-up Tables'!$C$5,3,IF(Y136='Look-up Tables'!$C$6,2,IF(Y136='Look-up Tables'!$C$7,1)))))","v":false},{"$f":"IFERROR(VLOOKUP(AB136,'Look-up Tables'!$D$3:$E$127,2),\"\")","v":""},0]
[null,null,null,null,null,null,{"$f":"IF(F137='Look-up Tables'!$A$3,5,IF(F137='Look-up Tables'!$A$4,4,IF(F137='Look-up Tables'!$A$5,3,IF(F137='Look-up Tables'!$A$6,2,IF(F137='Look-up Tables'!$A$7,1)))))","v":false},null,null,{"$f":"IF(I137='Look-up Tables'!$B$3,5,IF(I137='Look-up Tables'!$B$4,4,IF(I137='Look-up Tables'!$B$5,3,IF(I137='Look-up Tables'!$B$6,2,IF(I137='Look-up Tables'!$B$7,1)))))","v":false},null,null,null,{"$f":"IF(M137='Look-up Tables'!$C$3,5,IF(M137='Look-up Tables'!$C$4,4,IF(M137='Look-up Tables'!$C$5,3,IF(M137='Look-up Tables'!$C$6,2,IF(M137='Look-up Tables'!$C$7,1)))))","v":false},{"$f":"IFERROR(VLOOKUP(P137,'Look-up Tables'!$D$3:$E$127,2),\"\")","v":""},0,null,null,null,null,null,{"$f":"IF(U137='Look-up Tables'!$A$3,5,IF(U137='Look-up Tables'!$A$4,4,IF(U137='Look-up Tables'!$A$5,3,IF(U137='Look-up Tables'!$A$6,2,IF(U137='Look-up Tables'!$A$7,1)))))","v":false},null,{"$f":"IF(W137='Look-up Tables'!$B$3,5,IF(W137='Look-up Tables'!$B$4,4,IF(W137='Look-up Tables'!$B$5,3,IF(W137='Look-up Tables'!$B$6,2,IF(W137='Look-up Tables'!$B$7,1)))))","v":false},null,{"$f":"IF(Y137='Look-up Tables'!$C$3,5,IF(Y137='Look-up Tables'!$C$4,4,IF(Y137='Look-up Tables'!$C$5,3,IF(Y137='Look-up Tables'!$C$6,2,IF(Y137='Look-up Tables'!$C$7,1)))))","v":false},{"$f":"IFERROR(VLOOKUP(AB137,'Look-up Tables'!$D$3:$E$127,2),\"\")","v":""},0]
[null,null,null,null,null,null,{"$f":"IF(F138='Look-up Tables'!$A$3,5,IF(F138='Look-up Tables'!$A$4,4,IF(F138='Look-up Tables'!$A$5,3,IF(F138='Look-up Tables'!$A$6,2,IF(F138='Look-up Tables'!$A$7,1)))))","v":false},null,null,{"$f":"IF(I138='Look-up Tables'!$B$3,5,IF(I138='Look-up Tables'!$B$4,4,IF(I138='Look-up Tables'!$B$5,3,IF(I138='Look-up Tables'!$B$6,2,IF(I138='Look-up Tables'!$B$7,1)))))","v":false},null,null,null,{"$f":"IF(M138='Look-up Tables'!$C$3,5,IF(M138='Look-up Tables'!$C$4,4,IF(M138='Look-up Tables'!$C$5,3,IF(M138='Look-up Tables'!$C$6,2,IF(M138='Look-up Tables'!$C$7,1)))))","v":false},{"$f":"IFERROR(VLOOKUP(P138,'Look-up Tables'!$D$3:$E$127,2),\"\")","v":""},0,null,null,null,null,null,{"$f":"IF(U138='Look-up Tables'!$A$3,5,IF(U138='Look-up Tables'!$A$4,4,IF(U138='Look-up Tables'!$A$5,3,IF(U138='Look-up Tables'!$A$6,2,IF(U138='Look-up Tables'!$A$7,1)))))","v":false},null,{"$f":"IF(W138='Look-up Tables'!$B$3,5,IF(W138='Look-up Tables'!$B$4,4,IF(W138='Look-up Tables'!$B$5,3,IF(W138='Look-up Tables'!$B$6,2,IF(W138='Look-up Tables'!$B$7,1)))))","v":false},null,{"$f":"IF(Y138='Look-up Tables'!$C$3,5,IF(Y138='Look-up Tables'!$C$4,4,IF(Y138='Look-up Tables'!$C$5,3,IF(Y138='Look-up Tables'!$C$6,2,IF(Y138='Look-up Tables'!$C$7,1)))))","v":false},{"$f":"IFERROR(VLOOKUP(AB138,'Look-up Tables'!$D$3:$E$127,2),\"\")","v":""},0]
[null,null,null,null,null,null,{"$f":"IF(F139='Look-up Tables'!$A$3,5,IF(F139='Look-up Tables'!$A$4,4,IF(F139='Look-up Tables'!$A$5,3,IF(F139='Look-up Tables'!$A$6,2,IF(F139='Look-up Tables'!$A$7,1)))))","v":false},null,null,{"$f":"IF(I139='Look-up Tables'!$B$3,5,IF(I139='Look-up Tables'!$B$4,4,IF(I139='Look-up Tables'!$B$5,3,IF(I139='Look-up Tables'!$B$6,2,IF(I139='Look-up Tables'!$B$7,1)))))","v":false},null,null,null,{"$f":"IF(M139='Look-up Tables'!$C$3,5,IF(M139='Look-up Tables'!$C$4,4,IF(M139='Look-up Tables'!$C$5,3,IF(M139='Look-up Tables'!$C$6,2,IF(M139='Look-up Tables'!$C$7,1)))))","v":false},{"$f":"IFERROR(VLOOKUP(P139,'Look-up Tables'!$D$3:$E$127,2),\"\")","v":""},0,null,null,null,null,null,{"$f":"IF(U139='Look-up Tables'!$A$3,5,IF(U139='Look-up Tables'!$A$4,4,IF(U139='Look-up Tables'!$A$5,3,IF(U139='Look-up Tables'!$A$6,2,IF(U139='Look-up Tables'!$A$7,1)))))","v":false},null,{"$f":"IF(W139='Look-up Tables'!$B$3,5,IF(W139='Look-up Tables'!$B$4,4,IF(W139='Look-up Tables'!$B$5,3,IF(W139='Look-up Tables'!$B$6,2,IF(W139='Look-up Tables'!$B$7,1)))))","v":false},null,{"$f":"IF(Y139='Look-up Tables'!$C$3,5,IF(Y139='Look-up Tables'!$C$4,4,IF(Y139='Look-up Tables'!$C$5,3,IF(Y139='Look-up Tables'!$C$6,2,IF(Y139='Look-up Tables'!$C$7,1)))))","v":false},{"$f":"IFERROR(VLOOKUP(AB139,'Look-up Tables'!$D$3:$E$127,2),\"\")","v":""},0]
[null,null,null,null,null,null,{"$f":"IF(F140='Look-up Tables'!$A$3,5,IF(F140='Look-up Tables'!$A$4,4,IF(F140='Look-up Tables'!$A$5,3,IF(F140='Look-up Tables'!$A$6,2,IF(F140='Look-up Tables'!$A$7,1)))))","v":false},null,null,{"$f":"IF(I140='Look-up Tables'!$B$3,5,IF(I140='Look-up Tables'!$B$4,4,IF(I140='Look-up Tables'!$B$5,3,IF(I140='Look-up Tables'!$B$6,2,IF(I140='Look-up Tables'!$B$7,1)))))","v":false},null,null,null,{"$f":"IF(M140='Look-up Tables'!$C$3,5,IF(M140='Look-up Tables'!$C$4,4,IF(M140='Look-up Tables'!$C$5,3,IF(M140='Look-up Tables'!$C$6,2,IF(M140='Look-up Tables'!$C$7,1)))))","v":false},{"$f":"IFERROR(VLOOKUP(P140,'Look-up Tables'!$D$3:$E$127,2),\"\")","v":""},0,null,null,null,null,null,{"$f":"IF(U140='Look-up Tables'!$A$3,5,IF(U140='Look-up Tables'!$A$4,4,IF(U140='Look-up Tables'!$A$5,3,IF(U140='Look-up Tables'!$A$6,2,IF(U140='Look-up Tables'!$A$7,1)))))","v":false},null,{"$f":"IF(W140='Look-up Tables'!$B$3,5,IF(W140='Look-up Tables'!$B$4,4,IF(W140='Look-up Tables'!$B$5,3,IF(W140='Look-up Tables'!$B$6,2,IF(W140='Look-up Tables'!$B$7,1)))))","v":false},null,{"$f":"IF(Y140='Look-up Tables'!$C$3,5,IF(Y140='Look-up Tables'!$C$4,4,IF(Y140='Look-up Tables'!$C$5,3,IF(Y140='Look-up Tables'!$C$6,2,IF(Y140='Look-up Tables'!$C$7,1)))))","v":false},{"$f":"IFERROR(VLOOKUP(AB140,'Look-up Tables'!$D$3:$E$127,2),\"\")","v":""},0]
[null,null,null,null,null,null,{"$f":"IF(F141='Look-up Tables'!$A$3,5,IF(F141='Look-up Tables'!$A$4,4,IF(F141='Look-up Tables'!$A$5,3,IF(F141='Look-up Tables'!$A$6,2,IF(F141='Look-up Tables'!$A$7,1)))))","v":false},null,null,{"$f":"IF(I141='Look-up Tables'!$B$3,5,IF(I141='Look-up Tables'!$B$4,4,IF(I141='Look-up Tables'!$B$5,3,IF(I141='Look-up Tables'!$B$6,2,IF(I141='Look-up Tables'!$B$7,1)))))","v":false},null,null,null,{"$f":"IF(M141='Look-up Tables'!$C$3,5,IF(M141='Look-up Tables'!$C$4,4,IF(M141='Look-up Tables'!$C$5,3,IF(M141='Look-up Tables'!$C$6,2,IF(M141='Look-up Tables'!$C$7,1)))))","v":false},{"$f":"IFERROR(VLOOKUP(P141,'Look-up Tables'!$D$3:$E$127,2),\"\")","v":""},0,null,null,null,null,null,{"$f":"IF(U141='Look-up Tables'!$A$3,5,IF(U141='Look-up Tables'!$A$4,4,IF(U141='Look-up Tables'!$A$5,3,IF(U141='Look-up Tables'!$A$6,2,IF(U141='Look-up Tables'!$A$7,1)))))","v":false},null,{"$f":"IF(W141='Look-up Tables'!$B$3,5,IF(W141='Look-up Tables'!$B$4,4,IF(W141='Look-up Tables'!$B$5,3,IF(W141='Look-up Tables'!$B$6,2,IF(W141='Look-up Tables'!$B$7,1)))))","v":false},null,{"$f":"IF(Y141='Look-up Tables'!$C$3,5,IF(Y141='Look-up Tables'!$C$4,4,IF(Y141='Look-up Tables'!$C$5,3,IF(Y141='Look-up Tables'!$C$6,2,IF(Y141='Look-up Tables'!$C$7,1)))))","v":false},{"$f":"IFERROR(VLOOKUP(AB141,'Look-up Tables'!$D$3:$E$127,2),\"\")","v":""},0]
[null,null,null,null,null,null,{"$f":"IF(F142='Look-up Tables'!$A$3,5,IF(F142='Look-up Tables'!$A$4,4,IF(F142='Look-up Tables'!$A$5,3,IF(F142='Look-up Tables'!$A$6,2,IF(F142='Look-up Tables'!$A$7,1)))))","v":false},null,null,{"$f":"IF(I142='Look-up Tables'!$B$3,5,IF(I142='Look-up Tables'!$B$4,4,IF(I142='Look-up Tables'!$B$5,3,IF(I142='Look-up Tables'!$B$6,2,IF(I142='Look-up Tables'!$B$7,1)))))","v":false},null,null,null,{"$f":"IF(M142='Look-up Tables'!$C$3,5,IF(M142='Look-up Tables'!$C$4,4,IF(M142='Look-up Tables'!$C$5,3,IF(M142='Look-up Tables'!$C$6,2,IF(M142='Look-up Tables'!$C$7,1)))))","v":false},{"$f":"IFERROR(VLOOKUP(P142,'Look-up Tables'!$D$3:$E$127,2),\"\")","v":""},0,null,null,null,null,null,{"$f":"IF(U142='Look-up Tables'!$A$3,5,IF(U142='Look-up Tables'!$A$4,4,IF(U142='Look-up Tables'!$A$5,3,IF(U142='Look-up Tables'!$A$6,2,IF(U142='Look-up Tables'!$A$7,1)))))","v":false},null,{"$f":"IF(W142='Look-up Tables'!$B$3,5,IF(W142='Look-up Tables'!$B$4,4,IF(W142='Look-up Tables'!$B$5,3,IF(W142='Look-up Tables'!$B$6,2,IF(W142='Look-up Tables'!$B$7,1)))))","v":false},null,{"$f":"IF(Y142='Look-up Tables'!$C$3,5,IF(Y142='Look-up Tables'!$C$4,4,IF(Y142='Look-up Tables'!$C$5,3,IF(Y142='Look-up Tables'!$C$6,2,IF(Y142='Look-up Tables'!$C$7,1)))))","v":false},{"$f":"IFERROR(VLOOKUP(AB142,'Look-up Tables'!$D$3:$E$127,2),\"\")","v":""},0]
[null,null,null,null,null,null,{"$f":"IF(F143='Look-up Tables'!$A$3,5,IF(F143='Look-up Tables'!$A$4,4,IF(F143='Look-up Tables'!$A$5,3,IF(F143='Look-up Tables'!$A$6,2,IF(F143='Look-up Tables'!$A$7,1)))))","v":false},null,null,{"$f":"IF(I143='Look-up Tables'!$B$3,5,IF(I143='Look-up Tables'!$B$4,4,IF(I143='Look-up Tables'!$B$5,3,IF(I143='Look-up Tables'!$B$6,2,IF(I143='Look-up Tables'!$B$7,1)))))","v":false},null,null,null,{"$f":"IF(M143='Look-up Tables'!$C$3,5,IF(M143='Look-up Tables'!$C$4,4,IF(M143='Look-up Tables'!$C$5,3,IF(M143='Look-up Tables'!$C$6,2,IF(M143='Look-up Tables'!$C$7,1)))))","v":false},{"$f":"IFERROR(VLOOKUP(P143,'Look-up Tables'!$D$3:$E$127,2),\"\")","v":""},0,null,null,null,null,null,{"$f":"IF(U143='Look-up Tables'!$A$3,5,IF(U143='Look-up Tables'!$A$4,4,IF(U143='Look-up Tables'!$A$5,3,IF(U143='Look-up Tables'!$A$6,2,IF(U143='Look-up Tables'!$A$7,1)))))","v":false},null,{"$f":"IF(W143='Look-up Tables'!$B$3,5,IF(W143='Look-up Tables'!$B$4,4,IF(W143='Look-up Tables'!$B$5,3,IF(W143='Look-up Tables'!$B$6,2,IF(W143='Look-up Tables'!$B$7,1)))))","v":false},null,{"$f":"IF(Y143='Look-up Tables'!$C$3,5,IF(Y143='Look-up Tables'!$C$4,4,IF(Y143='Look-up Tables'!$C$5,3,IF(Y143='Look-up Tables'!$C$6,2,IF(Y143='Look-up Tables'!$C$7,1)))))","v":false},{"$f":"IFERROR(VLOOKUP(AB143,'Look-up Tables'!$D$3:$E$127,2),\"\")","v":""},0]
[null,null,null,null,null,null,{"$f":"IF(F144='Look-up Tables'!$A$3,5,IF(F144='Look-up Tables'!$A$4,4,IF(F144='Look-up Tables'!$A$5,3,IF(F144='Look-up Tables'!$A$6,2,IF(F144='Look-up Tables'!$A$7,1)))))","v":false},null,null,{"$f":"IF(I144='Look-up Tables'!$B$3,5,IF(I144='Look-up Tables'!$B$4,4,IF(I144='Look-up Tables'!$B$5,3,IF(I144='Look-up Tables'!$B$6,2,IF(I144='Look-up Tables'!$B$7,1)))))","v":false},null,null,null,{"$f":"IF(M144='Look-up Tables'!$C$3,5,IF(M144='Look-up Tables'!$C$4,4,IF(M144='Look-up Tables'!$C$5,3,IF(M144='Look-up Tables'!$C$6,2,IF(M144='Look-up Tables'!$C$7,1)))))","v":false},{"$f":"IFERROR(VLOOKUP(P144,'Look-up Tables'!$D$3:$E$127,2),\"\")","v":""},0,null,null,null,null,null,{"$f":"IF(U144='Look-up Tables'!$A$3,5,IF(U144='Look-up Tables'!$A$4,4,IF(U144='Look-up Tables'!$A$5,3,IF(U144='Look-up Tables'!$A$6,2,IF(U144='Look-up Tables'!$A$7,1)))))","v":false},null,{"$f":"IF(W144='Look-up Tables'!$B$3,5,IF(W144='Look-up Tables'!$B$4,4,IF(W144='Look-up Tables'!$B$5,3,IF(W144='Look-up Tables'!$B$6,2,IF(W144='Look-up Tables'!$B$7,1)))))","v":false},null,{"$f":"IF(Y144='Look-up Tables'!$C$3,5,IF(Y144='Look-up Tables'!$C$4,4,IF(Y144='Look-up Tables'!$C$5,3,IF(Y144='Look-up Tables'!$C$6,2,IF(Y144='Look-up Tables'!$C$7,1)))))","v":false},{"$f":"IFERROR(VLOOKUP(AB144,'Look-up Tables'!$D$3:$E$127,2),\"\")","v":""},0]
[null,null,null,null,null,null,{"$f":"IF(F145='Look-up Tables'!$A$3,5,IF(F145='Look-up Tables'!$A$4,4,IF(F145='Look-up Tables'!$A$5,3,IF(F145='Look-up Tables'!$A$6,2,IF(F145='Look-up Tables'!$A$7,1)))))","v":false},null,null,{"$f":"IF(I145='Look-up Tables'!$B$3,5,IF(I145='Look-up Tables'!$B$4,4,IF(I145='Look-up Tables'!$B$5,3,IF(I145='Look-up Tables'!$B$6,2,IF(I145='Look-up Tables'!$B$7,1)))))","v":false},null,null,null,{"$f":"IF(M145='Look-up Tables'!$C$3,5,IF(M145='Look-up Tables'!$C$4,4,IF(M145='Look-up Tables'!$C$5,3,IF(M145='Look-up Tables'!$C$6,2,IF(M145='Look-up Tables'!$C$7,1)))))","v":false},{"$f":"IFERROR(VLOOKUP(P145,'Look-up Tables'!$D$3:$E$127,2),\"\")","v":""},0,null,null,null,null,null,{"$f":"IF(U145='Look-up Tables'!$A$3,5,IF(U145='Look-up Tables'!$A$4,4,IF(U145='Look-up Tables'!$A$5,3,IF(U145='Look-up Tables'!$A$6,2,IF(U145='Look-up Tables'!$A$7,1)))))","v":false},null,{"$f":"IF(W145='Look-up Tables'!$B$3,5,IF(W145='Look-up Tables'!$B$4,4,IF(W145='Look-up Tables'!$B$5,3,IF(W145='Look-up Tables'!$B$6,2,IF(W145='Look-up Tables'!$B$7,1)))))","v":false},null,{"$f":"IF(Y145='Look-up Tables'!$C$3,5,IF(Y145='Look-up Tables'!$C$4,4,IF(Y145='Look-up Tables'!$C$5,3,IF(Y145='Look-up Tables'!$C$6,2,IF(Y145='Look-up Tables'!$C$7,1)))))","v":false},{"$f":"IFERROR(VLOOKUP(AB145,'Look-up Tables'!$D$3:$E$127,2),\"\")","v":""},0]
[null,null,null,null,null,null,{"$f":"IF(F146='Look-up Tables'!$A$3,5,IF(F146='Look-up Tables'!$A$4,4,IF(F146='Look-up Tables'!$A$5,3,IF(F146='Look-up Tables'!$A$6,2,IF(F146='Look-up Tables'!$A$7,1)))))","v":false},null,null,{"$f":"IF(I146='Look-up Tables'!$B$3,5,IF(I146='Look-up Tables'!$B$4,4,IF(I146='Look-up Tables'!$B$5,3,IF(I146='Look-up Tables'!$B$6,2,IF(I146='Look-up Tables'!$B$7,1)))))","v":false},null,null,null,{"$f":"IF(M146='Look-up Tables'!$C$3,5,IF(M146='Look-up Tables'!$C$4,4,IF(M146='Look-up Tables'!$C$5,3,IF(M146='Look-up Tables'!$C$6,2,IF(M146='Look-up Tables'!$C$7,1)))))","v":false},{"$f":"IFERROR(VLOOKUP(P146,'Look-up Tables'!$D$3:$E$127,2),\"\")","v":""},0,null,null,null,null,null,{"$f":"IF(U146='Look-up Tables'!$A$3,5,IF(U146='Look-up Tables'!$A$4,4,IF(U146='Look-up Tables'!$A$5,3,IF(U146='Look-up Tables'!$A$6,2,IF(U146='Look-up Tables'!$A$7,1)))))","v":false},null,{"$f":"IF(W146='Look-up Tables'!$B$3,5,IF(W146='Look-up Tables'!$B$4,4,IF(W146='Look-up Tables'!$B$5,3,IF(W146='Look-up Tables'!$B$6,2,IF(W146='Look-up Tables'!$B$7,1)))))","v":false},null,{"$f":"IF(Y146='Look-up Tables'!$C$3,5,IF(Y146='Look-up Tables'!$C$4,4,IF(Y146='Look-up Tables'!$C$5,3,IF(Y146='Look-up Tables'!$C$6,2,IF(Y146='Look-up Tables'!$C$7,1)))))","v":false},{"$f":"IFERROR(VLOOKUP(AB146,'Look-up Tables'!$D$3:$E$127,2),\"\")","v":""},0]
[null,null,null,null,null,null,{"$f":"IF(F147='Look-up Tables'!$A$3,5,IF(F147='Look-up Tables'!$A$4,4,IF(F147='Look-up Tables'!$A$5,3,IF(F147='Look-up Tables'!$A$6,2,IF(F147='Look-up Tables'!$A$7,1)))))","v":false},null,null,{"$f":"IF(I147='Look-up Tables'!$B$3,5,IF(I147='Look-up Tables'!$B$4,4,IF(I147='Look-up Tables'!$B$5,3,IF(I147='Look-up Tables'!$B$6,2,IF(I147='Look-up Tables'!$B$7,1)))))","v":false},null,null,null,{"$f":"IF(M147='Look-up Tables'!$C$3,5,IF(M147='Look-up Tables'!$C$4,4,IF(M147='Look-up Tables'!$C$5,3,IF(M147='Look-up Tables'!$C$6,2,IF(M147='Look-up Tables'!$C$7,1)))))","v":false},{"$f":"IFERROR(VLOOKUP(P147,'Look-up Tables'!$D$3:$E$127,2),\"\")","v":""},0,null,null,null,null,null,{"$f":"IF(U147='Look-up Tables'!$A$3,5,IF(U147='Look-up Tables'!$A$4,4,IF(U147='Look-up Tables'!$A$5,3,IF(U147='Look-up Tables'!$A$6,2,IF(U147='Look-up Tables'!$A$7,1)))))","v":false},null,{"$f":"IF(W147='Look-up Tables'!$B$3,5,IF(W147='Look-up Tables'!$B$4,4,IF(W147='Look-up Tables'!$B$5,3,IF(W147='Look-up Tables'!$B$6,2,IF(W147='Look-up Tables'!$B$7,1)))))","v":false},null,{"$f":"IF(Y147='Look-up Tables'!$C$3,5,IF(Y147='Look-up Tables'!$C$4,4,IF(Y147='Look-up Tables'!$C$5,3,IF(Y147='Look-up Tables'!$C$6,2,IF(Y147='Look-up Tables'!$C$7,1)))))","v":false},{"$f":"IFERROR(VLOOKUP(AB147,'Look-up Tables'!$D$3:$E$127,2),\"\")","v":""},0]
[null,null,null,null,null,null,{"$f":"IF(F148='Look-up Tables'!$A$3,5,IF(F148='Look-up Tables'!$A$4,4,IF(F148='Look-up Tables'!$A$5,3,IF(F148='Look-up Tables'!$A$6,2,IF(F148='Look-up Tables'!$A$7,1)))))","v":false},null,null,{"$f":"IF(I148='Look-up Tables'!$B$3,5,IF(I148='Look-up Tables'!$B$4,4,IF(I148='Look-up Tables'!$B$5,3,IF(I148='Look-up Tables'!$B$6,2,IF(I148='Look-up Tables'!$B$7,1)))))","v":false},null,null,null,{"$f":"IF(M148='Look-up Tables'!$C$3,5,IF(M148='Look-up Tables'!$C$4,4,IF(M148='Look-up Tables'!$C$5,3,IF(M148='Look-up Tables'!$C$6,2,IF(M148='Look-up Tables'!$C$7,1)))))","v":false},{"$f":"IFERROR(VLOOKUP(P148,'Look-up Tables'!$D$3:$E$127,2),\"\")","v":""},0,null,null,null,null,null,{"$f":"IF(U148='Look-up Tables'!$A$3,5,IF(U148='Look-up Tables'!$A$4,4,IF(U148='Look-up Tables'!$A$5,3,IF(U148='Look-up Tables'!$A$6,2,IF(U148='Look-up Tables'!$A$7,1)))))","v":false},null,{"$f":"IF(W148='Look-up Tables'!$B$3,5,IF(W148='Look-up Tables'!$B$4,4,IF(W148='Look-up Tables'!$B$5,3,IF(W148='Look-up Tables'!$B$6,2,IF(W148='Look-up Tables'!$B$7,1)))))","v":false},null,{"$f":"IF(Y148='Look-up Tables'!$C$3,5,IF(Y148='Look-up Tables'!$C$4,4,IF(Y148='Look-up Tables'!$C$5,3,IF(Y148='Look-up Tables'!$C$6,2,IF(Y148='Look-up Tables'!$C$7,1)))))","v":false},{"$f":"IFERROR(VLOOKUP(AB148,'Look-up Tables'!$D$3:$E$127,2),\"\")","v":""},0]
[null,null,null,null,null,null,{"$f":"IF(F149='Look-up Tables'!$A$3,5,IF(F149='Look-up Tables'!$A$4,4,IF(F149='Look-up Tables'!$A$5,3,IF(F149='Look-up Tables'!$A$6,2,IF(F149='Look-up Tables'!$A$7,1)))))","v":false},null,null,{"$f":"IF(I149='Look-up Tables'!$B$3,5,IF(I149='Look-up Tables'!$B$4,4,IF(I149='Look-up Tables'!$B$5,3,IF(I149='Look-up Tables'!$B$6,2,IF(I149='Look-up Tables'!$B$7,1)))))","v":false},null,null,null,{"$f":"IF(M149='Look-up Tables'!$C$3,5,IF(M149='Look-up Tables'!$C$4,4,IF(M149='Look-up Tables'!$C$5,3,IF(M149='Look-up Tables'!$C$6,2,IF(M149='Look-up Tables'!$C$7,1)))))","v":false},{"$f":"IFERROR(VLOOKUP(P149,'Look-up Tables'!$D$3:$E$127,2),\"\")","v":""},0,null,null,null,null,null,{"$f":"IF(U149='Look-up Tables'!$A$3,5,IF(U149='Look-up Tables'!$A$4,4,IF(U149='Look-up Tables'!$A$5,3,IF(U149='Look-up Tables'!$A$6,2,IF(U149='Look-up Tables'!$A$7,1)))))","v":false},null,{"$f":"IF(W149='Look-up Tables'!$B$3,5,IF(W149='Look-up Tables'!$B$4,4,IF(W149='Look-up Tables'!$B$5,3,IF(W149='Look-up Tables'!$B$6,2,IF(W149='Look-up Tables'!$B$7,1)))))","v":false},null,{"$f":"IF(Y149='Look-up Tables'!$C$3,5,IF(Y149='Look-up Tables'!$C$4,4,IF(Y149='Look-up Tables'!$C$5,3,IF(Y149='Look-up Tables'!$C$6,2,IF(Y149='Look-up Tables'!$C$7,1)))))","v":false},{"$f":"IFERROR(VLOOKUP(AB149,'Look-up Tables'!$D$3:$E$127,2),\"\")","v":""},0]
[null,null,null,null,null,null,{"$f":"IF(F150='Look-up Tables'!$A$3,5,IF(F150='Look-up Tables'!$A$4,4,IF(F150='Look-up Tables'!$A$5,3,IF(F150='Look-up Tables'!$A$6,2,IF(F150='Look-up Tables'!$A$7,1)))))","v":false},null,null,{"$f":"IF(I150='Look-up Tables'!$B$3,5,IF(I150='Look-up Tables'!$B$4,4,IF(I150='Look-up Tables'!$B$5,3,IF(I150='Look-up Tables'!$B$6,2,IF(I150='Look-up Tables'!$B$7,1)))))","v":false},null,null,null,{"$f":"IF(M150='Look-up Tables'!$C$3,5,IF(M150='Look-up Tables'!$C$4,4,IF(M150='Look-up Tables'!$C$5,3,IF(M150='Look-up Tables'!$C$6,2,IF(M150='Look-up Tables'!$C$7,1)))))","v":false},{"$f":"IFERROR(VLOOKUP(P150,'Look-up Tables'!$D$3:$E$127,2),\"\")","v":""},0,null,null,null,null,null,{"$f":"IF(U150='Look-up Tables'!$A$3,5,IF(U150='Look-up Tables'!$A$4,4,IF(U150='Look-up Tables'!$A$5,3,IF(U150='Look-up Tables'!$A$6,2,IF(U150='Look-up Tables'!$A$7,1)))))","v":false},null,{"$f":"IF(W150='Look-up Tables'!$B$3,5,IF(W150='Look-up Tables'!$B$4,4,IF(W150='Look-up Tables'!$B$5,3,IF(W150='Look-up Tables'!$B$6,2,IF(W150='Look-up Tables'!$B$7,1)))))","v":false},null,{"$f":"IF(Y150='Look-up Tables'!$C$3,5,IF(Y150='Look-up Tables'!$C$4,4,IF(Y150='Look-up Tables'!$C$5,3,IF(Y150='Look-up Tables'!$C$6,2,IF(Y150='Look-up Tables'!$C$7,1)))))","v":false},{"$f":"IFERROR(VLOOKUP(AB150,'Look-up Tables'!$D$3:$E$127,2),\"\")","v":""},0]
[null,null,null,null,null,null,{"$f":"IF(F151='Look-up Tables'!$A$3,5,IF(F151='Look-up Tables'!$A$4,4,IF(F151='Look-up Tables'!$A$5,3,IF(F151='Look-up Tables'!$A$6,2,IF(F151='Look-up Tables'!$A$7,1)))))","v":false},null,null,{"$f":"IF(I151='Look-up Tables'!$B$3,5,IF(I151='Look-up Tables'!$B$4,4,IF(I151='Look-up Tables'!$B$5,3,IF(I151='Look-up Tables'!$B$6,2,IF(I151='Look-up Tables'!$B$7,1)))))","v":false},null,null,null,{"$f":"IF(M151='Look-up Tables'!$C$3,5,IF(M151='Look-up Tables'!$C$4,4,IF(M151='Look-up Tables'!$C$5,3,IF(M151='Look-up Tables'!$C$6,2,IF(M151='Look-up Tables'!$C$7,1)))))","v":false},{"$f":"IFERROR(VLOOKUP(P151,'Look-up Tables'!$D$3:$E$127,2),\"\")","v":""},0,null,null,null,null,null,{"$f":"IF(U151='Look-up Tables'!$A$3,5,IF(U151='Look-up Tables'!$A$4,4,IF(U151='Look-up Tables'!$A$5,3,IF(U151='Look-up Tables'!$A$6,2,IF(U151='Look-up Tables'!$A$7,1)))))","v":false},null,{"$f":"IF(W151='Look-up Tables'!$B$3,5,IF(W151='Look-up Tables'!$B$4,4,IF(W151='Look-up Tables'!$B$5,3,IF(W151='Look-up Tables'!$B$6,2,IF(W151='Look-up Tables'!$B$7,1)))))","v":false},null,{"$f":"IF(Y151='Look-up Tables'!$C$3,5,IF(Y151='Look-up Tables'!$C$4,4,IF(Y151='Look-up Tables'!$C$5,3,IF(Y151='Look-up Tables'!$C$6,2,IF(Y151='Look-up Tables'!$C$7,1)))))","v":false},{"$f":"IFERROR(VLOOKUP(AB151,'Look-up Tables'!$D$3:$E$127,2),\"\")","v":""},0]
[null,null,null,null,null,null,{"$f":"IF(F152='Look-up Tables'!$A$3,5,IF(F152='Look-up Tables'!$A$4,4,IF(F152='Look-up Tables'!$A$5,3,IF(F152='Look-up Tables'!$A$6,2,IF(F152='Look-up Tables'!$A$7,1)))))","v":false},null,null,{"$f":"IF(I152='Look-up Tables'!$B$3,5,IF(I152='Look-up Tables'!$B$4,4,IF(I152='Look-up Tables'!$B$5,3,IF(I152='Look-up Tables'!$B$6,2,IF(I152='Look-up Tables'!$B$7,1)))))","v":false},null,null,null,{"$f":"IF(M152='Look-up Tables'!$C$3,5,IF(M152='Look-up Tables'!$C$4,4,IF(M152='Look-up Tables'!$C$5,3,IF(M152='Look-up Tables'!$C$6,2,IF(M152='Look-up Tables'!$C$7,1)))))","v":false},{"$f":"IFERROR(VLOOKUP(P152,'Look-up Tables'!$D$3:$E$127,2),\"\")","v":""},0,null,null,null,null,null,{"$f":"IF(U152='Look-up Tables'!$A$3,5,IF(U152='Look-up Tables'!$A$4,4,IF(U152='Look-up Tables'!$A$5,3,IF(U152='Look-up Tables'!$A$6,2,IF(U152='Look-up Tables'!$A$7,1)))))","v":false},null,{"$f":"IF(W152='Look-up Tables'!$B$3,5,IF(W152='Look-up Tables'!$B$4,4,IF(W152='Look-up Tables'!$B$5,3,IF(W152='Look-up Tables'!$B$6,2,IF(W152='Look-up Tables'!$B$7,1)))))","v":false},null,{"$f":"IF(Y152='Look-up Tables'!$C$3,5,IF(Y152='Look-up Tables'!$C$4,4,IF(Y152='Look-up Tables'!$C$5,3,IF(Y152='Look-up Tables'!$C$6,2,IF(Y152='Look-up Tables'!$C$7,1)))))","v":false},{"$f":"IFERROR(VLOOKUP(AB152,'Look-up Tables'!$D$3:$E$127,2),\"\")","v":""},0]
[null,null,null,null,null,null,{"$f":"IF(F153='Look-up Tables'!$A$3,5,IF(F153='Look-up Tables'!$A$4,4,IF(F153='Look-up Tables'!$A$5,3,IF(F153='Look-up Tables'!$A$6,2,IF(F153='Look-up Tables'!$A$7,1)))))","v":false},null,null,{"$f":"IF(I153='Look-up Tables'!$B$3,5,IF(I153='Look-up Tables'!$B$4,4,IF(I153='Look-up Tables'!$B$5,3,IF(I153='Look-up Tables'!$B$6,2,IF(I153='Look-up Tables'!$B$7,1)))))","v":false},null,null,null,{"$f":"IF(M153='Look-up Tables'!$C$3,5,IF(M153='Look-up Tables'!$C$4,4,IF(M153='Look-up Tables'!$C$5,3,IF(M153='Look-up Tables'!$C$6,2,IF(M153='Look-up Tables'!$C$7,1)))))","v":false},{"$f":"IFERROR(VLOOKUP(P153,'Look-up Tables'!$D$3:$E$127,2),\"\")","v":""},0,null,null,null,null,null,{"$f":"IF(U153='Look-up Tables'!$A$3,5,IF(U153='Look-up Tables'!$A$4,4,IF(U153='Look-up Tables'!$A$5,3,IF(U153='Look-up Tables'!$A$6,2,IF(U153='Look-up Tables'!$A$7,1)))))","v":false},null,{"$f":"IF(W153='Look-up Tables'!$B$3,5,IF(W153='Look-up Tables'!$B$4,4,IF(W153='Look-up Tables'!$B$5,3,IF(W153='Look-up Tables'!$B$6,2,IF(W153='Look-up Tables'!$B$7,1)))))","v":false},null,{"$f":"IF(Y153='Look-up Tables'!$C$3,5,IF(Y153='Look-up Tables'!$C$4,4,IF(Y153='Look-up Tables'!$C$5,3,IF(Y153='Look-up Tables'!$C$6,2,IF(Y153='Look-up Tables'!$C$7,1)))))","v":false},{"$f":"IFERROR(VLOOKUP(AB153,'Look-up Tables'!$D$3:$E$127,2),\"\")","v":""},0]
[null,null,null,null,null,null,{"$f":"IF(F154='Look-up Tables'!$A$3,5,IF(F154='Look-up Tables'!$A$4,4,IF(F154='Look-up Tables'!$A$5,3,IF(F154='Look-up Tables'!$A$6,2,IF(F154='Look-up Tables'!$A$7,1)))))","v":false},null,null,{"$f":"IF(I154='Look-up Tables'!$B$3,5,IF(I154='Look-up Tables'!$B$4,4,IF(I154='Look-up Tables'!$B$5,3,IF(I154='Look-up Tables'!$B$6,2,IF(I154='Look-up Tables'!$B$7,1)))))","v":false},null,null,null,{"$f":"IF(M154='Look-up Tables'!$C$3,5,IF(M154='Look-up Tables'!$C$4,4,IF(M154='Look-up Tables'!$C$5,3,IF(M154='Look-up Tables'!$C$6,2,IF(M154='Look-up Tables'!$C$7,1)))))","v":false},{"$f":"IFERROR(VLOOKUP(P154,'Look-up Tables'!$D$3:$E$127,2),\"\")","v":""},0,null,null,null,null,null,{"$f":"IF(U154='Look-up Tables'!$A$3,5,IF(U154='Look-up Tables'!$A$4,4,IF(U154='Look-up Tables'!$A$5,3,IF(U154='Look-up Tables'!$A$6,2,IF(U154='Look-up Tables'!$A$7,1)))))","v":false},null,{"$f":"IF(W154='Look-up Tables'!$B$3,5,IF(W154='Look-up Tables'!$B$4,4,IF(W154='Look-up Tables'!$B$5,3,IF(W154='Look-up Tables'!$B$6,2,IF(W154='Look-up Tables'!$B$7,1)))))","v":false},null,{"$f":"IF(Y154='Look-up Tables'!$C$3,5,IF(Y154='Look-up Tables'!$C$4,4,IF(Y154='Look-up Tables'!$C$5,3,IF(Y154='Look-up Tables'!$C$6,2,IF(Y154='Look-up Tables'!$C$7,1)))))","v":false},{"$f":"IFERROR(VLOOKUP(AB154,'Look-up Tables'!$D$3:$E$127,2),\"\")","v":""},0]
[null,null,null,null,null,null,{"$f":"IF(F155='Look-up Tables'!$A$3,5,IF(F155='Look-up Tables'!$A$4,4,IF(F155='Look-up Tables'!$A$5,3,IF(F155='Look-up Tables'!$A$6,2,IF(F155='Look-up Tables'!$A$7,1)))))","v":false},null,null,{"$f":"IF(I155='Look-up Tables'!$B$3,5,IF(I155='Look-up Tables'!$B$4,4,IF(I155='Look-up Tables'!$B$5,3,IF(I155='Look-up Tables'!$B$6,2,IF(I155='Look-up Tables'!$B$7,1)))))","v":false},null,null,null,{"$f":"IF(M155='Look-up Tables'!$C$3,5,IF(M155='Look-up Tables'!$C$4,4,IF(M155='Look-up Tables'!$C$5,3,IF(M155='Look-up Tables'!$C$6,2,IF(M155='Look-up Tables'!$C$7,1)))))","v":false},{"$f":"IFERROR(VLOOKUP(P155,'Look-up Tables'!$D$3:$E$127,2),\"\")","v":""},0,null,null,null,null,null,{"$f":"IF(U155='Look-up Tables'!$A$3,5,IF(U155='Look-up Tables'!$A$4,4,IF(U155='Look-up Tables'!$A$5,3,IF(U155='Look-up Tables'!$A$6,2,IF(U155='Look-up Tables'!$A$7,1)))))","v":false},null,{"$f":"IF(W155='Look-up Tables'!$B$3,5,IF(W155='Look-up Tables'!$B$4,4,IF(W155='Look-up Tables'!$B$5,3,IF(W155='Look-up Tables'!$B$6,2,IF(W155='Look-up Tables'!$B$7,1)))))","v":false},null,{"$f":"IF(Y155='Look-up Tables'!$C$3,5,IF(Y155='Look-up Tables'!$C$4,4,IF(Y155='Look-up Tables'!$C$5,3,IF(Y155='Look-up Tables'!$C$6,2,IF(Y155='Look-up Tables'!$C$7,1)))))","v":false},{"$f":"IFERROR(VLOOKUP(AB155,'Look-up Tables'!$D$3:$E$127,2),\"\")","v":""},0]
[null,null,null,null,null,null,{"$f":"IF(F156='Look-up Tables'!$A$3,5,IF(F156='Look-up Tables'!$A$4,4,IF(F156='Look-up Tables'!$A$5,3,IF(F156='Look-up Tables'!$A$6,2,IF(F156='Look-up Tables'!$A$7,1)))))","v":false},null,null,{"$f":"IF(I156='Look-up Tables'!$B$3,5,IF(I156='Look-up Tables'!$B$4,4,IF(I156='Look-up Tables'!$B$5,3,IF(I156='Look-up Tables'!$B$6,2,IF(I156='Look-up Tables'!$B$7,1)))))","v":false},null,null,null,{"$f":"IF(M156='Look-up Tables'!$C$3,5,IF(M156='Look-up Tables'!$C$4,4,IF(M156='Look-up Tables'!$C$5,3,IF(M156='Look-up Tables'!$C$6,2,IF(M156='Look-up Tables'!$C$7,1)))))","v":false},{"$f":"IFERROR(VLOOKUP(P156,'Look-up Tables'!$D$3:$E$127,2),\"\")","v":""},0,null,null,null,null,null,{"$f":"IF(U156='Look-up Tables'!$A$3,5,IF(U156='Look-up Tables'!$A$4,4,IF(U156='Look-up Tables'!$A$5,3,IF(U156='Look-up Tables'!$A$6,2,IF(U156='Look-up Tables'!$A$7,1)))))","v":false},null,{"$f":"IF(W156='Look-up Tables'!$B$3,5,IF(W156='Look-up Tables'!$B$4,4,IF(W156='Look-up Tables'!$B$5,3,IF(W156='Look-up Tables'!$B$6,2,IF(W156='Look-up Tables'!$B$7,1)))))","v":false},null,{"$f":"IF(Y156='Look-up Tables'!$C$3,5,IF(Y156='Look-up Tables'!$C$4,4,IF(Y156='Look-up Tables'!$C$5,3,IF(Y156='Look-up Tables'!$C$6,2,IF(Y156='Look-up Tables'!$C$7,1)))))","v":false},{"$f":"IFERROR(VLOOKUP(AB156,'Look-up Tables'!$D$3:$E$127,2),\"\")","v":""},0]
[null,null,null,null,null,null,{"$f":"IF(F157='Look-up Tables'!$A$3,5,IF(F157='Look-up Tables'!$A$4,4,IF(F157='Look-up Tables'!$A$5,3,IF(F157='Look-up Tables'!$A$6,2,IF(F157='Look-up Tables'!$A$7,1)))))","v":false},null,null,{"$f":"IF(I157='Look-up Tables'!$B$3,5,IF(I157='Look-up Tables'!$B$4,4,IF(I157='Look-up Tables'!$B$5,3,IF(I157='Look-up Tables'!$B$6,2,IF(I157='Look-up Tables'!$B$7,1)))))","v":false},null,null,null,{"$f":"IF(M157='Look-up Tables'!$C$3,5,IF(M157='Look-up Tables'!$C$4,4,IF(M157='Look-up Tables'!$C$5,3,IF(M157='Look-up Tables'!$C$6,2,IF(M157='Look-up Tables'!$C$7,1)))))","v":false},{"$f":"IFERROR(VLOOKUP(P157,'Look-up Tables'!$D$3:$E$127,2),\"\")","v":""},0,null,null,null,null,null,{"$f":"IF(U157='Look-up Tables'!$A$3,5,IF(U157='Look-up Tables'!$A$4,4,IF(U157='Look-up Tables'!$A$5,3,IF(U157='Look-up Tables'!$A$6,2,IF(U157='Look-up Tables'!$A$7,1)))))","v":false},null,{"$f":"IF(W157='Look-up Tables'!$B$3,5,IF(W157='Look-up Tables'!$B$4,4,IF(W157='Look-up Tables'!$B$5,3,IF(W157='Look-up Tables'!$B$6,2,IF(W157='Look-up Tables'!$B$7,1)))))","v":false},null,{"$f":"IF(Y157='Look-up Tables'!$C$3,5,IF(Y157='Look-up Tables'!$C$4,4,IF(Y157='Look-up Tables'!$C$5,3,IF(Y157='Look-up Tables'!$C$6,2,IF(Y157='Look-up Tables'!$C$7,1)))))","v":false},{"$f":"IFERROR(VLOOKUP(AB157,'Look-up Tables'!$D$3:$E$127,2),\"\")","v":""},0]
[null,null,null,null,null,null,{"$f":"IF(F158='Look-up Tables'!$A$3,5,IF(F158='Look-up Tables'!$A$4,4,IF(F158='Look-up Tables'!$A$5,3,IF(F158='Look-up Tables'!$A$6,2,IF(F158='Look-up Tables'!$A$7,1)))))","v":false},null,null,{"$f":"IF(I158='Look-up Tables'!$B$3,5,IF(I158='Look-up Tables'!$B$4,4,IF(I158='Look-up Tables'!$B$5,3,IF(I158='Look-up Tables'!$B$6,2,IF(I158='Look-up Tables'!$B$7,1)))))","v":false},null,null,null,{"$f":"IF(M158='Look-up Tables'!$C$3,5,IF(M158='Look-up Tables'!$C$4,4,IF(M158='Look-up Tables'!$C$5,3,IF(M158='Look-up Tables'!$C$6,2,IF(M158='Look-up Tables'!$C$7,1)))))","v":false},{"$f":"IFERROR(VLOOKUP(P158,'Look-up Tables'!$D$3:$E$127,2),\"\")","v":""},0,null,null,null,null,null,{"$f":"IF(U158='Look-up Tables'!$A$3,5,IF(U158='Look-up Tables'!$A$4,4,IF(U158='Look-up Tables'!$A$5,3,IF(U158='Look-up Tables'!$A$6,2,IF(U158='Look-up Tables'!$A$7,1)))))","v":false},null,{"$f":"IF(W158='Look-up Tables'!$B$3,5,IF(W158='Look-up Tables'!$B$4,4,IF(W158='Look-up Tables'!$B$5,3,IF(W158='Look-up Tables'!$B$6,2,IF(W158='Look-up Tables'!$B$7,1)))))","v":false},null,{"$f":"IF(Y158='Look-up Tables'!$C$3,5,IF(Y158='Look-up Tables'!$C$4,4,IF(Y158='Look-up Tables'!$C$5,3,IF(Y158='Look-up Tables'!$C$6,2,IF(Y158='Look-up Tables'!$C$7,1)))))","v":false},{"$f":"IFERROR(VLOOKUP(AB158,'Look-up Tables'!$D$3:$E$127,2),\"\")","v":""},0]
[null,null,null,null,null,null,{"$f":"IF(F159='Look-up Tables'!$A$3,5,IF(F159='Look-up Tables'!$A$4,4,IF(F159='Look-up Tables'!$A$5,3,IF(F159='Look-up Tables'!$A$6,2,IF(F159='Look-up Tables'!$A$7,1)))))","v":false},null,null,{"$f":"IF(I159='Look-up Tables'!$B$3,5,IF(I159='Look-up Tables'!$B$4,4,IF(I159='Look-up Tables'!$B$5,3,IF(I159='Look-up Tables'!$B$6,2,IF(I159='Look-up Tables'!$B$7,1)))))","v":false},null,null,null,{"$f":"IF(M159='Look-up Tables'!$C$3,5,IF(M159='Look-up Tables'!$C$4,4,IF(M159='Look-up Tables'!$C$5,3,IF(M159='Look-up Tables'!$C$6,2,IF(M159='Look-up Tables'!$C$7,1)))))","v":false},{"$f":"IFERROR(VLOOKUP(P159,'Look-up Tables'!$D$3:$E$127,2),\"\")","v":""},0,null,null,null,null,null,{"$f":"IF(U159='Look-up Tables'!$A$3,5,IF(U159='Look-up Tables'!$A$4,4,IF(U159='Look-up Tables'!$A$5,3,IF(U159='Look-up Tables'!$A$6,2,IF(U159='Look-up Tables'!$A$7,1)))))","v":false},null,{"$f":"IF(W159='Look-up Tables'!$B$3,5,IF(W159='Look-up Tables'!$B$4,4,IF(W159='Look-up Tables'!$B$5,3,IF(W159='Look-up Tables'!$B$6,2,IF(W159='Look-up Tables'!$B$7,1)))))","v":false},null,{"$f":"IF(Y159='Look-up Tables'!$C$3,5,IF(Y159='Look-up Tables'!$C$4,4,IF(Y159='Look-up Tables'!$C$5,3,IF(Y159='Look-up Tables'!$C$6,2,IF(Y159='Look-up Tables'!$C$7,1)))))","v":false},{"$f":"IFERROR(VLOOKUP(AB159,'Look-up Tables'!$D$3:$E$127,2),\"\")","v":""},0]
[null,null,null,null,null,null,{"$f":"IF(F160='Look-up Tables'!$A$3,5,IF(F160='Look-up Tables'!$A$4,4,IF(F160='Look-up Tables'!$A$5,3,IF(F160='Look-up Tables'!$A$6,2,IF(F160='Look-up Tables'!$A$7,1)))))","v":false},null,null,{"$f":"IF(I160='Look-up Tables'!$B$3,5,IF(I160='Look-up Tables'!$B$4,4,IF(I160='Look-up Tables'!$B$5,3,IF(I160='Look-up Tables'!$B$6,2,IF(I160='Look-up Tables'!$B$7,1)))))","v":false},null,null,null,{"$f":"IF(M160='Look-up Tables'!$C$3,5,IF(M160='Look-up Tables'!$C$4,4,IF(M160='Look-up Tables'!$C$5,3,IF(M160='Look-up Tables'!$C$6,2,IF(M160='Look-up Tables'!$C$7,1)))))","v":false},{"$f":"IFERROR(VLOOKUP(P160,'Look-up Tables'!$D$3:$E$127,2),\"\")","v":""},0,null,null,null,null,null,{"$f":"IF(U160='Look-up Tables'!$A$3,5,IF(U160='Look-up Tables'!$A$4,4,IF(U160='Look-up Tables'!$A$5,3,IF(U160='Look-up Tables'!$A$6,2,IF(U160='Look-up Tables'!$A$7,1)))))","v":false},null,{"$f":"IF(W160='Look-up Tables'!$B$3,5,IF(W160='Look-up Tables'!$B$4,4,IF(W160='Look-up Tables'!$B$5,3,IF(W160='Look-up Tables'!$B$6,2,IF(W160='Look-up Tables'!$B$7,1)))))","v":false},null,{"$f":"IF(Y160='Look-up Tables'!$C$3,5,IF(Y160='Look-up Tables'!$C$4,4,IF(Y160='Look-up Tables'!$C$5,3,IF(Y160='Look-up Tables'!$C$6,2,IF(Y160='Look-up Tables'!$C$7,1)))))","v":false},{"$f":"IFERROR(VLOOKUP(AB160,'Look-up Tables'!$D$3:$E$127,2),\"\")","v":""},0]
[null,null,null,null,null,null,{"$f":"IF(F161='Look-up Tables'!$A$3,5,IF(F161='Look-up Tables'!$A$4,4,IF(F161='Look-up Tables'!$A$5,3,IF(F161='Look-up Tables'!$A$6,2,IF(F161='Look-up Tables'!$A$7,1)))))","v":false},null,null,{"$f":"IF(I161='Look-up Tables'!$B$3,5,IF(I161='Look-up Tables'!$B$4,4,IF(I161='Look-up Tables'!$B$5,3,IF(I161='Look-up Tables'!$B$6,2,IF(I161='Look-up Tables'!$B$7,1)))))","v":false},null,null,null,{"$f":"IF(M161='Look-up Tables'!$C$3,5,IF(M161='Look-up Tables'!$C$4,4,IF(M161='Look-up Tables'!$C$5,3,IF(M161='Look-up Tables'!$C$6,2,IF(M161='Look-up Tables'!$C$7,1)))))","v":false},{"$f":"IFERROR(VLOOKUP(P161,'Look-up Tables'!$D$3:$E$127,2),\"\")","v":""},0,null,null,null,null,null,{"$f":"IF(U161='Look-up Tables'!$A$3,5,IF(U161='Look-up Tables'!$A$4,4,IF(U161='Look-up Tables'!$A$5,3,IF(U161='Look-up Tables'!$A$6,2,IF(U161='Look-up Tables'!$A$7,1)))))","v":false},null,{"$f":"IF(W161='Look-up Tables'!$B$3,5,IF(W161='Look-up Tables'!$B$4,4,IF(W161='Look-up Tables'!$B$5,3,IF(W161='Look-up Tables'!$B$6,2,IF(W161='Look-up Tables'!$B$7,1)))))","v":false},null,{"$f":"IF(Y161='Look-up Tables'!$C$3,5,IF(Y161='Look-up Tables'!$C$4,4,IF(Y161='Look-up Tables'!$C$5,3,IF(Y161='Look-up Tables'!$C$6,2,IF(Y161='Look-up Tables'!$C$7,1)))))","v":false},{"$f":"IFERROR(VLOOKUP(AB161,'Look-up Tables'!$D$3:$E$127,2),\"\")","v":""},0]
[null,null,null,null,null,null,{"$f":"IF(F162='Look-up Tables'!$A$3,5,IF(F162='Look-up Tables'!$A$4,4,IF(F162='Look-up Tables'!$A$5,3,IF(F162='Look-up Tables'!$A$6,2,IF(F162='Look-up Tables'!$A$7,1)))))","v":false},null,null,{"$f":"IF(I162='Look-up Tables'!$B$3,5,IF(I162='Look-up Tables'!$B$4,4,IF(I162='Look-up Tables'!$B$5,3,IF(I162='Look-up Tables'!$B$6,2,IF(I162='Look-up Tables'!$B$7,1)))))","v":false},null,null,null,{"$f":"IF(M162='Look-up Tables'!$C$3,5,IF(M162='Look-up Tables'!$C$4,4,IF(M162='Look-up Tables'!$C$5,3,IF(M162='Look-up Tables'!$C$6,2,IF(M162='Look-up Tables'!$C$7,1)))))","v":false},{"$f":"IFERROR(VLOOKUP(P162,'Look-up Tables'!$D$3:$E$127,2),\"\")","v":""},0,null,null,null,null,null,{"$f":"IF(U162='Look-up Tables'!$A$3,5,IF(U162='Look-up Tables'!$A$4,4,IF(U162='Look-up Tables'!$A$5,3,IF(U162='Look-up Tables'!$A$6,2,IF(U162='Look-up Tables'!$A$7,1)))))","v":false},null,{"$f":"IF(W162='Look-up Tables'!$B$3,5,IF(W162='Look-up Tables'!$B$4,4,IF(W162='Look-up Tables'!$B$5,3,IF(W162='Look-up Tables'!$B$6,2,IF(W162='Look-up Tables'!$B$7,1)))))","v":false},null,{"$f":"IF(Y162='Look-up Tables'!$C$3,5,IF(Y162='Look-up Tables'!$C$4,4,IF(Y162='Look-up Tables'!$C$5,3,IF(Y162='Look-up Tables'!$C$6,2,IF(Y162='Look-up Tables'!$C$7,1)))))","v":false},{"$f":"IFERROR(VLOOKUP(AB162,'Look-up Tables'!$D$3:$E$127,2),\"\")","v":""},0]
[null,null,null,null,null,null,{"$f":"IF(F163='Look-up Tables'!$A$3,5,IF(F163='Look-up Tables'!$A$4,4,IF(F163='Look-up Tables'!$A$5,3,IF(F163='Look-up Tables'!$A$6,2,IF(F163='Look-up Tables'!$A$7,1)))))","v":false},null,null,{"$f":"IF(I163='Look-up Tables'!$B$3,5,IF(I163='Look-up Tables'!$B$4,4,IF(I163='Look-up Tables'!$B$5,3,IF(I163='Look-up Tables'!$B$6,2,IF(I163='Look-up Tables'!$B$7,1)))))","v":false},null,null,null,{"$f":"IF(M163='Look-up Tables'!$C$3,5,IF(M163='Look-up Tables'!$C$4,4,IF(M163='Look-up Tables'!$C$5,3,IF(M163='Look-up Tables'!$C$6,2,IF(M163='Look-up Tables'!$C$7,1)))))","v":false},{"$f":"IFERROR(VLOOKUP(P163,'Look-up Tables'!$D$3:$E$127,2),\"\")","v":""},0,null,null,null,null,null,{"$f":"IF(U163='Look-up Tables'!$A$3,5,IF(U163='Look-up Tables'!$A$4,4,IF(U163='Look-up Tables'!$A$5,3,IF(U163='Look-up Tables'!$A$6,2,IF(U163='Look-up Tables'!$A$7,1)))))","v":false},null,{"$f":"IF(W163='Look-up Tables'!$B$3,5,IF(W163='Look-up Tables'!$B$4,4,IF(W163='Look-up Tables'!$B$5,3,IF(W163='Look-up Tables'!$B$6,2,IF(W163='Look-up Tables'!$B$7,1)))))","v":false},null,{"$f":"IF(Y163='Look-up Tables'!$C$3,5,IF(Y163='Look-up Tables'!$C$4,4,IF(Y163='Look-up Tables'!$C$5,3,IF(Y163='Look-up Tables'!$C$6,2,IF(Y163='Look-up Tables'!$C$7,1)))))","v":false},{"$f":"IFERROR(VLOOKUP(AB163,'Look-up Tables'!$D$3:$E$127,2),\"\")","v":""},0]
[null,null,null,null,null,null,{"$f":"IF(F164='Look-up Tables'!$A$3,5,IF(F164='Look-up Tables'!$A$4,4,IF(F164='Look-up Tables'!$A$5,3,IF(F164='Look-up Tables'!$A$6,2,IF(F164='Look-up Tables'!$A$7,1)))))","v":false},null,null,{"$f":"IF(I164='Look-up Tables'!$B$3,5,IF(I164='Look-up Tables'!$B$4,4,IF(I164='Look-up Tables'!$B$5,3,IF(I164='Look-up Tables'!$B$6,2,IF(I164='Look-up Tables'!$B$7,1)))))","v":false},null,null,null,{"$f":"IF(M164='Look-up Tables'!$C$3,5,IF(M164='Look-up Tables'!$C$4,4,IF(M164='Look-up Tables'!$C$5,3,IF(M164='Look-up Tables'!$C$6,2,IF(M164='Look-up Tables'!$C$7,1)))))","v":false},{"$f":"IFERROR(VLOOKUP(P164,'Look-up Tables'!$D$3:$E$127,2),\"\")","v":""},0,null,null,null,null,null,{"$f":"IF(U164='Look-up Tables'!$A$3,5,IF(U164='Look-up Tables'!$A$4,4,IF(U164='Look-up Tables'!$A$5,3,IF(U164='Look-up Tables'!$A$6,2,IF(U164='Look-up Tables'!$A$7,1)))))","v":false},null,{"$f":"IF(W164='Look-up Tables'!$B$3,5,IF(W164='Look-up Tables'!$B$4,4,IF(W164='Look-up Tables'!$B$5,3,IF(W164='Look-up Tables'!$B$6,2,IF(W164='Look-up Tables'!$B$7,1)))))","v":false},null,{"$f":"IF(Y164='Look-up Tables'!$C$3,5,IF(Y164='Look-up Tables'!$C$4,4,IF(Y164='Look-up Tables'!$C$5,3,IF(Y164='Look-up Tables'!$C$6,2,IF(Y164='Look-up Tables'!$C$7,1)))))","v":false},{"$f":"IFERROR(VLOOKUP(AB164,'Look-up Tables'!$D$3:$E$127,2),\"\")","v":""},0]
[null,null,null,null,null,null,{"$f":"IF(F165='Look-up Tables'!$A$3,5,IF(F165='Look-up Tables'!$A$4,4,IF(F165='Look-up Tables'!$A$5,3,IF(F165='Look-up Tables'!$A$6,2,IF(F165='Look-up Tables'!$A$7,1)))))","v":false},null,null,{"$f":"IF(I165='Look-up Tables'!$B$3,5,IF(I165='Look-up Tables'!$B$4,4,IF(I165='Look-up Tables'!$B$5,3,IF(I165='Look-up Tables'!$B$6,2,IF(I165='Look-up Tables'!$B$7,1)))))","v":false},null,null,null,{"$f":"IF(M165='Look-up Tables'!$C$3,5,IF(M165='Look-up Tables'!$C$4,4,IF(M165='Look-up Tables'!$C$5,3,IF(M165='Look-up Tables'!$C$6,2,IF(M165='Look-up Tables'!$C$7,1)))))","v":false},{"$f":"IFERROR(VLOOKUP(P165,'Look-up Tables'!$D$3:$E$127,2),\"\")","v":""},0,null,null,null,null,null,{"$f":"IF(U165='Look-up Tables'!$A$3,5,IF(U165='Look-up Tables'!$A$4,4,IF(U165='Look-up Tables'!$A$5,3,IF(U165='Look-up Tables'!$A$6,2,IF(U165='Look-up Tables'!$A$7,1)))))","v":false},null,{"$f":"IF(W165='Look-up Tables'!$B$3,5,IF(W165='Look-up Tables'!$B$4,4,IF(W165='Look-up Tables'!$B$5,3,IF(W165='Look-up Tables'!$B$6,2,IF(W165='Look-up Tables'!$B$7,1)))))","v":false},null,{"$f":"IF(Y165='Look-up Tables'!$C$3,5,IF(Y165='Look-up Tables'!$C$4,4,IF(Y165='Look-up Tables'!$C$5,3,IF(Y165='Look-up Tables'!$C$6,2,IF(Y165='Look-up Tables'!$C$7,1)))))","v":false},{"$f":"IFERROR(VLOOKUP(AB165,'Look-up Tables'!$D$3:$E$127,2),\"\")","v":""},0]
[null,null,null,null,null,null,{"$f":"IF(F166='Look-up Tables'!$A$3,5,IF(F166='Look-up Tables'!$A$4,4,IF(F166='Look-up Tables'!$A$5,3,IF(F166='Look-up Tables'!$A$6,2,IF(F166='Look-up Tables'!$A$7,1)))))","v":false},null,null,{"$f":"IF(I166='Look-up Tables'!$B$3,5,IF(I166='Look-up Tables'!$B$4,4,IF(I166='Look-up Tables'!$B$5,3,IF(I166='Look-up Tables'!$B$6,2,IF(I166='Look-up Tables'!$B$7,1)))))","v":false},null,null,null,{"$f":"IF(M166='Look-up Tables'!$C$3,5,IF(M166='Look-up Tables'!$C$4,4,IF(M166='Look-up Tables'!$C$5,3,IF(M166='Look-up Tables'!$C$6,2,IF(M166='Look-up Tables'!$C$7,1)))))","v":false},{"$f":"IFERROR(VLOOKUP(P166,'Look-up Tables'!$D$3:$E$127,2),\"\")","v":""},0,null,null,null,null,null,{"$f":"IF(U166='Look-up Tables'!$A$3,5,IF(U166='Look-up Tables'!$A$4,4,IF(U166='Look-up Tables'!$A$5,3,IF(U166='Look-up Tables'!$A$6,2,IF(U166='Look-up Tables'!$A$7,1)))))","v":false},null,{"$f":"IF(W166='Look-up Tables'!$B$3,5,IF(W166='Look-up Tables'!$B$4,4,IF(W166='Look-up Tables'!$B$5,3,IF(W166='Look-up Tables'!$B$6,2,IF(W166='Look-up Tables'!$B$7,1)))))","v":false},null,{"$f":"IF(Y166='Look-up Tables'!$C$3,5,IF(Y166='Look-up Tables'!$C$4,4,IF(Y166='Look-up Tables'!$C$5,3,IF(Y166='Look-up Tables'!$C$6,2,IF(Y166='Look-up Tables'!$C$7,1)))))","v":false},{"$f":"IFERROR(VLOOKUP(AB166,'Look-up Tables'!$D$3:$E$127,2),\"\")","v":""},0]
[null,null,null,null,null,null,{"$f":"IF(F167='Look-up Tables'!$A$3,5,IF(F167='Look-up Tables'!$A$4,4,IF(F167='Look-up Tables'!$A$5,3,IF(F167='Look-up Tables'!$A$6,2,IF(F167='Look-up Tables'!$A$7,1)))))","v":false},null,null,{"$f":"IF(I167='Look-up Tables'!$B$3,5,IF(I167='Look-up Tables'!$B$4,4,IF(I167='Look-up Tables'!$B$5,3,IF(I167='Look-up Tables'!$B$6,2,IF(I167='Look-up Tables'!$B$7,1)))))","v":false},null,null,null,{"$f":"IF(M167='Look-up Tables'!$C$3,5,IF(M167='Look-up Tables'!$C$4,4,IF(M167='Look-up Tables'!$C$5,3,IF(M167='Look-up Tables'!$C$6,2,IF(M167='Look-up Tables'!$C$7,1)))))","v":false},{"$f":"IFERROR(VLOOKUP(P167,'Look-up Tables'!$D$3:$E$127,2),\"\")","v":""},0,null,null,null,null,null,{"$f":"IF(U167='Look-up Tables'!$A$3,5,IF(U167='Look-up Tables'!$A$4,4,IF(U167='Look-up Tables'!$A$5,3,IF(U167='Look-up Tables'!$A$6,2,IF(U167='Look-up Tables'!$A$7,1)))))","v":false},null,{"$f":"IF(W167='Look-up Tables'!$B$3,5,IF(W167='Look-up Tables'!$B$4,4,IF(W167='Look-up Tables'!$B$5,3,IF(W167='Look-up Tables'!$B$6,2,IF(W167='Look-up Tables'!$B$7,1)))))","v":false},null,{"$f":"IF(Y167='Look-up Tables'!$C$3,5,IF(Y167='Look-up Tables'!$C$4,4,IF(Y167='Look-up Tables'!$C$5,3,IF(Y167='Look-up Tables'!$C$6,2,IF(Y167='Look-up Tables'!$C$7,1)))))","v":false},{"$f":"IFERROR(VLOOKUP(AB167,'Look-up Tables'!$D$3:$E$127,2),\"\")","v":""},0]
[null,null,null,null,null,null,{"$f":"IF(F168='Look-up Tables'!$A$3,5,IF(F168='Look-up Tables'!$A$4,4,IF(F168='Look-up Tables'!$A$5,3,IF(F168='Look-up Tables'!$A$6,2,IF(F168='Look-up Tables'!$A$7,1)))))","v":false},null,null,{"$f":"IF(I168='Look-up Tables'!$B$3,5,IF(I168='Look-up Tables'!$B$4,4,IF(I168='Look-up Tables'!$B$5,3,IF(I168='Look-up Tables'!$B$6,2,IF(I168='Look-up Tables'!$B$7,1)))))","v":false},null,null,null,{"$f":"IF(M168='Look-up Tables'!$C$3,5,IF(M168='Look-up Tables'!$C$4,4,IF(M168='Look-up Tables'!$C$5,3,IF(M168='Look-up Tables'!$C$6,2,IF(M168='Look-up Tables'!$C$7,1)))))","v":false},{"$f":"IFERROR(VLOOKUP(P168,'Look-up Tables'!$D$3:$E$127,2),\"\")","v":""},0,null,null,null,null,null,{"$f":"IF(U168='Look-up Tables'!$A$3,5,IF(U168='Look-up Tables'!$A$4,4,IF(U168='Look-up Tables'!$A$5,3,IF(U168='Look-up Tables'!$A$6,2,IF(U168='Look-up Tables'!$A$7,1)))))","v":false},null,{"$f":"IF(W168='Look-up Tables'!$B$3,5,IF(W168='Look-up Tables'!$B$4,4,IF(W168='Look-up Tables'!$B$5,3,IF(W168='Look-up Tables'!$B$6,2,IF(W168='Look-up Tables'!$B$7,1)))))","v":false},null,{"$f":"IF(Y168='Look-up Tables'!$C$3,5,IF(Y168='Look-up Tables'!$C$4,4,IF(Y168='Look-up Tables'!$C$5,3,IF(Y168='Look-up Tables'!$C$6,2,IF(Y168='Look-up Tables'!$C$7,1)))))","v":false},{"$f":"IFERROR(VLOOKUP(AB168,'Look-up Tables'!$D$3:$E$127,2),\"\")","v":""},0]
[null,null,null,null,null,null,{"$f":"IF(F169='Look-up Tables'!$A$3,5,IF(F169='Look-up Tables'!$A$4,4,IF(F169='Look-up Tables'!$A$5,3,IF(F169='Look-up Tables'!$A$6,2,IF(F169='Look-up Tables'!$A$7,1)))))","v":false},null,null,{"$f":"IF(I169='Look-up Tables'!$B$3,5,IF(I169='Look-up Tables'!$B$4,4,IF(I169='Look-up Tables'!$B$5,3,IF(I169='Look-up Tables'!$B$6,2,IF(I169='Look-up Tables'!$B$7,1)))))","v":false},null,null,null,{"$f":"IF(M169='Look-up Tables'!$C$3,5,IF(M169='Look-up Tables'!$C$4,4,IF(M169='Look-up Tables'!$C$5,3,IF(M169='Look-up Tables'!$C$6,2,IF(M169='Look-up Tables'!$C$7,1)))))","v":false},{"$f":"IFERROR(VLOOKUP(P169,'Look-up Tables'!$D$3:$E$127,2),\"\")","v":""},0,null,null,null,null,null,{"$f":"IF(U169='Look-up Tables'!$A$3,5,IF(U169='Look-up Tables'!$A$4,4,IF(U169='Look-up Tables'!$A$5,3,IF(U169='Look-up Tables'!$A$6,2,IF(U169='Look-up Tables'!$A$7,1)))))","v":false},null,{"$f":"IF(W169='Look-up Tables'!$B$3,5,IF(W169='Look-up Tables'!$B$4,4,IF(W169='Look-up Tables'!$B$5,3,IF(W169='Look-up Tables'!$B$6,2,IF(W169='Look-up Tables'!$B$7,1)))))","v":false},null,{"$f":"IF(Y169='Look-up Tables'!$C$3,5,IF(Y169='Look-up Tables'!$C$4,4,IF(Y169='Look-up Tables'!$C$5,3,IF(Y169='Look-up Tables'!$C$6,2,IF(Y169='Look-up Tables'!$C$7,1)))))","v":false},{"$f":"IFERROR(VLOOKUP(AB169,'Look-up Tables'!$D$3:$E$127,2),\"\")","v":""},0]
[null,null,null,null,null,null,{"$f":"IF(F170='Look-up Tables'!$A$3,5,IF(F170='Look-up Tables'!$A$4,4,IF(F170='Look-up Tables'!$A$5,3,IF(F170='Look-up Tables'!$A$6,2,IF(F170='Look-up Tables'!$A$7,1)))))","v":false},null,null,{"$f":"IF(I170='Look-up Tables'!$B$3,5,IF(I170='Look-up Tables'!$B$4,4,IF(I170='Look-up Tables'!$B$5,3,IF(I170='Look-up Tables'!$B$6,2,IF(I170='Look-up Tables'!$B$7,1)))))","v":false},null,null,null,{"$f":"IF(M170='Look-up Tables'!$C$3,5,IF(M170='Look-up Tables'!$C$4,4,IF(M170='Look-up Tables'!$C$5,3,IF(M170='Look-up Tables'!$C$6,2,IF(M170='Look-up Tables'!$C$7,1)))))","v":false},{"$f":"IFERROR(VLOOKUP(P170,'Look-up Tables'!$D$3:$E$127,2),\"\")","v":""},0,null,null,null,null,null,{"$f":"IF(U170='Look-up Tables'!$A$3,5,IF(U170='Look-up Tables'!$A$4,4,IF(U170='Look-up Tables'!$A$5,3,IF(U170='Look-up Tables'!$A$6,2,IF(U170='Look-up Tables'!$A$7,1)))))","v":false},null,{"$f":"IF(W170='Look-up Tables'!$B$3,5,IF(W170='Look-up Tables'!$B$4,4,IF(W170='Look-up Tables'!$B$5,3,IF(W170='Look-up Tables'!$B$6,2,IF(W170='Look-up Tables'!$B$7,1)))))","v":false},null,{"$f":"IF(Y170='Look-up Tables'!$C$3,5,IF(Y170='Look-up Tables'!$C$4,4,IF(Y170='Look-up Tables'!$C$5,3,IF(Y170='Look-up Tables'!$C$6,2,IF(Y170='Look-up Tables'!$C$7,1)))))","v":false},{"$f":"IFERROR(VLOOKUP(AB170,'Look-up Tables'!$D$3:$E$127,2),\"\")","v":""},0]
[null,null,null,null,null,null,{"$f":"IF(F171='Look-up Tables'!$A$3,5,IF(F171='Look-up Tables'!$A$4,4,IF(F171='Look-up Tables'!$A$5,3,IF(F171='Look-up Tables'!$A$6,2,IF(F171='Look-up Tables'!$A$7,1)))))","v":false},null,null,{"$f":"IF(I171='Look-up Tables'!$B$3,5,IF(I171='Look-up Tables'!$B$4,4,IF(I171='Look-up Tables'!$B$5,3,IF(I171='Look-up Tables'!$B$6,2,IF(I171='Look-up Tables'!$B$7,1)))))","v":false},null,null,null,{"$f":"IF(M171='Look-up Tables'!$C$3,5,IF(M171='Look-up Tables'!$C$4,4,IF(M171='Look-up Tables'!$C$5,3,IF(M171='Look-up Tables'!$C$6,2,IF(M171='Look-up Tables'!$C$7,1)))))","v":false},{"$f":"IFERROR(VLOOKUP(P171,'Look-up Tables'!$D$3:$E$127,2),\"\")","v":""},0,null,null,null,null,null,{"$f":"IF(U171='Look-up Tables'!$A$3,5,IF(U171='Look-up Tables'!$A$4,4,IF(U171='Look-up Tables'!$A$5,3,IF(U171='Look-up Tables'!$A$6,2,IF(U171='Look-up Tables'!$A$7,1)))))","v":false},null,{"$f":"IF(W171='Look-up Tables'!$B$3,5,IF(W171='Look-up Tables'!$B$4,4,IF(W171='Look-up Tables'!$B$5,3,IF(W171='Look-up Tables'!$B$6,2,IF(W171='Look-up Tables'!$B$7,1)))))","v":false},null,{"$f":"IF(Y171='Look-up Tables'!$C$3,5,IF(Y171='Look-up Tables'!$C$4,4,IF(Y171='Look-up Tables'!$C$5,3,IF(Y171='Look-up Tables'!$C$6,2,IF(Y171='Look-up Tables'!$C$7,1)))))","v":false},{"$f":"IFERROR(VLOOKUP(AB171,'Look-up Tables'!$D$3:$E$127,2),\"\")","v":""},0]
[null,null,null,null,null,null,{"$f":"IF(F172='Look-up Tables'!$A$3,5,IF(F172='Look-up Tables'!$A$4,4,IF(F172='Look-up Tables'!$A$5,3,IF(F172='Look-up Tables'!$A$6,2,IF(F172='Look-up Tables'!$A$7,1)))))","v":false},null,null,{"$f":"IF(I172='Look-up Tables'!$B$3,5,IF(I172='Look-up Tables'!$B$4,4,IF(I172='Look-up Tables'!$B$5,3,IF(I172='Look-up Tables'!$B$6,2,IF(I172='Look-up Tables'!$B$7,1)))))","v":false},null,null,null,{"$f":"IF(M172='Look-up Tables'!$C$3,5,IF(M172='Look-up Tables'!$C$4,4,IF(M172='Look-up Tables'!$C$5,3,IF(M172='Look-up Tables'!$C$6,2,IF(M172='Look-up Tables'!$C$7,1)))))","v":false},{"$f":"IFERROR(VLOOKUP(P172,'Look-up Tables'!$D$3:$E$127,2),\"\")","v":""},0,null,null,null,null,null,{"$f":"IF(U172='Look-up Tables'!$A$3,5,IF(U172='Look-up Tables'!$A$4,4,IF(U172='Look-up Tables'!$A$5,3,IF(U172='Look-up Tables'!$A$6,2,IF(U172='Look-up Tables'!$A$7,1)))))","v":false},null,{"$f":"IF(W172='Look-up Tables'!$B$3,5,IF(W172='Look-up Tables'!$B$4,4,IF(W172='Look-up Tables'!$B$5,3,IF(W172='Look-up Tables'!$B$6,2,IF(W172='Look-up Tables'!$B$7,1)))))","v":false},null,{"$f":"IF(Y172='Look-up Tables'!$C$3,5,IF(Y172='Look-up Tables'!$C$4,4,IF(Y172='Look-up Tables'!$C$5,3,IF(Y172='Look-up Tables'!$C$6,2,IF(Y172='Look-up Tables'!$C$7,1)))))","v":false},{"$f":"IFERROR(VLOOKUP(AB172,'Look-up Tables'!$D$3:$E$127,2),\"\")","v":""},0]
[null,null,null,null,null,null,{"$f":"IF(F173='Look-up Tables'!$A$3,5,IF(F173='Look-up Tables'!$A$4,4,IF(F173='Look-up Tables'!$A$5,3,IF(F173='Look-up Tables'!$A$6,2,IF(F173='Look-up Tables'!$A$7,1)))))","v":false},null,null,{"$f":"IF(I173='Look-up Tables'!$B$3,5,IF(I173='Look-up Tables'!$B$4,4,IF(I173='Look-up Tables'!$B$5,3,IF(I173='Look-up Tables'!$B$6,2,IF(I173='Look-up Tables'!$B$7,1)))))","v":false},null,null,null,{"$f":"IF(M173='Look-up Tables'!$C$3,5,IF(M173='Look-up Tables'!$C$4,4,IF(M173='Look-up Tables'!$C$5,3,IF(M173='Look-up Tables'!$C$6,2,IF(M173='Look-up Tables'!$C$7,1)))))","v":false},{"$f":"IFERROR(VLOOKUP(P173,'Look-up Tables'!$D$3:$E$127,2),\"\")","v":""},0,null,null,null,null,null,{"$f":"IF(U173='Look-up Tables'!$A$3,5,IF(U173='Look-up Tables'!$A$4,4,IF(U173='Look-up Tables'!$A$5,3,IF(U173='Look-up Tables'!$A$6,2,IF(U173='Look-up Tables'!$A$7,1)))))","v":false},null,{"$f":"IF(W173='Look-up Tables'!$B$3,5,IF(W173='Look-up Tables'!$B$4,4,IF(W173='Look-up Tables'!$B$5,3,IF(W173='Look-up Tables'!$B$6,2,IF(W173='Look-up Tables'!$B$7,1)))))","v":false},null,{"$f":"IF(Y173='Look-up Tables'!$C$3,5,IF(Y173='Look-up Tables'!$C$4,4,IF(Y173='Look-up Tables'!$C$5,3,IF(Y173='Look-up Tables'!$C$6,2,IF(Y173='Look-up Tables'!$C$7,1)))))","v":false},{"$f":"IFERROR(VLOOKUP(AB173,'Look-up Tables'!$D$3:$E$127,2),\"\")","v":""},0]
[null,null,null,null,null,null,{"$f":"IF(F174='Look-up Tables'!$A$3,5,IF(F174='Look-up Tables'!$A$4,4,IF(F174='Look-up Tables'!$A$5,3,IF(F174='Look-up Tables'!$A$6,2,IF(F174='Look-up Tables'!$A$7,1)))))","v":false},null,null,{"$f":"IF(I174='Look-up Tables'!$B$3,5,IF(I174='Look-up Tables'!$B$4,4,IF(I174='Look-up Tables'!$B$5,3,IF(I174='Look-up Tables'!$B$6,2,IF(I174='Look-up Tables'!$B$7,1)))))","v":false},null,null,null,{"$f":"IF(M174='Look-up Tables'!$C$3,5,IF(M174='Look-up Tables'!$C$4,4,IF(M174='Look-up Tables'!$C$5,3,IF(M174='Look-up Tables'!$C$6,2,IF(M174='Look-up Tables'!$C$7,1)))))","v":false},{"$f":"IFERROR(VLOOKUP(P174,'Look-up Tables'!$D$3:$E$127,2),\"\")","v":""},0,null,null,null,null,null,{"$f":"IF(U174='Look-up Tables'!$A$3,5,IF(U174='Look-up Tables'!$A$4,4,IF(U174='Look-up Tables'!$A$5,3,IF(U174='Look-up Tables'!$A$6,2,IF(U174='Look-up Tables'!$A$7,1)))))","v":false},null,{"$f":"IF(W174='Look-up Tables'!$B$3,5,IF(W174='Look-up Tables'!$B$4,4,IF(W174='Look-up Tables'!$B$5,3,IF(W174='Look-up Tables'!$B$6,2,IF(W174='Look-up Tables'!$B$7,1)))))","v":false},null,{"$f":"IF(Y174='Look-up Tables'!$C$3,5,IF(Y174='Look-up Tables'!$C$4,4,IF(Y174='Look-up Tables'!$C$5,3,IF(Y174='Look-up Tables'!$C$6,2,IF(Y174='Look-up Tables'!$C$7,1)))))","v":false},{"$f":"IFERROR(VLOOKUP(AB174,'Look-up Tables'!$D$3:$E$127,2),\"\")","v":""},0]
[null,null,null,null,null,null,{"$f":"IF(F175='Look-up Tables'!$A$3,5,IF(F175='Look-up Tables'!$A$4,4,IF(F175='Look-up Tables'!$A$5,3,IF(F175='Look-up Tables'!$A$6,2,IF(F175='Look-up Tables'!$A$7,1)))))","v":false},null,null,{"$f":"IF(I175='Look-up Tables'!$B$3,5,IF(I175='Look-up Tables'!$B$4,4,IF(I175='Look-up Tables'!$B$5,3,IF(I175='Look-up Tables'!$B$6,2,IF(I175='Look-up Tables'!$B$7,1)))))","v":false},null,null,null,{"$f":"IF(M175='Look-up Tables'!$C$3,5,IF(M175='Look-up Tables'!$C$4,4,IF(M175='Look-up Tables'!$C$5,3,IF(M175='Look-up Tables'!$C$6,2,IF(M175='Look-up Tables'!$C$7,1)))))","v":false},{"$f":"IFERROR(VLOOKUP(P175,'Look-up Tables'!$D$3:$E$127,2),\"\")","v":""},0,null,null,null,null,null,{"$f":"IF(U175='Look-up Tables'!$A$3,5,IF(U175='Look-up Tables'!$A$4,4,IF(U175='Look-up Tables'!$A$5,3,IF(U175='Look-up Tables'!$A$6,2,IF(U175='Look-up Tables'!$A$7,1)))))","v":false},null,{"$f":"IF(W175='Look-up Tables'!$B$3,5,IF(W175='Look-up Tables'!$B$4,4,IF(W175='Look-up Tables'!$B$5,3,IF(W175='Look-up Tables'!$B$6,2,IF(W175='Look-up Tables'!$B$7,1)))))","v":false},null,{"$f":"IF(Y175='Look-up Tables'!$C$3,5,IF(Y175='Look-up Tables'!$C$4,4,IF(Y175='Look-up Tables'!$C$5,3,IF(Y175='Look-up Tables'!$C$6,2,IF(Y175='Look-up Tables'!$C$7,1)))))","v":false},{"$f":"IFERROR(VLOOKUP(AB175,'Look-up Tables'!$D$3:$E$127,2),\"\")","v":""},0]
[null,null,null,null,null,null,{"$f":"IF(F176='Look-up Tables'!$A$3,5,IF(F176='Look-up Tables'!$A$4,4,IF(F176='Look-up Tables'!$A$5,3,IF(F176='Look-up Tables'!$A$6,2,IF(F176='Look-up Tables'!$A$7,1)))))","v":false},null,null,{"$f":"IF(I176='Look-up Tables'!$B$3,5,IF(I176='Look-up Tables'!$B$4,4,IF(I176='Look-up Tables'!$B$5,3,IF(I176='Look-up Tables'!$B$6,2,IF(I176='Look-up Tables'!$B$7,1)))))","v":false},null,null,null,{"$f":"IF(M176='Look-up Tables'!$C$3,5,IF(M176='Look-up Tables'!$C$4,4,IF(M176='Look-up Tables'!$C$5,3,IF(M176='Look-up Tables'!$C$6,2,IF(M176='Look-up Tables'!$C$7,1)))))","v":false},{"$f":"IFERROR(VLOOKUP(P176,'Look-up Tables'!$D$3:$E$127,2),\"\")","v":""},0,null,null,null,null,null,{"$f":"IF(U176='Look-up Tables'!$A$3,5,IF(U176='Look-up Tables'!$A$4,4,IF(U176='Look-up Tables'!$A$5,3,IF(U176='Look-up Tables'!$A$6,2,IF(U176='Look-up Tables'!$A$7,1)))))","v":false},null,{"$f":"IF(W176='Look-up Tables'!$B$3,5,IF(W176='Look-up Tables'!$B$4,4,IF(W176='Look-up Tables'!$B$5,3,IF(W176='Look-up Tables'!$B$6,2,IF(W176='Look-up Tables'!$B$7,1)))))","v":false},null,{"$f":"IF(Y176='Look-up Tables'!$C$3,5,IF(Y176='Look-up Tables'!$C$4,4,IF(Y176='Look-up Tables'!$C$5,3,IF(Y176='Look-up Tables'!$C$6,2,IF(Y176='Look-up Tables'!$C$7,1)))))","v":false},{"$f":"IFERROR(VLOOKUP(AB176,'Look-up Tables'!$D$3:$E$127,2),\"\")","v":""},0]
[null,null,null,null,null,null,{"$f":"IF(F177='Look-up Tables'!$A$3,5,IF(F177='Look-up Tables'!$A$4,4,IF(F177='Look-up Tables'!$A$5,3,IF(F177='Look-up Tables'!$A$6,2,IF(F177='Look-up Tables'!$A$7,1)))))","v":false},null,null,{"$f":"IF(I177='Look-up Tables'!$B$3,5,IF(I177='Look-up Tables'!$B$4,4,IF(I177='Look-up Tables'!$B$5,3,IF(I177='Look-up Tables'!$B$6,2,IF(I177='Look-up Tables'!$B$7,1)))))","v":false},null,null,null,{"$f":"IF(M177='Look-up Tables'!$C$3,5,IF(M177='Look-up Tables'!$C$4,4,IF(M177='Look-up Tables'!$C$5,3,IF(M177='Look-up Tables'!$C$6,2,IF(M177='Look-up Tables'!$C$7,1)))))","v":false},{"$f":"IFERROR(VLOOKUP(P177,'Look-up Tables'!$D$3:$E$127,2),\"\")","v":""},0,null,null,null,null,null,{"$f":"IF(U177='Look-up Tables'!$A$3,5,IF(U177='Look-up Tables'!$A$4,4,IF(U177='Look-up Tables'!$A$5,3,IF(U177='Look-up Tables'!$A$6,2,IF(U177='Look-up Tables'!$A$7,1)))))","v":false},null,{"$f":"IF(W177='Look-up Tables'!$B$3,5,IF(W177='Look-up Tables'!$B$4,4,IF(W177='Look-up Tables'!$B$5,3,IF(W177='Look-up Tables'!$B$6,2,IF(W177='Look-up Tables'!$B$7,1)))))","v":false},null,{"$f":"IF(Y177='Look-up Tables'!$C$3,5,IF(Y177='Look-up Tables'!$C$4,4,IF(Y177='Look-up Tables'!$C$5,3,IF(Y177='Look-up Tables'!$C$6,2,IF(Y177='Look-up Tables'!$C$7,1)))))","v":false},{"$f":"IFERROR(VLOOKUP(AB177,'Look-up Tables'!$D$3:$E$127,2),\"\")","v":""},0]
[null,null,null,null,null,null,{"$f":"IF(F178='Look-up Tables'!$A$3,5,IF(F178='Look-up Tables'!$A$4,4,IF(F178='Look-up Tables'!$A$5,3,IF(F178='Look-up Tables'!$A$6,2,IF(F178='Look-up Tables'!$A$7,1)))))","v":false},null,null,{"$f":"IF(I178='Look-up Tables'!$B$3,5,IF(I178='Look-up Tables'!$B$4,4,IF(I178='Look-up Tables'!$B$5,3,IF(I178='Look-up Tables'!$B$6,2,IF(I178='Look-up Tables'!$B$7,1)))))","v":false},null,null,null,{"$f":"IF(M178='Look-up Tables'!$C$3,5,IF(M178='Look-up Tables'!$C$4,4,IF(M178='Look-up Tables'!$C$5,3,IF(M178='Look-up Tables'!$C$6,2,IF(M178='Look-up Tables'!$C$7,1)))))","v":false},{"$f":"IFERROR(VLOOKUP(P178,'Look-up Tables'!$D$3:$E$127,2),\"\")","v":""},0,null,null,null,null,null,{"$f":"IF(U178='Look-up Tables'!$A$3,5,IF(U178='Look-up Tables'!$A$4,4,IF(U178='Look-up Tables'!$A$5,3,IF(U178='Look-up Tables'!$A$6,2,IF(U178='Look-up Tables'!$A$7,1)))))","v":false},null,{"$f":"IF(W178='Look-up Tables'!$B$3,5,IF(W178='Look-up Tables'!$B$4,4,IF(W178='Look-up Tables'!$B$5,3,IF(W178='Look-up Tables'!$B$6,2,IF(W178='Look-up Tables'!$B$7,1)))))","v":false},null,{"$f":"IF(Y178='Look-up Tables'!$C$3,5,IF(Y178='Look-up Tables'!$C$4,4,IF(Y178='Look-up Tables'!$C$5,3,IF(Y178='Look-up Tables'!$C$6,2,IF(Y178='Look-up Tables'!$C$7,1)))))","v":false},{"$f":"IFERROR(VLOOKUP(AB178,'Look-up Tables'!$D$3:$E$127,2),\"\")","v":""},0]
[null,null,null,null,null,null,{"$f":"IF(F179='Look-up Tables'!$A$3,5,IF(F179='Look-up Tables'!$A$4,4,IF(F179='Look-up Tables'!$A$5,3,IF(F179='Look-up Tables'!$A$6,2,IF(F179='Look-up Tables'!$A$7,1)))))","v":false},null,null,{"$f":"IF(I179='Look-up Tables'!$B$3,5,IF(I179='Look-up Tables'!$B$4,4,IF(I179='Look-up Tables'!$B$5,3,IF(I179='Look-up Tables'!$B$6,2,IF(I179='Look-up Tables'!$B$7,1)))))","v":false},null,null,null,{"$f":"IF(M179='Look-up Tables'!$C$3,5,IF(M179='Look-up Tables'!$C$4,4,IF(M179='Look-up Tables'!$C$5,3,IF(M179='Look-up Tables'!$C$6,2,IF(M179='Look-up Tables'!$C$7,1)))))","v":false},{"$f":"IFERROR(VLOOKUP(P179,'Look-up Tables'!$D$3:$E$127,2),\"\")","v":""},{"$f":"G179*J179*N179","v":0},null,null,null,null,null,{"$f":"IF(U179='Look-up Tables'!$A$3,5,IF(U179='Look-up Tables'!$A$4,4,IF(U179='Look-up Tables'!$A$5,3,IF(U179='Look-up Tables'!$A$6,2,IF(U179='Look-up Tables'!$A$7,1)))))","v":false},null,{"$f":"IF(W179='Look-up Tables'!$B$3,5,IF(W179='Look-up Tables'!$B$4,4,IF(W179='Look-up Tables'!$B$5,3,IF(W179='Look-up Tables'!$B$6,2,IF(W179='Look-up Tables'!$B$7,1)))))","v":false},null,{"$f":"IF(Y179='Look-up Tables'!$C$3,5,IF(Y179='Look-up Tables'!$C$4,4,IF(Y179='Look-up Tables'!$C$5,3,IF(Y179='Look-up Tables'!$C$6,2,IF(Y179='Look-up Tables'!$C$7,1)))))","v":false},{"$f":"IFERROR(VLOOKUP(AB179,'Look-up Tables'!$D$3:$E$127,2),\"\")","v":""},{"$f":"V179*X179*Z179","v":0}]
[null,null,null,null,null,null,{"$f":"IF(F180='Look-up Tables'!$A$3,5,IF(F180='Look-up Tables'!$A$4,4,IF(F180='Look-up Tables'!$A$5,3,IF(F180='Look-up Tables'!$A$6,2,IF(F180='Look-up Tables'!$A$7,1)))))","v":false},null,null,{"$f":"IF(I180='Look-up Tables'!$B$3,5,IF(I180='Look-up Tables'!$B$4,4,IF(I180='Look-up Tables'!$B$5,3,IF(I180='Look-up Tables'!$B$6,2,IF(I180='Look-up Tables'!$B$7,1)))))","v":false},null,null,null,{"$f":"IF(M180='Look-up Tables'!$C$3,5,IF(M180='Look-up Tables'!$C$4,4,IF(M180='Look-up Tables'!$C$5,3,IF(M180='Look-up Tables'!$C$6,2,IF(M180='Look-up Tables'!$C$7,1)))))","v":false},{"$f":"IFERROR(VLOOKUP(P180,'Look-up Tables'!$D$3:$E$127,2),\"\")","v":""},0,null,null,null,null,null,{"$f":"IF(U180='Look-up Tables'!$A$3,5,IF(U180='Look-up Tables'!$A$4,4,IF(U180='Look-up Tables'!$A$5,3,IF(U180='Look-up Tables'!$A$6,2,IF(U180='Look-up Tables'!$A$7,1)))))","v":false},null,{"$f":"IF(W180='Look-up Tables'!$B$3,5,IF(W180='Look-up Tables'!$B$4,4,IF(W180='Look-up Tables'!$B$5,3,IF(W180='Look-up Tables'!$B$6,2,IF(W180='Look-up Tables'!$B$7,1)))))","v":false},null,{"$f":"IF(Y180='Look-up Tables'!$C$3,5,IF(Y180='Look-up Tables'!$C$4,4,IF(Y180='Look-up Tables'!$C$5,3,IF(Y180='Look-up Tables'!$C$6,2,IF(Y180='Look-up Tables'!$C$7,1)))))","v":false},{"$f":"IFERROR(VLOOKUP(AB180,'Look-up Tables'!$D$3:$E$127,2),\"\")","v":""},0]
[null,null,null,null,null,null,{"$f":"IF(F181='Look-up Tables'!$A$3,5,IF(F181='Look-up Tables'!$A$4,4,IF(F181='Look-up Tables'!$A$5,3,IF(F181='Look-up Tables'!$A$6,2,IF(F181='Look-up Tables'!$A$7,1)))))","v":false},null,null,{"$f":"IF(I181='Look-up Tables'!$B$3,5,IF(I181='Look-up Tables'!$B$4,4,IF(I181='Look-up Tables'!$B$5,3,IF(I181='Look-up Tables'!$B$6,2,IF(I181='Look-up Tables'!$B$7,1)))))","v":false},null,null,null,{"$f":"IF(M181='Look-up Tables'!$C$3,5,IF(M181='Look-up Tables'!$C$4,4,IF(M181='Look-up Tables'!$C$5,3,IF(M181='Look-up Tables'!$C$6,2,IF(M181='Look-up Tables'!$C$7,1)))))","v":false},{"$f":"IFERROR(VLOOKUP(P181,'Look-up Tables'!$D$3:$E$127,2),\"\")","v":""},0,null,null,null,null,null,{"$f":"IF(U181='Look-up Tables'!$A$3,5,IF(U181='Look-up Tables'!$A$4,4,IF(U181='Look-up Tables'!$A$5,3,IF(U181='Look-up Tables'!$A$6,2,IF(U181='Look-up Tables'!$A$7,1)))))","v":false},null,{"$f":"IF(W181='Look-up Tables'!$B$3,5,IF(W181='Look-up Tables'!$B$4,4,IF(W181='Look-up Tables'!$B$5,3,IF(W181='Look-up Tables'!$B$6,2,IF(W181='Look-up Tables'!$B$7,1)))))","v":false},null,{"$f":"IF(Y181='Look-up Tables'!$C$3,5,IF(Y181='Look-up Tables'!$C$4,4,IF(Y181='Look-up Tables'!$C$5,3,IF(Y181='Look-up Tables'!$C$6,2,IF(Y181='Look-up Tables'!$C$7,1)))))","v":false},{"$f":"IFERROR(VLOOKUP(AB181,'Look-up Tables'!$D$3:$E$127,2),\"\")","v":""},0]
[null,null,null,null,null,null,{"$f":"IF(F182='Look-up Tables'!$A$3,5,IF(F182='Look-up Tables'!$A$4,4,IF(F182='Look-up Tables'!$A$5,3,IF(F182='Look-up Tables'!$A$6,2,IF(F182='Look-up Tables'!$A$7,1)))))","v":false},null,null,{"$f":"IF(I182='Look-up Tables'!$B$3,5,IF(I182='Look-up Tables'!$B$4,4,IF(I182='Look-up Tables'!$B$5,3,IF(I182='Look-up Tables'!$B$6,2,IF(I182='Look-up Tables'!$B$7,1)))))","v":false},null,null,null,{"$f":"IF(M182='Look-up Tables'!$C$3,5,IF(M182='Look-up Tables'!$C$4,4,IF(M182='Look-up Tables'!$C$5,3,IF(M182='Look-up Tables'!$C$6,2,IF(M182='Look-up Tables'!$C$7,1)))))","v":false},{"$f":"IFERROR(VLOOKUP(P182,'Look-up Tables'!$D$3:$E$127,2),\"\")","v":""},0,null,null,null,null,null,{"$f":"IF(U182='Look-up Tables'!$A$3,5,IF(U182='Look-up Tables'!$A$4,4,IF(U182='Look-up Tables'!$A$5,3,IF(U182='Look-up Tables'!$A$6,2,IF(U182='Look-up Tables'!$A$7,1)))))","v":false},null,{"$f":"IF(W182='Look-up Tables'!$B$3,5,IF(W182='Look-up Tables'!$B$4,4,IF(W182='Look-up Tables'!$B$5,3,IF(W182='Look-up Tables'!$B$6,2,IF(W182='Look-up Tables'!$B$7,1)))))","v":false},null,{"$f":"IF(Y182='Look-up Tables'!$C$3,5,IF(Y182='Look-up Tables'!$C$4,4,IF(Y182='Look-up Tables'!$C$5,3,IF(Y182='Look-up Tables'!$C$6,2,IF(Y182='Look-up Tables'!$C$7,1)))))","v":false},{"$f":"IFERROR(VLOOKUP(AB182,'Look-up Tables'!$D$3:$E$127,2),\"\")","v":""},0]
[null,null,null,null,null,null,{"$f":"IF(F183='Look-up Tables'!$A$3,5,IF(F183='Look-up Tables'!$A$4,4,IF(F183='Look-up Tables'!$A$5,3,IF(F183='Look-up Tables'!$A$6,2,IF(F183='Look-up Tables'!$A$7,1)))))","v":false},null,null,{"$f":"IF(I183='Look-up Tables'!$B$3,5,IF(I183='Look-up Tables'!$B$4,4,IF(I183='Look-up Tables'!$B$5,3,IF(I183='Look-up Tables'!$B$6,2,IF(I183='Look-up Tables'!$B$7,1)))))","v":false},null,null,null,{"$f":"IF(M183='Look-up Tables'!$C$3,5,IF(M183='Look-up Tables'!$C$4,4,IF(M183='Look-up Tables'!$C$5,3,IF(M183='Look-up Tables'!$C$6,2,IF(M183='Look-up Tables'!$C$7,1)))))","v":false},{"$f":"IFERROR(VLOOKUP(P183,'Look-up Tables'!$D$3:$E$127,2),\"\")","v":""},0,null,null,null,null,null,{"$f":"IF(U183='Look-up Tables'!$A$3,5,IF(U183='Look-up Tables'!$A$4,4,IF(U183='Look-up Tables'!$A$5,3,IF(U183='Look-up Tables'!$A$6,2,IF(U183='Look-up Tables'!$A$7,1)))))","v":false},null,{"$f":"IF(W183='Look-up Tables'!$B$3,5,IF(W183='Look-up Tables'!$B$4,4,IF(W183='Look-up Tables'!$B$5,3,IF(W183='Look-up Tables'!$B$6,2,IF(W183='Look-up Tables'!$B$7,1)))))","v":false},null,{"$f":"IF(Y183='Look-up Tables'!$C$3,5,IF(Y183='Look-up Tables'!$C$4,4,IF(Y183='Look-up Tables'!$C$5,3,IF(Y183='Look-up Tables'!$C$6,2,IF(Y183='Look-up Tables'!$C$7,1)))))","v":false},{"$f":"IFERROR(VLOOKUP(AB183,'Look-up Tables'!$D$3:$E$127,2),\"\")","v":""},0]
[null,null,null,null,null,null,{"$f":"IF(F184='Look-up Tables'!$A$3,5,IF(F184='Look-up Tables'!$A$4,4,IF(F184='Look-up Tables'!$A$5,3,IF(F184='Look-up Tables'!$A$6,2,IF(F184='Look-up Tables'!$A$7,1)))))","v":false},null,null,{"$f":"IF(I184='Look-up Tables'!$B$3,5,IF(I184='Look-up Tables'!$B$4,4,IF(I184='Look-up Tables'!$B$5,3,IF(I184='Look-up Tables'!$B$6,2,IF(I184='Look-up Tables'!$B$7,1)))))","v":false},null,null,null,{"$f":"IF(M184='Look-up Tables'!$C$3,5,IF(M184='Look-up Tables'!$C$4,4,IF(M184='Look-up Tables'!$C$5,3,IF(M184='Look-up Tables'!$C$6,2,IF(M184='Look-up Tables'!$C$7,1)))))","v":false},{"$f":"IFERROR(VLOOKUP(P184,'Look-up Tables'!$D$3:$E$127,2),\"\")","v":""},0,null,null,null,null,null,{"$f":"IF(U184='Look-up Tables'!$A$3,5,IF(U184='Look-up Tables'!$A$4,4,IF(U184='Look-up Tables'!$A$5,3,IF(U184='Look-up Tables'!$A$6,2,IF(U184='Look-up Tables'!$A$7,1)))))","v":false},null,{"$f":"IF(W184='Look-up Tables'!$B$3,5,IF(W184='Look-up Tables'!$B$4,4,IF(W184='Look-up Tables'!$B$5,3,IF(W184='Look-up Tables'!$B$6,2,IF(W184='Look-up Tables'!$B$7,1)))))","v":false},null,{"$f":"IF(Y184='Look-up Tables'!$C$3,5,IF(Y184='Look-up Tables'!$C$4,4,IF(Y184='Look-up Tables'!$C$5,3,IF(Y184='Look-up Tables'!$C$6,2,IF(Y184='Look-up Tables'!$C$7,1)))))","v":false},{"$f":"IFERROR(VLOOKUP(AB184,'Look-up Tables'!$D$3:$E$127,2),\"\")","v":""},0]
[null,null,null,null,null,null,{"$f":"IF(F185='Look-up Tables'!$A$3,5,IF(F185='Look-up Tables'!$A$4,4,IF(F185='Look-up Tables'!$A$5,3,IF(F185='Look-up Tables'!$A$6,2,IF(F185='Look-up Tables'!$A$7,1)))))","v":false},null,null,{"$f":"IF(I185='Look-up Tables'!$B$3,5,IF(I185='Look-up Tables'!$B$4,4,IF(I185='Look-up Tables'!$B$5,3,IF(I185='Look-up Tables'!$B$6,2,IF(I185='Look-up Tables'!$B$7,1)))))","v":false},null,null,null,{"$f":"IF(M185='Look-up Tables'!$C$3,5,IF(M185='Look-up Tables'!$C$4,4,IF(M185='Look-up Tables'!$C$5,3,IF(M185='Look-up Tables'!$C$6,2,IF(M185='Look-up Tables'!$C$7,1)))))","v":false},{"$f":"IFERROR(VLOOKUP(P185,'Look-up Tables'!$D$3:$E$127,2),\"\")","v":""},0,null,null,null,null,null,{"$f":"IF(U185='Look-up Tables'!$A$3,5,IF(U185='Look-up Tables'!$A$4,4,IF(U185='Look-up Tables'!$A$5,3,IF(U185='Look-up Tables'!$A$6,2,IF(U185='Look-up Tables'!$A$7,1)))))","v":false},null,{"$f":"IF(W185='Look-up Tables'!$B$3,5,IF(W185='Look-up Tables'!$B$4,4,IF(W185='Look-up Tables'!$B$5,3,IF(W185='Look-up Tables'!$B$6,2,IF(W185='Look-up Tables'!$B$7,1)))))","v":false},null,{"$f":"IF(Y185='Look-up Tables'!$C$3,5,IF(Y185='Look-up Tables'!$C$4,4,IF(Y185='Look-up Tables'!$C$5,3,IF(Y185='Look-up Tables'!$C$6,2,IF(Y185='Look-up Tables'!$C$7,1)))))","v":false},{"$f":"IFERROR(VLOOKUP(AB185,'Look-up Tables'!$D$3:$E$127,2),\"\")","v":""},0]
[null,null,null,null,null,null,{"$f":"IF(F186='Look-up Tables'!$A$3,5,IF(F186='Look-up Tables'!$A$4,4,IF(F186='Look-up Tables'!$A$5,3,IF(F186='Look-up Tables'!$A$6,2,IF(F186='Look-up Tables'!$A$7,1)))))","v":false},null,null,{"$f":"IF(I186='Look-up Tables'!$B$3,5,IF(I186='Look-up Tables'!$B$4,4,IF(I186='Look-up Tables'!$B$5,3,IF(I186='Look-up Tables'!$B$6,2,IF(I186='Look-up Tables'!$B$7,1)))))","v":false},null,null,null,{"$f":"IF(M186='Look-up Tables'!$C$3,5,IF(M186='Look-up Tables'!$C$4,4,IF(M186='Look-up Tables'!$C$5,3,IF(M186='Look-up Tables'!$C$6,2,IF(M186='Look-up Tables'!$C$7,1)))))","v":false},{"$f":"IFERROR(VLOOKUP(P186,'Look-up Tables'!$D$3:$E$127,2),\"\")","v":""},0,null,null,null,null,null,{"$f":"IF(U186='Look-up Tables'!$A$3,5,IF(U186='Look-up Tables'!$A$4,4,IF(U186='Look-up Tables'!$A$5,3,IF(U186='Look-up Tables'!$A$6,2,IF(U186='Look-up Tables'!$A$7,1)))))","v":false},null,{"$f":"IF(W186='Look-up Tables'!$B$3,5,IF(W186='Look-up Tables'!$B$4,4,IF(W186='Look-up Tables'!$B$5,3,IF(W186='Look-up Tables'!$B$6,2,IF(W186='Look-up Tables'!$B$7,1)))))","v":false},null,{"$f":"IF(Y186='Look-up Tables'!$C$3,5,IF(Y186='Look-up Tables'!$C$4,4,IF(Y186='Look-up Tables'!$C$5,3,IF(Y186='Look-up Tables'!$C$6,2,IF(Y186='Look-up Tables'!$C$7,1)))))","v":false},{"$f":"IFERROR(VLOOKUP(AB186,'Look-up Tables'!$D$3:$E$127,2),\"\")","v":""},0]
[null,null,null,null,null,null,{"$f":"IF(F187='Look-up Tables'!$A$3,5,IF(F187='Look-up Tables'!$A$4,4,IF(F187='Look-up Tables'!$A$5,3,IF(F187='Look-up Tables'!$A$6,2,IF(F187='Look-up Tables'!$A$7,1)))))","v":false},null,null,{"$f":"IF(I187='Look-up Tables'!$B$3,5,IF(I187='Look-up Tables'!$B$4,4,IF(I187='Look-up Tables'!$B$5,3,IF(I187='Look-up Tables'!$B$6,2,IF(I187='Look-up Tables'!$B$7,1)))))","v":false},null,null,null,{"$f":"IF(M187='Look-up Tables'!$C$3,5,IF(M187='Look-up Tables'!$C$4,4,IF(M187='Look-up Tables'!$C$5,3,IF(M187='Look-up Tables'!$C$6,2,IF(M187='Look-up Tables'!$C$7,1)))))","v":false},{"$f":"IFERROR(VLOOKUP(P187,'Look-up Tables'!$D$3:$E$127,2),\"\")","v":""},0,null,null,null,null,null,{"$f":"IF(U187='Look-up Tables'!$A$3,5,IF(U187='Look-up Tables'!$A$4,4,IF(U187='Look-up Tables'!$A$5,3,IF(U187='Look-up Tables'!$A$6,2,IF(U187='Look-up Tables'!$A$7,1)))))","v":false},null,{"$f":"IF(W187='Look-up Tables'!$B$3,5,IF(W187='Look-up Tables'!$B$4,4,IF(W187='Look-up Tables'!$B$5,3,IF(W187='Look-up Tables'!$B$6,2,IF(W187='Look-up Tables'!$B$7,1)))))","v":false},null,{"$f":"IF(Y187='Look-up Tables'!$C$3,5,IF(Y187='Look-up Tables'!$C$4,4,IF(Y187='Look-up Tables'!$C$5,3,IF(Y187='Look-up Tables'!$C$6,2,IF(Y187='Look-up Tables'!$C$7,1)))))","v":false},{"$f":"IFERROR(VLOOKUP(AB187,'Look-up Tables'!$D$3:$E$127,2),\"\")","v":""},0]
[null,null,null,null,null,null,{"$f":"IF(F188='Look-up Tables'!$A$3,5,IF(F188='Look-up Tables'!$A$4,4,IF(F188='Look-up Tables'!$A$5,3,IF(F188='Look-up Tables'!$A$6,2,IF(F188='Look-up Tables'!$A$7,1)))))","v":false},null,null,{"$f":"IF(I188='Look-up Tables'!$B$3,5,IF(I188='Look-up Tables'!$B$4,4,IF(I188='Look-up Tables'!$B$5,3,IF(I188='Look-up Tables'!$B$6,2,IF(I188='Look-up Tables'!$B$7,1)))))","v":false},null,null,null,{"$f":"IF(M188='Look-up Tables'!$C$3,5,IF(M188='Look-up Tables'!$C$4,4,IF(M188='Look-up Tables'!$C$5,3,IF(M188='Look-up Tables'!$C$6,2,IF(M188='Look-up Tables'!$C$7,1)))))","v":false},{"$f":"IFERROR(VLOOKUP(P188,'Look-up Tables'!$D$3:$E$127,2),\"\")","v":""},0,null,null,null,null,null,{"$f":"IF(U188='Look-up Tables'!$A$3,5,IF(U188='Look-up Tables'!$A$4,4,IF(U188='Look-up Tables'!$A$5,3,IF(U188='Look-up Tables'!$A$6,2,IF(U188='Look-up Tables'!$A$7,1)))))","v":false},null,{"$f":"IF(W188='Look-up Tables'!$B$3,5,IF(W188='Look-up Tables'!$B$4,4,IF(W188='Look-up Tables'!$B$5,3,IF(W188='Look-up Tables'!$B$6,2,IF(W188='Look-up Tables'!$B$7,1)))))","v":false},null,{"$f":"IF(Y188='Look-up Tables'!$C$3,5,IF(Y188='Look-up Tables'!$C$4,4,IF(Y188='Look-up Tables'!$C$5,3,IF(Y188='Look-up Tables'!$C$6,2,IF(Y188='Look-up Tables'!$C$7,1)))))","v":false},{"$f":"IFERROR(VLOOKUP(AB188,'Look-up Tables'!$D$3:$E$127,2),\"\")","v":""},0]
[null,null,null,null,null,null,{"$f":"IF(F189='Look-up Tables'!$A$3,5,IF(F189='Look-up Tables'!$A$4,4,IF(F189='Look-up Tables'!$A$5,3,IF(F189='Look-up Tables'!$A$6,2,IF(F189='Look-up Tables'!$A$7,1)))))","v":false},null,null,{"$f":"IF(I189='Look-up Tables'!$B$3,5,IF(I189='Look-up Tables'!$B$4,4,IF(I189='Look-up Tables'!$B$5,3,IF(I189='Look-up Tables'!$B$6,2,IF(I189='Look-up Tables'!$B$7,1)))))","v":false},null,null,null,{"$f":"IF(M189='Look-up Tables'!$C$3,5,IF(M189='Look-up Tables'!$C$4,4,IF(M189='Look-up Tables'!$C$5,3,IF(M189='Look-up Tables'!$C$6,2,IF(M189='Look-up Tables'!$C$7,1)))))","v":false},{"$f":"IFERROR(VLOOKUP(P189,'Look-up Tables'!$D$3:$E$127,2),\"\")","v":""},0,null,null,null,null,null,{"$f":"IF(U189='Look-up Tables'!$A$3,5,IF(U189='Look-up Tables'!$A$4,4,IF(U189='Look-up Tables'!$A$5,3,IF(U189='Look-up Tables'!$A$6,2,IF(U189='Look-up Tables'!$A$7,1)))))","v":false},null,{"$f":"IF(W189='Look-up Tables'!$B$3,5,IF(W189='Look-up Tables'!$B$4,4,IF(W189='Look-up Tables'!$B$5,3,IF(W189='Look-up Tables'!$B$6,2,IF(W189='Look-up Tables'!$B$7,1)))))","v":false},null,{"$f":"IF(Y189='Look-up Tables'!$C$3,5,IF(Y189='Look-up Tables'!$C$4,4,IF(Y189='Look-up Tables'!$C$5,3,IF(Y189='Look-up Tables'!$C$6,2,IF(Y189='Look-up Tables'!$C$7,1)))))","v":false},{"$f":"IFERROR(VLOOKUP(AB189,'Look-up Tables'!$D$3:$E$127,2),\"\")","v":""},0]
[null,null,null,null,null,null,{"$f":"IF(F190='Look-up Tables'!$A$3,5,IF(F190='Look-up Tables'!$A$4,4,IF(F190='Look-up Tables'!$A$5,3,IF(F190='Look-up Tables'!$A$6,2,IF(F190='Look-up Tables'!$A$7,1)))))","v":false},null,null,{"$f":"IF(I190='Look-up Tables'!$B$3,5,IF(I190='Look-up Tables'!$B$4,4,IF(I190='Look-up Tables'!$B$5,3,IF(I190='Look-up Tables'!$B$6,2,IF(I190='Look-up Tables'!$B$7,1)))))","v":false},null,null,null,{"$f":"IF(M190='Look-up Tables'!$C$3,5,IF(M190='Look-up Tables'!$C$4,4,IF(M190='Look-up Tables'!$C$5,3,IF(M190='Look-up Tables'!$C$6,2,IF(M190='Look-up Tables'!$C$7,1)))))","v":false},{"$f":"IFERROR(VLOOKUP(P190,'Look-up Tables'!$D$3:$E$127,2),\"\")","v":""},0,null,null,null,null,null,{"$f":"IF(U190='Look-up Tables'!$A$3,5,IF(U190='Look-up Tables'!$A$4,4,IF(U190='Look-up Tables'!$A$5,3,IF(U190='Look-up Tables'!$A$6,2,IF(U190='Look-up Tables'!$A$7,1)))))","v":false},null,{"$f":"IF(W190='Look-up Tables'!$B$3,5,IF(W190='Look-up Tables'!$B$4,4,IF(W190='Look-up Tables'!$B$5,3,IF(W190='Look-up Tables'!$B$6,2,IF(W190='Look-up Tables'!$B$7,1)))))","v":false},null,{"$f":"IF(Y190='Look-up Tables'!$C$3,5,IF(Y190='Look-up Tables'!$C$4,4,IF(Y190='Look-up Tables'!$C$5,3,IF(Y190='Look-up Tables'!$C$6,2,IF(Y190='Look-up Tables'!$C$7,1)))))","v":false},{"$f":"IFERROR(VLOOKUP(AB190,'Look-up Tables'!$D$3:$E$127,2),\"\")","v":""},0]
[null,null,null,null,null,null,{"$f":"IF(F191='Look-up Tables'!$A$3,5,IF(F191='Look-up Tables'!$A$4,4,IF(F191='Look-up Tables'!$A$5,3,IF(F191='Look-up Tables'!$A$6,2,IF(F191='Look-up Tables'!$A$7,1)))))","v":false},null,null,{"$f":"IF(I191='Look-up Tables'!$B$3,5,IF(I191='Look-up Tables'!$B$4,4,IF(I191='Look-up Tables'!$B$5,3,IF(I191='Look-up Tables'!$B$6,2,IF(I191='Look-up Tables'!$B$7,1)))))","v":false},null,null,null,{"$f":"IF(M191='Look-up Tables'!$C$3,5,IF(M191='Look-up Tables'!$C$4,4,IF(M191='Look-up Tables'!$C$5,3,IF(M191='Look-up Tables'!$C$6,2,IF(M191='Look-up Tables'!$C$7,1)))))","v":false},{"$f":"IFERROR(VLOOKUP(P191,'Look-up Tables'!$D$3:$E$127,2),\"\")","v":""},0,null,null,null,null,null,{"$f":"IF(U191='Look-up Tables'!$A$3,5,IF(U191='Look-up Tables'!$A$4,4,IF(U191='Look-up Tables'!$A$5,3,IF(U191='Look-up Tables'!$A$6,2,IF(U191='Look-up Tables'!$A$7,1)))))","v":false},null,{"$f":"IF(W191='Look-up Tables'!$B$3,5,IF(W191='Look-up Tables'!$B$4,4,IF(W191='Look-up Tables'!$B$5,3,IF(W191='Look-up Tables'!$B$6,2,IF(W191='Look-up Tables'!$B$7,1)))))","v":false},null,{"$f":"IF(Y191='Look-up Tables'!$C$3,5,IF(Y191='Look-up Tables'!$C$4,4,IF(Y191='Look-up Tables'!$C$5,3,IF(Y191='Look-up Tables'!$C$6,2,IF(Y191='Look-up Tables'!$C$7,1)))))","v":false},{"$f":"IFERROR(VLOOKUP(AB191,'Look-up Tables'!$D$3:$E$127,2),\"\")","v":""},0]
[null,null,null,null,null,null,{"$f":"IF(F192='Look-up Tables'!$A$3,5,IF(F192='Look-up Tables'!$A$4,4,IF(F192='Look-up Tables'!$A$5,3,IF(F192='Look-up Tables'!$A$6,2,IF(F192='Look-up Tables'!$A$7,1)))))","v":false},null,null,{"$f":"IF(I192='Look-up Tables'!$B$3,5,IF(I192='Look-up Tables'!$B$4,4,IF(I192='Look-up Tables'!$B$5,3,IF(I192='Look-up Tables'!$B$6,2,IF(I192='Look-up Tables'!$B$7,1)))))","v":false},null,null,null,{"$f":"IF(M192='Look-up Tables'!$C$3,5,IF(M192='Look-up Tables'!$C$4,4,IF(M192='Look-up Tables'!$C$5,3,IF(M192='Look-up Tables'!$C$6,2,IF(M192='Look-up Tables'!$C$7,1)))))","v":false},{"$f":"IFERROR(VLOOKUP(P192,'Look-up Tables'!$D$3:$E$127,2),\"\")","v":""},0,null,null,null,null,null,{"$f":"IF(U192='Look-up Tables'!$A$3,5,IF(U192='Look-up Tables'!$A$4,4,IF(U192='Look-up Tables'!$A$5,3,IF(U192='Look-up Tables'!$A$6,2,IF(U192='Look-up Tables'!$A$7,1)))))","v":false},null,{"$f":"IF(W192='Look-up Tables'!$B$3,5,IF(W192='Look-up Tables'!$B$4,4,IF(W192='Look-up Tables'!$B$5,3,IF(W192='Look-up Tables'!$B$6,2,IF(W192='Look-up Tables'!$B$7,1)))))","v":false},null,{"$f":"IF(Y192='Look-up Tables'!$C$3,5,IF(Y192='Look-up Tables'!$C$4,4,IF(Y192='Look-up Tables'!$C$5,3,IF(Y192='Look-up Tables'!$C$6,2,IF(Y192='Look-up Tables'!$C$7,1)))))","v":false},{"$f":"IFERROR(VLOOKUP(AB192,'Look-up Tables'!$D$3:$E$127,2),\"\")","v":""},0]
[null,null,null,null,null,null,{"$f":"IF(F193='Look-up Tables'!$A$3,5,IF(F193='Look-up Tables'!$A$4,4,IF(F193='Look-up Tables'!$A$5,3,IF(F193='Look-up Tables'!$A$6,2,IF(F193='Look-up Tables'!$A$7,1)))))","v":false},null,null,{"$f":"IF(I193='Look-up Tables'!$B$3,5,IF(I193='Look-up Tables'!$B$4,4,IF(I193='Look-up Tables'!$B$5,3,IF(I193='Look-up Tables'!$B$6,2,IF(I193='Look-up Tables'!$B$7,1)))))","v":false},null,null,null,{"$f":"IF(M193='Look-up Tables'!$C$3,5,IF(M193='Look-up Tables'!$C$4,4,IF(M193='Look-up Tables'!$C$5,3,IF(M193='Look-up Tables'!$C$6,2,IF(M193='Look-up Tables'!$C$7,1)))))","v":false},{"$f":"IFERROR(VLOOKUP(P193,'Look-up Tables'!$D$3:$E$127,2),\"\")","v":""},0,null,null,null,null,null,{"$f":"IF(U193='Look-up Tables'!$A$3,5,IF(U193='Look-up Tables'!$A$4,4,IF(U193='Look-up Tables'!$A$5,3,IF(U193='Look-up Tables'!$A$6,2,IF(U193='Look-up Tables'!$A$7,1)))))","v":false},null,{"$f":"IF(W193='Look-up Tables'!$B$3,5,IF(W193='Look-up Tables'!$B$4,4,IF(W193='Look-up Tables'!$B$5,3,IF(W193='Look-up Tables'!$B$6,2,IF(W193='Look-up Tables'!$B$7,1)))))","v":false},null,{"$f":"IF(Y193='Look-up Tables'!$C$3,5,IF(Y193='Look-up Tables'!$C$4,4,IF(Y193='Look-up Tables'!$C$5,3,IF(Y193='Look-up Tables'!$C$6,2,IF(Y193='Look-up Tables'!$C$7,1)))))","v":false},{"$f":"IFERROR(VLOOKUP(AB193,'Look-up Tables'!$D$3:$E$127,2),\"\")","v":""},0]
[null,null,null,null,null,null,{"$f":"IF(F194='Look-up Tables'!$A$3,5,IF(F194='Look-up Tables'!$A$4,4,IF(F194='Look-up Tables'!$A$5,3,IF(F194='Look-up Tables'!$A$6,2,IF(F194='Look-up Tables'!$A$7,1)))))","v":false},null,null,{"$f":"IF(I194='Look-up Tables'!$B$3,5,IF(I194='Look-up Tables'!$B$4,4,IF(I194='Look-up Tables'!$B$5,3,IF(I194='Look-up Tables'!$B$6,2,IF(I194='Look-up Tables'!$B$7,1)))))","v":false},null,null,null,{"$f":"IF(M194='Look-up Tables'!$C$3,5,IF(M194='Look-up Tables'!$C$4,4,IF(M194='Look-up Tables'!$C$5,3,IF(M194='Look-up Tables'!$C$6,2,IF(M194='Look-up Tables'!$C$7,1)))))","v":false},{"$f":"IFERROR(VLOOKUP(P194,'Look-up Tables'!$D$3:$E$127,2),\"\")","v":""},0,null,null,null,null,null,{"$f":"IF(U194='Look-up Tables'!$A$3,5,IF(U194='Look-up Tables'!$A$4,4,IF(U194='Look-up Tables'!$A$5,3,IF(U194='Look-up Tables'!$A$6,2,IF(U194='Look-up Tables'!$A$7,1)))))","v":false},null,{"$f":"IF(W194='Look-up Tables'!$B$3,5,IF(W194='Look-up Tables'!$B$4,4,IF(W194='Look-up Tables'!$B$5,3,IF(W194='Look-up Tables'!$B$6,2,IF(W194='Look-up Tables'!$B$7,1)))))","v":false},null,{"$f":"IF(Y194='Look-up Tables'!$C$3,5,IF(Y194='Look-up Tables'!$C$4,4,IF(Y194='Look-up Tables'!$C$5,3,IF(Y194='Look-up Tables'!$C$6,2,IF(Y194='Look-up Tables'!$C$7,1)))))","v":false},{"$f":"IFERROR(VLOOKUP(AB194,'Look-up Tables'!$D$3:$E$127,2),\"\")","v":""},0]
[null,null,null,null,null,null,{"$f":"IF(F195='Look-up Tables'!$A$3,5,IF(F195='Look-up Tables'!$A$4,4,IF(F195='Look-up Tables'!$A$5,3,IF(F195='Look-up Tables'!$A$6,2,IF(F195='Look-up Tables'!$A$7,1)))))","v":false},null,null,{"$f":"IF(I195='Look-up Tables'!$B$3,5,IF(I195='Look-up Tables'!$B$4,4,IF(I195='Look-up Tables'!$B$5,3,IF(I195='Look-up Tables'!$B$6,2,IF(I195='Look-up Tables'!$B$7,1)))))","v":false},null,null,null,{"$f":"IF(M195='Look-up Tables'!$C$3,5,IF(M195='Look-up Tables'!$C$4,4,IF(M195='Look-up Tables'!$C$5,3,IF(M195='Look-up Tables'!$C$6,2,IF(M195='Look-up Tables'!$C$7,1)))))","v":false},{"$f":"IFERROR(VLOOKUP(P195,'Look-up Tables'!$D$3:$E$127,2),\"\")","v":""},0,null,null,null,null,null,{"$f":"IF(U195='Look-up Tables'!$A$3,5,IF(U195='Look-up Tables'!$A$4,4,IF(U195='Look-up Tables'!$A$5,3,IF(U195='Look-up Tables'!$A$6,2,IF(U195='Look-up Tables'!$A$7,1)))))","v":false},null,{"$f":"IF(W195='Look-up Tables'!$B$3,5,IF(W195='Look-up Tables'!$B$4,4,IF(W195='Look-up Tables'!$B$5,3,IF(W195='Look-up Tables'!$B$6,2,IF(W195='Look-up Tables'!$B$7,1)))))","v":false},null,{"$f":"IF(Y195='Look-up Tables'!$C$3,5,IF(Y195='Look-up Tables'!$C$4,4,IF(Y195='Look-up Tables'!$C$5,3,IF(Y195='Look-up Tables'!$C$6,2,IF(Y195='Look-up Tables'!$C$7,1)))))","v":false},{"$f":"IFERROR(VLOOKUP(AB195,'Look-up Tables'!$D$3:$E$127,2),\"\")","v":""},0]
[null,null,null,null,null,null,{"$f":"IF(F196='Look-up Tables'!$A$3,5,IF(F196='Look-up Tables'!$A$4,4,IF(F196='Look-up Tables'!$A$5,3,IF(F196='Look-up Tables'!$A$6,2,IF(F196='Look-up Tables'!$A$7,1)))))","v":false},null,null,{"$f":"IF(I196='Look-up Tables'!$B$3,5,IF(I196='Look-up Tables'!$B$4,4,IF(I196='Look-up Tables'!$B$5,3,IF(I196='Look-up Tables'!$B$6,2,IF(I196='Look-up Tables'!$B$7,1)))))","v":false},null,null,null,{"$f":"IF(M196='Look-up Tables'!$C$3,5,IF(M196='Look-up Tables'!$C$4,4,IF(M196='Look-up Tables'!$C$5,3,IF(M196='Look-up Tables'!$C$6,2,IF(M196='Look-up Tables'!$C$7,1)))))","v":false},{"$f":"IFERROR(VLOOKUP(P196,'Look-up Tables'!$D$3:$E$127,2),\"\")","v":""},0,null,null,null,null,null,{"$f":"IF(U196='Look-up Tables'!$A$3,5,IF(U196='Look-up Tables'!$A$4,4,IF(U196='Look-up Tables'!$A$5,3,IF(U196='Look-up Tables'!$A$6,2,IF(U196='Look-up Tables'!$A$7,1)))))","v":false},null,{"$f":"IF(W196='Look-up Tables'!$B$3,5,IF(W196='Look-up Tables'!$B$4,4,IF(W196='Look-up Tables'!$B$5,3,IF(W196='Look-up Tables'!$B$6,2,IF(W196='Look-up Tables'!$B$7,1)))))","v":false},null,{"$f":"IF(Y196='Look-up Tables'!$C$3,5,IF(Y196='Look-up Tables'!$C$4,4,IF(Y196='Look-up Tables'!$C$5,3,IF(Y196='Look-up Tables'!$C$6,2,IF(Y196='Look-up Tables'!$C$7,1)))))","v":false},{"$f":"IFERROR(VLOOKUP(AB196,'Look-up Tables'!$D$3:$E$127,2),\"\")","v":""},0]
[null,null,null,null,null,null,{"$f":"IF(F197='Look-up Tables'!$A$3,5,IF(F197='Look-up Tables'!$A$4,4,IF(F197='Look-up Tables'!$A$5,3,IF(F197='Look-up Tables'!$A$6,2,IF(F197='Look-up Tables'!$A$7,1)))))","v":false},null,null,{"$f":"IF(I197='Look-up Tables'!$B$3,5,IF(I197='Look-up Tables'!$B$4,4,IF(I197='Look-up Tables'!$B$5,3,IF(I197='Look-up Tables'!$B$6,2,IF(I197='Look-up Tables'!$B$7,1)))))","v":false},null,null,null,{"$f":"IF(M197='Look-up Tables'!$C$3,5,IF(M197='Look-up Tables'!$C$4,4,IF(M197='Look-up Tables'!$C$5,3,IF(M197='Look-up Tables'!$C$6,2,IF(M197='Look-up Tables'!$C$7,1)))))","v":false},{"$f":"IFERROR(VLOOKUP(P197,'Look-up Tables'!$D$3:$E$127,2),\"\")","v":""},0,null,null,null,null,null,{"$f":"IF(U197='Look-up Tables'!$A$3,5,IF(U197='Look-up Tables'!$A$4,4,IF(U197='Look-up Tables'!$A$5,3,IF(U197='Look-up Tables'!$A$6,2,IF(U197='Look-up Tables'!$A$7,1)))))","v":false},null,{"$f":"IF(W197='Look-up Tables'!$B$3,5,IF(W197='Look-up Tables'!$B$4,4,IF(W197='Look-up Tables'!$B$5,3,IF(W197='Look-up Tables'!$B$6,2,IF(W197='Look-up Tables'!$B$7,1)))))","v":false},null,{"$f":"IF(Y197='Look-up Tables'!$C$3,5,IF(Y197='Look-up Tables'!$C$4,4,IF(Y197='Look-up Tables'!$C$5,3,IF(Y197='Look-up Tables'!$C$6,2,IF(Y197='Look-up Tables'!$C$7,1)))))","v":false},{"$f":"IFERROR(VLOOKUP(AB197,'Look-up Tables'!$D$3:$E$127,2),\"\")","v":""},0]
[null,null,null,null,null,null,{"$f":"IF(F198='Look-up Tables'!$A$3,5,IF(F198='Look-up Tables'!$A$4,4,IF(F198='Look-up Tables'!$A$5,3,IF(F198='Look-up Tables'!$A$6,2,IF(F198='Look-up Tables'!$A$7,1)))))","v":false},null,null,{"$f":"IF(I198='Look-up Tables'!$B$3,5,IF(I198='Look-up Tables'!$B$4,4,IF(I198='Look-up Tables'!$B$5,3,IF(I198='Look-up Tables'!$B$6,2,IF(I198='Look-up Tables'!$B$7,1)))))","v":false},null,null,null,{"$f":"IF(M198='Look-up Tables'!$C$3,5,IF(M198='Look-up Tables'!$C$4,4,IF(M198='Look-up Tables'!$C$5,3,IF(M198='Look-up Tables'!$C$6,2,IF(M198='Look-up Tables'!$C$7,1)))))","v":false},{"$f":"IFERROR(VLOOKUP(P198,'Look-up Tables'!$D$3:$E$127,2),\"\")","v":""},0,null,null,null,null,null,{"$f":"IF(U198='Look-up Tables'!$A$3,5,IF(U198='Look-up Tables'!$A$4,4,IF(U198='Look-up Tables'!$A$5,3,IF(U198='Look-up Tables'!$A$6,2,IF(U198='Look-up Tables'!$A$7,1)))))","v":false},null,{"$f":"IF(W198='Look-up Tables'!$B$3,5,IF(W198='Look-up Tables'!$B$4,4,IF(W198='Look-up Tables'!$B$5,3,IF(W198='Look-up Tables'!$B$6,2,IF(W198='Look-up Tables'!$B$7,1)))))","v":false},null,{"$f":"IF(Y198='Look-up Tables'!$C$3,5,IF(Y198='Look-up Tables'!$C$4,4,IF(Y198='Look-up Tables'!$C$5,3,IF(Y198='Look-up Tables'!$C$6,2,IF(Y198='Look-up Tables'!$C$7,1)))))","v":false},{"$f":"IFERROR(VLOOKUP(AB198,'Look-up Tables'!$D$3:$E$127,2),\"\")","v":""},0]
[null,null,null,null,null,null,{"$f":"IF(F199='Look-up Tables'!$A$3,5,IF(F199='Look-up Tables'!$A$4,4,IF(F199='Look-up Tables'!$A$5,3,IF(F199='Look-up Tables'!$A$6,2,IF(F199='Look-up Tables'!$A$7,1)))))","v":false},null,null,{"$f":"IF(I199='Look-up Tables'!$B$3,5,IF(I199='Look-up Tables'!$B$4,4,IF(I199='Look-up Tables'!$B$5,3,IF(I199='Look-up Tables'!$B$6,2,IF(I199='Look-up Tables'!$B$7,1)))))","v":false},null,null,null,{"$f":"IF(M199='Look-up Tables'!$C$3,5,IF(M199='Look-up Tables'!$C$4,4,IF(M199='Look-up Tables'!$C$5,3,IF(M199='Look-up Tables'!$C$6,2,IF(M199='Look-up Tables'!$C$7,1)))))","v":false},{"$f":"IFERROR(VLOOKUP(P199,'Look-up Tables'!$D$3:$E$127,2),\"\")","v":""},0,null,null,null,null,null,{"$f":"IF(U199='Look-up Tables'!$A$3,5,IF(U199='Look-up Tables'!$A$4,4,IF(U199='Look-up Tables'!$A$5,3,IF(U199='Look-up Tables'!$A$6,2,IF(U199='Look-up Tables'!$A$7,1)))))","v":false},null,{"$f":"IF(W199='Look-up Tables'!$B$3,5,IF(W199='Look-up Tables'!$B$4,4,IF(W199='Look-up Tables'!$B$5,3,IF(W199='Look-up Tables'!$B$6,2,IF(W199='Look-up Tables'!$B$7,1)))))","v":false},null,{"$f":"IF(Y199='Look-up Tables'!$C$3,5,IF(Y199='Look-up Tables'!$C$4,4,IF(Y199='Look-up Tables'!$C$5,3,IF(Y199='Look-up Tables'!$C$6,2,IF(Y199='Look-up Tables'!$C$7,1)))))","v":false},{"$f":"IFERROR(VLOOKUP(AB199,'Look-up Tables'!$D$3:$E$127,2),\"\")","v":""},0]
[null,null,null,null,null,null,{"$f":"IF(F200='Look-up Tables'!$A$3,5,IF(F200='Look-up Tables'!$A$4,4,IF(F200='Look-up Tables'!$A$5,3,IF(F200='Look-up Tables'!$A$6,2,IF(F200='Look-up Tables'!$A$7,1)))))","v":false},null,null,{"$f":"IF(I200='Look-up Tables'!$B$3,5,IF(I200='Look-up Tables'!$B$4,4,IF(I200='Look-up Tables'!$B$5,3,IF(I200='Look-up Tables'!$B$6,2,IF(I200='Look-up Tables'!$B$7,1)))))","v":false},null,null,null,{"$f":"IF(M200='Look-up Tables'!$C$3,5,IF(M200='Look-up Tables'!$C$4,4,IF(M200='Look-up Tables'!$C$5,3,IF(M200='Look-up Tables'!$C$6,2,IF(M200='Look-up Tables'!$C$7,1)))))","v":false},{"$f":"IFERROR(VLOOKUP(P200,'Look-up Tables'!$D$3:$E$127,2),\"\")","v":""},0,null,null,null,null,null,{"$f":"IF(U200='Look-up Tables'!$A$3,5,IF(U200='Look-up Tables'!$A$4,4,IF(U200='Look-up Tables'!$A$5,3,IF(U200='Look-up Tables'!$A$6,2,IF(U200='Look-up Tables'!$A$7,1)))))","v":false},null,{"$f":"IF(W200='Look-up Tables'!$B$3,5,IF(W200='Look-up Tables'!$B$4,4,IF(W200='Look-up Tables'!$B$5,3,IF(W200='Look-up Tables'!$B$6,2,IF(W200='Look-up Tables'!$B$7,1)))))","v":false},null,{"$f":"IF(Y200='Look-up Tables'!$C$3,5,IF(Y200='Look-up Tables'!$C$4,4,IF(Y200='Look-up Tables'!$C$5,3,IF(Y200='Look-up Tables'!$C$6,2,IF(Y200='Look-up Tables'!$C$7,1)))))","v":false},{"$f":"IFERROR(VLOOKUP(AB200,'Look-up Tables'!$D$3:$E$127,2),\"\")","v":""},0]
[null,null,null,null,null,null,{"$f":"IF(F201='Look-up Tables'!$A$3,5,IF(F201='Look-up Tables'!$A$4,4,IF(F201='Look-up Tables'!$A$5,3,IF(F201='Look-up Tables'!$A$6,2,IF(F201='Look-up Tables'!$A$7,1)))))","v":false},null,null,{"$f":"IF(I201='Look-up Tables'!$B$3,5,IF(I201='Look-up Tables'!$B$4,4,IF(I201='Look-up Tables'!$B$5,3,IF(I201='Look-up Tables'!$B$6,2,IF(I201='Look-up Tables'!$B$7,1)))))","v":false},null,null,null,{"$f":"IF(M201='Look-up Tables'!$C$3,5,IF(M201='Look-up Tables'!$C$4,4,IF(M201='Look-up Tables'!$C$5,3,IF(M201='Look-up Tables'!$C$6,2,IF(M201='Look-up Tables'!$C$7,1)))))","v":false},{"$f":"IFERROR(VLOOKUP(P201,'Look-up Tables'!$D$3:$E$127,2),\"\")","v":""},0,null,null,null,null,null,{"$f":"IF(U201='Look-up Tables'!$A$3,5,IF(U201='Look-up Tables'!$A$4,4,IF(U201='Look-up Tables'!$A$5,3,IF(U201='Look-up Tables'!$A$6,2,IF(U201='Look-up Tables'!$A$7,1)))))","v":false},null,{"$f":"IF(W201='Look-up Tables'!$B$3,5,IF(W201='Look-up Tables'!$B$4,4,IF(W201='Look-up Tables'!$B$5,3,IF(W201='Look-up Tables'!$B$6,2,IF(W201='Look-up Tables'!$B$7,1)))))","v":false},null,{"$f":"IF(Y201='Look-up Tables'!$C$3,5,IF(Y201='Look-up Tables'!$C$4,4,IF(Y201='Look-up Tables'!$C$5,3,IF(Y201='Look-up Tables'!$C$6,2,IF(Y201='Look-up Tables'!$C$7,1)))))","v":false},{"$f":"IFERROR(VLOOKUP(AB201,'Look-up Tables'!$D$3:$E$127,2),\"\")","v":""},0]
[null,null,null,null,null,null,{"$f":"IF(F202='Look-up Tables'!$A$3,5,IF(F202='Look-up Tables'!$A$4,4,IF(F202='Look-up Tables'!$A$5,3,IF(F202='Look-up Tables'!$A$6,2,IF(F202='Look-up Tables'!$A$7,1)))))","v":false},null,null,{"$f":"IF(I202='Look-up Tables'!$B$3,5,IF(I202='Look-up Tables'!$B$4,4,IF(I202='Look-up Tables'!$B$5,3,IF(I202='Look-up Tables'!$B$6,2,IF(I202='Look-up Tables'!$B$7,1)))))","v":false},null,null,null,{"$f":"IF(M202='Look-up Tables'!$C$3,5,IF(M202='Look-up Tables'!$C$4,4,IF(M202='Look-up Tables'!$C$5,3,IF(M202='Look-up Tables'!$C$6,2,IF(M202='Look-up Tables'!$C$7,1)))))","v":false},{"$f":"IFERROR(VLOOKUP(P202,'Look-up Tables'!$D$3:$E$127,2),\"\")","v":""},0,null,null,null,null,null,{"$f":"IF(U202='Look-up Tables'!$A$3,5,IF(U202='Look-up Tables'!$A$4,4,IF(U202='Look-up Tables'!$A$5,3,IF(U202='Look-up Tables'!$A$6,2,IF(U202='Look-up Tables'!$A$7,1)))))","v":false},null,{"$f":"IF(W202='Look-up Tables'!$B$3,5,IF(W202='Look-up Tables'!$B$4,4,IF(W202='Look-up Tables'!$B$5,3,IF(W202='Look-up Tables'!$B$6,2,IF(W202='Look-up Tables'!$B$7,1)))))","v":false},null,{"$f":"IF(Y202='Look-up Tables'!$C$3,5,IF(Y202='Look-up Tables'!$C$4,4,IF(Y202='Look-up Tables'!$C$5,3,IF(Y202='Look-up Tables'!$C$6,2,IF(Y202='Look-up Tables'!$C$7,1)))))","v":false},{"$f":"IFERROR(VLOOKUP(AB202,'Look-up Tables'!$D$3:$E$127,2),\"\")","v":""},0]
[null,null,null,null,null,null,{"$f":"IF(F203='Look-up Tables'!$A$3,5,IF(F203='Look-up Tables'!$A$4,4,IF(F203='Look-up Tables'!$A$5,3,IF(F203='Look-up Tables'!$A$6,2,IF(F203='Look-up Tables'!$A$7,1)))))","v":false},null,null,{"$f":"IF(I203='Look-up Tables'!$B$3,5,IF(I203='Look-up Tables'!$B$4,4,IF(I203='Look-up Tables'!$B$5,3,IF(I203='Look-up Tables'!$B$6,2,IF(I203='Look-up Tables'!$B$7,1)))))","v":false},null,null,null,{"$f":"IF(M203='Look-up Tables'!$C$3,5,IF(M203='Look-up Tables'!$C$4,4,IF(M203='Look-up Tables'!$C$5,3,IF(M203='Look-up Tables'!$C$6,2,IF(M203='Look-up Tables'!$C$7,1)))))","v":false},{"$f":"IFERROR(VLOOKUP(P203,'Look-up Tables'!$D$3:$E$127,2),\"\")","v":""},0,null,null,null,null,null,{"$f":"IF(U203='Look-up Tables'!$A$3,5,IF(U203='Look-up Tables'!$A$4,4,IF(U203='Look-up Tables'!$A$5,3,IF(U203='Look-up Tables'!$A$6,2,IF(U203='Look-up Tables'!$A$7,1)))))","v":false},null,{"$f":"IF(W203='Look-up Tables'!$B$3,5,IF(W203='Look-up Tables'!$B$4,4,IF(W203='Look-up Tables'!$B$5,3,IF(W203='Look-up Tables'!$B$6,2,IF(W203='Look-up Tables'!$B$7,1)))))","v":false},null,{"$f":"IF(Y203='Look-up Tables'!$C$3,5,IF(Y203='Look-up Tables'!$C$4,4,IF(Y203='Look-up Tables'!$C$5,3,IF(Y203='Look-up Tables'!$C$6,2,IF(Y203='Look-up Tables'!$C$7,1)))))","v":false},{"$f":"IFERROR(VLOOKUP(AB203,'Look-up Tables'!$D$3:$E$127,2),\"\")","v":""},0]
[null,null,null,null,null,null,{"$f":"IF(F204='Look-up Tables'!$A$3,5,IF(F204='Look-up Tables'!$A$4,4,IF(F204='Look-up Tables'!$A$5,3,IF(F204='Look-up Tables'!$A$6,2,IF(F204='Look-up Tables'!$A$7,1)))))","v":false},null,null,{"$f":"IF(I204='Look-up Tables'!$B$3,5,IF(I204='Look-up Tables'!$B$4,4,IF(I204='Look-up Tables'!$B$5,3,IF(I204='Look-up Tables'!$B$6,2,IF(I204='Look-up Tables'!$B$7,1)))))","v":false},null,null,null,{"$f":"IF(M204='Look-up Tables'!$C$3,5,IF(M204='Look-up Tables'!$C$4,4,IF(M204='Look-up Tables'!$C$5,3,IF(M204='Look-up Tables'!$C$6,2,IF(M204='Look-up Tables'!$C$7,1)))))","v":false},{"$f":"IFERROR(VLOOKUP(P204,'Look-up Tables'!$D$3:$E$127,2),\"\")","v":""},0,null,null,null,null,null,{"$f":"IF(U204='Look-up Tables'!$A$3,5,IF(U204='Look-up Tables'!$A$4,4,IF(U204='Look-up Tables'!$A$5,3,IF(U204='Look-up Tables'!$A$6,2,IF(U204='Look-up Tables'!$A$7,1)))))","v":false},null,{"$f":"IF(W204='Look-up Tables'!$B$3,5,IF(W204='Look-up Tables'!$B$4,4,IF(W204='Look-up Tables'!$B$5,3,IF(W204='Look-up Tables'!$B$6,2,IF(W204='Look-up Tables'!$B$7,1)))))","v":false},null,{"$f":"IF(Y204='Look-up Tables'!$C$3,5,IF(Y204='Look-up Tables'!$C$4,4,IF(Y204='Look-up Tables'!$C$5,3,IF(Y204='Look-up Tables'!$C$6,2,IF(Y204='Look-up Tables'!$C$7,1)))))","v":false},{"$f":"IFERROR(VLOOKUP(AB204,'Look-up Tables'!$D$3:$E$127,2),\"\")","v":""},0]
[null,null,null,null,null,null,{"$f":"IF(F205='Look-up Tables'!$A$3,5,IF(F205='Look-up Tables'!$A$4,4,IF(F205='Look-up Tables'!$A$5,3,IF(F205='Look-up Tables'!$A$6,2,IF(F205='Look-up Tables'!$A$7,1)))))","v":false},null,null,{"$f":"IF(I205='Look-up Tables'!$B$3,5,IF(I205='Look-up Tables'!$B$4,4,IF(I205='Look-up Tables'!$B$5,3,IF(I205='Look-up Tables'!$B$6,2,IF(I205='Look-up Tables'!$B$7,1)))))","v":false},null,null,null,{"$f":"IF(M205='Look-up Tables'!$C$3,5,IF(M205='Look-up Tables'!$C$4,4,IF(M205='Look-up Tables'!$C$5,3,IF(M205='Look-up Tables'!$C$6,2,IF(M205='Look-up Tables'!$C$7,1)))))","v":false},{"$f":"IFERROR(VLOOKUP(P205,'Look-up Tables'!$D$3:$E$127,2),\"\")","v":""},0,null,null,null,null,null,{"$f":"IF(U205='Look-up Tables'!$A$3,5,IF(U205='Look-up Tables'!$A$4,4,IF(U205='Look-up Tables'!$A$5,3,IF(U205='Look-up Tables'!$A$6,2,IF(U205='Look-up Tables'!$A$7,1)))))","v":false},null,{"$f":"IF(W205='Look-up Tables'!$B$3,5,IF(W205='Look-up Tables'!$B$4,4,IF(W205='Look-up Tables'!$B$5,3,IF(W205='Look-up Tables'!$B$6,2,IF(W205='Look-up Tables'!$B$7,1)))))","v":false},null,{"$f":"IF(Y205='Look-up Tables'!$C$3,5,IF(Y205='Look-up Tables'!$C$4,4,IF(Y205='Look-up Tables'!$C$5,3,IF(Y205='Look-up Tables'!$C$6,2,IF(Y205='Look-up Tables'!$C$7,1)))))","v":false},{"$f":"IFERROR(VLOOKUP(AB205,'Look-up Tables'!$D$3:$E$127,2),\"\")","v":""},0]
[null,null,null,null,null,null,{"$f":"IF(F206='Look-up Tables'!$A$3,5,IF(F206='Look-up Tables'!$A$4,4,IF(F206='Look-up Tables'!$A$5,3,IF(F206='Look-up Tables'!$A$6,2,IF(F206='Look-up Tables'!$A$7,1)))))","v":false},null,null,{"$f":"IF(I206='Look-up Tables'!$B$3,5,IF(I206='Look-up Tables'!$B$4,4,IF(I206='Look-up Tables'!$B$5,3,IF(I206='Look-up Tables'!$B$6,2,IF(I206='Look-up Tables'!$B$7,1)))))","v":false},null,null,null,{"$f":"IF(M206='Look-up Tables'!$C$3,5,IF(M206='Look-up Tables'!$C$4,4,IF(M206='Look-up Tables'!$C$5,3,IF(M206='Look-up Tables'!$C$6,2,IF(M206='Look-up Tables'!$C$7,1)))))","v":false},{"$f":"IFERROR(VLOOKUP(P206,'Look-up Tables'!$D$3:$E$127,2),\"\")","v":""},0,null,null,null,null,null,{"$f":"IF(U206='Look-up Tables'!$A$3,5,IF(U206='Look-up Tables'!$A$4,4,IF(U206='Look-up Tables'!$A$5,3,IF(U206='Look-up Tables'!$A$6,2,IF(U206='Look-up Tables'!$A$7,1)))))","v":false},null,{"$f":"IF(W206='Look-up Tables'!$B$3,5,IF(W206='Look-up Tables'!$B$4,4,IF(W206='Look-up Tables'!$B$5,3,IF(W206='Look-up Tables'!$B$6,2,IF(W206='Look-up Tables'!$B$7,1)))))","v":false},null,{"$f":"IF(Y206='Look-up Tables'!$C$3,5,IF(Y206='Look-up Tables'!$C$4,4,IF(Y206='Look-up Tables'!$C$5,3,IF(Y206='Look-up Tables'!$C$6,2,IF(Y206='Look-up Tables'!$C$7,1)))))","v":false},{"$f":"IFERROR(VLOOKUP(AB206,'Look-up Tables'!$D$3:$E$127,2),\"\")","v":""},0]
[null,null,null,null,null,null,{"$f":"IF(F207='Look-up Tables'!$A$3,5,IF(F207='Look-up Tables'!$A$4,4,IF(F207='Look-up Tables'!$A$5,3,IF(F207='Look-up Tables'!$A$6,2,IF(F207='Look-up Tables'!$A$7,1)))))","v":false},null,null,{"$f":"IF(I207='Look-up Tables'!$B$3,5,IF(I207='Look-up Tables'!$B$4,4,IF(I207='Look-up Tables'!$B$5,3,IF(I207='Look-up Tables'!$B$6,2,IF(I207='Look-up Tables'!$B$7,1)))))","v":false},null,null,null,{"$f":"IF(M207='Look-up Tables'!$C$3,5,IF(M207='Look-up Tables'!$C$4,4,IF(M207='Look-up Tables'!$C$5,3,IF(M207='Look-up Tables'!$C$6,2,IF(M207='Look-up Tables'!$C$7,1)))))","v":false},{"$f":"IFERROR(VLOOKUP(P207,'Look-up Tables'!$D$3:$E$127,2),\"\")","v":""},0,null,null,null,null,null,{"$f":"IF(U207='Look-up Tables'!$A$3,5,IF(U207='Look-up Tables'!$A$4,4,IF(U207='Look-up Tables'!$A$5,3,IF(U207='Look-up Tables'!$A$6,2,IF(U207='Look-up Tables'!$A$7,1)))))","v":false},null,{"$f":"IF(W207='Look-up Tables'!$B$3,5,IF(W207='Look-up Tables'!$B$4,4,IF(W207='Look-up Tables'!$B$5,3,IF(W207='Look-up Tables'!$B$6,2,IF(W207='Look-up Tables'!$B$7,1)))))","v":false},null,{"$f":"IF(Y207='Look-up Tables'!$C$3,5,IF(Y207='Look-up Tables'!$C$4,4,IF(Y207='Look-up Tables'!$C$5,3,IF(Y207='Look-up Tables'!$C$6,2,IF(Y207='Look-up Tables'!$C$7,1)))))","v":false},{"$f":"IFERROR(VLOOKUP(AB207,'Look-up Tables'!$D$3:$E$127,2),\"\")","v":""},0]
[null,null,null,null,null,null,{"$f":"IF(F208='Look-up Tables'!$A$3,5,IF(F208='Look-up Tables'!$A$4,4,IF(F208='Look-up Tables'!$A$5,3,IF(F208='Look-up Tables'!$A$6,2,IF(F208='Look-up Tables'!$A$7,1)))))","v":false},null,null,{"$f":"IF(I208='Look-up Tables'!$B$3,5,IF(I208='Look-up Tables'!$B$4,4,IF(I208='Look-up Tables'!$B$5,3,IF(I208='Look-up Tables'!$B$6,2,IF(I208='Look-up Tables'!$B$7,1)))))","v":false},null,null,null,{"$f":"IF(M208='Look-up Tables'!$C$3,5,IF(M208='Look-up Tables'!$C$4,4,IF(M208='Look-up Tables'!$C$5,3,IF(M208='Look-up Tables'!$C$6,2,IF(M208='Look-up Tables'!$C$7,1)))))","v":false},{"$f":"IFERROR(VLOOKUP(P208,'Look-up Tables'!$D$3:$E$127,2),\"\")","v":""},0,null,null,null,null,null,{"$f":"IF(U208='Look-up Tables'!$A$3,5,IF(U208='Look-up Tables'!$A$4,4,IF(U208='Look-up Tables'!$A$5,3,IF(U208='Look-up Tables'!$A$6,2,IF(U208='Look-up Tables'!$A$7,1)))))","v":false},null,{"$f":"IF(W208='Look-up Tables'!$B$3,5,IF(W208='Look-up Tables'!$B$4,4,IF(W208='Look-up Tables'!$B$5,3,IF(W208='Look-up Tables'!$B$6,2,IF(W208='Look-up Tables'!$B$7,1)))))","v":false},null,{"$f":"IF(Y208='Look-up Tables'!$C$3,5,IF(Y208='Look-up Tables'!$C$4,4,IF(Y208='Look-up Tables'!$C$5,3,IF(Y208='Look-up Tables'!$C$6,2,IF(Y208='Look-up Tables'!$C$7,1)))))","v":false},{"$f":"IFERROR(VLOOKUP(AB208,'Look-up Tables'!$D$3:$E$127,2),\"\")","v":""},0]
[null,null,null,null,null,null,{"$f":"IF(F209='Look-up Tables'!$A$3,5,IF(F209='Look-up Tables'!$A$4,4,IF(F209='Look-up Tables'!$A$5,3,IF(F209='Look-up Tables'!$A$6,2,IF(F209='Look-up Tables'!$A$7,1)))))","v":false},null,null,{"$f":"IF(I209='Look-up Tables'!$B$3,5,IF(I209='Look-up Tables'!$B$4,4,IF(I209='Look-up Tables'!$B$5,3,IF(I209='Look-up Tables'!$B$6,2,IF(I209='Look-up Tables'!$B$7,1)))))","v":false},null,null,null,{"$f":"IF(M209='Look-up Tables'!$C$3,5,IF(M209='Look-up Tables'!$C$4,4,IF(M209='Look-up Tables'!$C$5,3,IF(M209='Look-up Tables'!$C$6,2,IF(M209='Look-up Tables'!$C$7,1)))))","v":false},{"$f":"IFERROR(VLOOKUP(P209,'Look-up Tables'!$D$3:$E$127,2),\"\")","v":""},0,null,null,null,null,null,{"$f":"IF(U209='Look-up Tables'!$A$3,5,IF(U209='Look-up Tables'!$A$4,4,IF(U209='Look-up Tables'!$A$5,3,IF(U209='Look-up Tables'!$A$6,2,IF(U209='Look-up Tables'!$A$7,1)))))","v":false},null,{"$f":"IF(W209='Look-up Tables'!$B$3,5,IF(W209='Look-up Tables'!$B$4,4,IF(W209='Look-up Tables'!$B$5,3,IF(W209='Look-up Tables'!$B$6,2,IF(W209='Look-up Tables'!$B$7,1)))))","v":false},null,{"$f":"IF(Y209='Look-up Tables'!$C$3,5,IF(Y209='Look-up Tables'!$C$4,4,IF(Y209='Look-up Tables'!$C$5,3,IF(Y209='Look-up Tables'!$C$6,2,IF(Y209='Look-up Tables'!$C$7,1)))))","v":false},{"$f":"IFERROR(VLOOKUP(AB209,'Look-up Tables'!$D$3:$E$127,2),\"\")","v":""},0]
[null,null,null,null,null,null,{"$f":"IF(F210='Look-up Tables'!$A$3,5,IF(F210='Look-up Tables'!$A$4,4,IF(F210='Look-up Tables'!$A$5,3,IF(F210='Look-up Tables'!$A$6,2,IF(F210='Look-up Tables'!$A$7,1)))))","v":false},null,null,{"$f":"IF(I210='Look-up Tables'!$B$3,5,IF(I210='Look-up Tables'!$B$4,4,IF(I210='Look-up Tables'!$B$5,3,IF(I210='Look-up Tables'!$B$6,2,IF(I210='Look-up Tables'!$B$7,1)))))","v":false},null,null,null,{"$f":"IF(M210='Look-up Tables'!$C$3,5,IF(M210='Look-up Tables'!$C$4,4,IF(M210='Look-up Tables'!$C$5,3,IF(M210='Look-up Tables'!$C$6,2,IF(M210='Look-up Tables'!$C$7,1)))))","v":false},{"$f":"IFERROR(VLOOKUP(P210,'Look-up Tables'!$D$3:$E$127,2),\"\")","v":""},0,null,null,null,null,null,{"$f":"IF(U210='Look-up Tables'!$A$3,5,IF(U210='Look-up Tables'!$A$4,4,IF(U210='Look-up Tables'!$A$5,3,IF(U210='Look-up Tables'!$A$6,2,IF(U210='Look-up Tables'!$A$7,1)))))","v":false},null,{"$f":"IF(W210='Look-up Tables'!$B$3,5,IF(W210='Look-up Tables'!$B$4,4,IF(W210='Look-up Tables'!$B$5,3,IF(W210='Look-up Tables'!$B$6,2,IF(W210='Look-up Tables'!$B$7,1)))))","v":false},null,{"$f":"IF(Y210='Look-up Tables'!$C$3,5,IF(Y210='Look-up Tables'!$C$4,4,IF(Y210='Look-up Tables'!$C$5,3,IF(Y210='Look-up Tables'!$C$6,2,IF(Y210='Look-up Tables'!$C$7,1)))))","v":false},{"$f":"IFERROR(VLOOKUP(AB210,'Look-up Tables'!$D$3:$E$127,2),\"\")","v":""},0]
[null,null,null,null,null,null,{"$f":"IF(F211='Look-up Tables'!$A$3,5,IF(F211='Look-up Tables'!$A$4,4,IF(F211='Look-up Tables'!$A$5,3,IF(F211='Look-up Tables'!$A$6,2,IF(F211='Look-up Tables'!$A$7,1)))))","v":false},null,null,{"$f":"IF(I211='Look-up Tables'!$B$3,5,IF(I211='Look-up Tables'!$B$4,4,IF(I211='Look-up Tables'!$B$5,3,IF(I211='Look-up Tables'!$B$6,2,IF(I211='Look-up Tables'!$B$7,1)))))","v":false},null,null,null,{"$f":"IF(M211='Look-up Tables'!$C$3,5,IF(M211='Look-up Tables'!$C$4,4,IF(M211='Look-up Tables'!$C$5,3,IF(M211='Look-up Tables'!$C$6,2,IF(M211='Look-up Tables'!$C$7,1)))))","v":false},{"$f":"IFERROR(VLOOKUP(P211,'Look-up Tables'!$D$3:$E$127,2),\"\")","v":""},0,null,null,null,null,null,{"$f":"IF(U211='Look-up Tables'!$A$3,5,IF(U211='Look-up Tables'!$A$4,4,IF(U211='Look-up Tables'!$A$5,3,IF(U211='Look-up Tables'!$A$6,2,IF(U211='Look-up Tables'!$A$7,1)))))","v":false},null,{"$f":"IF(W211='Look-up Tables'!$B$3,5,IF(W211='Look-up Tables'!$B$4,4,IF(W211='Look-up Tables'!$B$5,3,IF(W211='Look-up Tables'!$B$6,2,IF(W211='Look-up Tables'!$B$7,1)))))","v":false},null,{"$f":"IF(Y211='Look-up Tables'!$C$3,5,IF(Y211='Look-up Tables'!$C$4,4,IF(Y211='Look-up Tables'!$C$5,3,IF(Y211='Look-up Tables'!$C$6,2,IF(Y211='Look-up Tables'!$C$7,1)))))","v":false},{"$f":"IFERROR(VLOOKUP(AB211,'Look-up Tables'!$D$3:$E$127,2),\"\")","v":""},0]
[null,null,null,null,null,null,{"$f":"IF(F212='Look-up Tables'!$A$3,5,IF(F212='Look-up Tables'!$A$4,4,IF(F212='Look-up Tables'!$A$5,3,IF(F212='Look-up Tables'!$A$6,2,IF(F212='Look-up Tables'!$A$7,1)))))","v":false},null,null,{"$f":"IF(I212='Look-up Tables'!$B$3,5,IF(I212='Look-up Tables'!$B$4,4,IF(I212='Look-up Tables'!$B$5,3,IF(I212='Look-up Tables'!$B$6,2,IF(I212='Look-up Tables'!$B$7,1)))))","v":false},null,null,null,{"$f":"IF(M212='Look-up Tables'!$C$3,5,IF(M212='Look-up Tables'!$C$4,4,IF(M212='Look-up Tables'!$C$5,3,IF(M212='Look-up Tables'!$C$6,2,IF(M212='Look-up Tables'!$C$7,1)))))","v":false},{"$f":"IFERROR(VLOOKUP(P212,'Look-up Tables'!$D$3:$E$127,2),\"\")","v":""},0,null,null,null,null,null,{"$f":"IF(U212='Look-up Tables'!$A$3,5,IF(U212='Look-up Tables'!$A$4,4,IF(U212='Look-up Tables'!$A$5,3,IF(U212='Look-up Tables'!$A$6,2,IF(U212='Look-up Tables'!$A$7,1)))))","v":false},null,{"$f":"IF(W212='Look-up Tables'!$B$3,5,IF(W212='Look-up Tables'!$B$4,4,IF(W212='Look-up Tables'!$B$5,3,IF(W212='Look-up Tables'!$B$6,2,IF(W212='Look-up Tables'!$B$7,1)))))","v":false},null,{"$f":"IF(Y212='Look-up Tables'!$C$3,5,IF(Y212='Look-up Tables'!$C$4,4,IF(Y212='Look-up Tables'!$C$5,3,IF(Y212='Look-up Tables'!$C$6,2,IF(Y212='Look-up Tables'!$C$7,1)))))","v":false},{"$f":"IFERROR(VLOOKUP(AB212,'Look-up Tables'!$D$3:$E$127,2),\"\")","v":""},0]
[null,null,null,null,null,null,{"$f":"IF(F213='Look-up Tables'!$A$3,5,IF(F213='Look-up Tables'!$A$4,4,IF(F213='Look-up Tables'!$A$5,3,IF(F213='Look-up Tables'!$A$6,2,IF(F213='Look-up Tables'!$A$7,1)))))","v":false},null,null,{"$f":"IF(I213='Look-up Tables'!$B$3,5,IF(I213='Look-up Tables'!$B$4,4,IF(I213='Look-up Tables'!$B$5,3,IF(I213='Look-up Tables'!$B$6,2,IF(I213='Look-up Tables'!$B$7,1)))))","v":false},null,null,null,{"$f":"IF(M213='Look-up Tables'!$C$3,5,IF(M213='Look-up Tables'!$C$4,4,IF(M213='Look-up Tables'!$C$5,3,IF(M213='Look-up Tables'!$C$6,2,IF(M213='Look-up Tables'!$C$7,1)))))","v":false},{"$f":"IFERROR(VLOOKUP(P213,'Look-up Tables'!$D$3:$E$127,2),\"\")","v":""},0,null,null,null,null,null,{"$f":"IF(U213='Look-up Tables'!$A$3,5,IF(U213='Look-up Tables'!$A$4,4,IF(U213='Look-up Tables'!$A$5,3,IF(U213='Look-up Tables'!$A$6,2,IF(U213='Look-up Tables'!$A$7,1)))))","v":false},null,{"$f":"IF(W213='Look-up Tables'!$B$3,5,IF(W213='Look-up Tables'!$B$4,4,IF(W213='Look-up Tables'!$B$5,3,IF(W213='Look-up Tables'!$B$6,2,IF(W213='Look-up Tables'!$B$7,1)))))","v":false},null,{"$f":"IF(Y213='Look-up Tables'!$C$3,5,IF(Y213='Look-up Tables'!$C$4,4,IF(Y213='Look-up Tables'!$C$5,3,IF(Y213='Look-up Tables'!$C$6,2,IF(Y213='Look-up Tables'!$C$7,1)))))","v":false},{"$f":"IFERROR(VLOOKUP(AB213,'Look-up Tables'!$D$3:$E$127,2),\"\")","v":""},0]
[null,null,null,null,null,null,{"$f":"IF(F214='Look-up Tables'!$A$3,5,IF(F214='Look-up Tables'!$A$4,4,IF(F214='Look-up Tables'!$A$5,3,IF(F214='Look-up Tables'!$A$6,2,IF(F214='Look-up Tables'!$A$7,1)))))","v":false},null,null,{"$f":"IF(I214='Look-up Tables'!$B$3,5,IF(I214='Look-up Tables'!$B$4,4,IF(I214='Look-up Tables'!$B$5,3,IF(I214='Look-up Tables'!$B$6,2,IF(I214='Look-up Tables'!$B$7,1)))))","v":false},null,null,null,{"$f":"IF(M214='Look-up Tables'!$C$3,5,IF(M214='Look-up Tables'!$C$4,4,IF(M214='Look-up Tables'!$C$5,3,IF(M214='Look-up Tables'!$C$6,2,IF(M214='Look-up Tables'!$C$7,1)))))","v":false},{"$f":"IFERROR(VLOOKUP(P214,'Look-up Tables'!$D$3:$E$127,2),\"\")","v":""},0,null,null,null,null,null,{"$f":"IF(U214='Look-up Tables'!$A$3,5,IF(U214='Look-up Tables'!$A$4,4,IF(U214='Look-up Tables'!$A$5,3,IF(U214='Look-up Tables'!$A$6,2,IF(U214='Look-up Tables'!$A$7,1)))))","v":false},null,{"$f":"IF(W214='Look-up Tables'!$B$3,5,IF(W214='Look-up Tables'!$B$4,4,IF(W214='Look-up Tables'!$B$5,3,IF(W214='Look-up Tables'!$B$6,2,IF(W214='Look-up Tables'!$B$7,1)))))","v":false},null,{"$f":"IF(Y214='Look-up Tables'!$C$3,5,IF(Y214='Look-up Tables'!$C$4,4,IF(Y214='Look-up Tables'!$C$5,3,IF(Y214='Look-up Tables'!$C$6,2,IF(Y214='Look-up Tables'!$C$7,1)))))","v":false},{"$f":"IFERROR(VLOOKUP(AB214,'Look-up Tables'!$D$3:$E$127,2),\"\")","v":""},0]
[null,null,null,null,null,null,{"$f":"IF(F215='Look-up Tables'!$A$3,5,IF(F215='Look-up Tables'!$A$4,4,IF(F215='Look-up Tables'!$A$5,3,IF(F215='Look-up Tables'!$A$6,2,IF(F215='Look-up Tables'!$A$7,1)))))","v":false},null,null,{"$f":"IF(I215='Look-up Tables'!$B$3,5,IF(I215='Look-up Tables'!$B$4,4,IF(I215='Look-up Tables'!$B$5,3,IF(I215='Look-up Tables'!$B$6,2,IF(I215='Look-up Tables'!$B$7,1)))))","v":false},null,null,null,{"$f":"IF(M215='Look-up Tables'!$C$3,5,IF(M215='Look-up Tables'!$C$4,4,IF(M215='Look-up Tables'!$C$5,3,IF(M215='Look-up Tables'!$C$6,2,IF(M215='Look-up Tables'!$C$7,1)))))","v":false},{"$f":"IFERROR(VLOOKUP(P215,'Look-up Tables'!$D$3:$E$127,2),\"\")","v":""},0,null,null,null,null,null,{"$f":"IF(U215='Look-up Tables'!$A$3,5,IF(U215='Look-up Tables'!$A$4,4,IF(U215='Look-up Tables'!$A$5,3,IF(U215='Look-up Tables'!$A$6,2,IF(U215='Look-up Tables'!$A$7,1)))))","v":false},null,{"$f":"IF(W215='Look-up Tables'!$B$3,5,IF(W215='Look-up Tables'!$B$4,4,IF(W215='Look-up Tables'!$B$5,3,IF(W215='Look-up Tables'!$B$6,2,IF(W215='Look-up Tables'!$B$7,1)))))","v":false},null,{"$f":"IF(Y215='Look-up Tables'!$C$3,5,IF(Y215='Look-up Tables'!$C$4,4,IF(Y215='Look-up Tables'!$C$5,3,IF(Y215='Look-up Tables'!$C$6,2,IF(Y215='Look-up Tables'!$C$7,1)))))","v":false},{"$f":"IFERROR(VLOOKUP(AB215,'Look-up Tables'!$D$3:$E$127,2),\"\")","v":""},0]
[null,null,null,null,null,null,{"$f":"IF(F216='Look-up Tables'!$A$3,5,IF(F216='Look-up Tables'!$A$4,4,IF(F216='Look-up Tables'!$A$5,3,IF(F216='Look-up Tables'!$A$6,2,IF(F216='Look-up Tables'!$A$7,1)))))","v":false},null,null,{"$f":"IF(I216='Look-up Tables'!$B$3,5,IF(I216='Look-up Tables'!$B$4,4,IF(I216='Look-up Tables'!$B$5,3,IF(I216='Look-up Tables'!$B$6,2,IF(I216='Look-up Tables'!$B$7,1)))))","v":false},null,null,null,{"$f":"IF(M216='Look-up Tables'!$C$3,5,IF(M216='Look-up Tables'!$C$4,4,IF(M216='Look-up Tables'!$C$5,3,IF(M216='Look-up Tables'!$C$6,2,IF(M216='Look-up Tables'!$C$7,1)))))","v":false},{"$f":"IFERROR(VLOOKUP(P216,'Look-up Tables'!$D$3:$E$127,2),\"\")","v":""},0,null,null,null,null,null,{"$f":"IF(U216='Look-up Tables'!$A$3,5,IF(U216='Look-up Tables'!$A$4,4,IF(U216='Look-up Tables'!$A$5,3,IF(U216='Look-up Tables'!$A$6,2,IF(U216='Look-up Tables'!$A$7,1)))))","v":false},null,{"$f":"IF(W216='Look-up Tables'!$B$3,5,IF(W216='Look-up Tables'!$B$4,4,IF(W216='Look-up Tables'!$B$5,3,IF(W216='Look-up Tables'!$B$6,2,IF(W216='Look-up Tables'!$B$7,1)))))","v":false},null,{"$f":"IF(Y216='Look-up Tables'!$C$3,5,IF(Y216='Look-up Tables'!$C$4,4,IF(Y216='Look-up Tables'!$C$5,3,IF(Y216='Look-up Tables'!$C$6,2,IF(Y216='Look-up Tables'!$C$7,1)))))","v":false},{"$f":"IFERROR(VLOOKUP(AB216,'Look-up Tables'!$D$3:$E$127,2),\"\")","v":""},0]
[null,null,null,null,null,null,{"$f":"IF(F217='Look-up Tables'!$A$3,5,IF(F217='Look-up Tables'!$A$4,4,IF(F217='Look-up Tables'!$A$5,3,IF(F217='Look-up Tables'!$A$6,2,IF(F217='Look-up Tables'!$A$7,1)))))","v":false},null,null,{"$f":"IF(I217='Look-up Tables'!$B$3,5,IF(I217='Look-up Tables'!$B$4,4,IF(I217='Look-up Tables'!$B$5,3,IF(I217='Look-up Tables'!$B$6,2,IF(I217='Look-up Tables'!$B$7,1)))))","v":false},null,null,null,{"$f":"IF(M217='Look-up Tables'!$C$3,5,IF(M217='Look-up Tables'!$C$4,4,IF(M217='Look-up Tables'!$C$5,3,IF(M217='Look-up Tables'!$C$6,2,IF(M217='Look-up Tables'!$C$7,1)))))","v":false},{"$f":"IFERROR(VLOOKUP(P217,'Look-up Tables'!$D$3:$E$127,2),\"\")","v":""},0,null,null,null,null,null,{"$f":"IF(U217='Look-up Tables'!$A$3,5,IF(U217='Look-up Tables'!$A$4,4,IF(U217='Look-up Tables'!$A$5,3,IF(U217='Look-up Tables'!$A$6,2,IF(U217='Look-up Tables'!$A$7,1)))))","v":false},null,{"$f":"IF(W217='Look-up Tables'!$B$3,5,IF(W217='Look-up Tables'!$B$4,4,IF(W217='Look-up Tables'!$B$5,3,IF(W217='Look-up Tables'!$B$6,2,IF(W217='Look-up Tables'!$B$7,1)))))","v":false},null,{"$f":"IF(Y217='Look-up Tables'!$C$3,5,IF(Y217='Look-up Tables'!$C$4,4,IF(Y217='Look-up Tables'!$C$5,3,IF(Y217='Look-up Tables'!$C$6,2,IF(Y217='Look-up Tables'!$C$7,1)))))","v":false},{"$f":"IFERROR(VLOOKUP(AB217,'Look-up Tables'!$D$3:$E$127,2),\"\")","v":""},0]
[null,null,null,null,null,null,{"$f":"IF(F218='Look-up Tables'!$A$3,5,IF(F218='Look-up Tables'!$A$4,4,IF(F218='Look-up Tables'!$A$5,3,IF(F218='Look-up Tables'!$A$6,2,IF(F218='Look-up Tables'!$A$7,1)))))","v":false},null,null,{"$f":"IF(I218='Look-up Tables'!$B$3,5,IF(I218='Look-up Tables'!$B$4,4,IF(I218='Look-up Tables'!$B$5,3,IF(I218='Look-up Tables'!$B$6,2,IF(I218='Look-up Tables'!$B$7,1)))))","v":false},null,null,null,{"$f":"IF(M218='Look-up Tables'!$C$3,5,IF(M218='Look-up Tables'!$C$4,4,IF(M218='Look-up Tables'!$C$5,3,IF(M218='Look-up Tables'!$C$6,2,IF(M218='Look-up Tables'!$C$7,1)))))","v":false},{"$f":"IFERROR(VLOOKUP(P218,'Look-up Tables'!$D$3:$E$127,2),\"\")","v":""},0,null,null,null,null,null,{"$f":"IF(U218='Look-up Tables'!$A$3,5,IF(U218='Look-up Tables'!$A$4,4,IF(U218='Look-up Tables'!$A$5,3,IF(U218='Look-up Tables'!$A$6,2,IF(U218='Look-up Tables'!$A$7,1)))))","v":false},null,{"$f":"IF(W218='Look-up Tables'!$B$3,5,IF(W218='Look-up Tables'!$B$4,4,IF(W218='Look-up Tables'!$B$5,3,IF(W218='Look-up Tables'!$B$6,2,IF(W218='Look-up Tables'!$B$7,1)))))","v":false},null,{"$f":"IF(Y218='Look-up Tables'!$C$3,5,IF(Y218='Look-up Tables'!$C$4,4,IF(Y218='Look-up Tables'!$C$5,3,IF(Y218='Look-up Tables'!$C$6,2,IF(Y218='Look-up Tables'!$C$7,1)))))","v":false},{"$f":"IFERROR(VLOOKUP(AB218,'Look-up Tables'!$D$3:$E$127,2),\"\")","v":""},0]
[null,null,null,null,null,null,{"$f":"IF(F219='Look-up Tables'!$A$3,5,IF(F219='Look-up Tables'!$A$4,4,IF(F219='Look-up Tables'!$A$5,3,IF(F219='Look-up Tables'!$A$6,2,IF(F219='Look-up Tables'!$A$7,1)))))","v":false},null,null,{"$f":"IF(I219='Look-up Tables'!$B$3,5,IF(I219='Look-up Tables'!$B$4,4,IF(I219='Look-up Tables'!$B$5,3,IF(I219='Look-up Tables'!$B$6,2,IF(I219='Look-up Tables'!$B$7,1)))))","v":false},null,null,null,{"$f":"IF(M219='Look-up Tables'!$C$3,5,IF(M219='Look-up Tables'!$C$4,4,IF(M219='Look-up Tables'!$C$5,3,IF(M219='Look-up Tables'!$C$6,2,IF(M219='Look-up Tables'!$C$7,1)))))","v":false},{"$f":"IFERROR(VLOOKUP(P219,'Look-up Tables'!$D$3:$E$127,2),\"\")","v":""},0,null,null,null,null,null,{"$f":"IF(U219='Look-up Tables'!$A$3,5,IF(U219='Look-up Tables'!$A$4,4,IF(U219='Look-up Tables'!$A$5,3,IF(U219='Look-up Tables'!$A$6,2,IF(U219='Look-up Tables'!$A$7,1)))))","v":false},null,{"$f":"IF(W219='Look-up Tables'!$B$3,5,IF(W219='Look-up Tables'!$B$4,4,IF(W219='Look-up Tables'!$B$5,3,IF(W219='Look-up Tables'!$B$6,2,IF(W219='Look-up Tables'!$B$7,1)))))","v":false},null,{"$f":"IF(Y219='Look-up Tables'!$C$3,5,IF(Y219='Look-up Tables'!$C$4,4,IF(Y219='Look-up Tables'!$C$5,3,IF(Y219='Look-up Tables'!$C$6,2,IF(Y219='Look-up Tables'!$C$7,1)))))","v":false},{"$f":"IFERROR(VLOOKUP(AB219,'Look-up Tables'!$D$3:$E$127,2),\"\")","v":""},0]
[null,null,null,null,null,null,{"$f":"IF(F220='Look-up Tables'!$A$3,5,IF(F220='Look-up Tables'!$A$4,4,IF(F220='Look-up Tables'!$A$5,3,IF(F220='Look-up Tables'!$A$6,2,IF(F220='Look-up Tables'!$A$7,1)))))","v":false},null,null,{"$f":"IF(I220='Look-up Tables'!$B$3,5,IF(I220='Look-up Tables'!$B$4,4,IF(I220='Look-up Tables'!$B$5,3,IF(I220='Look-up Tables'!$B$6,2,IF(I220='Look-up Tables'!$B$7,1)))))","v":false},null,null,null,{"$f":"IF(M220='Look-up Tables'!$C$3,5,IF(M220='Look-up Tables'!$C$4,4,IF(M220='Look-up Tables'!$C$5,3,IF(M220='Look-up Tables'!$C$6,2,IF(M220='Look-up Tables'!$C$7,1)))))","v":false},{"$f":"IFERROR(VLOOKUP(P220,'Look-up Tables'!$D$3:$E$127,2),\"\")","v":""},0,null,null,null,null,null,{"$f":"IF(U220='Look-up Tables'!$A$3,5,IF(U220='Look-up Tables'!$A$4,4,IF(U220='Look-up Tables'!$A$5,3,IF(U220='Look-up Tables'!$A$6,2,IF(U220='Look-up Tables'!$A$7,1)))))","v":false},null,{"$f":"IF(W220='Look-up Tables'!$B$3,5,IF(W220='Look-up Tables'!$B$4,4,IF(W220='Look-up Tables'!$B$5,3,IF(W220='Look-up Tables'!$B$6,2,IF(W220='Look-up Tables'!$B$7,1)))))","v":false},null,{"$f":"IF(Y220='Look-up Tables'!$C$3,5,IF(Y220='Look-up Tables'!$C$4,4,IF(Y220='Look-up Tables'!$C$5,3,IF(Y220='Look-up Tables'!$C$6,2,IF(Y220='Look-up Tables'!$C$7,1)))))","v":false},{"$f":"IFERROR(VLOOKUP(AB220,'Look-up Tables'!$D$3:$E$127,2),\"\")","v":""},0]
[null,null,null,null,null,null,{"$f":"IF(F221='Look-up Tables'!$A$3,5,IF(F221='Look-up Tables'!$A$4,4,IF(F221='Look-up Tables'!$A$5,3,IF(F221='Look-up Tables'!$A$6,2,IF(F221='Look-up Tables'!$A$7,1)))))","v":false},null,null,{"$f":"IF(I221='Look-up Tables'!$B$3,5,IF(I221='Look-up Tables'!$B$4,4,IF(I221='Look-up Tables'!$B$5,3,IF(I221='Look-up Tables'!$B$6,2,IF(I221='Look-up Tables'!$B$7,1)))))","v":false},null,null,null,{"$f":"IF(M221='Look-up Tables'!$C$3,5,IF(M221='Look-up Tables'!$C$4,4,IF(M221='Look-up Tables'!$C$5,3,IF(M221='Look-up Tables'!$C$6,2,IF(M221='Look-up Tables'!$C$7,1)))))","v":false},{"$f":"IFERROR(VLOOKUP(P221,'Look-up Tables'!$D$3:$E$127,2),\"\")","v":""},0,null,null,null,null,null,{"$f":"IF(U221='Look-up Tables'!$A$3,5,IF(U221='Look-up Tables'!$A$4,4,IF(U221='Look-up Tables'!$A$5,3,IF(U221='Look-up Tables'!$A$6,2,IF(U221='Look-up Tables'!$A$7,1)))))","v":false},null,{"$f":"IF(W221='Look-up Tables'!$B$3,5,IF(W221='Look-up Tables'!$B$4,4,IF(W221='Look-up Tables'!$B$5,3,IF(W221='Look-up Tables'!$B$6,2,IF(W221='Look-up Tables'!$B$7,1)))))","v":false},null,{"$f":"IF(Y221='Look-up Tables'!$C$3,5,IF(Y221='Look-up Tables'!$C$4,4,IF(Y221='Look-up Tables'!$C$5,3,IF(Y221='Look-up Tables'!$C$6,2,IF(Y221='Look-up Tables'!$C$7,1)))))","v":false},{"$f":"IFERROR(VLOOKUP(AB221,'Look-up Tables'!$D$3:$E$127,2),\"\")","v":""},0]
[null,null,null,null,null,null,{"$f":"IF(F222='Look-up Tables'!$A$3,5,IF(F222='Look-up Tables'!$A$4,4,IF(F222='Look-up Tables'!$A$5,3,IF(F222='Look-up Tables'!$A$6,2,IF(F222='Look-up Tables'!$A$7,1)))))","v":false},null,null,{"$f":"IF(I222='Look-up Tables'!$B$3,5,IF(I222='Look-up Tables'!$B$4,4,IF(I222='Look-up Tables'!$B$5,3,IF(I222='Look-up Tables'!$B$6,2,IF(I222='Look-up Tables'!$B$7,1)))))","v":false},null,null,null,{"$f":"IF(M222='Look-up Tables'!$C$3,5,IF(M222='Look-up Tables'!$C$4,4,IF(M222='Look-up Tables'!$C$5,3,IF(M222='Look-up Tables'!$C$6,2,IF(M222='Look-up Tables'!$C$7,1)))))","v":false},{"$f":"IFERROR(VLOOKUP(P222,'Look-up Tables'!$D$3:$E$127,2),\"\")","v":""},0,null,null,null,null,null,{"$f":"IF(U222='Look-up Tables'!$A$3,5,IF(U222='Look-up Tables'!$A$4,4,IF(U222='Look-up Tables'!$A$5,3,IF(U222='Look-up Tables'!$A$6,2,IF(U222='Look-up Tables'!$A$7,1)))))","v":false},null,{"$f":"IF(W222='Look-up Tables'!$B$3,5,IF(W222='Look-up Tables'!$B$4,4,IF(W222='Look-up Tables'!$B$5,3,IF(W222='Look-up Tables'!$B$6,2,IF(W222='Look-up Tables'!$B$7,1)))))","v":false},null,{"$f":"IF(Y222='Look-up Tables'!$C$3,5,IF(Y222='Look-up Tables'!$C$4,4,IF(Y222='Look-up Tables'!$C$5,3,IF(Y222='Look-up Tables'!$C$6,2,IF(Y222='Look-up Tables'!$C$7,1)))))","v":false},{"$f":"IFERROR(VLOOKUP(AB222,'Look-up Tables'!$D$3:$E$127,2),\"\")","v":""},0]
[null,null,null,null,null,null,{"$f":"IF(F223='Look-up Tables'!$A$3,5,IF(F223='Look-up Tables'!$A$4,4,IF(F223='Look-up Tables'!$A$5,3,IF(F223='Look-up Tables'!$A$6,2,IF(F223='Look-up Tables'!$A$7,1)))))","v":false},null,null,{"$f":"IF(I223='Look-up Tables'!$B$3,5,IF(I223='Look-up Tables'!$B$4,4,IF(I223='Look-up Tables'!$B$5,3,IF(I223='Look-up Tables'!$B$6,2,IF(I223='Look-up Tables'!$B$7,1)))))","v":false},null,null,null,{"$f":"IF(M223='Look-up Tables'!$C$3,5,IF(M223='Look-up Tables'!$C$4,4,IF(M223='Look-up Tables'!$C$5,3,IF(M223='Look-up Tables'!$C$6,2,IF(M223='Look-up Tables'!$C$7,1)))))","v":false},{"$f":"IFERROR(VLOOKUP(P223,'Look-up Tables'!$D$3:$E$127,2),\"\")","v":""},0,null,null,null,null,null,{"$f":"IF(U223='Look-up Tables'!$A$3,5,IF(U223='Look-up Tables'!$A$4,4,IF(U223='Look-up Tables'!$A$5,3,IF(U223='Look-up Tables'!$A$6,2,IF(U223='Look-up Tables'!$A$7,1)))))","v":false},null,{"$f":"IF(W223='Look-up Tables'!$B$3,5,IF(W223='Look-up Tables'!$B$4,4,IF(W223='Look-up Tables'!$B$5,3,IF(W223='Look-up Tables'!$B$6,2,IF(W223='Look-up Tables'!$B$7,1)))))","v":false},null,{"$f":"IF(Y223='Look-up Tables'!$C$3,5,IF(Y223='Look-up Tables'!$C$4,4,IF(Y223='Look-up Tables'!$C$5,3,IF(Y223='Look-up Tables'!$C$6,2,IF(Y223='Look-up Tables'!$C$7,1)))))","v":false},{"$f":"IFERROR(VLOOKUP(AB223,'Look-up Tables'!$D$3:$E$127,2),\"\")","v":""},0]
[null,null,null,null,null,null,{"$f":"IF(F224='Look-up Tables'!$A$3,5,IF(F224='Look-up Tables'!$A$4,4,IF(F224='Look-up Tables'!$A$5,3,IF(F224='Look-up Tables'!$A$6,2,IF(F224='Look-up Tables'!$A$7,1)))))","v":false},null,null,{"$f":"IF(I224='Look-up Tables'!$B$3,5,IF(I224='Look-up Tables'!$B$4,4,IF(I224='Look-up Tables'!$B$5,3,IF(I224='Look-up Tables'!$B$6,2,IF(I224='Look-up Tables'!$B$7,1)))))","v":false},null,null,null,{"$f":"IF(M224='Look-up Tables'!$C$3,5,IF(M224='Look-up Tables'!$C$4,4,IF(M224='Look-up Tables'!$C$5,3,IF(M224='Look-up Tables'!$C$6,2,IF(M224='Look-up Tables'!$C$7,1)))))","v":false},{"$f":"IFERROR(VLOOKUP(P224,'Look-up Tables'!$D$3:$E$127,2),\"\")","v":""},0,null,null,null,null,null,{"$f":"IF(U224='Look-up Tables'!$A$3,5,IF(U224='Look-up Tables'!$A$4,4,IF(U224='Look-up Tables'!$A$5,3,IF(U224='Look-up Tables'!$A$6,2,IF(U224='Look-up Tables'!$A$7,1)))))","v":false},null,{"$f":"IF(W224='Look-up Tables'!$B$3,5,IF(W224='Look-up Tables'!$B$4,4,IF(W224='Look-up Tables'!$B$5,3,IF(W224='Look-up Tables'!$B$6,2,IF(W224='Look-up Tables'!$B$7,1)))))","v":false},null,{"$f":"IF(Y224='Look-up Tables'!$C$3,5,IF(Y224='Look-up Tables'!$C$4,4,IF(Y224='Look-up Tables'!$C$5,3,IF(Y224='Look-up Tables'!$C$6,2,IF(Y224='Look-up Tables'!$C$7,1)))))","v":false},{"$f":"IFERROR(VLOOKUP(AB224,'Look-up Tables'!$D$3:$E$127,2),\"\")","v":""},0]
[null,null,null,null,null,null,{"$f":"IF(F225='Look-up Tables'!$A$3,5,IF(F225='Look-up Tables'!$A$4,4,IF(F225='Look-up Tables'!$A$5,3,IF(F225='Look-up Tables'!$A$6,2,IF(F225='Look-up Tables'!$A$7,1)))))","v":false},null,null,{"$f":"IF(I225='Look-up Tables'!$B$3,5,IF(I225='Look-up Tables'!$B$4,4,IF(I225='Look-up Tables'!$B$5,3,IF(I225='Look-up Tables'!$B$6,2,IF(I225='Look-up Tables'!$B$7,1)))))","v":false},null,null,null,{"$f":"IF(M225='Look-up Tables'!$C$3,5,IF(M225='Look-up Tables'!$C$4,4,IF(M225='Look-up Tables'!$C$5,3,IF(M225='Look-up Tables'!$C$6,2,IF(M225='Look-up Tables'!$C$7,1)))))","v":false},{"$f":"IFERROR(VLOOKUP(P225,'Look-up Tables'!$D$3:$E$127,2),\"\")","v":""},0,null,null,null,null,null,{"$f":"IF(U225='Look-up Tables'!$A$3,5,IF(U225='Look-up Tables'!$A$4,4,IF(U225='Look-up Tables'!$A$5,3,IF(U225='Look-up Tables'!$A$6,2,IF(U225='Look-up Tables'!$A$7,1)))))","v":false},null,{"$f":"IF(W225='Look-up Tables'!$B$3,5,IF(W225='Look-up Tables'!$B$4,4,IF(W225='Look-up Tables'!$B$5,3,IF(W225='Look-up Tables'!$B$6,2,IF(W225='Look-up Tables'!$B$7,1)))))","v":false},null,{"$f":"IF(Y225='Look-up Tables'!$C$3,5,IF(Y225='Look-up Tables'!$C$4,4,IF(Y225='Look-up Tables'!$C$5,3,IF(Y225='Look-up Tables'!$C$6,2,IF(Y225='Look-up Tables'!$C$7,1)))))","v":false},{"$f":"IFERROR(VLOOKUP(AB225,'Look-up Tables'!$D$3:$E$127,2),\"\")","v":""},0]
[null,null,null,null,null,null,{"$f":"IF(F226='Look-up Tables'!$A$3,5,IF(F226='Look-up Tables'!$A$4,4,IF(F226='Look-up Tables'!$A$5,3,IF(F226='Look-up Tables'!$A$6,2,IF(F226='Look-up Tables'!$A$7,1)))))","v":false},null,null,{"$f":"IF(I226='Look-up Tables'!$B$3,5,IF(I226='Look-up Tables'!$B$4,4,IF(I226='Look-up Tables'!$B$5,3,IF(I226='Look-up Tables'!$B$6,2,IF(I226='Look-up Tables'!$B$7,1)))))","v":false},null,null,null,{"$f":"IF(M226='Look-up Tables'!$C$3,5,IF(M226='Look-up Tables'!$C$4,4,IF(M226='Look-up Tables'!$C$5,3,IF(M226='Look-up Tables'!$C$6,2,IF(M226='Look-up Tables'!$C$7,1)))))","v":false},{"$f":"IFERROR(VLOOKUP(P226,'Look-up Tables'!$D$3:$E$127,2),\"\")","v":""},0,null,null,null,null,null,{"$f":"IF(U226='Look-up Tables'!$A$3,5,IF(U226='Look-up Tables'!$A$4,4,IF(U226='Look-up Tables'!$A$5,3,IF(U226='Look-up Tables'!$A$6,2,IF(U226='Look-up Tables'!$A$7,1)))))","v":false},null,{"$f":"IF(W226='Look-up Tables'!$B$3,5,IF(W226='Look-up Tables'!$B$4,4,IF(W226='Look-up Tables'!$B$5,3,IF(W226='Look-up Tables'!$B$6,2,IF(W226='Look-up Tables'!$B$7,1)))))","v":false},null,{"$f":"IF(Y226='Look-up Tables'!$C$3,5,IF(Y226='Look-up Tables'!$C$4,4,IF(Y226='Look-up Tables'!$C$5,3,IF(Y226='Look-up Tables'!$C$6,2,IF(Y226='Look-up Tables'!$C$7,1)))))","v":false},{"$f":"IFERROR(VLOOKUP(AB226,'Look-up Tables'!$D$3:$E$127,2),\"\")","v":""},0]
[null,null,null,null,null,null,{"$f":"IF(F227='Look-up Tables'!$A$3,5,IF(F227='Look-up Tables'!$A$4,4,IF(F227='Look-up Tables'!$A$5,3,IF(F227='Look-up Tables'!$A$6,2,IF(F227='Look-up Tables'!$A$7,1)))))","v":false},null,null,{"$f":"IF(I227='Look-up Tables'!$B$3,5,IF(I227='Look-up Tables'!$B$4,4,IF(I227='Look-up Tables'!$B$5,3,IF(I227='Look-up Tables'!$B$6,2,IF(I227='Look-up Tables'!$B$7,1)))))","v":false},null,null,null,{"$f":"IF(M227='Look-up Tables'!$C$3,5,IF(M227='Look-up Tables'!$C$4,4,IF(M227='Look-up Tables'!$C$5,3,IF(M227='Look-up Tables'!$C$6,2,IF(M227='Look-up Tables'!$C$7,1)))))","v":false},{"$f":"IFERROR(VLOOKUP(P227,'Look-up Tables'!$D$3:$E$127,2),\"\")","v":""},0,null,null,null,null,null,{"$f":"IF(U227='Look-up Tables'!$A$3,5,IF(U227='Look-up Tables'!$A$4,4,IF(U227='Look-up Tables'!$A$5,3,IF(U227='Look-up Tables'!$A$6,2,IF(U227='Look-up Tables'!$A$7,1)))))","v":false},null,{"$f":"IF(W227='Look-up Tables'!$B$3,5,IF(W227='Look-up Tables'!$B$4,4,IF(W227='Look-up Tables'!$B$5,3,IF(W227='Look-up Tables'!$B$6,2,IF(W227='Look-up Tables'!$B$7,1)))))","v":false},null,{"$f":"IF(Y227='Look-up Tables'!$C$3,5,IF(Y227='Look-up Tables'!$C$4,4,IF(Y227='Look-up Tables'!$C$5,3,IF(Y227='Look-up Tables'!$C$6,2,IF(Y227='Look-up Tables'!$C$7,1)))))","v":false},{"$f":"IFERROR(VLOOKUP(AB227,'Look-up Tables'!$D$3:$E$127,2),\"\")","v":""},0]
[null,null,null,null,null,null,{"$f":"IF(F228='Look-up Tables'!$A$3,5,IF(F228='Look-up Tables'!$A$4,4,IF(F228='Look-up Tables'!$A$5,3,IF(F228='Look-up Tables'!$A$6,2,IF(F228='Look-up Tables'!$A$7,1)))))","v":false},null,null,{"$f":"IF(I228='Look-up Tables'!$B$3,5,IF(I228='Look-up Tables'!$B$4,4,IF(I228='Look-up Tables'!$B$5,3,IF(I228='Look-up Tables'!$B$6,2,IF(I228='Look-up Tables'!$B$7,1)))))","v":false},null,null,null,{"$f":"IF(M228='Look-up Tables'!$C$3,5,IF(M228='Look-up Tables'!$C$4,4,IF(M228='Look-up Tables'!$C$5,3,IF(M228='Look-up Tables'!$C$6,2,IF(M228='Look-up Tables'!$C$7,1)))))","v":false},{"$f":"IFERROR(VLOOKUP(P228,'Look-up Tables'!$D$3:$E$127,2),\"\")","v":""},0,null,null,null,null,null,{"$f":"IF(U228='Look-up Tables'!$A$3,5,IF(U228='Look-up Tables'!$A$4,4,IF(U228='Look-up Tables'!$A$5,3,IF(U228='Look-up Tables'!$A$6,2,IF(U228='Look-up Tables'!$A$7,1)))))","v":false},null,{"$f":"IF(W228='Look-up Tables'!$B$3,5,IF(W228='Look-up Tables'!$B$4,4,IF(W228='Look-up Tables'!$B$5,3,IF(W228='Look-up Tables'!$B$6,2,IF(W228='Look-up Tables'!$B$7,1)))))","v":false},null,{"$f":"IF(Y228='Look-up Tables'!$C$3,5,IF(Y228='Look-up Tables'!$C$4,4,IF(Y228='Look-up Tables'!$C$5,3,IF(Y228='Look-up Tables'!$C$6,2,IF(Y228='Look-up Tables'!$C$7,1)))))","v":false},{"$f":"IFERROR(VLOOKUP(AB228,'Look-up Tables'!$D$3:$E$127,2),\"\")","v":""},0]
[null,null,null,null,null,null,{"$f":"IF(F229='Look-up Tables'!$A$3,5,IF(F229='Look-up Tables'!$A$4,4,IF(F229='Look-up Tables'!$A$5,3,IF(F229='Look-up Tables'!$A$6,2,IF(F229='Look-up Tables'!$A$7,1)))))","v":false},null,null,{"$f":"IF(I229='Look-up Tables'!$B$3,5,IF(I229='Look-up Tables'!$B$4,4,IF(I229='Look-up Tables'!$B$5,3,IF(I229='Look-up Tables'!$B$6,2,IF(I229='Look-up Tables'!$B$7,1)))))","v":false},null,null,null,{"$f":"IF(M229='Look-up Tables'!$C$3,5,IF(M229='Look-up Tables'!$C$4,4,IF(M229='Look-up Tables'!$C$5,3,IF(M229='Look-up Tables'!$C$6,2,IF(M229='Look-up Tables'!$C$7,1)))))","v":false},{"$f":"IFERROR(VLOOKUP(P229,'Look-up Tables'!$D$3:$E$127,2),\"\")","v":""},0,null,null,null,null,null,{"$f":"IF(U229='Look-up Tables'!$A$3,5,IF(U229='Look-up Tables'!$A$4,4,IF(U229='Look-up Tables'!$A$5,3,IF(U229='Look-up Tables'!$A$6,2,IF(U229='Look-up Tables'!$A$7,1)))))","v":false},null,{"$f":"IF(W229='Look-up Tables'!$B$3,5,IF(W229='Look-up Tables'!$B$4,4,IF(W229='Look-up Tables'!$B$5,3,IF(W229='Look-up Tables'!$B$6,2,IF(W229='Look-up Tables'!$B$7,1)))))","v":false},null,{"$f":"IF(Y229='Look-up Tables'!$C$3,5,IF(Y229='Look-up Tables'!$C$4,4,IF(Y229='Look-up Tables'!$C$5,3,IF(Y229='Look-up Tables'!$C$6,2,IF(Y229='Look-up Tables'!$C$7,1)))))","v":false},{"$f":"IFERROR(VLOOKUP(AB229,'Look-up Tables'!$D$3:$E$127,2),\"\")","v":""},0]
[null,null,null,null,null,null,{"$f":"IF(F230='Look-up Tables'!$A$3,5,IF(F230='Look-up Tables'!$A$4,4,IF(F230='Look-up Tables'!$A$5,3,IF(F230='Look-up Tables'!$A$6,2,IF(F230='Look-up Tables'!$A$7,1)))))","v":false},null,null,{"$f":"IF(I230='Look-up Tables'!$B$3,5,IF(I230='Look-up Tables'!$B$4,4,IF(I230='Look-up Tables'!$B$5,3,IF(I230='Look-up Tables'!$B$6,2,IF(I230='Look-up Tables'!$B$7,1)))))","v":false},null,null,null,{"$f":"IF(M230='Look-up Tables'!$C$3,5,IF(M230='Look-up Tables'!$C$4,4,IF(M230='Look-up Tables'!$C$5,3,IF(M230='Look-up Tables'!$C$6,2,IF(M230='Look-up Tables'!$C$7,1)))))","v":false},{"$f":"IFERROR(VLOOKUP(P230,'Look-up Tables'!$D$3:$E$127,2),\"\")","v":""},0,null,null,null,null,null,{"$f":"IF(U230='Look-up Tables'!$A$3,5,IF(U230='Look-up Tables'!$A$4,4,IF(U230='Look-up Tables'!$A$5,3,IF(U230='Look-up Tables'!$A$6,2,IF(U230='Look-up Tables'!$A$7,1)))))","v":false},null,{"$f":"IF(W230='Look-up Tables'!$B$3,5,IF(W230='Look-up Tables'!$B$4,4,IF(W230='Look-up Tables'!$B$5,3,IF(W230='Look-up Tables'!$B$6,2,IF(W230='Look-up Tables'!$B$7,1)))))","v":false},null,{"$f":"IF(Y230='Look-up Tables'!$C$3,5,IF(Y230='Look-up Tables'!$C$4,4,IF(Y230='Look-up Tables'!$C$5,3,IF(Y230='Look-up Tables'!$C$6,2,IF(Y230='Look-up Tables'!$C$7,1)))))","v":false},{"$f":"IFERROR(VLOOKUP(AB230,'Look-up Tables'!$D$3:$E$127,2),\"\")","v":""},0]
[null,null,null,null,null,null,{"$f":"IF(F231='Look-up Tables'!$A$3,5,IF(F231='Look-up Tables'!$A$4,4,IF(F231='Look-up Tables'!$A$5,3,IF(F231='Look-up Tables'!$A$6,2,IF(F231='Look-up Tables'!$A$7,1)))))","v":false},null,null,{"$f":"IF(I231='Look-up Tables'!$B$3,5,IF(I231='Look-up Tables'!$B$4,4,IF(I231='Look-up Tables'!$B$5,3,IF(I231='Look-up Tables'!$B$6,2,IF(I231='Look-up Tables'!$B$7,1)))))","v":false},null,null,null,{"$f":"IF(M231='Look-up Tables'!$C$3,5,IF(M231='Look-up Tables'!$C$4,4,IF(M231='Look-up Tables'!$C$5,3,IF(M231='Look-up Tables'!$C$6,2,IF(M231='Look-up Tables'!$C$7,1)))))","v":false},{"$f":"IFERROR(VLOOKUP(P231,'Look-up Tables'!$D$3:$E$127,2),\"\")","v":""},0,null,null,null,null,null,{"$f":"IF(U231='Look-up Tables'!$A$3,5,IF(U231='Look-up Tables'!$A$4,4,IF(U231='Look-up Tables'!$A$5,3,IF(U231='Look-up Tables'!$A$6,2,IF(U231='Look-up Tables'!$A$7,1)))))","v":false},null,{"$f":"IF(W231='Look-up Tables'!$B$3,5,IF(W231='Look-up Tables'!$B$4,4,IF(W231='Look-up Tables'!$B$5,3,IF(W231='Look-up Tables'!$B$6,2,IF(W231='Look-up Tables'!$B$7,1)))))","v":false},null,{"$f":"IF(Y231='Look-up Tables'!$C$3,5,IF(Y231='Look-up Tables'!$C$4,4,IF(Y231='Look-up Tables'!$C$5,3,IF(Y231='Look-up Tables'!$C$6,2,IF(Y231='Look-up Tables'!$C$7,1)))))","v":false},{"$f":"IFERROR(VLOOKUP(AB231,'Look-up Tables'!$D$3:$E$127,2),\"\")","v":""},0]
[null,null,null,null,null,null,{"$f":"IF(F232='Look-up Tables'!$A$3,5,IF(F232='Look-up Tables'!$A$4,4,IF(F232='Look-up Tables'!$A$5,3,IF(F232='Look-up Tables'!$A$6,2,IF(F232='Look-up Tables'!$A$7,1)))))","v":false},null,null,{"$f":"IF(I232='Look-up Tables'!$B$3,5,IF(I232='Look-up Tables'!$B$4,4,IF(I232='Look-up Tables'!$B$5,3,IF(I232='Look-up Tables'!$B$6,2,IF(I232='Look-up Tables'!$B$7,1)))))","v":false},null,null,null,{"$f":"IF(M232='Look-up Tables'!$C$3,5,IF(M232='Look-up Tables'!$C$4,4,IF(M232='Look-up Tables'!$C$5,3,IF(M232='Look-up Tables'!$C$6,2,IF(M232='Look-up Tables'!$C$7,1)))))","v":false},{"$f":"IFERROR(VLOOKUP(P232,'Look-up Tables'!$D$3:$E$127,2),\"\")","v":""},0,null,null,null,null,null,{"$f":"IF(U232='Look-up Tables'!$A$3,5,IF(U232='Look-up Tables'!$A$4,4,IF(U232='Look-up Tables'!$A$5,3,IF(U232='Look-up Tables'!$A$6,2,IF(U232='Look-up Tables'!$A$7,1)))))","v":false},null,{"$f":"IF(W232='Look-up Tables'!$B$3,5,IF(W232='Look-up Tables'!$B$4,4,IF(W232='Look-up Tables'!$B$5,3,IF(W232='Look-up Tables'!$B$6,2,IF(W232='Look-up Tables'!$B$7,1)))))","v":false},null,{"$f":"IF(Y232='Look-up Tables'!$C$3,5,IF(Y232='Look-up Tables'!$C$4,4,IF(Y232='Look-up Tables'!$C$5,3,IF(Y232='Look-up Tables'!$C$6,2,IF(Y232='Look-up Tables'!$C$7,1)))))","v":false},{"$f":"IFERROR(VLOOKUP(AB232,'Look-up Tables'!$D$3:$E$127,2),\"\")","v":""},0]
[null,null,null,null,null,null,{"$f":"IF(F233='Look-up Tables'!$A$3,5,IF(F233='Look-up Tables'!$A$4,4,IF(F233='Look-up Tables'!$A$5,3,IF(F233='Look-up Tables'!$A$6,2,IF(F233='Look-up Tables'!$A$7,1)))))","v":false},null,null,{"$f":"IF(I233='Look-up Tables'!$B$3,5,IF(I233='Look-up Tables'!$B$4,4,IF(I233='Look-up Tables'!$B$5,3,IF(I233='Look-up Tables'!$B$6,2,IF(I233='Look-up Tables'!$B$7,1)))))","v":false},null,null,null,{"$f":"IF(M233='Look-up Tables'!$C$3,5,IF(M233='Look-up Tables'!$C$4,4,IF(M233='Look-up Tables'!$C$5,3,IF(M233='Look-up Tables'!$C$6,2,IF(M233='Look-up Tables'!$C$7,1)))))","v":false},{"$f":"IFERROR(VLOOKUP(P233,'Look-up Tables'!$D$3:$E$127,2),\"\")","v":""},0,null,null,null,null,null,{"$f":"IF(U233='Look-up Tables'!$A$3,5,IF(U233='Look-up Tables'!$A$4,4,IF(U233='Look-up Tables'!$A$5,3,IF(U233='Look-up Tables'!$A$6,2,IF(U233='Look-up Tables'!$A$7,1)))))","v":false},null,{"$f":"IF(W233='Look-up Tables'!$B$3,5,IF(W233='Look-up Tables'!$B$4,4,IF(W233='Look-up Tables'!$B$5,3,IF(W233='Look-up Tables'!$B$6,2,IF(W233='Look-up Tables'!$B$7,1)))))","v":false},null,{"$f":"IF(Y233='Look-up Tables'!$C$3,5,IF(Y233='Look-up Tables'!$C$4,4,IF(Y233='Look-up Tables'!$C$5,3,IF(Y233='Look-up Tables'!$C$6,2,IF(Y233='Look-up Tables'!$C$7,1)))))","v":false},{"$f":"IFERROR(VLOOKUP(AB233,'Look-up Tables'!$D$3:$E$127,2),\"\")","v":""},0]
[null,null,null,null,null,null,{"$f":"IF(F234='Look-up Tables'!$A$3,5,IF(F234='Look-up Tables'!$A$4,4,IF(F234='Look-up Tables'!$A$5,3,IF(F234='Look-up Tables'!$A$6,2,IF(F234='Look-up Tables'!$A$7,1)))))","v":false},null,null,{"$f":"IF(I234='Look-up Tables'!$B$3,5,IF(I234='Look-up Tables'!$B$4,4,IF(I234='Look-up Tables'!$B$5,3,IF(I234='Look-up Tables'!$B$6,2,IF(I234='Look-up Tables'!$B$7,1)))))","v":false},null,null,null,{"$f":"IF(M234='Look-up Tables'!$C$3,5,IF(M234='Look-up Tables'!$C$4,4,IF(M234='Look-up Tables'!$C$5,3,IF(M234='Look-up Tables'!$C$6,2,IF(M234='Look-up Tables'!$C$7,1)))))","v":false},{"$f":"IFERROR(VLOOKUP(P234,'Look-up Tables'!$D$3:$E$127,2),\"\")","v":""},0,null,null,null,null,null,{"$f":"IF(U234='Look-up Tables'!$A$3,5,IF(U234='Look-up Tables'!$A$4,4,IF(U234='Look-up Tables'!$A$5,3,IF(U234='Look-up Tables'!$A$6,2,IF(U234='Look-up Tables'!$A$7,1)))))","v":false},null,{"$f":"IF(W234='Look-up Tables'!$B$3,5,IF(W234='Look-up Tables'!$B$4,4,IF(W234='Look-up Tables'!$B$5,3,IF(W234='Look-up Tables'!$B$6,2,IF(W234='Look-up Tables'!$B$7,1)))))","v":false},null,{"$f":"IF(Y234='Look-up Tables'!$C$3,5,IF(Y234='Look-up Tables'!$C$4,4,IF(Y234='Look-up Tables'!$C$5,3,IF(Y234='Look-up Tables'!$C$6,2,IF(Y234='Look-up Tables'!$C$7,1)))))","v":false},{"$f":"IFERROR(VLOOKUP(AB234,'Look-up Tables'!$D$3:$E$127,2),\"\")","v":""},0]
[null,null,null,null,null,null,{"$f":"IF(F235='Look-up Tables'!$A$3,5,IF(F235='Look-up Tables'!$A$4,4,IF(F235='Look-up Tables'!$A$5,3,IF(F235='Look-up Tables'!$A$6,2,IF(F235='Look-up Tables'!$A$7,1)))))","v":false},null,null,{"$f":"IF(I235='Look-up Tables'!$B$3,5,IF(I235='Look-up Tables'!$B$4,4,IF(I235='Look-up Tables'!$B$5,3,IF(I235='Look-up Tables'!$B$6,2,IF(I235='Look-up Tables'!$B$7,1)))))","v":false},null,null,null,{"$f":"IF(M235='Look-up Tables'!$C$3,5,IF(M235='Look-up Tables'!$C$4,4,IF(M235='Look-up Tables'!$C$5,3,IF(M235='Look-up Tables'!$C$6,2,IF(M235='Look-up Tables'!$C$7,1)))))","v":false},{"$f":"IFERROR(VLOOKUP(P235,'Look-up Tables'!$D$3:$E$127,2),\"\")","v":""},0,null,null,null,null,null,{"$f":"IF(U235='Look-up Tables'!$A$3,5,IF(U235='Look-up Tables'!$A$4,4,IF(U235='Look-up Tables'!$A$5,3,IF(U235='Look-up Tables'!$A$6,2,IF(U235='Look-up Tables'!$A$7,1)))))","v":false},null,{"$f":"IF(W235='Look-up Tables'!$B$3,5,IF(W235='Look-up Tables'!$B$4,4,IF(W235='Look-up Tables'!$B$5,3,IF(W235='Look-up Tables'!$B$6,2,IF(W235='Look-up Tables'!$B$7,1)))))","v":false},null,{"$f":"IF(Y235='Look-up Tables'!$C$3,5,IF(Y235='Look-up Tables'!$C$4,4,IF(Y235='Look-up Tables'!$C$5,3,IF(Y235='Look-up Tables'!$C$6,2,IF(Y235='Look-up Tables'!$C$7,1)))))","v":false},{"$f":"IFERROR(VLOOKUP(AB235,'Look-up Tables'!$D$3:$E$127,2),\"\")","v":""},0]

{"sheet":"EFMEA Template","index":2,"n_rows":240,"n_cols":28,"rows_kept":240,"cut":false,"hidden":false,"merged":[[6,0,7,0],[6,1,7,1],[6,16,7,16],[6,17,7,17],[6,18,7,18],[6,19,6,26],[6,7,7,7],[6,8,7,8],[6,10,7,10],[0,0,0,26],[2,2,2,4],[3,2,3,4],[4,2,4,11],[4,12,4,14],[6,11,7,11],[6,12,7,12],[6,14,7,14],[6,2,7,2],[6,4,7,4],[6,5,7,5],[6,3,7,3]]}
["External Failure Modes and Effects Analysis (EFMECA)"]
[]
[null,"Design:","Vacuum Systems",null,null,null,null,null,"L2 WBS (select first):",null,"Accelerator Systems",null,null,null,"EFMEA Date (Orig):",null,"2023-04-11"]
[null,"Author:","Alex Chen, Dan Lambert, Kyle Kendziora, Ron Kellet, Richard Andrews, Raul Campos, Lucy Nobrega",null,null,null,null,null,"L3 WBS:",null,"Vacuum",null,null,null,"Doc #:"]
[null,"Core Team:","Alex Chen, Dan Lambert, Richard Andrews, Raul Campos, Lucy Nobrega",null,null,null,null,null,null,null,null,null,"Rev:",null,"Rev:"]
[]
["#","External Condition","Potential Failure Mode","Potentially Impacted External Systems","Potential Effect(s) of Failure","Severity",null,"Potential Cause(s)/Mechanism(s) of Failure","Probability",null,"Current Controls \n(Prevention)","Current Controls \n(Detection)","Detection",null,"Risk",null,"Recommended Action (s)","Responsibility","Target Date","Action Results"]
[null,null,null,null,null,null,"Hidden Column",null,null,"Hidden Column",null,null,null,"Hidden Column",null,"Hidden Column",null,null,null,"Actions Taken","Severity","Hidden Column","Probability","Hidden Column","Detection","Hidden Column","Risk","Hidden Column"]
[null,"Unexpected Power Outage or Surge","Vacuum pumps and controllers do not operate",null,"Vacuum levesl fall below requirements, cryomodule is not able to operate, pneumatic valves close","Minimal",{"$f":"IF(F9='Look-up Tables'!$A$3,5,IF(F9='Look-up Tables'!$A$4,4,IF(F9='Look-up Tables'!$A$5,3,IF(F9='Look-up Tables'!$A$6,2,IF(F9='Look-up Tables'!$A$7,1)))))","v":1},"Excessive voltage and current  limits  to overload power supplies or protection circuitry","Possible",{"$f":"IF(I9='Look-up Tables'!$B$3,5,IF(I9='Look-up Tables'!$B$4,4,IF(I9='Look-up Tables'!$B$5,3,IF(I9='Look-up Tables'!$B$6,2,IF(I9='Look-up Tables'!$B$7,1)))))","v":3},null,"MPS alarm","Almost Certain",{"$f":"IF(M9='Look-up Tables'!$C$3,5,IF(M9='Look-up Tables'!$C$4,4,IF(M9='Look-up Tables'!$C$5,3,IF(M9='Look-up Tables'!$C$6,2,IF(M9='Look-up Tables'!$C$7,1)))))","v":1},{"$f":"IFERROR(VLOOKUP(P9,'Look-up Tables'!$D$3:$E$127,2),\"\")","v":"Negligible"},{"$f":"G9*J9*N9","v":3},null,null,null,null,null,{"$f":"IF(U9='Look-up Tables'!$A$3,5,IF(U9='Look-up Tables'!$A$4,4,IF(U9='Look-up Tables'!$A$5,3,IF(U9='Look-up Tables'!$A$6,2,IF(U9='Look-up Tables'!$A$7,1)))))","v":false},null,{"$f":"IF(W9='Look-up Tables'!$B$3,5,IF(W9='Look-up Tables'!$B$4,4,IF(W9='Look-up Tables'!$B$5,3,IF(W9='Look-up Tables'!$B$6,2,IF(W9='Look-up Tables'!$B$7,1)))))","v":false},null,{"$f":"IF(Y9='Look-up Tables'!$C$3,5,IF(Y9='Look-up Tables'!$C$4,4,IF(Y9='Look-up Tables'!$C$5,3,IF(Y9='Look-up Tables'!$C$6,2,IF(Y9='Look-up Tables'!$C$7,1)))))","v":false},{"$f":"IFERROR(VLOOKUP(AB9,'Look-up Tables'!$D$3:$E$127,2),\"\")","v":""},{"$f":"V9*X9*Z9","v":0}]
[null,"CM insulating vacuum fails (burst disk)","Insulating vacuum level falls below requirement for CM Operation",null,"Insulating vacuum level rises, cryomodule cannot operate","Low",{"$f":"IF(F10='Look-up Tables'!$A$3,5,IF(F10='Look-up Tables'!$A$4,4,IF(F10='Look-up Tables'!$A$5,3,IF(F10='Look-up Tables'!$A$6,2,IF(F10='Look-up Tables'!$A$7,1)))))","v":2},"Feedthrough fails","Possible",{"$f":"IF(I10='Look-up Tables'!$B$3,5,IF(I10='Look-up Tables'!$B$4,4,IF(I10='Look-up Tables'!$B$5,3,IF(I10='Look-up Tables'!$B$6,2,IF(I10='Look-up Tables'!$B$7,1)))))","v":3},null,"MPS alarm","High",{"$f":"IF(M10='Look-up Tables'!$C$3,5,IF(M10='Look-up Tables'!$C$4,4,IF(M10='Look-up Tables'!$C$5,3,IF(M10='Look-up Tables'!$C$6,2,IF(M10='Look-up Tables'!$C$7,1)))))","v":2},{"$f":"IFERROR(VLOOKUP(P10,'Look-up Tables'!$D$3:$E$127,2),\"\")","v":"Minor"},12,null,null,null,null,null,{"$f":"IF(U10='Look-up Tables'!$A$3,5,IF(U10='Look-up Tables'!$A$4,4,IF(U10='Look-up Tables'!$A$5,3,IF(U10='Look-up Tables'!$A$6,2,IF(U10='Look-up Tables'!$A$7,1)))))","v":false},null,{"$f":"IF(W10='Look-up Tables'!$B$3,5,IF(W10='Look-up Tables'!$B$4,4,IF(W10='Look-up Tables'!$B$5,3,IF(W10='Look-up Tables'!$B$6,2,IF(W10='Look-up Tables'!$B$7,1)))))","v":false},null,{"$f":"IF(Y10='Look-up Tables'!$C$3,5,IF(Y10='Look-up Tables'!$C$4,4,IF(Y10='Look-up Tables'!$C$5,3,IF(Y10='Look-up Tables'!$C$6,2,IF(Y10='Look-up Tables'!$C$7,1)))))","v":false},{"$f":"IFERROR(VLOOKUP(AB10,'Look-up Tables'!$D$3:$E$127,2),\"\")","v":""},0]
[null,"Failure of air line pressure","Failure of air line pressure",null,"Valves go to indeterminate state","Low",{"$f":"IF(F11='Look-up Tables'!$A$3,5,IF(F11='Look-up Tables'!$A$4,4,IF(F11='Look-up Tables'!$A$5,3,IF(F11='Look-up Tables'!$A$6,2,IF(F11='Look-up Tables'!$A$7,1)))))","v":2},"Air system falure (leak, other)","Possible",{"$f":"IF(I11='Look-up Tables'!$B$3,5,IF(I11='Look-up Tables'!$B$4,4,IF(I11='Look-up Tables'!$B$5,3,IF(I11='Look-up Tables'!$B$6,2,IF(I11='Look-up Tables'!$B$7,1)))))","v":3},null,"MPS alarm","Low",{"$f":"IF(M11='Look-up Tables'!$C$3,5,IF(M11='Look-up Tables'!$C$4,4,IF(M11='Look-up Tables'!$C$5,3,IF(M11='Look-up Tables'!$C$6,2,IF(M11='Look-up Tables'!$C$7,1)))))","v":4},{"$f":"IFERROR(VLOOKUP(P11,'Look-up Tables'!$D$3:$E$127,2),\"\")","v":"Minor"},24,"Alarm interface with air line subsystem",null,null,null,null,{"$f":"IF(U11='Look-up Tables'!$A$3,5,IF(U11='Look-up Tables'!$A$4,4,IF(U11='Look-up Tables'!$A$5,3,IF(U11='Look-up Tables'!$A$6,2,IF(U11='Look-up Tables'!$A$7,1)))))","v":false},null,{"$f":"IF(W11='Look-up Tables'!$B$3,5,IF(W11='Look-up Tables'!$B$4,4,IF(W11='Look-up Tables'!$B$5,3,IF(W11='Look-up Tables'!$B$6,2,IF(W11='Look-up Tables'!$B$7,1)))))","v":false},null,{"$f":"IF(Y11='Look-up Tables'!$C$3,5,IF(Y11='Look-up Tables'!$C$4,4,IF(Y11='Look-up Tables'!$C$5,3,IF(Y11='Look-up Tables'!$C$6,2,IF(Y11='Look-up Tables'!$C$7,1)))))","v":false},{"$f":"IFERROR(VLOOKUP(AB11,'Look-up Tables'!$D$3:$E$127,2),\"\")","v":""},0]
[null,null,null,null,null,null,{"$f":"IF(F12='Look-up Tables'!$A$3,5,IF(F12='Look-up Tables'!$A$4,4,IF(F12='Look-up Tables'!$A$5,3,IF(F12='Look-up Tables'!$A$6,2,IF(F12='Look-up Tables'!$A$7,1)))))","v":false},null,null,{"$f":"IF(I12='Look-up Tables'!$B$3,5,IF(I12='Look-up Tables'!$B$4,4,IF(I12='Look-up Tables'!$B$5,3,IF(I12='Look-up Tables'!$B$6,2,IF(I12='Look-up Tables'!$B$7,1)))))","v":false},null,null,null,{"$f":"IF(M12='Look-up Tables'!$C$3,5,IF(M12='Look-up Tables'!$C$4,4,IF(M12='Look-up Tables'!$C$5,3,IF(M12='Look-up Tables'!$C$6,2,IF(M12='Look-up Tables'!$C$7,1)))))","v":false},{"$f":"IFERROR(VLOOKUP(P12,'Look-up Tables'!$D$3:$E$127,2),\"\")","v":""},0,null,null,null,null,null,{"$f":"IF(U12='Look-up Tables'!$A$3,5,IF(U12='Look-up Tables'!$A$4,4,IF(U12='Look-up Tables'!$A$5,3,IF(U12='Look-up Tables'!$A$6,2,IF(U12='Look-up Tables'!$A$7,1)))))","v":false},null,{"$f":"IF(W12='Look-up Tables'!$B$3,5,IF(W12='Look-up Tables'!$B$4,4,IF(W12='Look-up Tables'!$B$5,3,IF(W12='Look-up Tables'!$B$6,2,IF(W12='Look-up Tables'!$B$7,1)))))","v":false},null,{"$f":"IF(Y12='Look-up Tables'!$C$3,5,IF(Y12='Look-up Tables'!$C$4,4,IF(Y12='Look-up Tables'!$C$5,3,IF(Y12='Look-up Tables'!$C$6,2,IF(Y12='Look-up Tables'!$C$7,1)))))","v":false},{"$f":"IFERROR(VLOOKUP(AB12,'Look-up Tables'!$D$3:$E$127,2),\"\")","v":""},0]
[null,null,null,null,null,null,{"$f":"IF(F13='Look-up Tables'!$A$3,5,IF(F13='Look-up Tables'!$A$4,4,IF(F13='Look-up Tables'!$A$5,3,IF(F13='Look-up Tables'!$A$6,2,IF(F13='Look-up Tables'!$A$7,1)))))","v":false},null,null,{"$f":"IF(I13='Look-up Tables'!$B$3,5,IF(I13='Look-up Tables'!$B$4,4,IF(I13='Look-up Tables'!$B$5,3,IF(I13='Look-up Tables'!$B$6,2,IF(I13='Look-up Tables'!$B$7,1)))))","v":false},null,null,null,{"$f":"IF(M13='Look-up Tables'!$C$3,5,IF(M13='Look-up Tables'!$C$4,4,IF(M13='Look-up Tables'!$C$5,3,IF(M13='Look-up Tables'!$C$6,2,IF(M13='Look-up Tables'!$C$7,1)))))","v":false},{"$f":"IFERROR(VLOOKUP(P13,'Look-up Tables'!$D$3:$E$127,2),\"\")","v":""},0,null,null,null,null,null,{"$f":"IF(U13='Look-up Tables'!$A$3,5,IF(U13='Look-up Tables'!$A$4,4,IF(U13='Look-up Tables'!$A$5,3,IF(U13='Look-up Tables'!$A$6,2,IF(U13='Look-up Tables'!$A$7,1)))))","v":false},null,{"$f":"IF(W13='Look-up Tables'!$B$3,5,IF(W13='Look-up Tables'!$B$4,4,IF(W13='Look-up Tables'!$B$5,3,IF(W13='Look-up Tables'!$B$6,2,IF(W13='Look-up Tables'!$B$7,1)))))","v":false},null,{"$f":"IF(Y13='Look-up Tables'!$C$3,5,IF(Y13='Look-up Tables'!$C$4,4,IF(Y13='Look-up Tables'!$C$5,3,IF(Y13='Look-up Tables'!$C$6,2,IF(Y13='Look-up Tables'!$C$7,1)))))","v":false},{"$f":"IFERROR(VLOOKUP(AB13,'Look-up Tables'!$D$3:$E$127,2),\"\")","v":""},0]
[null,null,null,null,null,null,{"$f":"IF(F14='Look-up Tables'!$A$3,5,IF(F14='Look-up Tables'!$A$4,4,IF(F14='Look-up Tables'!$A$5,3,IF(F14='Look-up Tables'!$A$6,2,IF(F14='Look-up Tables'!$A$7,1)))))","v":false},null,null,{"$f":"IF(I14='Look-up Tables'!$B$3,5,IF(I14='Look-up Tables'!$B$4,4,IF(I14='Look-up Tables'!$B$5,3,IF(I14='Look-up Tables'!$B$6,2,IF(I14='Look-up Tables'!$B$7,1)))))","v":false},null,null,null,{"$f":"IF(M14='Look-up Tables'!$C$3,5,IF(M14='Look-up Tables'!$C$4,4,IF(M14='Look-up Tables'!$C$5,3,IF(M14='Look-up Tables'!$C$6,2,IF(M14='Look-up Tables'!$C$7,1)))))","v":false},{"$f":"IFERROR(VLOOKUP(P14,'Look-up Tables'!$D$3:$E$127,2),\"\")","v":""},0,null,null,null,null,null,{"$f":"IF(U14='Look-up Tables'!$A$3,5,IF(U14='Look-up Tables'!$A$4,4,IF(U14='Look-up Tables'!$A$5,3,IF(U14='Look-up Tables'!$A$6,2,IF(U14='Look-up Tables'!$A$7,1)))))","v":false},null,{"$f":"IF(W14='Look-up Tables'!$B$3,5,IF(W14='Look-up Tables'!$B$4,4,IF(W14='Look-up Tables'!$B$5,3,IF(W14='Look-up Tables'!$B$6,2,IF(W14='Look-up Tables'!$B$7,1)))))","v":false},null,{"$f":"IF(Y14='Look-up Tables'!$C$3,5,IF(Y14='Look-up Tables'!$C$4,4,IF(Y14='Look-up Tables'!$C$5,3,IF(Y14='Look-up Tables'!$C$6,2,IF(Y14='Look-up Tables'!$C$7,1)))))","v":false},{"$f":"IFERROR(VLOOKUP(AB14,'Look-up Tables'!$D$3:$E$127,2),\"\")","v":""},0]
[null,null,null,null,null,null,{"$f":"IF(F15='Look-up Tables'!$A$3,5,IF(F15='Look-up Tables'!$A$4,4,IF(F15='Look-up Tables'!$A$5,3,IF(F15='Look-up Tables'!$A$6,2,IF(F15='Look-up Tables'!$A$7,1)))))","v":false},null,null,{"$f":"IF(I15='Look-up Tables'!$B$3,5,IF(I15='Look-up Tables'!$B$4,4,IF(I15='Look-up Tables'!$B$5,3,IF(I15='Look-up Tables'!$B$6,2,IF(I15='Look-up Tables'!$B$7,1)))))","v":false},null,null,null,{"$f":"IF(M15='Look-up Tables'!$C$3,5,IF(M15='Look-up Tables'!$C$4,4,IF(M15='Look-up Tables'!$C$5,3,IF(M15='Look-up Tables'!$C$6,2,IF(M15='Look-up Tables'!$C$7,1)))))","v":false},{"$f":"IFERROR(VLOOKUP(P15,'Look-up Tables'!$D$3:$E$127,2),\"\")","v":""},0,null,null,null,null,null,{"$f":"IF(U15='Look-up Tables'!$A$3,5,IF(U15='Look-up Tables'!$A$4,4,IF(U15='Look-up Tables'!$A$5,3,IF(U15='Look-up Tables'!$A$6,2,IF(U15='Look-up Tables'!$A$7,1)))))","v":false},null,{"$f":"IF(W15='Look-up Tables'!$B$3,5,IF(W15='Look-up Tables'!$B$4,4,IF(W15='Look-up Tables'!$B$5,3,IF(W15='Look-up Tables'!$B$6,2,IF(W15='Look-up Tables'!$B$7,1)))))","v":false},null,{"$f":"IF(Y15='Look-up Tables'!$C$3,5,IF(Y15='Look-up Tables'!$C$4,4,IF(Y15='Look-up Tables'!$C$5,3,IF(Y15='Look-up Tables'!$C$6,2,IF(Y15='Look-up Tables'!$C$7,1)))))","v":false},{"$f":"IFERROR(VLOOKUP(AB15,'Look-up Tables'!$D$3:$E$127,2),\"\")","v":""},0]
[null,null,null,null,null,null,{"$f":"IF(F16='Look-up Tables'!$A$3,5,IF(F16='Look-up Tables'!$A$4,4,IF(F16='Look-up Tables'!$A$5,3,IF(F16='Look-up Tables'!$A$6,2,IF(F16='Look-up Tables'!$A$7,1)))))","v":false},null,null,{"$f":"IF(I16='Look-up Tables'!$B$3,5,IF(I16='Look-up Tables'!$B$4,4,IF(I16='Look-up Tables'!$B$5,3,IF(I16='Look-up Tables'!$B$6,2,IF(I16='Look-up Tables'!$B$7,1)))))","v":false},null,null,null,{"$f":"IF(M16='Look-up Tables'!$C$3,5,IF(M16='Look-up Tables'!$C$4,4,IF(M16='Look-up Tables'!$C$5,3,IF(M16='Look-up Tables'!$C$6,2,IF(M16='Look-up Tables'!$C$7,1)))))","v":false},{"$f":"IFERROR(VLOOKUP(P16,'Look-up Tables'!$D$3:$E$127,2),\"\")","v":""},0,null,null,null,null,null,{"$f":"IF(U16='Look-up Tables'!$A$3,5,IF(U16='Look-up Tables'!$A$4,4,IF(U16='Look-up Tables'!$A$5,3,IF(U16='Look-up Tables'!$A$6,2,IF(U16='Look-up Tables'!$A$7,1)))))","v":false},null,{"$f":"IF(W16='Look-up Tables'!$B$3,5,IF(W16='Look-up Tables'!$B$4,4,IF(W16='Look-up Tables'!$B$5,3,IF(W16='Look-up Tables'!$B$6,2,IF(W16='Look-up Tables'!$B$7,1)))))","v":false},null,{"$f":"IF(Y16='Look-up Tables'!$C$3,5,IF(Y16='Look-up Tables'!$C$4,4,IF(Y16='Look-up Tables'!$C$5,3,IF(Y16='Look-up Tables'!$C$6,2,IF(Y16='Look-up Tables'!$C$7,1)))))","v":false},{"$f":"IFERROR(VLOOKUP(AB16,'Look-up Tables'!$D$3:$E$127,2),\"\")","v":""},0]
[null,null,null,null,null,null,{"$f":"IF(F17='Look-up Tables'!$A$3,5,IF(F17='Look-up Tables'!$A$4,4,IF(F17='Look-up Tables'!$A$5,3,IF(F17='Look-up Tables'!$A$6,2,IF(F17='Look-up Tables'!$A$7,1)))))","v":false},null,null,{"$f":"IF(I17='Look-up Tables'!$B$3,5,IF(I17='Look-up Tables'!$B$4,4,IF(I17='Look-up Tables'!$B$5,3,IF(I17='Look-up Tables'!$B$6,2,IF(I17='Look-up Tables'!$B$7,1)))))","v":false},null,null,null,{"$f":"IF(M17='Look-up Tables'!$C$3,5,IF(M17='Look-up Tables'!$C$4,4,IF(M17='Look-up Tables'!$C$5,3,IF(M17='Look-up Tables'!$C$6,2,IF(M17='Look-up Tables'!$C$7,1)))))","v":false},{"$f":"IFERROR(VLOOKUP(P17,'Look-up Tables'!$D$3:$E$127,2),\"\")","v":""},0,null,null,null,null,null,{"$f":"IF(U17='Look-up Tables'!$A$3,5,IF(U17='Look-up Tables'!$A$4,4,IF(U17='Look-up Tables'!$A$5,3,IF(U17='Look-up Tables'!$A$6,2,IF(U17='Look-up Tables'!$A$7,1)))))","v":false},null,{"$f":"IF(W17='Look-up Tables'!$B$3,5,IF(W17='Look-up Tables'!$B$4,4,IF(W17='Look-up Tables'!$B$5,3,IF(W17='Look-up Tables'!$B$6,2,IF(W17='Look-up Tables'!$B$7,1)))))","v":false},null,{"$f":"IF(Y17='Look-up Tables'!$C$3,5,IF(Y17='Look-up Tables'!$C$4,4,IF(Y17='Look-up Tables'!$C$5,3,IF(Y17='Look-up Tables'!$C$6,2,IF(Y17='Look-up Tables'!$C$7,1)))))","v":false},{"$f":"IFERROR(VLOOKUP(AB17,'Look-up Tables'!$D$3:$E$127,2),\"\")","v":""},0]
[null,null,null,null,null,null,{"$f":"IF(F18='Look-up Tables'!$A$3,5,IF(F18='Look-up Tables'!$A$4,4,IF(F18='Look-up Tables'!$A$5,3,IF(F18='Look-up Tables'!$A$6,2,IF(F18='Look-up Tables'!$A$7,1)))))","v":false},null,null,{"$f":"IF(I18='Look-up Tables'!$B$3,5,IF(I18='Look-up Tables'!$B$4,4,IF(I18='Look-up Tables'!$B$5,3,IF(I18='Look-up Tables'!$B$6,2,IF(I18='Look-up Tables'!$B$7,1)))))","v":false},null,null,null,{"$f":"IF(M18='Look-up Tables'!$C$3,5,IF(M18='Look-up Tables'!$C$4,4,IF(M18='Look-up Tables'!$C$5,3,IF(M18='Look-up Tables'!$C$6,2,IF(M18='Look-up Tables'!$C$7,1)))))","v":false},{"$f":"IFERROR(VLOOKUP(P18,'Look-up Tables'!$D$3:$E$127,2),\"\")","v":""},0,null,null,null,null,null,{"$f":"IF(U18='Look-up Tables'!$A$3,5,IF(U18='Look-up Tables'!$A$4,4,IF(U18='Look-up Tables'!$A$5,3,IF(U18='Look-up Tables'!$A$6,2,IF(U18='Look-up Tables'!$A$7,1)))))","v":false},null,{"$f":"IF(W18='Look-up Tables'!$B$3,5,IF(W18='Look-up Tables'!$B$4,4,IF(W18='Look-up Tables'!$B$5,3,IF(W18='Look-up Tables'!$B$6,2,IF(W18='Look-up Tables'!$B$7,1)))))","v":false},null,{"$f":"IF(Y18='Look-up Tables'!$C$3,5,IF(Y18='Look-up Tables'!$C$4,4,IF(Y18='Look-up Tables'!$C$5,3,IF(Y18='Look-up Tables'!$C$6,2,IF(Y18='Look-up Tables'!$C$7,1)))))","v":false},{"$f":"IFERROR(VLOOKUP(AB18,'Look-up Tables'!$D$3:$E$127,2),\"\")","v":""},0]
[null,null,null,null,null,null,{"$f":"IF(F19='Look-up Tables'!$A$3,5,IF(F19='Look-up Tables'!$A$4,4,IF(F19='Look-up Tables'!$A$5,3,IF(F19='Look-up Tables'!$A$6,2,IF(F19='Look-up Tables'!$A$7,1)))))","v":false},null,null,{"$f":"IF(I19='Look-up Tables'!$B$3,5,IF(I19='Look-up Tables'!$B$4,4,IF(I19='Look-up Tables'!$B$5,3,IF(I19='Look-up Tables'!$B$6,2,IF(I19='Look-up Tables'!$B$7,1)))))","v":false},null,null,null,{"$f":"IF(M19='Look-up Tables'!$C$3,5,IF(M19='Look-up Tables'!$C$4,4,IF(M19='Look-up Tables'!$C$5,3,IF(M19='Look-up Tables'!$C$6,2,IF(M19='Look-up Tables'!$C$7,1)))))","v":false},{"$f":"IFERROR(VLOOKUP(P19,'Look-up Tables'!$D$3:$E$127,2),\"\")","v":""},0,null,null,null,null,null,{"$f":"IF(U19='Look-up Tables'!$A$3,5,IF(U19='Look-up Tables'!$A$4,4,IF(U19='Look-up Tables'!$A$5,3,IF(U19='Look-up Tables'!$A$6,2,IF(U19='Look-up Tables'!$A$7,1)))))","v":false},null,{"$f":"IF(W19='Look-up Tables'!$B$3,5,IF(W19='Look-up Tables'!$B$4,4,IF(W19='Look-up Tables'!$B$5,3,IF(W19='Look-up Tables'!$B$6,2,IF(W19='Look-up Tables'!$B$7,1)))))","v":false},null,{"$f":"IF(Y19='Look-up Tables'!$C$3,5,IF(Y19='Look-up Tables'!$C$4,4,IF(Y19='Look-up Tables'!$C$5,3,IF(Y19='Look-up Tables'!$C$6,2,IF(Y19='Look-up Tables'!$C$7,1)))))","v":false},{"$f":"IFERROR(VLOOKUP(AB19,'Look-up Tables'!$D$3:$E$127,2),\"\")","v":""},0]
[null,null,null,null,null,null,{"$f":"IF(F20='Look-up Tables'!$A$3,5,IF(F20='Look-up Tables'!$A$4,4,IF(F20='Look-up Tables'!$A$5,3,IF(F20='Look-up Tables'!$A$6,2,IF(F20='Look-up Tables'!$A$7,1)))))","v":false},null,null,{"$f":"IF(I20='Look-up Tables'!$B$3,5,IF(I20='Look-up Tables'!$B$4,4,IF(I20='Look-up Tables'!$B$5,3,IF(I20='Look-up Tables'!$B$6,2,IF(I20='Look-up Tables'!$B$7,1)))))","v":false},null,null,null,{"$f":"IF(M20='Look-up Tables'!$C$3,5,IF(M20='Look-up Tables'!$C$4,4,IF(M20='Look-up Tables'!$C$5,3,IF(M20='Look-up Tables'!$C$6,2,IF(M20='Look-up Tables'!$C$7,1)))))","v":false},{"$f":"IFERROR(VLOOKUP(P20,'Look-up Tables'!$D$3:$E$127,2),\"\")","v":""},0,null,null,null,null,null,{"$f":"IF(U20='Look-up Tables'!$A$3,5,IF(U20='Look-up Tables'!$A$4,4,IF(U20='Look-up Tables'!$A$5,3,IF(U20='Look-up Tables'!$A$6,2,IF(U20='Look-up Tables'!$A$7,1)))))","v":false},null,{"$f":"IF(W20='Look-up Tables'!$B$3,5,IF(W20='Look-up Tables'!$B$4,4,IF(W20='Look-up Tables'!$B$5,3,IF(W20='Look-up Tables'!$B$6,2,IF(W20='Look-up Tables'!$B$7,1)))))","v":false},null,{"$f":"IF(Y20='Look-up Tables'!$C$3,5,IF(Y20='Look-up Tables'!$C$4,4,IF(Y20='Look-up Tables'!$C$5,3,IF(Y20='Look-up Tables'!$C$6,2,IF(Y20='Look-up Tables'!$C$7,1)))))","v":false},{"$f":"IFERROR(VLOOKUP(AB20,'Look-up Tables'!$D$3:$E$127,2),\"\")","v":""},0]
[null,null,null,null,null,null,{"$f":"IF(F21='Look-up Tables'!$A$3,5,IF(F21='Look-up Tables'!$A$4,4,IF(F21='Look-up Tables'!$A$5,3,IF(F21='Look-up Tables'!$A$6,2,IF(F21='Look-up Tables'!$A$7,1)))))","v":false},null,null,{"$f":"IF(I21='Look-up Tables'!$B$3,5,IF(I21='Look-up Tables'!$B$4,4,IF(I21='Look-up Tables'!$B$5,3,IF(I21='Look-up Tables'!$B$6,2,IF(I21='Look-up Tables'!$B$7,1)))))","v":false},null,null,null,{"$f":"IF(M21='Look-up Tables'!$C$3,5,IF(M21='Look-up Tables'!$C$4,4,IF(M21='Look-up Tables'!$C$5,3,IF(M21='Look-up Tables'!$C$6,2,IF(M21='Look-up Tables'!$C$7,1)))))","v":false},{"$f":"IFERROR(VLOOKUP(P21,'Look-up Tables'!$D$3:$E$127,2),\"\")","v":""},0,null,null,null,null,null,{"$f":"IF(U21='Look-up Tables'!$A$3,5,IF(U21='Look-up Tables'!$A$4,4,IF(U21='Look-up Tables'!$A$5,3,IF(U21='Look-up Tables'!$A$6,2,IF(U21='Look-up Tables'!$A$7,1)))))","v":false},null,{"$f":"IF(W21='Look-up Tables'!$B$3,5,IF(W21='Look-up Tables'!$B$4,4,IF(W21='Look-up Tables'!$B$5,3,IF(W21='Look-up Tables'!$B$6,2,IF(W21='Look-up Tables'!$B$7,1)))))","v":false},null,{"$f":"IF(Y21='Look-up Tables'!$C$3,5,IF(Y21='Look-up Tables'!$C$4,4,IF(Y21='Look-up Tables'!$C$5,3,IF(Y21='Look-up Tables'!$C$6,2,IF(Y21='Look-up Tables'!$C$7,1)))))","v":false},{"$f":"IFERROR(VLOOKUP(AB21,'Look-up Tables'!$D$3:$E$127,2),\"\")","v":""},0]
[null,null,null,null,null,null,{"$f":"IF(F22='Look-up Tables'!$A$3,5,IF(F22='Look-up Tables'!$A$4,4,IF(F22='Look-up Tables'!$A$5,3,IF(F22='Look-up Tables'!$A$6,2,IF(F22='Look-up Tables'!$A$7,1)))))","v":false},null,null,{"$f":"IF(I22='Look-up Tables'!$B$3,5,IF(I22='Look-up Tables'!$B$4,4,IF(I22='Look-up Tables'!$B$5,3,IF(I22='Look-up Tables'!$B$6,2,IF(I22='Look-up Tables'!$B$7,1)))))","v":false},null,null,null,{"$f":"IF(M22='Look-up Tables'!$C$3,5,IF(M22='Look-up Tables'!$C$4,4,IF(M22='Look-up Tables'!$C$5,3,IF(M22='Look-up Tables'!$C$6,2,IF(M22='Look-up Tables'!$C$7,1)))))","v":false},{"$f":"IFERROR(VLOOKUP(P22,'Look-up Tables'!$D$3:$E$127,2),\"\")","v":""},0,null,null,null,null,null,{"$f":"IF(U22='Look-up Tables'!$A$3,5,IF(U22='Look-up Tables'!$A$4,4,IF(U22='Look-up Tables'!$A$5,3,IF(U22='Look-up Tables'!$A$6,2,IF(U22='Look-up Tables'!$A$7,1)))))","v":false},null,{"$f":"IF(W22='Look-up Tables'!$B$3,5,IF(W22='Look-up Tables'!$B$4,4,IF(W22='Look-up Tables'!$B$5,3,IF(W22='Look-up Tables'!$B$6,2,IF(W22='Look-up Tables'!$B$7,1)))))","v":false},null,{"$f":"IF(Y22='Look-up Tables'!$C$3,5,IF(Y22='Look-up Tables'!$C$4,4,IF(Y22='Look-up Tables'!$C$5,3,IF(Y22='Look-up Tables'!$C$6,2,IF(Y22='Look-up Tables'!$C$7,1)))))","v":false},{"$f":"IFERROR(VLOOKUP(AB22,'Look-up Tables'!$D$3:$E$127,2),\"\")","v":""},0]
[null,null,null,null,null,null,{"$f":"IF(F23='Look-up Tables'!$A$3,5,IF(F23='Look-up Tables'!$A$4,4,IF(F23='Look-up Tables'!$A$5,3,IF(F23='Look-up Tables'!$A$6,2,IF(F23='Look-up Tables'!$A$7,1)))))","v":false},null,null,{"$f":"IF(I23='Look-up Tables'!$B$3,5,IF(I23='Look-up Tables'!$B$4,4,IF(I23='Look-up Tables'!$B$5,3,IF(I23='Look-up Tables'!$B$6,2,IF(I23='Look-up Tables'!$B$7,1)))))","v":false},null,null,null,{"$f":"IF(M23='Look-up Tables'!$C$3,5,IF(M23='Look-up Tables'!$C$4,4,IF(M23='Look-up Tables'!$C$5,3,IF(M23='Look-up Tables'!$C$6,2,IF(M23='Look-up Tables'!$C$7,1)))))","v":false},{"$f":"IFERROR(VLOOKUP(P23,'Look-up Tables'!$D$3:$E$127,2),\"\")","v":""},0,null,null,null,null,null,{"$f":"IF(U23='Look-up Tables'!$A$3,5,IF(U23='Look-up Tables'!$A$4,4,IF(U23='Look-up Tables'!$A$5,3,IF(U23='Look-up Tables'!$A$6,2,IF(U23='Look-up Tables'!$A$7,1)))))","v":false},null,{"$f":"IF(W23='Look-up Tables'!$B$3,5,IF(W23='Look-up Tables'!$B$4,4,IF(W23='Look-up Tables'!$B$5,3,IF(W23='Look-up Tables'!$B$6,2,IF(W23='Look-up Tables'!$B$7,1)))))","v":false},null,{"$f":"IF(Y23='Look-up Tables'!$C$3,5,IF(Y23='Look-up Tables'!$C$4,4,IF(Y23='Look-up Tables'!$C$5,3,IF(Y23='Look-up Tables'!$C$6,2,IF(Y23='Look-up Tables'!$C$7,1)))))","v":false},{"$f":"IFERROR(VLOOKUP(AB23,'Look-up Tables'!$D$3:$E$127,2),\"\")","v":""},0]
[null,null,null,null,null,null,{"$f":"IF(F24='Look-up Tables'!$A$3,5,IF(F24='Look-up Tables'!$A$4,4,IF(F24='Look-up Tables'!$A$5,3,IF(F24='Look-up Tables'!$A$6,2,IF(F24='Look-up Tables'!$A$7,1)))))","v":false},null,null,{"$f":"IF(I24='Look-up Tables'!$B$3,5,IF(I24='Look-up Tables'!$B$4,4,IF(I24='Look-up Tables'!$B$5,3,IF(I24='Look-up Tables'!$B$6,2,IF(I24='Look-up Tables'!$B$7,1)))))","v":false},null,null,null,{"$f":"IF(M24='Look-up Tables'!$C$3,5,IF(M24='Look-up Tables'!$C$4,4,IF(M24='Look-up Tables'!$C$5,3,IF(M24='Look-up Tables'!$C$6,2,IF(M24='Look-up Tables'!$C$7,1)))))","v":false},{"$f":"IFERROR(VLOOKUP(P24,'Look-up Tables'!$D$3:$E$127,2),\"\")","v":""},0,null,null,null,null,null,{"$f":"IF(U24='Look-up Tables'!$A$3,5,IF(U24='Look-up Tables'!$A$4,4,IF(U24='Look-up Tables'!$A$5,3,IF(U24='Look-up Tables'!$A$6,2,IF(U24='Look-up Tables'!$A$7,1)))))","v":false},null,{"$f":"IF(W24='Look-up Tables'!$B$3,5,IF(W24='Look-up Tables'!$B$4,4,IF(W24='Look-up Tables'!$B$5,3,IF(W24='Look-up Tables'!$B$6,2,IF(W24='Look-up Tables'!$B$7,1)))))","v":false},null,{"$f":"IF(Y24='Look-up Tables'!$C$3,5,IF(Y24='Look-up Tables'!$C$4,4,IF(Y24='Look-up Tables'!$C$5,3,IF(Y24='Look-up Tables'!$C$6,2,IF(Y24='Look-up Tables'!$C$7,1)))))","v":false},{"$f":"IFERROR(VLOOKUP(AB24,'Look-up Tables'!$D$3:$E$127,2),\"\")","v":""},0]
[null,null,null,null,null,null,{"$f":"IF(F25='Look-up Tables'!$A$3,5,IF(F25='Look-up Tables'!$A$4,4,IF(F25='Look-up Tables'!$A$5,3,IF(F25='Look-up Tables'!$A$6,2,IF(F25='Look-up Tables'!$A$7,1)))))","v":false},null,null,{"$f":"IF(I25='Look-up Tables'!$B$3,5,IF(I25='Look-up Tables'!$B$4,4,IF(I25='Look-up Tables'!$B$5,3,IF(I25='Look-up Tables'!$B$6,2,IF(I25='Look-up Tables'!$B$7,1)))))","v":false},null,null,null,{"$f":"IF(M25='Look-up Tables'!$C$3,5,IF(M25='Look-up Tables'!$C$4,4,IF(M25='Look-up Tables'!$C$5,3,IF(M25='Look-up Tables'!$C$6,2,IF(M25='Look-up Tables'!$C$7,1)))))","v":false},{"$f":"IFERROR(VLOOKUP(P25,'Look-up Tables'!$D$3:$E$127,2),\"\")","v":""},0,null,null,null,null,null,{"$f":"IF(U25='Look-up Tables'!$A$3,5,IF(U25='Look-up Tables'!$A$4,4,IF(U25='Look-up Tables'!$A$5,3,IF(U25='Look-up Tables'!$A$6,2,IF(U25='Look-up Tables'!$A$7,1)))))","v":false},null,{"$f":"IF(W25='Look-up Tables'!$B$3,5,IF(W25='Look-up Tables'!$B$4,4,IF(W25='Look-up Tables'!$B$5,3,IF(W25='Look-up Tables'!$B$6,2,IF(W25='Look-up Tables'!$B$7,1)))))","v":false},null,{"$f":"IF(Y25='Look-up Tables'!$C$3,5,IF(Y25='Look-up Tables'!$C$4,4,IF(Y25='Look-up Tables'!$C$5,3,IF(Y25='Look-up Tables'!$C$6,2,IF(Y25='Look-up Tables'!$C$7,1)))))","v":false},{"$f":"IFERROR(VLOOKUP(AB25,'Look-up Tables'!$D$3:$E$127,2),\"\")","v":""},0]
[null,null,null,null,null,null,{"$f":"IF(F26='Look-up Tables'!$A$3,5,IF(F26='Look-up Tables'!$A$4,4,IF(F26='Look-up Tables'!$A$5,3,IF(F26='Look-up Tables'!$A$6,2,IF(F26='Look-up Tables'!$A$7,1)))))","v":false},null,null,{"$f":"IF(I26='Look-up Tables'!$B$3,5,IF(I26='Look-up Tables'!$B$4,4,IF(I26='Look-up Tables'!$B$5,3,IF(I26='Look-up Tables'!$B$6,2,IF(I26='Look-up Tables'!$B$7,1)))))","v":false},null,null,null,{"$f":"IF(M26='Look-up Tables'!$C$3,5,IF(M26='Look-up Tables'!$C$4,4,IF(M26='Look-up Tables'!$C$5,3,IF(M26='Look-up Tables'!$C$6,2,IF(M26='Look-up Tables'!$C$7,1)))))","v":false},{"$f":"IFERROR(VLOOKUP(P26,'Look-up Tables'!$D$3:$E$127,2),\"\")","v":""},0,null,null,null,null,null,{"$f":"IF(U26='Look-up Tables'!$A$3,5,IF(U26='Look-up Tables'!$A$4,4,IF(U26='Look-up Tables'!$A$5,3,IF(U26='Look-up Tables'!$A$6,2,IF(U26='Look-up Tables'!$A$7,1)))))","v":false},null,{"$f":"IF(W26='Look-up Tables'!$B$3,5,IF(W26='Look-up Tables'!$B$4,4,IF(W26='Look-up Tables'!$B$5,3,IF(W26='Look-up Tables'!$B$6,2,IF(W26='Look-up Tables'!$B$7,1)))))","v":false},null,{"$f":"IF(Y26='Look-up Tables'!$C$3,5,IF(Y26='Look-up Tables'!$C$4,4,IF(Y26='Look-up Tables'!$C$5,3,IF(Y26='Look-up Tables'!$C$6,2,IF(Y26='Look-up Tables'!$C$7,1)))))","v":false},{"$f":"IFERROR(VLOOKUP(AB26,'Look-up Tables'!$D$3:$E$127,2),\"\")","v":""},0]
[null,null,null,null,null,null,{"$f":"IF(F27='Look-up Tables'!$A$3,5,IF(F27='Look-up Tables'!$A$4,4,IF(F27='Look-up Tables'!$A$5,3,IF(F27='Look-up Tables'!$A$6,2,IF(F27='Look-up Tables'!$A$7,1)))))","v":false},null,null,{"$f":"IF(I27='Look-up Tables'!$B$3,5,IF(I27='Look-up Tables'!$B$4,4,IF(I27='Look-up Tables'!$B$5,3,IF(I27='Look-up Tables'!$B$6,2,IF(I27='Look-up Tables'!$B$7,1)))))","v":false},null,null,null,{"$f":"IF(M27='Look-up Tables'!$C$3,5,IF(M27='Look-up Tables'!$C$4,4,IF(M27='Look-up Tables'!$C$5,3,IF(M27='Look-up Tables'!$C$6,2,IF(M27='Look-up Tables'!$C$7,1)))))","v":false},{"$f":"IFERROR(VLOOKUP(P27,'Look-up Tables'!$D$3:$E$127,2),\"\")","v":""},0,null,null,null,null,null,{"$f":"IF(U27='Look-up Tables'!$A$3,5,IF(U27='Look-up Tables'!$A$4,4,IF(U27='Look-up Tables'!$A$5,3,IF(U27='Look-up Tables'!$A$6,2,IF(U27='Look-up Tables'!$A$7,1)))))","v":false},null,{"$f":"IF(W27='Look-up Tables'!$B$3,5,IF(W27='Look-up Tables'!$B$4,4,IF(W27='Look-up Tables'!$B$5,3,IF(W27='Look-up Tables'!$B$6,2,IF(W27='Look-up Tables'!$B$7,1)))))","v":false},null,{"$f":"IF(Y27='Look-up Tables'!$C$3,5,IF(Y27='Look-up Tables'!$C$4,4,IF(Y27='Look-up Tables'!$C$5,3,IF(Y27='Look-up Tables'!$C$6,2,IF(Y27='Look-up Tables'!$C$7,1)))))","v":false},{"$f":"IFERROR(VLOOKUP(AB27,'Look-up Tables'!$D$3:$E$127,2),\"\")","v":""},0]
[null,null,null,null,null,null,{"$f":"IF(F28='Look-up Tables'!$A$3,5,IF(F28='Look-up Tables'!$A$4,4,IF(F28='Look-up Tables'!$A$5,3,IF(F28='Look-up Tables'!$A$6,2,IF(F28='Look-up Tables'!$A$7,1)))))","v":false},null,null,{"$f":"IF(I28='Look-up Tables'!$B$3,5,IF(I28='Look-up Tables'!$B$4,4,IF(I28='Look-up Tables'!$B$5,3,IF(I28='Look-up Tables'!$B$6,2,IF(I28='Look-up Tables'!$B$7,1)))))","v":false},null,null,null,{"$f":"IF(M28='Look-up Tables'!$C$3,5,IF(M28='Look-up Tables'!$C$4,4,IF(M28='Look-up Tables'!$C$5,3,IF(M28='Look-up Tables'!$C$6,2,IF(M28='Look-up Tables'!$C$7,1)))))","v":false},{"$f":"IFERROR(VLOOKUP(P28,'Look-up Tables'!$D$3:$E$127,2),\"\")","v":""},0,null,null,null,null,null,{"$f":"IF(U28='Look-up Tables'!$A$3,5,IF(U28='Look-up Tables'!$A$4,4,IF(U28='Look-up Tables'!$A$5,3,IF(U28='Look-up Tables'!$A$6,2,IF(U28='Look-up Tables'!$A$7,1)))))","v":false},null,{"$f":"IF(W28='Look-up Tables'!$B$3,5,IF(W28='Look-up Tables'!$B$4,4,IF(W28='Look-up Tables'!$B$5,3,IF(W28='Look-up Tables'!$B$6,2,IF(W28='Look-up Tables'!$B$7,1)))))","v":false},null,{"$f":"IF(Y28='Look-up Tables'!$C$3,5,IF(Y28='Look-up Tables'!$C$4,4,IF(Y28='Look-up Tables'!$C$5,3,IF(Y28='Look-up Tables'!$C$6,2,IF(Y28='Look-up Tables'!$C$7,1)))))","v":false},{"$f":"IFERROR(VLOOKUP(AB28,'Look-up Tables'!$D$3:$E$127,2),\"\")","v":""},0]
[null,null,null,null,null,null,{"$f":"IF(F29='Look-up Tables'!$A$3,5,IF(F29='Look-up Tables'!$A$4,4,IF(F29='Look-up Tables'!$A$5,3,IF(F29='Look-up Tables'!$A$6,2,IF(F29='Look-up Tables'!$A$7,1)))))","v":false},null,null,{"$f":"IF(I29='Look-up Tables'!$B$3,5,IF(I29='Look-up Tables'!$B$4,4,IF(I29='Look-up Tables'!$B$5,3,IF(I29='Look-up Tables'!$B$6,2,IF(I29='Look-up Tables'!$B$7,1)))))","v":false},null,null,null,{"$f":"IF(M29='Look-up Tables'!$C$3,5,IF(M29='Look-up Tables'!$C$4,4,IF(M29='Look-up Tables'!$C$5,3,IF(M29='Look-up Tables'!$C$6,2,IF(M29='Look-up Tables'!$C$7,1)))))","v":false},{"$f":"IFERROR(VLOOKUP(P29,'Look-up Tables'!$D$3:$E$127,2),\"\")","v":""},0,null,null,null,null,null,{"$f":"IF(U29='Look-up Tables'!$A$3,5,IF(U29='Look-up Tables'!$A$4,4,IF(U29='Look-up Tables'!$A$5,3,IF(U29='Look-up Tables'!$A$6,2,IF(U29='Look-up Tables'!$A$7,1)))))","v":false},null,{"$f":"IF(W29='Look-up Tables'!$B$3,5,IF(W29='Look-up Tables'!$B$4,4,IF(W29='Look-up Tables'!$B$5,3,IF(W29='Look-up Tables'!$B$6,2,IF(W29='Look-up Tables'!$B$7,1)))))","v":false},null,{"$f":"IF(Y29='Look-up Tables'!$C$3,5,IF(Y29='Look-up Tables'!$C$4,4,IF(Y29='Look-up Tables'!$C$5,3,IF(Y29='Look-up Tables'!$C$6,2,IF(Y29='Look-up Tables'!$C$7,1)))))","v":false},{"$f":"IFERROR(VLOOKUP(AB29,'Look-up Tables'!$D$3:$E$127,2),\"\")","v":""},0]
[null,null,null,null,null,null,{"$f":"IF(F30='Look-up Tables'!$A$3,5,IF(F30='Look-up Tables'!$A$4,4,IF(F30='Look-up Tables'!$A$5,3,IF(F30='Look-up Tables'!$A$6,2,IF(F30='Look-up Tables'!$A$7,1)))))","v":false},null,null,{"$f":"IF(I30='Look-up Tables'!$B$3,5,IF(I30='Look-up Tables'!$B$4,4,IF(I30='Look-up Tables'!$B$5,3,IF(I30='Look-up Tables'!$B$6,2,IF(I30='Look-up Tables'!$B$7,1)))))","v":false},null,null,null,{"$f":"IF(M30='Look-up Tables'!$C$3,5,IF(M30='Look-up Tables'!$C$4,4,IF(M30='Look-up Tables'!$C$5,3,IF(M30='Look-up Tables'!$C$6,2,IF(M30='Look-up Tables'!$C$7,1)))))","v":false},{"$f":"IFERROR(VLOOKUP(P30,'Look-up Tables'!$D$3:$E$127,2),\"\")","v":""},0,null,null,null,null,null,{"$f":"IF(U30='Look-up Tables'!$A$3,5,IF(U30='Look-up Tables'!$A$4,4,IF(U30='Look-up Tables'!$A$5,3,IF(U30='Look-up Tables'!$A$6,2,IF(U30='Look-up Tables'!$A$7,1)))))","v":false},null,{"$f":"IF(W30='Look-up Tables'!$B$3,5,IF(W30='Look-up Tables'!$B$4,4,IF(W30='Look-up Tables'!$B$5,3,IF(W30='Look-up Tables'!$B$6,2,IF(W30='Look-up Tables'!$B$7,1)))))","v":false},null,{"$f":"IF(Y30='Look-up Tables'!$C$3,5,IF(Y30='Look-up Tables'!$C$4,4,IF(Y30='Look-up Tables'!$C$5,3,IF(Y30='Look-up Tables'!$C$6,2,IF(Y30='Look-up Tables'!$C$7,1)))))","v":false},{"$f":"IFERROR(VLOOKUP(AB30,'Look-up Tables'!$D$3:$E$127,2),\"\")","v":""},0]
[null,null,null,null,null,null,{"$f":"IF(F31='Look-up Tables'!$A$3,5,IF(F31='Look-up Tables'!$A$4,4,IF(F31='Look-up Tables'!$A$5,3,IF(F31='Look-up Tables'!$A$6,2,IF(F31='Look-up Tables'!$A$7,1)))))","v":false},null,null,{"$f":"IF(I31='Look-up Tables'!$B$3,5,IF(I31='Look-up Tables'!$B$4,4,IF(I31='Look-up Tables'!$B$5,3,IF(I31='Look-up Tables'!$B$6,2,IF(I31='Look-up Tables'!$B$7,1)))))","v":false},null,null,null,{"$f":"IF(M31='Look-up Tables'!$C$3,5,IF(M31='Look-up Tables'!$C$4,4,IF(M31='Look-up Tables'!$C$5,3,IF(M31='Look-up Tables'!$C$6,2,IF(M31='Look-up Tables'!$C$7,1)))))","v":false},{"$f":"IFERROR(VLOOKUP(P31,'Look-up Tables'!$D$3:$E$127,2),\"\")","v":""},0,null,null,null,null,null,{"$f":"IF(U31='Look-up Tables'!$A$3,5,IF(U31='Look-up Tables'!$A$4,4,IF(U31='Look-up Tables'!$A$5,3,IF(U31='Look-up Tables'!$A$6,2,IF(U31='Look-up Tables'!$A$7,1)))))","v":false},null,{"$f":"IF(W31='Look-up Tables'!$B$3,5,IF(W31='Look-up Tables'!$B$4,4,IF(W31='Look-up Tables'!$B$5,3,IF(W31='Look-up Tables'!$B$6,2,IF(W31='Look-up Tables'!$B$7,1)))))","v":false},null,{"$f":"IF(Y31='Look-up Tables'!$C$3,5,IF(Y31='Look-up Tables'!$C$4,4,IF(Y31='Look-up Tables'!$C$5,3,IF(Y31='Look-up Tables'!$C$6,2,IF(Y31='Look-up Tables'!$C$7,1)))))","v":false},{"$f":"IFERROR(VLOOKUP(AB31,'Look-up Tables'!$D$3:$E$127,2),\"\")","v":""},0]
[null,null,null,null,null,null,{"$f":"IF(F32='Look-up Tables'!$A$3,5,IF(F32='Look-up Tables'!$A$4,4,IF(F32='Look-up Tables'!$A$5,3,IF(F32='Look-up Tables'!$A$6,2,IF(F32='Look-up Tables'!$A$7,1)))))","v":false},null,null,{"$f":"IF(I32='Look-up Tables'!$B$3,5,IF(I32='Look-up Tables'!$B$4,4,IF(I32='Look-up Tables'!$B$5,3,IF(I32='Look-up Tables'!$B$6,2,IF(I32='Look-up Tables'!$B$7,1)))))","v":false},null,null,null,{"$f":"IF(M32='Look-up Tables'!$C$3,5,IF(M32='Look-up Tables'!$C$4,4,IF(M32='Look-up Tables'!$C$5,3,IF(M32='Look-up Tables'!$C$6,2,IF(M32='Look-up Tables'!$C$7,1)))))","v":false},{"$f":"IFERROR(VLOOKUP(P32,'Look-up Tables'!$D$3:$E$127,2),\"\")","v":""},0,null,null,null,null,null,{"$f":"IF(U32='Look-up Tables'!$A$3,5,IF(U32='Look-up Tables'!$A$4,4,IF(U32='Look-up Tables'!$A$5,3,IF(U32='Look-up Tables'!$A$6,2,IF(U32='Look-up Tables'!$A$7,1)))))","v":false},null,{"$f":"IF(W32='Look-up Tables'!$B$3,5,IF(W32='Look-up Tables'!$B$4,4,IF(W32='Look-up Tables'!$B$5,3,IF(W32='Look-up Tables'!$B$6,2,IF(W32='Look-up Tables'!$B$7,1)))))","v":false},null,{"$f":"IF(Y32='Look-up Tables'!$C$3,5,IF(Y32='Look-up Tables'!$C$4,4,IF(Y32='Look-up Tables'!$C$5,3,IF(Y32='Look-up Tables'!$C$6,2,IF(Y32='Look-up Tables'!$C$7,1)))))","v":false},{"$f":"IFERROR(VLOOKUP(AB32,'Look-up Tables'!$D$3:$E$127,2),\"\")","v":""},0]
[null,null,null,null,null,null,{"$f":"IF(F33='Look-up Tables'!$A$3,5,IF(F33='Look-up Tables'!$A$4,4,IF(F33='Look-up Tables'!$A$5,3,IF(F33='Look-up Tables'!$A$6,2,IF(F33='Look-up Tables'!$A$7,1)))))","v":false},null,null,{"$f":"IF(I33='Look-up Tables'!$B$3,5,IF(I33='Look-up Tables'!$B$4,4,IF(I33='Look-up Tables'!$B$5,3,IF(I33='Look-up Tables'!$B$6,2,IF(I33='Look-up Tables'!$B$7,1)))))","v":false},null,null,null,{"$f":"IF(M33='Look-up Tables'!$C$3,5,IF(M33='Look-up Tables'!$C$4,4,IF(M33='Look-up Tables'!$C$5,3,IF(M33='Look-up Tables'!$C$6,2,IF(M33='Look-up Tables'!$C$7,1)))))","v":false},{"$f":"IFERROR(VLOOKUP(P33,'Look-up Tables'!$D$3:$E$127,2),\"\")","v":""},0,null,null,null,null,null,{"$f":"IF(U33='Look-up Tables'!$A$3,5,IF(U33='Look-up Tables'!$A$4,4,IF(U33='Look-up Tables'!$A$5,3,IF(U33='Look-up Tables'!$A$6,2,IF(U33='Look-up Tables'!$A$7,1)))))","v":false},null,{"$f":"IF(W33='Look-up Tables'!$B$3,5,IF(W33='Look-up Tables'!$B$4,4,IF(W33='Look-up Tables'!$B$5,3,IF(W33='Look-up Tables'!$B$6,2,IF(W33='Look-up Tables'!$B$7,1)))))","v":false},null,{"$f":"IF(Y33='Look-up Tables'!$C$3,5,IF(Y33='Look-up Tables'!$C$4,4,IF(Y33='Look-up Tables'!$C$5,3,IF(Y33='Look-up Tables'!$C$6,2,IF(Y33='Look-up Tables'!$C$7,1)))))","v":false},{"$f":"IFERROR(VLOOKUP(AB33,'Look-up Tables'!$D$3:$E$127,2),\"\")","v":""},0]
[null,null,null,null,null,null,{"$f":"IF(F34='Look-up Tables'!$A$3,5,IF(F34='Look-up Tables'!$A$4,4,IF(F34='Look-up Tables'!$A$5,3,IF(F34='Look-up Tables'!$A$6,2,IF(F34='Look-up Tables'!$A$7,1)))))","v":false},null,null,{"$f":"IF(I34='Look-up Tables'!$B$3,5,IF(I34='Look-up Tables'!$B$4,4,IF(I34='Look-up Tables'!$B$5,3,IF(I34='Look-up Tables'!$B$6,2,IF(I34='Look-up Tables'!$B$7,1)))))","v":false},null,null,null,{"$f":"IF(M34='Look-up Tables'!$C$3,5,IF(M34='Look-up Tables'!$C$4,4,IF(M34='Look-up Tables'!$C$5,3,IF(M34='Look-up Tables'!$C$6,2,IF(M34='Look-up Tables'!$C$7,1)))))","v":false},{"$f":"IFERROR(VLOOKUP(P34,'Look-up Tables'!$D$3:$E$127,2),\"\")","v":""},0,null,null,null,null,null,{"$f":"IF(U34='Look-up Tables'!$A$3,5,IF(U34='Look-up Tables'!$A$4,4,IF(U34='Look-up Tables'!$A$5,3,IF(U34='Look-up Tables'!$A$6,2,IF(U34='Look-up Tables'!$A$7,1)))))","v":false},null,{"$f":"IF(W34='Look-up Tables'!$B$3,5,IF(W34='Look-up Tables'!$B$4,4,IF(W34='Look-up Tables'!$B$5,3,IF(W34='Look-up Tables'!$B$6,2,IF(W34='Look-up Tables'!$B$7,1)))))","v":false},null,{"$f":"IF(Y34='Look-up Tables'!$C$3,5,IF(Y34='Look-up Tables'!$C$4,4,IF(Y34='Look-up Tables'!$C$5,3,IF(Y34='Look-up Tables'!$C$6,2,IF(Y34='Look-up Tables'!$C$7,1)))))","v":false},{"$f":"IFERROR(VLOOKUP(AB34,'Look-up Tables'!$D$3:$E$127,2),\"\")","v":""},0]
[null,null,null,null,null,null,{"$f":"IF(F35='Look-up Tables'!$A$3,5,IF(F35='Look-up Tables'!$A$4,4,IF(F35='Look-up Tables'!$A$5,3,IF(F35='Look-up Tables'!$A$6,2,IF(F35='Look-up Tables'!$A$7,1)))))","v":false},null,null,{"$f":"IF(I35='Look-up Tables'!$B$3,5,IF(I35='Look-up Tables'!$B$4,4,IF(I35='Look-up Tables'!$B$5,3,IF(I35='Look-up Tables'!$B$6,2,IF(I35='Look-up Tables'!$B$7,1)))))","v":false},null,null,null,{"$f":"IF(M35='Look-up Tables'!$C$3,5,IF(M35='Look-up Tables'!$C$4,4,IF(M35='Look-up Tables'!$C$5,3,IF(M35='Look-up Tables'!$C$6,2,IF(M35='Look-up Tables'!$C$7,1)))))","v":false},{"$f":"IFERROR(VLOOKUP(P35,'Look-up Tables'!$D$3:$E$127,2),\"\")","v":""},0,null,null,null,null,null,{"$f":"IF(U35='Look-up Tables'!$A$3,5,IF(U35='Look-up Tables'!$A$4,4,IF(U35='Look-up Tables'!$A$5,3,IF(U35='Look-up Tables'!$A$6,2,IF(U35='Look-up Tables'!$A$7,1)))))","v":false},null,{"$f":"IF(W35='Look-up Tables'!$B$3,5,IF(W35='Look-up Tables'!$B$4,4,IF(W35='Look-up Tables'!$B$5,3,IF(W35='Look-up Tables'!$B$6,2,IF(W35='Look-up Tables'!$B$7,1)))))","v":false},null,{"$f":"IF(Y35='Look-up Tables'!$C$3,5,IF(Y35='Look-up Tables'!$C$4,4,IF(Y35='Look-up Tables'!$C$5,3,IF(Y35='Look-up Tables'!$C$6,2,IF(Y35='Look-up Tables'!$C$7,1)))))","v":false},{"$f":"IFERROR(VLOOKUP(AB35,'Look-up Tables'!$D$3:$E$127,2),\"\")","v":""},0]
[null,null,null,null,null,null,{"$f":"IF(F36='Look-up Tables'!$A$3,5,IF(F36='Look-up Tables'!$A$4,4,IF(F36='Look-up Tables'!$A$5,3,IF(F36='Look-up Tables'!$A$6,2,IF(F36='Look-up Tables'!$A$7,1)))))","v":false},null,null,{"$f":"IF(I36='Look-up Tables'!$B$3,5,IF(I36='Look-up Tables'!$B$4,4,IF(I36='Look-up Tables'!$B$5,3,IF(I36='Look-up Tables'!$B$6,2,IF(I36='Look-up Tables'!$B$7,1)))))","v":false},null,null,null,{"$f":"IF(M36='Look-up Tables'!$C$3,5,IF(M36='Look-up Tables'!$C$4,4,IF(M36='Look-up Tables'!$C$5,3,IF(M36='Look-up Tables'!$C$6,2,IF(M36='Look-up Tables'!$C$7,1)))))","v":false},{"$f":"IFERROR(VLOOKUP(P36,'Look-up Tables'!$D$3:$E$127,2),\"\")","v":""},0,null,null,null,null,null,{"$f":"IF(U36='Look-up Tables'!$A$3,5,IF(U36='Look-up Tables'!$A$4,4,IF(U36='Look-up Tables'!$A$5,3,IF(U36='Look-up Tables'!$A$6,2,IF(U36='Look-up Tables'!$A$7,1)))))","v":false},null,{"$f":"IF(W36='Look-up Tables'!$B$3,5,IF(W36='Look-up Tables'!$B$4,4,IF(W36='Look-up Tables'!$B$5,3,IF(W36='Look-up Tables'!$B$6,2,IF(W36='Look-up Tables'!$B$7,1)))))","v":false},null,{"$f":"IF(Y36='Look-up Tables'!$C$3,5,IF(Y36='Look-up Tables'!$C$4,4,IF(Y36='Look-up Tables'!$C$5,3,IF(Y36='Look-up Tables'!$C$6,2,IF(Y36='Look-up Tables'!$C$7,1)))))","v":false},{"$f":"IFERROR(VLOOKUP(AB36,'Look-up Tables'!$D$3:$E$127,2),\"\")","v":""},0]
[null,null,null,null,null,null,{"$f":"IF(F37='Look-up Tables'!$A$3,5,IF(F37='Look-up Tables'!$A$4,4,IF(F37='Look-up Tables'!$A$5,3,IF(F37='Look-up Tables'!$A$6,2,IF(F37='Look-up Tables'!$A$7,1)))))","v":false},null,null,{"$f":"IF(I37='Look-up Tables'!$B$3,5,IF(I37='Look-up Tables'!$B$4,4,IF(I37='Look-up Tables'!$B$5,3,IF(I37='Look-up Tables'!$B$6,2,IF(I37='Look-up Tables'!$B$7,1)))))","v":false},null,null,null,{"$f":"IF(M37='Look-up Tables'!$C$3,5,IF(M37='Look-up Tables'!$C$4,4,IF(M37='Look-up Tables'!$C$5,3,IF(M37='Look-up Tables'!$C$6,2,IF(M37='Look-up Tables'!$C$7,1)))))","v":false},{"$f":"IFERROR(VLOOKUP(P37,'Look-up Tables'!$D$3:$E$127,2),\"\")","v":""},0,null,null,null,null,null,{"$f":"IF(U37='Look-up Tables'!$A$3,5,IF(U37='Look-up Tables'!$A$4,4,IF(U37='Look-up Tables'!$A$5,3,IF(U37='Look-up Tables'!$A$6,2,IF(U37='Look-up Tables'!$A$7,1)))))","v":false},null,{"$f":"IF(W37='Look-up Tables'!$B$3,5,IF(W37='Look-up Tables'!$B$4,4,IF(W37='Look-up Tables'!$B$5,3,IF(W37='Look-up Tables'!$B$6,2,IF(W37='Look-up Tables'!$B$7,1)))))","v":false},null,{"$f":"IF(Y37='Look-up Tables'!$C$3,5,IF(Y37='Look-up Tables'!$C$4,4,IF(Y37='Look-up Tables'!$C$5,3,IF(Y37='Look-up Tables'!$C$6,2,IF(Y37='Look-up Tables'!$C$7,1)))))","v":false},{"$f":"IFERROR(VLOOKUP(AB37,'Look-up Tables'!$D$3:$E$127,2),\"\")","v":""},0]
[null,null,null,null,null,null,{"$f":"IF(F38='Look-up Tables'!$A$3,5,IF(F38='Look-up Tables'!$A$4,4,IF(F38='Look-up Tables'!$A$5,3,IF(F38='Look-up Tables'!$A$6,2,IF(F38='Look-up Tables'!$A$7,1)))))","v":false},null,null,{"$f":"IF(I38='Look-up Tables'!$B$3,5,IF(I38='Look-up Tables'!$B$4,4,IF(I38='Look-up Tables'!$B$5,3,IF(I38='Look-up Tables'!$B$6,2,IF(I38='Look-up Tables'!$B$7,1)))))","v":false},null,null,null,{"$f":"IF(M38='Look-up Tables'!$C$3,5,IF(M38='Look-up Tables'!$C$4,4,IF(M38='Look-up Tables'!$C$5,3,IF(M38='Look-up Tables'!$C$6,2,IF(M38='Look-up Tables'!$C$7,1)))))","v":false},{"$f":"IFERROR(VLOOKUP(P38,'Look-up Tables'!$D$3:$E$127,2),\"\")","v":""},0,null,null,null,null,null,{"$f":"IF(U38='Look-up Tables'!$A$3,5,IF(U38='Look-up Tables'!$A$4,4,IF(U38='Look-up Tables'!$A$5,3,IF(U38='Look-up Tables'!$A$6,2,IF(U38='Look-up Tables'!$A$7,1)))))","v":false},null,{"$f":"IF(W38='Look-up Tables'!$B$3,5,IF(W38='Look-up Tables'!$B$4,4,IF(W38='Look-up Tables'!$B$5,3,IF(W38='Look-up Tables'!$B$6,2,IF(W38='Look-up Tables'!$B$7,1)))))","v":false},null,{"$f":"IF(Y38='Look-up Tables'!$C$3,5,IF(Y38='Look-up Tables'!$C$4,4,IF(Y38='Look-up Tables'!$C$5,3,IF(Y38='Look-up Tables'!$C$6,2,IF(Y38='Look-up Tables'!$C$7,1)))))","v":false},{"$f":"IFERROR(VLOOKUP(AB38,'Look-up Tables'!$D$3:$E$127,2),\"\")","v":""},0]
[null,null,null,null,null,null,{"$f":"IF(F39='Look-up Tables'!$A$3,5,IF(F39='Look-up Tables'!$A$4,4,IF(F39='Look-up Tables'!$A$5,3,IF(F39='Look-up Tables'!$A$6,2,IF(F39='Look-up Tables'!$A$7,1)))))","v":false},null,null,{"$f":"IF(I39='Look-up Tables'!$B$3,5,IF(I39='Look-up Tables'!$B$4,4,IF(I39='Look-up Tables'!$B$5,3,IF(I39='Look-up Tables'!$B$6,2,IF(I39='Look-up Tables'!$B$7,1)))))","v":false},null,null,null,{"$f":"IF(M39='Look-up Tables'!$C$3,5,IF(M39='Look-up Tables'!$C$4,4,IF(M39='Look-up Tables'!$C$5,3,IF(M39='Look-up Tables'!$C$6,2,IF(M39='Look-up Tables'!$C$7,1)))))","v":false},{"$f":"IFERROR(VLOOKUP(P39,'Look-up Tables'!$D$3:$E$127,2),\"\")","v":""},0,null,null,null,null,null,{"$f":"IF(U39='Look-up Tables'!$A$3,5,IF(U39='Look-up Tables'!$A$4,4,IF(U39='Look-up Tables'!$A$5,3,IF(U39='Look-up Tables'!$A$6,2,IF(U39='Look-up Tables'!$A$7,1)))))","v":false},null,{"$f":"IF(W39='Look-up Tables'!$B$3,5,IF(W39='Look-up Tables'!$B$4,4,IF(W39='Look-up Tables'!$B$5,3,IF(W39='Look-up Tables'!$B$6,2,IF(W39='Look-up Tables'!$B$7,1)))))","v":false},null,{"$f":"IF(Y39='Look-up Tables'!$C$3,5,IF(Y39='Look-up Tables'!$C$4,4,IF(Y39='Look-up Tables'!$C$5,3,IF(Y39='Look-up Tables'!$C$6,2,IF(Y39='Look-up Tables'!$C$7,1)))))","v":false},{"$f":"IFERROR(VLOOKUP(AB39,'Look-up Tables'!$D$3:$E$127,2),\"\")","v":""},0]
[null,null,null,null,null,null,{"$f":"IF(F40='Look-up Tables'!$A$3,5,IF(F40='Look-up Tables'!$A$4,4,IF(F40='Look-up Tables'!$A$5,3,IF(F40='Look-up Tables'!$A$6,2,IF(F40='Look-up Tables'!$A$7,1)))))","v":false},null,null,{"$f":"IF(I40='Look-up Tables'!$B$3,5,IF(I40='Look-up Tables'!$B$4,4,IF(I40='Look-up Tables'!$B$5,3,IF(I40='Look-up Tables'!$B$6,2,IF(I40='Look-up Tables'!$B$7,1)))))","v":false},null,null,null,{"$f":"IF(M40='Look-up Tables'!$C$3,5,IF(M40='Look-up Tables'!$C$4,4,IF(M40='Look-up Tables'!$C$5,3,IF(M40='Look-up Tables'!$C$6,2,IF(M40='Look-up Tables'!$C$7,1)))))","v":false},{"$f":"IFERROR(VLOOKUP(P40,'Look-up Tables'!$D$3:$E$127,2),\"\")","v":""},0,null,null,null,null,null,{"$f":"IF(U40='Look-up Tables'!$A$3,5,IF(U40='Look-up Tables'!$A$4,4,IF(U40='Look-up Tables'!$A$5,3,IF(U40='Look-up Tables'!$A$6,2,IF(U40='Look-up Tables'!$A$7,1)))))","v":false},null,{"$f":"IF(W40='Look-up Tables'!$B$3,5,IF(W40='Look-up Tables'!$B$4,4,IF(W40='Look-up Tables'!$B$5,3,IF(W40='Look-up Tables'!$B$6,2,IF(W40='Look-up Tables'!$B$7,1)))))","v":false},null,{"$f":"IF(Y40='Look-up Tables'!$C$3,5,IF(Y40='Look-up Tables'!$C$4,4,IF(Y40='Look-up Tables'!$C$5,3,IF(Y40='Look-up Tables'!$C$6,2,IF(Y40='Look-up Tables'!$C$7,1)))))","v":false},{"$f":"IFERROR(VLOOKUP(AB40,'Look-up Tables'!$D$3:$E$127,2),\"\")","v":""},0]
[null,null,null,null,null,null,{"$f":"IF(F41='Look-up Tables'!$A$3,5,IF(F41='Look-up Tables'!$A$4,4,IF(F41='Look-up Tables'!$A$5,3,IF(F41='Look-up Tables'!$A$6,2,IF(F41='Look-up Tables'!$A$7,1)))))","v":false},null,null,{"$f":"IF(I41='Look-up Tables'!$B$3,5,IF(I41='Look-up Tables'!$B$4,4,IF(I41='Look-up Tables'!$B$5,3,IF(I41='Look-up Tables'!$B$6,2,IF(I41='Look-up Tables'!$B$7,1)))))","v":false},null,null,null,{"$f":"IF(M41='Look-up Tables'!$C$3,5,IF(M41='Look-up Tables'!$C$4,4,IF(M41='Look-up Tables'!$C$5,3,IF(M41='Look-up Tables'!$C$6,2,IF(M41='Look-up Tables'!$C$7,1)))))","v":false},{"$f":"IFERROR(VLOOKUP(P41,'Look-up Tables'!$D$3:$E$127,2),\"\")","v":""},0,null,null,null,null,null,{"$f":"IF(U41='Look-up Tables'!$A$3,5,IF(U41='Look-up Tables'!$A$4,4,IF(U41='Look-up Tables'!$A$5,3,IF(U41='Look-up Tables'!$A$6,2,IF(U41='Look-up Tables'!$A$7,1)))))","v":false},null,{"$f":"IF(W41='Look-up Tables'!$B$3,5,IF(W41='Look-up Tables'!$B$4,4,IF(W41='Look-up Tables'!$B$5,3,IF(W41='Look-up Tables'!$B$6,2,IF(W41='Look-up Tables'!$B$7,1)))))","v":false},null,{"$f":"IF(Y41='Look-up Tables'!$C$3,5,IF(Y41='Look-up Tables'!$C$4,4,IF(Y41='Look-up Tables'!$C$5,3,IF(Y41='Look-up Tables'!$C$6,2,IF(Y41='Look-up Tables'!$C$7,1)))))","v":false},{"$f":"IFERROR(VLOOKUP(AB41,'Look-up Tables'!$D$3:$E$127,2),\"\")","v":""},0]
[null,null,null,null,null,null,{"$f":"IF(F42='Look-up Tables'!$A$3,5,IF(F42='Look-up Tables'!$A$4,4,IF(F42='Look-up Tables'!$A$5,3,IF(F42='Look-up Tables'!$A$6,2,IF(F42='Look-up Tables'!$A$7,1)))))","v":false},null,null,{"$f":"IF(I42='Look-up Tables'!$B$3,5,IF(I42='Look-up Tables'!$B$4,4,IF(I42='Look-up Tables'!$B$5,3,IF(I42='Look-up Tables'!$B$6,2,IF(I42='Look-up Tables'!$B$7,1)))))","v":false},null,null,null,{"$f":"IF(M42='Look-up Tables'!$C$3,5,IF(M42='Look-up Tables'!$C$4,4,IF(M42='Look-up Tables'!$C$5,3,IF(M42='Look-up Tables'!$C$6,2,IF(M42='Look-up Tables'!$C$7,1)))))","v":false},{"$f":"IFERROR(VLOOKUP(P42,'Look-up Tables'!$D$3:$E$127,2),\"\")","v":""},0,null,null,null,null,null,{"$f":"IF(U42='Look-up Tables'!$A$3,5,IF(U42='Look-up Tables'!$A$4,4,IF(U42='Look-up Tables'!$A$5,3,IF(U42='Look-up Tables'!$A$6,2,IF(U42='Look-up Tables'!$A$7,1)))))","v":false},null,{"$f":"IF(W42='Look-up Tables'!$B$3,5,IF(W42='Look-up Tables'!$B$4,4,IF(W42='Look-up Tables'!$B$5,3,IF(W42='Look-up Tables'!$B$6,2,IF(W42='Look-up Tables'!$B$7,1)))))","v":false},null,{"$f":"IF(Y42='Look-up Tables'!$C$3,5,IF(Y42='Look-up Tables'!$C$4,4,IF(Y42='Look-up Tables'!$C$5,3,IF(Y42='Look-up Tables'!$C$6,2,IF(Y42='Look-up Tables'!$C$7,1)))))","v":false},{"$f":"IFERROR(VLOOKUP(AB42,'Look-up Tables'!$D$3:$E$127,2),\"\")","v":""},0]
[null,null,null,null,null,null,{"$f":"IF(F43='Look-up Tables'!$A$3,5,IF(F43='Look-up Tables'!$A$4,4,IF(F43='Look-up Tables'!$A$5,3,IF(F43='Look-up Tables'!$A$6,2,IF(F43='Look-up Tables'!$A$7,1)))))","v":false},null,null,{"$f":"IF(I43='Look-up Tables'!$B$3,5,IF(I43='Look-up Tables'!$B$4,4,IF(I43='Look-up Tables'!$B$5,3,IF(I43='Look-up Tables'!$B$6,2,IF(I43='Look-up Tables'!$B$7,1)))))","v":false},null,null,null,{"$f":"IF(M43='Look-up Tables'!$C$3,5,IF(M43='Look-up Tables'!$C$4,4,IF(M43='Look-up Tables'!$C$5,3,IF(M43='Look-up Tables'!$C$6,2,IF(M43='Look-up Tables'!$C$7,1)))))","v":false},{"$f":"IFERROR(VLOOKUP(P43,'Look-up Tables'!$D$3:$E$127,2),\"\")","v":""},0,null,null,null,null,null,{"$f":"IF(U43='Look-up Tables'!$A$3,5,IF(U43='Look-up Tables'!$A$4,4,IF(U43='Look-up Tables'!$A$5,3,IF(U43='Look-up Tables'!$A$6,2,IF(U43='Look-up Tables'!$A$7,1)))))","v":false},null,{"$f":"IF(W43='Look-up Tables'!$B$3,5,IF(W43='Look-up Tables'!$B$4,4,IF(W43='Look-up Tables'!$B$5,3,IF(W43='Look-up Tables'!$B$6,2,IF(W43='Look-up Tables'!$B$7,1)))))","v":false},null,{"$f":"IF(Y43='Look-up Tables'!$C$3,5,IF(Y43='Look-up Tables'!$C$4,4,IF(Y43='Look-up Tables'!$C$5,3,IF(Y43='Look-up Tables'!$C$6,2,IF(Y43='Look-up Tables'!$C$7,1)))))","v":false},{"$f":"IFERROR(VLOOKUP(AB43,'Look-up Tables'!$D$3:$E$127,2),\"\")","v":""},0]
[null,null,null,null,null,null,{"$f":"IF(F44='Look-up Tables'!$A$3,5,IF(F44='Look-up Tables'!$A$4,4,IF(F44='Look-up Tables'!$A$5,3,IF(F44='Look-up Tables'!$A$6,2,IF(F44='Look-up Tables'!$A$7,1)))))","v":false},null,null,{"$f":"IF(I44='Look-up Tables'!$B$3,5,IF(I44='Look-up Tables'!$B$4,4,IF(I44='Look-up Tables'!$B$5,3,IF(I44='Look-up Tables'!$B$6,2,IF(I44='Look-up Tables'!$B$7,1)))))","v":false},null,null,null,{"$f":"IF(M44='Look-up Tables'!$C$3,5,IF(M44='Look-up Tables'!$C$4,4,IF(M44='Look-up Tables'!$C$5,3,IF(M44='Look-up Tables'!$C$6,2,IF(M44='Look-up Tables'!$C$7,1)))))","v":false},{"$f":"IFERROR(VLOOKUP(P44,'Look-up Tables'!$D$3:$E$127,2),\"\")","v":""},0,null,null,null,null,null,{"$f":"IF(U44='Look-up Tables'!$A$3,5,IF(U44='Look-up Tables'!$A$4,4,IF(U44='Look-up Tables'!$A$5,3,IF(U44='Look-up Tables'!$A$6,2,IF(U44='Look-up Tables'!$A$7,1)))))","v":false},null,{"$f":"IF(W44='Look-up Tables'!$B$3,5,IF(W44='Look-up Tables'!$B$4,4,IF(W44='Look-up Tables'!$B$5,3,IF(W44='Look-up Tables'!$B$6,2,IF(W44='Look-up Tables'!$B$7,1)))))","v":false},null,{"$f":"IF(Y44='Look-up Tables'!$C$3,5,IF(Y44='Look-up Tables'!$C$4,4,IF(Y44='Look-up Tables'!$C$5,3,IF(Y44='Look-up Tables'!$C$6,2,IF(Y44='Look-up Tables'!$C$7,1)))))","v":false},{"$f":"IFERROR(VLOOKUP(AB44,'Look-up Tables'!$D$3:$E$127,2),\"\")","v":""},0]
[null,null,null,null,null,null,{"$f":"IF(F45='Look-up Tables'!$A$3,5,IF(F45='Look-up Tables'!$A$4,4,IF(F45='Look-up Tables'!$A$5,3,IF(F45='Look-up Tables'!$A$6,2,IF(F45='Look-up Tables'!$A$7,1)))))","v":false},null,null,{"$f":"IF(I45='Look-up Tables'!$B$3,5,IF(I45='Look-up Tables'!$B$4,4,IF(I45='Look-up Tables'!$B$5,3,IF(I45='Look-up Tables'!$B$6,2,IF(I45='Look-up Tables'!$B$7,1)))))","v":false},null,null,null,{"$f":"IF(M45='Look-up Tables'!$C$3,5,IF(M45='Look-up Tables'!$C$4,4,IF(M45='Look-up Tables'!$C$5,3,IF(M45='Look-up Tables'!$C$6,2,IF(M45='Look-up Tables'!$C$7,1)))))","v":false},{"$f":"IFERROR(VLOOKUP(P45,'Look-up Tables'!$D$3:$E$127,2),\"\")","v":""},0,null,null,null,null,null,{"$f":"IF(U45='Look-up Tables'!$A$3,5,IF(U45='Look-up Tables'!$A$4,4,IF(U45='Look-up Tables'!$A$5,3,IF(U45='Look-up Tables'!$A$6,2,IF(U45='Look-up Tables'!$A$7,1)))))","v":false},null,{"$f":"IF(W45='Look-up Tables'!$B$3,5,IF(W45='Look-up Tables'!$B$4,4,IF(W45='Look-up Tables'!$B$5,3,IF(W45='Look-up Tables'!$B$6,2,IF(W45='Look-up Tables'!$B$7,1)))))","v":false},null,{"$f":"IF(Y45='Look-up Tables'!$C$3,5,IF(Y45='Look-up Tables'!$C$4,4,IF(Y45='Look-up Tables'!$C$5,3,IF(Y45='Look-up Tables'!$C$6,2,IF(Y45='Look-up Tables'!$C$7,1)))))","v":false},{"$f":"IFERROR(VLOOKUP(AB45,'Look-up Tables'!$D$3:$E$127,2),\"\")","v":""},0]
[null,null,null,null,null,null,{"$f":"IF(F46='Look-up Tables'!$A$3,5,IF(F46='Look-up Tables'!$A$4,4,IF(F46='Look-up Tables'!$A$5,3,IF(F46='Look-up Tables'!$A$6,2,IF(F46='Look-up Tables'!$A$7,1)))))","v":false},null,null,{"$f":"IF(I46='Look-up Tables'!$B$3,5,IF(I46='Look-up Tables'!$B$4,4,IF(I46='Look-up Tables'!$B$5,3,IF(I46='Look-up Tables'!$B$6,2,IF(I46='Look-up Tables'!$B$7,1)))))","v":false},null,null,null,{"$f":"IF(M46='Look-up Tables'!$C$3,5,IF(M46='Look-up Tables'!$C$4,4,IF(M46='Look-up Tables'!$C$5,3,IF(M46='Look-up Tables'!$C$6,2,IF(M46='Look-up Tables'!$C$7,1)))))","v":false},{"$f":"IFERROR(VLOOKUP(P46,'Look-up Tables'!$D$3:$E$127,2),\"\")","v":""},0,null,null,null,null,null,{"$f":"IF(U46='Look-up Tables'!$A$3,5,IF(U46='Look-up Tables'!$A$4,4,IF(U46='Look-up Tables'!$A$5,3,IF(U46='Look-up Tables'!$A$6,2,IF(U46='Look-up Tables'!$A$7,1)))))","v":false},null,{"$f":"IF(W46='Look-up Tables'!$B$3,5,IF(W46='Look-up Tables'!$B$4,4,IF(W46='Look-up Tables'!$B$5,3,IF(W46='Look-up Tables'!$B$6,2,IF(W46='Look-up Tables'!$B$7,1)))))","v":false},null,{"$f":"IF(Y46='Look-up Tables'!$C$3,5,IF(Y46='Look-up Tables'!$C$4,4,IF(Y46='Look-up Tables'!$C$5,3,IF(Y46='Look-up Tables'!$C$6,2,IF(Y46='Look-up Tables'!$C$7,1)))))","v":false},{"$f":"IFERROR(VLOOKUP(AB46,'Look-up Tables'!$D$3:$E$127,2),\"\")","v":""},0]
[null,null,null,null,null,null,{"$f":"IF(F47='Look-up Tables'!$A$3,5,IF(F47='Look-up Tables'!$A$4,4,IF(F47='Look-up Tables'!$A$5,3,IF(F47='Look-up Tables'!$A$6,2,IF(F47='Look-up Tables'!$A$7,1)))))","v":false},null,null,{"$f":"IF(I47='Look-up Tables'!$B$3,5,IF(I47='Look-up Tables'!$B$4,4,IF(I47='Look-up Tables'!$B$5,3,IF(I47='Look-up Tables'!$B$6,2,IF(I47='Look-up Tables'!$B$7,1)))))","v":false},null,null,null,{"$f":"IF(M47='Look-up Tables'!$C$3,5,IF(M47='Look-up Tables'!$C$4,4,IF(M47='Look-up Tables'!$C$5,3,IF(M47='Look-up Tables'!$C$6,2,IF(M47='Look-up Tables'!$C$7,1)))))","v":false},{"$f":"IFERROR(VLOOKUP(P47,'Look-up Tables'!$D$3:$E$127,2),\"\")","v":""},0,null,null,null,null,null,{"$f":"IF(U47='Look-up Tables'!$A$3,5,IF(U47='Look-up Tables'!$A$4,4,IF(U47='Look-up Tables'!$A$5,3,IF(U47='Look-up Tables'!$A$6,2,IF(U47='Look-up Tables'!$A$7,1)))))","v":false},null,{"$f":"IF(W47='Look-up Tables'!$B$3,5,IF(W47='Look-up Tables'!$B$4,4,IF(W47='Look-up Tables'!$B$5,3,IF(W47='Look-up Tables'!$B$6,2,IF(W47='Look-up Tables'!$B$7,1)))))","v":false},null,{"$f":"IF(Y47='Look-up Tables'!$C$3,5,IF(Y47='Look-up Tables'!$C$4,4,IF(Y47='Look-up Tables'!$C$5,3,IF(Y47='Look-up Tables'!$C$6,2,IF(Y47='Look-up Tables'!$C$7,1)))))","v":false},{"$f":"IFERROR(VLOOKUP(AB47,'Look-up Tables'!$D$3:$E$127,2),\"\")","v":""},0]
[null,null,null,null,null,null,{"$f":"IF(F48='Look-up Tables'!$A$3,5,IF(F48='Look-up Tables'!$A$4,4,IF(F48='Look-up Tables'!$A$5,3,IF(F48='Look-up Tables'!$A$6,2,IF(F48='Look-up Tables'!$A$7,1)))))","v":false},null,null,{"$f":"IF(I48='Look-up Tables'!$B$3,5,IF(I48='Look-up Tables'!$B$4,4,IF(I48='Look-up Tables'!$B$5,3,IF(I48='Look-up Tables'!$B$6,2,IF(I48='Look-up Tables'!$B$7,1)))))","v":false},null,null,null,{"$f":"IF(M48='Look-up Tables'!$C$3,5,IF(M48='Look-up Tables'!$C$4,4,IF(M48='Look-up Tables'!$C$5,3,IF(M48='Look-up Tables'!$C$6,2,IF(M48='Look-up Tables'!$C$7,1)))))","v":false},{"$f":"IFERROR(VLOOKUP(P48,'Look-up Tables'!$D$3:$E$127,2),\"\")","v":""},0,null,null,null,null,null,{"$f":"IF(U48='Look-up Tables'!$A$3,5,IF(U48='Look-up Tables'!$A$4,4,IF(U48='Look-up Tables'!$A$5,3,IF(U48='Look-up Tables'!$A$6,2,IF(U48='Look-up Tables'!$A$7,1)))))","v":false},null,{"$f":"IF(W48='Look-up Tables'!$B$3,5,IF(W48='Look-up Tables'!$B$4,4,IF(W48='Look-up Tables'!$B$5,3,IF(W48='Look-up Tables'!$B$6,2,IF(W48='Look-up Tables'!$B$7,1)))))","v":false},null,{"$f":"IF(Y48='Look-up Tables'!$C$3,5,IF(Y48='Look-up Tables'!$C$4,4,IF(Y48='Look-up Tables'!$C$5,3,IF(Y48='Look-up Tables'!$C$6,2,IF(Y48='Look-up Tables'!$C$7,1)))))","v":false},{"$f":"IFERROR(VLOOKUP(AB48,'Look-up Tables'!$D$3:$E$127,2),\"\")","v":""},0]
[null,null,null,null,null,null,{"$f":"IF(F49='Look-up Tables'!$A$3,5,IF(F49='Look-up Tables'!$A$4,4,IF(F49='Look-up Tables'!$A$5,3,IF(F49='Look-up Tables'!$A$6,2,IF(F49='Look-up Tables'!$A$7,1)))))","v":false},null,null,{"$f":"IF(I49='Look-up Tables'!$B$3,5,IF(I49='Look-up Tables'!$B$4,4,IF(I49='Look-up Tables'!$B$5,3,IF(I49='Look-up Tables'!$B$6,2,IF(I49='Look-up Tables'!$B$7,1)))))","v":false},null,null,null,{"$f":"IF(M49='Look-up Tables'!$C$3,5,IF(M49='Look-up Tables'!$C$4,4,IF(M49='Look-up Tables'!$C$5,3,IF(M49='Look-up Tables'!$C$6,2,IF(M49='Look-up Tables'!$C$7,1)))))","v":false},{"$f":"IFERROR(VLOOKUP(P49,'Look-up Tables'!$D$3:$E$127,2),\"\")","v":""},0,null,null,null,null,null,{"$f":"IF(U49='Look-up Tables'!$A$3,5,IF(U49='Look-up Tables'!$A$4,4,IF(U49='Look-up Tables'!$A$5,3,IF(U49='Look-up Tables'!$A$6,2,IF(U49='Look-up Tables'!$A$7,1)))))","v":false},null,{"$f":"IF(W49='Look-up Tables'!$B$3,5,IF(W49='Look-up Tables'!$B$4,4,IF(W49='Look-up Tables'!$B$5,3,IF(W49='Look-up Tables'!$B$6,2,IF(W49='Look-up Tables'!$B$7,1)))))","v":false},null,{"$f":"IF(Y49='Look-up Tables'!$C$3,5,IF(Y49='Look-up Tables'!$C$4,4,IF(Y49='Look-up Tables'!$C$5,3,IF(Y49='Look-up Tables'!$C$6,2,IF(Y49='Look-up Tables'!$C$7,1)))))","v":false},{"$f":"IFERROR(VLOOKUP(AB49,'Look-up Tables'!$D$3:$E$127,2),\"\")","v":""},0]
[null,null,null,null,null,null,{"$f":"IF(F50='Look-up Tables'!$A$3,5,IF(F50='Look-up Tables'!$A$4,4,IF(F50='Look-up Tables'!$A$5,3,IF(F50='Look-up Tables'!$A$6,2,IF(F50='Look-up Tables'!$A$7,1)))))","v":false},null,null,{"$f":"IF(I50='Look-up Tables'!$B$3,5,IF(I50='Look-up Tables'!$B$4,4,IF(I50='Look-up Tables'!$B$5,3,IF(I50='Look-up Tables'!$B$6,2,IF(I50='Look-up Tables'!$B$7,1)))))","v":false},null,null,null,{"$f":"IF(M50='Look-up Tables'!$C$3,5,IF(M50='Look-up Tables'!$C$4,4,IF(M50='Look-up Tables'!$C$5,3,IF(M50='Look-up Tables'!$C$6,2,IF(M50='Look-up Tables'!$C$7,1)))))","v":false},{"$f":"IFERROR(VLOOKUP(P50,'Look-up Tables'!$D$3:$E$127,2),\"\")","v":""},0,null,null,null,null,null,{"$f":"IF(U50='Look-up Tables'!$A$3,5,IF(U50='Look-up Tables'!$A$4,4,IF(U50='Look-up Tables'!$A$5,3,IF(U50='Look-up Tables'!$A$6,2,IF(U50='Look-up Tables'!$A$7,1)))))","v":false},null,{"$f":"IF(W50='Look-up Tables'!$B$3,5,IF(W50='Look-up Tables'!$B$4,4,IF(W50='Look-up Tables'!$B$5,3,IF(W50='Look-up Tables'!$B$6,2,IF(W50='Look-up Tables'!$B$7,1)))))","v":false},null,{"$f":"IF(Y50='Look-up Tables'!$C$3,5,IF(Y50='Look-up Tables'!$C$4,4,IF(Y50='Look-up Tables'!$C$5,3,IF(Y50='Look-up Tables'!$C$6,2,IF(Y50='Look-up Tables'!$C$7,1)))))","v":false},{"$f":"IFERROR(VLOOKUP(AB50,'Look-up Tables'!$D$3:$E$127,2),\"\")","v":""},0]
[null,null,null,null,null,null,{"$f":"IF(F51='Look-up Tables'!$A$3,5,IF(F51='Look-up Tables'!$A$4,4,IF(F51='Look-up Tables'!$A$5,3,IF(F51='Look-up Tables'!$A$6,2,IF(F51='Look-up Tables'!$A$7,1)))))","v":false},null,null,{"$f":"IF(I51='Look-up Tables'!$B$3,5,IF(I51='Look-up Tables'!$B$4,4,IF(I51='Look-up Tables'!$B$5,3,IF(I51='Look-up Tables'!$B$6,2,IF(I51='Look-up Tables'!$B$7,1)))))","v":false},null,null,null,{"$f":"IF(M51='Look-up Tables'!$C$3,5,IF(M51='Look-up Tables'!$C$4,4,IF(M51='Look-up Tables'!$C$5,3,IF(M51='Look-up Tables'!$C$6,2,IF(M51='Look-up Tables'!$C$7,1)))))","v":false},{"$f":"IFERROR(VLOOKUP(P51,'Look-up Tables'!$D$3:$E$127,2),\"\")","v":""},0,null,null,null,null,null,{"$f":"IF(U51='Look-up Tables'!$A$3,5,IF(U51='Look-up Tables'!$A$4,4,IF(U51='Look-up Tables'!$A$5,3,IF(U51='Look-up Tables'!$A$6,2,IF(U51='Look-up Tables'!$A$7,1)))))","v":false},null,{"$f":"IF(W51='Look-up Tables'!$B$3,5,IF(W51='Look-up Tables'!$B$4,4,IF(W51='Look-up Tables'!$B$5,3,IF(W51='Look-up Tables'!$B$6,2,IF(W51='Look-up Tables'!$B$7,1)))))","v":false},null,{"$f":"IF(Y51='Look-up Tables'!$C$3,5,IF(Y51='Look-up Tables'!$C$4,4,IF(Y51='Look-up Tables'!$C$5,3,IF(Y51='Look-up Tables'!$C$6,2,IF(Y51='Look-up Tables'!$C$7,1)))))","v":false},{"$f":"IFERROR(VLOOKUP(AB51,'Look-up Tables'!$D$3:$E$127,2),\"\")","v":""},0]
[null,null,null,null,null,null,{"$f":"IF(F52='Look-up Tables'!$A$3,5,IF(F52='Look-up Tables'!$A$4,4,IF(F52='Look-up Tables'!$A$5,3,IF(F52='Look-up Tables'!$A$6,2,IF(F52='Look-up Tables'!$A$7,1)))))","v":false},null,null,{"$f":"IF(I52='Look-up Tables'!$B$3,5,IF(I52='Look-up Tables'!$B$4,4,IF(I52='Look-up Tables'!$B$5,3,IF(I52='Look-up Tables'!$B$6,2,IF(I52='Look-up Tables'!$B$7,1)))))","v":false},null,null,null,{"$f":"IF(M52='Look-up Tables'!$C$3,5,IF(M52='Look-up Tables'!$C$4,4,IF(M52='Look-up Tables'!$C$5,3,IF(M52='Look-up Tables'!$C$6,2,IF(M52='Look-up Tables'!$C$7,1)))))","v":false},{"$f":"IFERROR(VLOOKUP(P52,'Look-up Tables'!$D$3:$E$127,2),\"\")","v":""},0,null,null,null,null,null,{"$f":"IF(U52='Look-up Tables'!$A$3,5,IF(U52='Look-up Tables'!$A$4,4,IF(U52='Look-up Tables'!$A$5,3,IF(U52='Look-up Tables'!$A$6,2,IF(U52='Look-up Tables'!$A$7,1)))))","v":false},null,{"$f":"IF(W52='Look-up Tables'!$B$3,5,IF(W52='Look-up Tables'!$B$4,4,IF(W52='Look-up Tables'!$B$5,3,IF(W52='Look-up Tables'!$B$6,2,IF(W52='Look-up Tables'!$B$7,1)))))","v":false},null,{"$f":"IF(Y52='Look-up Tables'!$C$3,5,IF(Y52='Look-up Tables'!$C$4,4,IF(Y52='Look-up Tables'!$C$5,3,IF(Y52='Look-up Tables'!$C$6,2,IF(Y52='Look-up Tables'!$C$7,1)))))","v":false},{"$f":"IFERROR(VLOOKUP(AB52,'Look-up Tables'!$D$3:$E$127,2),\"\")","v":""},0]
[null,null,null,null,null,null,{"$f":"IF(F53='Look-up Tables'!$A$3,5,IF(F53='Look-up Tables'!$A$4,4,IF(F53='Look-up Tables'!$A$5,3,IF(F53='Look-up Tables'!$A$6,2,IF(F53='Look-up Tables'!$A$7,1)))))","v":false},null,null,{"$f":"IF(I53='Look-up Tables'!$B$3,5,IF(I53='Look-up Tables'!$B$4,4,IF(I53='Look-up Tables'!$B$5,3,IF(I53='Look-up Tables'!$B$6,2,IF(I53='Look-up Tables'!$B$7,1)))))","v":false},null,null,null,{"$f":"IF(M53='Look-up Tables'!$C$3,5,IF(M53='Look-up Tables'!$C$4,4,IF(M53='Look-up Tables'!$C$5,3,IF(M53='Look-up Tables'!$C$6,2,IF(M53='Look-up Tables'!$C$7,1)))))","v":false},{"$f":"IFERROR(VLOOKUP(P53,'Look-up Tables'!$D$3:$E$127,2),\"\")","v":""},0,null,null,null,null,null,{"$f":"IF(U53='Look-up Tables'!$A$3,5,IF(U53='Look-up Tables'!$A$4,4,IF(U53='Look-up Tables'!$A$5,3,IF(U53='Look-up Tables'!$A$6,2,IF(U53='Look-up Tables'!$A$7,1)))))","v":false},null,{"$f":"IF(W53='Look-up Tables'!$B$3,5,IF(W53='Look-up Tables'!$B$4,4,IF(W53='Look-up Tables'!$B$5,3,IF(W53='Look-up Tables'!$B$6,2,IF(W53='Look-up Tables'!$B$7,1)))))","v":false},null,{"$f":"IF(Y53='Look-up Tables'!$C$3,5,IF(Y53='Look-up Tables'!$C$4,4,IF(Y53='Look-up Tables'!$C$5,3,IF(Y53='Look-up Tables'!$C$6,2,IF(Y53='Look-up Tables'!$C$7,1)))))","v":false},{"$f":"IFERROR(VLOOKUP(AB53,'Look-up Tables'!$D$3:$E$127,2),\"\")","v":""},0]
[null,null,null,null,null,null,{"$f":"IF(F54='Look-up Tables'!$A$3,5,IF(F54='Look-up Tables'!$A$4,4,IF(F54='Look-up Tables'!$A$5,3,IF(F54='Look-up Tables'!$A$6,2,IF(F54='Look-up Tables'!$A$7,1)))))","v":false},null,null,{"$f":"IF(I54='Look-up Tables'!$B$3,5,IF(I54='Look-up Tables'!$B$4,4,IF(I54='Look-up Tables'!$B$5,3,IF(I54='Look-up Tables'!$B$6,2,IF(I54='Look-up Tables'!$B$7,1)))))","v":false},null,null,null,{"$f":"IF(M54='Look-up Tables'!$C$3,5,IF(M54='Look-up Tables'!$C$4,4,IF(M54='Look-up Tables'!$C$5,3,IF(M54='Look-up Tables'!$C$6,2,IF(M54='Look-up Tables'!$C$7,1)))))","v":false},{"$f":"IFERROR(VLOOKUP(P54,'Look-up Tables'!$D$3:$E$127,2),\"\")","v":""},0,null,null,null,null,null,{"$f":"IF(U54='Look-up Tables'!$A$3,5,IF(U54='Look-up Tables'!$A$4,4,IF(U54='Look-up Tables'!$A$5,3,IF(U54='Look-up Tables'!$A$6,2,IF(U54='Look-up Tables'!$A$7,1)))))","v":false},null,{"$f":"IF(W54='Look-up Tables'!$B$3,5,IF(W54='Look-up Tables'!$B$4,4,IF(W54='Look-up Tables'!$B$5,3,IF(W54='Look-up Tables'!$B$6,2,IF(W54='Look-up Tables'!$B$7,1)))))","v":false},null,{"$f":"IF(Y54='Look-up Tables'!$C$3,5,IF(Y54='Look-up Tables'!$C$4,4,IF(Y54='Look-up Tables'!$C$5,3,IF(Y54='Look-up Tables'!$C$6,2,IF(Y54='Look-up Tables'!$C$7,1)))))","v":false},{"$f":"IFERROR(VLOOKUP(AB54,'Look-up Tables'!$D$3:$E$127,2),\"\")","v":""},0]
[null,null,null,null,null,null,{"$f":"IF(F55='Look-up Tables'!$A$3,5,IF(F55='Look-up Tables'!$A$4,4,IF(F55='Look-up Tables'!$A$5,3,IF(F55='Look-up Tables'!$A$6,2,IF(F55='Look-up Tables'!$A$7,1)))))","v":false},null,null,{"$f":"IF(I55='Look-up Tables'!$B$3,5,IF(I55='Look-up Tables'!$B$4,4,IF(I55='Look-up Tables'!$B$5,3,IF(I55='Look-up Tables'!$B$6,2,IF(I55='Look-up Tables'!$B$7,1)))))","v":false},null,null,null,{"$f":"IF(M55='Look-up Tables'!$C$3,5,IF(M55='Look-up Tables'!$C$4,4,IF(M55='Look-up Tables'!$C$5,3,IF(M55='Look-up Tables'!$C$6,2,IF(M55='Look-up Tables'!$C$7,1)))))","v":false},{"$f":"IFERROR(VLOOKUP(P55,'Look-up Tables'!$D$3:$E$127,2),\"\")","v":""},0,null,null,null,null,null,{"$f":"IF(U55='Look-up Tables'!$A$3,5,IF(U55='Look-up Tables'!$A$4,4,IF(U55='Look-up Tables'!$A$5,3,IF(U55='Look-up Tables'!$A$6,2,IF(U55='Look-up Tables'!$A$7,1)))))","v":false},null,{"$f":"IF(W55='Look-up Tables'!$B$3,5,IF(W55='Look-up Tables'!$B$4,4,IF(W55='Look-up Tables'!$B$5,3,IF(W55='Look-up Tables'!$B$6,2,IF(W55='Look-up Tables'!$B$7,1)))))","v":false},null,{"$f":"IF(Y55='Look-up Tables'!$C$3,5,IF(Y55='Look-up Tables'!$C$4,4,IF(Y55='Look-up Tables'!$C$5,3,IF(Y55='Look-up Tables'!$C$6,2,IF(Y55='Look-up Tables'!$C$7,1)))))","v":false},{"$f":"IFERROR(VLOOKUP(AB55,'Look-up Tables'!$D$3:$E$127,2),\"\")","v":""},0]
[null,null,null,null,null,null,{"$f":"IF(F56='Look-up Tables'!$A$3,5,IF(F56='Look-up Tables'!$A$4,4,IF(F56='Look-up Tables'!$A$5,3,IF(F56='Look-up Tables'!$A$6,2,IF(F56='Look-up Tables'!$A$7,1)))))","v":false},null,null,{"$f":"IF(I56='Look-up Tables'!$B$3,5,IF(I56='Look-up Tables'!$B$4,4,IF(I56='Look-up Tables'!$B$5,3,IF(I56='Look-up Tables'!$B$6,2,IF(I56='Look-up Tables'!$B$7,1)))))","v":false},null,null,null,{"$f":"IF(M56='Look-up Tables'!$C$3,5,IF(M56='Look-up Tables'!$C$4,4,IF(M56='Look-up Tables'!$C$5,3,IF(M56='Look-up Tables'!$C$6,2,IF(M56='Look-up Tables'!$C$7,1)))))","v":false},{"$f":"IFERROR(VLOOKUP(P56,'Look-up Tables'!$D$3:$E$127,2),\"\")","v":""},{"$f":"G56*J56*N56","v":0},null,null,null,null,null,{"$f":"IF(U56='Look-up Tables'!$A$3,5,IF(U56='Look-up Tables'!$A$4,4,IF(U56='Look-up Tables'!$A$5,3,IF(U56='Look-up Tables'!$A$6,2,IF(U56='Look-up Tables'!$A$7,1)))))","v":false},null,{"$f":"IF(W56='Look-up Tables'!$B$3,5,IF(W56='Look-up Tables'!$B$4,4,IF(W56='Look-up Tables'!$B$5,3,IF(W56='Look-up Tables'!$B$6,2,IF(W56='Look-up Tables'!$B$7,1)))))","v":false},null,{"$f":"IF(Y56='Look-up Tables'!$C$3,5,IF(Y56='Look-up Tables'!$C$4,4,IF(Y56='Look-up Tables'!$C$5,3,IF(Y56='Look-up Tables'!$C$6,2,IF(Y56='Look-up Tables'!$C$7,1)))))","v":false},{"$f":"IFERROR(VLOOKUP(AB56,'Look-up Tables'!$D$3:$E$127,2),\"\")","v":""},{"$f":"V56*X56*Z56","v":0}]
[null,null,null,null,null,null,{"$f":"IF(F57='Look-up Tables'!$A$3,5,IF(F57='Look-up Tables'!$A$4,4,IF(F57='Look-up Tables'!$A$5,3,IF(F57='Look-up Tables'!$A$6,2,IF(F57='Look-up Tables'!$A$7,1)))))","v":false},null,null,{"$f":"IF(I57='Look-up Tables'!$B$3,5,IF(I57='Look-up Tables'!$B$4,4,IF(I57='Look-up Tables'!$B$5,3,IF(I57='Look-up Tables'!$B$6,2,IF(I57='Look-up Tables'!$B$7,1)))))","v":false},null,null,null,{"$f":"IF(M57='Look-up Tables'!$C$3,5,IF(M57='Look-up Tables'!$C$4,4,IF(M57='Look-up Tables'!$C$5,3,IF(M57='Look-up Tables'!$C$6,2,IF(M57='Look-up Tables'!$C$7,1)))))","v":false},{"$f":"IFERROR(VLOOKUP(P57,'Look-up Tables'!$D$3:$E$127,2),\"\")","v":""},0,null,null,null,null,null,{"$f":"IF(U57='Look-up Tables'!$A$3,5,IF(U57='Look-up Tables'!$A$4,4,IF(U57='Look-up Tables'!$A$5,3,IF(U57='Look-up Tables'!$A$6,2,IF(U57='Look-up Tables'!$A$7,1)))))","v":false},null,{"$f":"IF(W57='Look-up Tables'!$B$3,5,IF(W57='Look-up Tables'!$B$4,4,IF(W57='Look-up Tables'!$B$5,3,IF(W57='Look-up Tables'!$B$6,2,IF(W57='Look-up Tables'!$B$7,1)))))","v":false},null,{"$f":"IF(Y57='Look-up Tables'!$C$3,5,IF(Y57='Look-up Tables'!$C$4,4,IF(Y57='Look-up Tables'!$C$5,3,IF(Y57='Look-up Tables'!$C$6,2,IF(Y57='Look-up Tables'!$C$7,1)))))","v":false},{"$f":"IFERROR(VLOOKUP(AB57,'Look-up Tables'!$D$3:$E$127,2),\"\")","v":""},0]
[null,null,null,null,null,null,{"$f":"IF(F58='Look-up Tables'!$A$3,5,IF(F58='Look-up Tables'!$A$4,4,IF(F58='Look-up Tables'!$A$5,3,IF(F58='Look-up Tables'!$A$6,2,IF(F58='Look-up Tables'!$A$7,1)))))","v":false},null,null,{"$f":"IF(I58='Look-up Tables'!$B$3,5,IF(I58='Look-up Tables'!$B$4,4,IF(I58='Look-up Tables'!$B$5,3,IF(I58='Look-up Tables'!$B$6,2,IF(I58='Look-up Tables'!$B$7,1)))))","v":false},null,null,null,{"$f":"IF(M58='Look-up Tables'!$C$3,5,IF(M58='Look-up Tables'!$C$4,4,IF(M58='Look-up Tables'!$C$5,3,IF(M58='Look-up Tables'!$C$6,2,IF(M58='Look-up Tables'!$C$7,1)))))","v":false},{"$f":"IFERROR(VLOOKUP(P58,'Look-up Tables'!$D$3:$E$127,2),\"\")","v":""},0,null,null,null,null,null,{"$f":"IF(U58='Look-up Tables'!$A$3,5,IF(U58='Look-up Tables'!$A$4,4,IF(U58='Look-up Tables'!$A$5,3,IF(U58='Look-up Tables'!$A$6,2,IF(U58='Look-up Tables'!$A$7,1)))))","v":false},null,{"$f":"IF(W58='Look-up Tables'!$B$3,5,IF(W58='Look-up Tables'!$B$4,4,IF(W58='Look-up Tables'!$B$5,3,IF(W58='Look-up Tables'!$B$6,2,IF(W58='Look-up Tables'!$B$7,1)))))","v":false},null,{"$f":"IF(Y58='Look-up Tables'!$C$3,5,IF(Y58='Look-up Tables'!$C$4,4,IF(Y58='Look-up Tables'!$C$5,3,IF(Y58='Look-up Tables'!$C$6,2,IF(Y58='Look-up Tables'!$C$7,1)))))","v":false},{"$f":"IFERROR(VLOOKUP(AB58,'Look-up Tables'!$D$3:$E$127,2),\"\")","v":""},0]
[null,null,null,null,null,null,{"$f":"IF(F59='Look-up Tables'!$A$3,5,IF(F59='Look-up Tables'!$A$4,4,IF(F59='Look-up Tables'!$A$5,3,IF(F59='Look-up Tables'!$A$6,2,IF(F59='Look-up Tables'!$A$7,1)))))","v":false},null,null,{"$f":"IF(I59='Look-up Tables'!$B$3,5,IF(I59='Look-up Tables'!$B$4,4,IF(I59='Look-up Tables'!$B$5,3,IF(I59='Look-up Tables'!$B$6,2,IF(I59='Look-up Tables'!$B$7,1)))))","v":false},null,null,null,{"$f":"IF(M59='Look-up Tables'!$C$3,5,IF(M59='Look-up Tables'!$C$4,4,IF(M59='Look-up Tables'!$C$5,3,IF(M59='Look-up Tables'!$C$6,2,IF(M59='Look-up Tables'!$C$7,1)))))","v":false},{"$f":"IFERROR(VLOOKUP(P59,'Look-up Tables'!$D$3:$E$127,2),\"\")","v":""},0,null,null,null,null,null,{"$f":"IF(U59='Look-up Tables'!$A$3,5,IF(U59='Look-up Tables'!$A$4,4,IF(U59='Look-up Tables'!$A$5,3,IF(U59='Look-up Tables'!$A$6,2,IF(U59='Look-up Tables'!$A$7,1)))))","v":false},null,{"$f":"IF(W59='Look-up Tables'!$B$3,5,IF(W59='Look-up Tables'!$B$4,4,IF(W59='Look-up Tables'!$B$5,3,IF(W59='Look-up Tables'!$B$6,2,IF(W59='Look-up Tables'!$B$7,1)))))","v":false},null,{"$f":"IF(Y59='Look-up Tables'!$C$3,5,IF(Y59='Look-up Tables'!$C$4,4,IF(Y59='Look-up Tables'!$C$5,3,IF(Y59='Look-up Tables'!$C$6,2,IF(Y59='Look-up Tables'!$C$7,1)))))","v":false},{"$f":"IFERROR(VLOOKUP(AB59,'Look-up Tables'!$D$3:$E$127,2),\"\")","v":""},0]
[null,null,null,null,null,null,{"$f":"IF(F60='Look-up Tables'!$A$3,5,IF(F60='Look-up Tables'!$A$4,4,IF(F60='Look-up Tables'!$A$5,3,IF(F60='Look-up Tables'!$A$6,2,IF(F60='Look-up Tables'!$A$7,1)))))","v":false},null,null,{"$f":"IF(I60='Look-up Tables'!$B$3,5,IF(I60='Look-up Tables'!$B$4,4,IF(I60='Look-up Tables'!$B$5,3,IF(I60='Look-up Tables'!$B$6,2,IF(I60='Look-up Tables'!$B$7,1)))))","v":false},null,null,null,{"$f":"IF(M60='Look-up Tables'!$C$3,5,IF(M60='Look-up Tables'!$C$4,4,IF(M60='Look-up Tables'!$C$5,3,IF(M60='Look-up Tables'!$C$6,2,IF(M60='Look-up Tables'!$C$7,1)))))","v":false},{"$f":"IFERROR(VLOOKUP(P60,'Look-up Tables'!$D$3:$E$127,2),\"\")","v":""},0,null,null,null,null,null,{"$f":"IF(U60='Look-up Tables'!$A$3,5,IF(U60='Look-up Tables'!$A$4,4,IF(U60='Look-up Tables'!$A$5,3,IF(U60='Look-up Tables'!$A$6,2,IF(U60='Look-up Tables'!$A$7,1)))))","v":false},null,{"$f":"IF(W60='Look-up Tables'!$B$3,5,IF(W60='Look-up Tables'!$B$4,4,IF(W60='Look-up Tables'!$B$5,3,IF(W60='Look-up Tables'!$B$6,2,IF(W60='Look-up Tables'!$B$7,1)))))","v":false},null,{"$f":"IF(Y60='Look-up Tables'!$C$3,5,IF(Y60='Look-up Tables'!$C$4,4,IF(Y60='Look-up Tables'!$C$5,3,IF(Y60='Look-up Tables'!$C$6,2,IF(Y60='Look-up Tables'!$C$7,1)))))","v":false},{"$f":"IFERROR(VLOOKUP(AB60,'Look-up Tables'!$D$3:$E$127,2),\"\")","v":""},0]
[null,null,null,null,null,null,{"$f":"IF(F61='Look-up Tables'!$A$3,5,IF(F61='Look-up Tables'!$A$4,4,IF(F61='Look-up Tables'!$A$5,3,IF(F61='Look-up Tables'!$A$6,2,IF(F61='Look-up Tables'!$A$7,1)))))","v":false},null,null,{"$f":"IF(I61='Look-up Tables'!$B$3,5,IF(I61='Look-up Tables'!$B$4,4,IF(I61='Look-up Tables'!$B$5,3,IF(I61='Look-up Tables'!$B$6,2,IF(I61='Look-up Tables'!$B$7,1)))))","v":false},null,null,null,{"$f":"IF(M61='Look-up Tables'!$C$3,5,IF(M61='Look-up Tables'!$C$4,4,IF(M61='Look-up Tables'!$C$5,3,IF(M61='Look-up Tables'!$C$6,2,IF(M61='Look-up Tables'!$C$7,1)))))","v":false},{"$f":"IFERROR(VLOOKUP(P61,'Look-up Tables'!$D$3:$E$127,2),\"\")","v":""},0,null,null,null,null,null,{"$f":"IF(U61='Look-up Tables'!$A$3,5,IF(U61='Look-up Tables'!$A$4,4,IF(U61='Look-up Tables'!$A$5,3,IF(U61='Look-up Tables'!$A$6,2,IF(U61='Look-up Tables'!$A$7,1)))))","v":false},null,{"$f":"IF(W61='Look-up Tables'!$B$3,5,IF(W61='Look-up Tables'!$B$4,4,IF(W61='Look-up Tables'!$B$5,3,IF(W61='Look-up Tables'!$B$6,2,IF(W61='Look-up Tables'!$B$7,1)))))","v":false},null,{"$f":"IF(Y61='Look-up Tables'!$C$3,5,IF(Y61='Look-up Tables'!$C$4,4,IF(Y61='Look-up Tables'!$C$5,3,IF(Y61='Look-up Tables'!$C$6,2,IF(Y61='Look-up Tables'!$C$7,1)))))","v":false},{"$f":"IFERROR(VLOOKUP(AB61,'Look-up Tables'!$D$3:$E$127,2),\"\")","v":""},0]
[null,null,null,null,null,null,{"$f":"IF(F62='Look-up Tables'!$A$3,5,IF(F62='Look-up Tables'!$A$4,4,IF(F62='Look-up Tables'!$A$5,3,IF(F62='Look-up Tables'!$A$6,2,IF(F62='Look-up Tables'!$A$7,1)))))","v":false},null,null,{"$f":"IF(I62='Look-up Tables'!$B$3,5,IF(I62='Look-up Tables'!$B$4,4,IF(I62='Look-up Tables'!$B$5,3,IF(I62='Look-up Tables'!$B$6,2,IF(I62='Look-up Tables'!$B$7,1)))))","v":false},null,null,null,{"$f":"IF(M62='Look-up Tables'!$C$3,5,IF(M62='Look-up Tables'!$C$4,4,IF(M62='Look-up Tables'!$C$5,3,IF(M62='Look-up Tables'!$C$6,2,IF(M62='Look-up Tables'!$C$7,1)))))","v":false},{"$f":"IFERROR(VLOOKUP(P62,'Look-up Tables'!$D$3:$E$127,2),\"\")","v":""},0,null,null,null,null,null,{"$f":"IF(U62='Look-up Tables'!$A$3,5,IF(U62='Look-up Tables'!$A$4,4,IF(U62='Look-up Tables'!$A$5,3,IF(U62='Look-up Tables'!$A$6,2,IF(U62='Look-up Tables'!$A$7,1)))))","v":false},null,{"$f":"IF(W62='Look-up Tables'!$B$3,5,IF(W62='Look-up Tables'!$B$4,4,IF(W62='Look-up Tables'!$B$5,3,IF(W62='Look-up Tables'!$B$6,2,IF(W62='Look-up Tables'!$B$7,1)))))","v":false},null,{"$f":"IF(Y62='Look-up Tables'!$C$3,5,IF(Y62='Look-up Tables'!$C$4,4,IF(Y62='Look-up Tables'!$C$5,3,IF(Y62='Look-up Tables'!$C$6,2,IF(Y62='Look-up Tables'!$C$7,1)))))","v":false},{"$f":"IFERROR(VLOOKUP(AB62,'Look-up Tables'!$D$3:$E$127,2),\"\")","v":""},0]
[null,null,null,null,null,null,{"$f":"IF(F63='Look-up Tables'!$A$3,5,IF(F63='Look-up Tables'!$A$4,4,IF(F63='Look-up Tables'!$A$5,3,IF(F63='Look-up Tables'!$A$6,2,IF(F63='Look-up Tables'!$A$7,1)))))","v":false},null,null,{"$f":"IF(I63='Look-up Tables'!$B$3,5,IF(I63='Look-up Tables'!$B$4,4,IF(I63='Look-up Tables'!$B$5,3,IF(I63='Look-up Tables'!$B$6,2,IF(I63='Look-up Tables'!$B$7,1)))))","v":false},null,null,null,{"$f":"IF(M63='Look-up Tables'!$C$3,5,IF(M63='Look-up Tables'!$C$4,4,IF(M63='Look-up Tables'!$C$5,3,IF(M63='Look-up Tables'!$C$6,2,IF(M63='Look-up Tables'!$C$7,1)))))","v":false},{"$f":"IFERROR(VLOOKUP(P63,'Look-up Tables'!$D$3:$E$127,2),\"\")","v":""},0,null,null,null,null,null,{"$f":"IF(U63='Look-up Tables'!$A$3,5,IF(U63='Look-up Tables'!$A$4,4,IF(U63='Look-up Tables'!$A$5,3,IF(U63='Look-up Tables'!$A$6,2,IF(U63='Look-up Tables'!$A$7,1)))))","v":false},null,{"$f":"IF(W63='Look-up Tables'!$B$3,5,IF(W63='Look-up Tables'!$B$4,4,IF(W63='Look-up Tables'!$B$5,3,IF(W63='Look-up Tables'!$B$6,2,IF(W63='Look-up Tables'!$B$7,1)))))","v":false},null,{"$f":"IF(Y63='Look-up Tables'!$C$3,5,IF(Y63='Look-up Tables'!$C$4,4,IF(Y63='Look-up Tables'!$C$5,3,IF(Y63='Look-up Tables'!$C$6,2,IF(Y63='Look-up Tables'!$C$7,1)))))","v":false},{"$f":"IFERROR(VLOOKUP(AB63,'Look-up Tables'!$D$3:$E$127,2),\"\")","v":""},0]
[null,null,null,null,null,null,{"$f":"IF(F64='Look-up Tables'!$A$3,5,IF(F64='Look-up Tables'!$A$4,4,IF(F64='Look-up Tables'!$A$5,3,IF(F64='Look-up Tables'!$A$6,2,IF(F64='Look-up Tables'!$A$7,1)))))","v":false},null,null,{"$f":"IF(I64='Look-up Tables'!$B$3,5,IF(I64='Look-up Tables'!$B$4,4,IF(I64='Look-up Tables'!$B$5,3,IF(I64='Look-up Tables'!$B$6,2,IF(I64='Look-up Tables'!$B$7,1)))))","v":false},null,null,null,{"$f":"IF(M64='Look-up Tables'!$C$3,5,IF(M64='Look-up Tables'!$C$4,4,IF(M64='Look-up Tables'!$C$5,3,IF(M64='Look-up Tables'!$C$6,2,IF(M64='Look-up Tables'!$C$7,1)))))","v":false},{"$f":"IFERROR(VLOOKUP(P64,'Look-up Tables'!$D$3:$E$127,2),\"\")","v":""},0,null,null,null,null,null,{"$f":"IF(U64='Look-up Tables'!$A$3,5,IF(U64='Look-up Tables'!$A$4,4,IF(U64='Look-up Tables'!$A$5,3,IF(U64='Look-up Tables'!$A$6,2,IF(U64='Look-up Tables'!$A$7,1)))))","v":false},null,{"$f":"IF(W64='Look-up Tables'!$B$3,5,IF(W64='Look-up Tables'!$B$4,4,IF(W64='Look-up Tables'!$B$5,3,IF(W64='Look-up Tables'!$B$6,2,IF(W64='Look-up Tables'!$B$7,1)))))","v":false},null,{"$f":"IF(Y64='Look-up Tables'!$C$3,5,IF(Y64='Look-up Tables'!$C$4,4,IF(Y64='Look-up Tables'!$C$5,3,IF(Y64='Look-up Tables'!$C$6,2,IF(Y64='Look-up Tables'!$C$7,1)))))","v":false},{"$f":"IFERROR(VLOOKUP(AB64,'Look-up Tables'!$D$3:$E$127,2),\"\")","v":""},0]
[null,null,null,null,null,null,{"$f":"IF(F65='Look-up Tables'!$A$3,5,IF(F65='Look-up Tables'!$A$4,4,IF(F65='Look-up Tables'!$A$5,3,IF(F65='Look-up Tables'!$A$6,2,IF(F65='Look-up Tables'!$A$7,1)))))","v":false},null,null,{"$f":"IF(I65='Look-up Tables'!$B$3,5,IF(I65='Look-up Tables'!$B$4,4,IF(I65='Look-up Tables'!$B$5,3,IF(I65='Look-up Tables'!$B$6,2,IF(I65='Look-up Tables'!$B$7,1)))))","v":false},null,null,null,{"$f":"IF(M65='Look-up Tables'!$C$3,5,IF(M65='Look-up Tables'!$C$4,4,IF(M65='Look-up Tables'!$C$5,3,IF(M65='Look-up Tables'!$C$6,2,IF(M65='Look-up Tables'!$C$7,1)))))","v":false},{"$f":"IFERROR(VLOOKUP(P65,'Look-up Tables'!$D$3:$E$127,2),\"\")","v":""},0,null,null,null,null,null,{"$f":"IF(U65='Look-up Tables'!$A$3,5,IF(U65='Look-up Tables'!$A$4,4,IF(U65='Look-up Tables'!$A$5,3,IF(U65='Look-up Tables'!$A$6,2,IF(U65='Look-up Tables'!$A$7,1)))))","v":false},null,{"$f":"IF(W65='Look-up Tables'!$B$3,5,IF(W65='Look-up Tables'!$B$4,4,IF(W65='Look-up Tables'!$B$5,3,IF(W65='Look-up Tables'!$B$6,2,IF(W65='Look-up Tables'!$B$7,1)))))","v":false},null,{"$f":"IF(Y65='Look-up Tables'!$C$3,5,IF(Y65='Look-up Tables'!$C$4,4,IF(Y65='Look-up Tables'!$C$5,3,IF(Y65='Look-up Tables'!$C$6,2,IF(Y65='Look-up Tables'!$C$7,1)))))","v":false},{"$f":"IFERROR(VLOOKUP(AB65,'Look-up Tables'!$D$3:$E$127,2),\"\")","v":""},0]
[null,null,null,null,null,null,{"$f":"IF(F66='Look-up Tables'!$A$3,5,IF(F66='Look-up Tables'!$A$4,4,IF(F66='Look-up Tables'!$A$5,3,IF(F66='Look-up Tables'!$A$6,2,IF(F66='Look-up Tables'!$A$7,1)))))","v":false},null,null,{"$f":"IF(I66='Look-up Tables'!$B$3,5,IF(I66='Look-up Tables'!$B$4,4,IF(I66='Look-up Tables'!$B$5,3,IF(I66='Look-up Tables'!$B$6,2,IF(I66='Look-up Tables'!$B$7,1)))))","v":false},null,null,null,{"$f":"IF(M66='Look-up Tables'!$C$3,5,IF(M66='Look-up Tables'!$C$4,4,IF(M66='Look-up Tables'!$C$5,3,IF(M66='Look-up Tables'!$C$6,2,IF(M66='Look-up Tables'!$C$7,1)))))","v":false},{"$f":"IFERROR(VLOOKUP(P66,'Look-up Tables'!$D$3:$E$127,2),\"\")","v":""},0,null,null,null,null,null,{"$f":"IF(U66='Look-up Tables'!$A$3,5,IF(U66='Look-up Tables'!$A$4,4,IF(U66='Look-up Tables'!$A$5,3,IF(U66='Look-up Tables'!$A$6,2,IF(U66='Look-up Tables'!$A$7,1)))))","v":false},null,{"$f":"IF(W66='Look-up Tables'!$B$3,5,IF(W66='Look-up Tables'!$B$4,4,IF(W66='Look-up Tables'!$B$5,3,IF(W66='Look-up Tables'!$B$6,2,IF(W66='Look-up Tables'!$B$7,1)))))","v":false},null,{"$f":"IF(Y66='Look-up Tables'!$C$3,5,IF(Y66='Look-up Tables'!$C$4,4,IF(Y66='Look-up Tables'!$C$5,3,IF(Y66='Look-up Tables'!$C$6,2,IF(Y66='Look-up Tables'!$C$7,1)))))","v":false},{"$f":"IFERROR(VLOOKUP(AB66,'Look-up Tables'!$D$3:$E$127,2),\"\")","v":""},0]
[null,null,null,null,null,null,{"$f":"IF(F67='Look-up Tables'!$A$3,5,IF(F67='Look-up Tables'!$A$4,4,IF(F67='Look-up Tables'!$A$5,3,IF(F67='Look-up Tables'!$A$6,2,IF(F67='Look-up Tables'!$A$7,1)))))","v":false},null,null,{"$f":"IF(I67='Look-up Tables'!$B$3,5,IF(I67='Look-up Tables'!$B$4,4,IF(I67='Look-up Tables'!$B$5,3,IF(I67='Look-up Tables'!$B$6,2,IF(I67='Look-up Tables'!$B$7,1)))))","v":false},null,null,null,{"$f":"IF(M67='Look-up Tables'!$C$3,5,IF(M67='Look-up Tables'!$C$4,4,IF(M67='Look-up Tables'!$C$5,3,IF(M67='Look-up Tables'!$C$6,2,IF(M67='Look-up Tables'!$C$7,1)))))","v":false},{"$f":"IFERROR(VLOOKUP(P67,'Look-up Tables'!$D$3:$E$127,2),\"\")","v":""},0,null,null,null,null,null,{"$f":"IF(U67='Look-up Tables'!$A$3,5,IF(U67='Look-up Tables'!$A$4,4,IF(U67='Look-up Tables'!$A$5,3,IF(U67='Look-up Tables'!$A$6,2,IF(U67='Look-up Tables'!$A$7,1)))))","v":false},null,{"$f":"IF(W67='Look-up Tables'!$B$3,5,IF(W67='Look-up Tables'!$B$4,4,IF(W67='Look-up Tables'!$B$5,3,IF(W67='Look-up Tables'!$B$6,2,IF(W67='Look-up Tables'!$B$7,1)))))","v":false},null,{"$f":"IF(Y67='Look-up Tables'!$C$3,5,IF(Y67='Look-up Tables'!$C$4,4,IF(Y67='Look-up Tables'!$C$5,3,IF(Y67='Look-up Tables'!$C$6,2,IF(Y67='Look-up Tables'!$C$7,1)))))","v":false},{"$f":"IFERROR(VLOOKUP(AB67,'Look-up Tables'!$D$3:$E$127,2),\"\")","v":""},0]
[null,null,null,null,null,null,{"$f":"IF(F68='Look-up Tables'!$A$3,5,IF(F68='Look-up Tables'!$A$4,4,IF(F68='Look-up Tables'!$A$5,3,IF(F68='Look-up Tables'!$A$6,2,IF(F68='Look-up Tables'!$A$7,1)))))","v":false},null,null,{"$f":"IF(I68='Look-up Tables'!$B$3,5,IF(I68='Look-up Tables'!$B$4,4,IF(I68='Look-up Tables'!$B$5,3,IF(I68='Look-up Tables'!$B$6,2,IF(I68='Look-up Tables'!$B$7,1)))))","v":false},null,null,null,{"$f":"IF(M68='Look-up Tables'!$C$3,5,IF(M68='Look-up Tables'!$C$4,4,IF(M68='Look-up Tables'!$C$5,3,IF(M68='Look-up Tables'!$C$6,2,IF(M68='Look-up Tables'!$C$7,1)))))","v":false},{"$f":"IFERROR(VLOOKUP(P68,'Look-up Tables'!$D$3:$E$127,2),\"\")","v":""},0,null,null,null,null,null,{"$f":"IF(U68='Look-up Tables'!$A$3,5,IF(U68='Look-up Tables'!$A$4,4,IF(U68='Look-up Tables'!$A$5,3,IF(U68='Look-up Tables'!$A$6,2,IF(U68='Look-up Tables'!$A$7,1)))))","v":false},null,{"$f":"IF(W68='Look-up Tables'!$B$3,5,IF(W68='Look-up Tables'!$B$4,4,IF(W68='Look-up Tables'!$B$5,3,IF(W68='Look-up Tables'!$B$6,2,IF(W68='Look-up Tables'!$B$7,1)))))","v":false},null,{"$f":"IF(Y68='Look-up Tables'!$C$3,5,IF(Y68='Look-up Tables'!$C$4,4,IF(Y68='Look-up Tables'!$C$5,3,IF(Y68='Look-up Tables'!$C$6,2,IF(Y68='Look-up Tables'!$C$7,1)))))","v":false},{"$f":"IFERROR(VLOOKUP(AB68,'Look-up Tables'!$D$3:$E$127,2),\"\")","v":""},0]
[null,null,null,null,null,null,{"$f":"IF(F69='Look-up Tables'!$A$3,5,IF(F69='Look-up Tables'!$A$4,4,IF(F69='Look-up Tables'!$A$5,3,IF(F69='Look-up Tables'!$A$6,2,IF(F69='Look-up Tables'!$A$7,1)))))","v":false},null,null,{"$f":"IF(I69='Look-up Tables'!$B$3,5,IF(I69='Look-up Tables'!$B$4,4,IF(I69='Look-up Tables'!$B$5,3,IF(I69='Look-up Tables'!$B$6,2,IF(I69='Look-up Tables'!$B$7,1)))))","v":false},null,null,null,{"$f":"IF(M69='Look-up Tables'!$C$3,5,IF(M69='Look-up Tables'!$C$4,4,IF(M69='Look-up Tables'!$C$5,3,IF(M69='Look-up Tables'!$C$6,2,IF(M69='Look-up Tables'!$C$7,1)))))","v":false},{"$f":"IFERROR(VLOOKUP(P69,'Look-up Tables'!$D$3:$E$127,2),\"\")","v":""},0,null,null,null,null,null,{"$f":"IF(U69='Look-up Tables'!$A$3,5,IF(U69='Look-up Tables'!$A$4,4,IF(U69='Look-up Tables'!$A$5,3,IF(U69='Look-up Tables'!$A$6,2,IF(U69='Look-up Tables'!$A$7,1)))))","v":false},null,{"$f":"IF(W69='Look-up Tables'!$B$3,5,IF(W69='Look-up Tables'!$B$4,4,IF(W69='Look-up Tables'!$B$5,3,IF(W69='Look-up Tables'!$B$6,2,IF(W69='Look-up Tables'!$B$7,1)))))","v":false},null,{"$f":"IF(Y69='Look-up Tables'!$C$3,5,IF(Y69='Look-up Tables'!$C$4,4,IF(Y69='Look-up Tables'!$C$5,3,IF(Y69='Look-up Tables'!$C$6,2,IF(Y69='Look-up Tables'!$C$7,1)))))","v":false},{"$f":"IFERROR(VLOOKUP(AB69,'Look-up Tables'!$D$3:$E$127,2),\"\")","v":""},0]
[null,null,null,null,null,null,{"$f":"IF(F70='Look-up Tables'!$A$3,5,IF(F70='Look-up Tables'!$A$4,4,IF(F70='Look-up Tables'!$A$5,3,IF(F70='Look-up Tables'!$A$6,2,IF(F70='Look-up Tables'!$A$7,1)))))","v":false},null,null,{"$f":"IF(I70='Look-up Tables'!$B$3,5,IF(I70='Look-up Tables'!$B$4,4,IF(I70='Look-up Tables'!$B$5,3,IF(I70='Look-up Tables'!$B$6,2,IF(I70='Look-up Tables'!$B$7,1)))))","v":false},null,null,null,{"$f":"IF(M70='Look-up Tables'!$C$3,5,IF(M70='Look-up Tables'!$C$4,4,IF(M70='Look-up Tables'!$C$5,3,IF(M70='Look-up Tables'!$C$6,2,IF(M70='Look-up Tables'!$C$7,1)))))","v":false},{"$f":"IFERROR(VLOOKUP(P70,'Look-up Tables'!$D$3:$E$127,2),\"\")","v":""},0,null,null,null,null,null,{"$f":"IF(U70='Look-up Tables'!$A$3,5,IF(U70='Look-up Tables'!$A$4,4,IF(U70='Look-up Tables'!$A$5,3,IF(U70='Look-up Tables'!$A$6,2,IF(U70='Look-up Tables'!$A$7,1)))))","v":false},null,{"$f":"IF(W70='Look-up Tables'!$B$3,5,IF(W70='Look-up Tables'!$B$4,4,IF(W70='Look-up Tables'!$B$5,3,IF(W70='Look-up Tables'!$B$6,2,IF(W70='Look-up Tables'!$B$7,1)))))","v":false},null,{"$f":"IF(Y70='Look-up Tables'!$C$3,5,IF(Y70='Look-up Tables'!$C$4,4,IF(Y70='Look-up Tables'!$C$5,3,IF(Y70='Look-up Tables'!$C$6,2,IF(Y70='Look-up Tables'!$C$7,1)))))","v":false},{"$f":"IFERROR(VLOOKUP(AB70,'Look-up Tables'!$D$3:$E$127,2),\"\")","v":""},0]
[null,null,null,null,null,null,{"$f":"IF(F71='Look-up Tables'!$A$3,5,IF(F71='Look-up Tables'!$A$4,4,IF(F71='Look-up Tables'!$A$5,3,IF(F71='Look-up Tables'!$A$6,2,IF(F71='Look-up Tables'!$A$7,1)))))","v":false},null,null,{"$f":"IF(I71='Look-up Tables'!$B$3,5,IF(I71='Look-up Tables'!$B$4,4,IF(I71='Look-up Tables'!$B$5,3,IF(I71='Look-up Tables'!$B$6,2,IF(I71='Look-up Tables'!$B$7,1)))))","v":false},null,null,null,{"$f":"IF(M71='Look-up Tables'!$C$3,5,IF(M71='Look-up Tables'!$C$4,4,IF(M71='Look-up Tables'!$C$5,3,IF(M71='Look-up Tables'!$C$6,2,IF(M71='Look-up Tables'!$C$7,1)))))","v":false},{"$f":"IFERROR(VLOOKUP(P71,'Look-up Tables'!$D$3:$E$127,2),\"\")","v":""},0,null,null,null,null,null,{"$f":"IF(U71='Look-up Tables'!$A$3,5,IF(U71='Look-up Tables'!$A$4,4,IF(U71='Look-up Tables'!$A$5,3,IF(U71='Look-up Tables'!$A$6,2,IF(U71='Look-up Tables'!$A$7,1)))))","v":false},null,{"$f":"IF(W71='Look-up Tables'!$B$3,5,IF(W71='Look-up Tables'!$B$4,4,IF(W71='Look-up Tables'!$B$5,3,IF(W71='Look-up Tables'!$B$6,2,IF(W71='Look-up Tables'!$B$7,1)))))","v":false},null,{"$f":"IF(Y71='Look-up Tables'!$C$3,5,IF(Y71='Look-up Tables'!$C$4,4,IF(Y71='Look-up Tables'!$C$5,3,IF(Y71='Look-up Tables'!$C$6,2,IF(Y71='Look-up Tables'!$C$7,1)))))","v":false},{"$f":"IFERROR(VLOOKUP(AB71,'Look-up Tables'!$D$3:$E$127,2),\"\")","v":""},0]
[null,null,null,null,null,null,{"$f":"IF(F72='Look-up Tables'!$A$3,5,IF(F72='Look-up Tables'!$A$4,4,IF(F72='Look-up Tables'!$A$5,3,IF(F72='Look-up Tables'!$A$6,2,IF(F72='Look-up Tables'!$A$7,1)))))","v":false},null,null,{"$f":"IF(I72='Look-up Tables'!$B$3,5,IF(I72='Look-up Tables'!$B$4,4,IF(I72='Look-up Tables'!$B$5,3,IF(I72='Look-up Tables'!$B$6,2,IF(I72='Look-up Tables'!$B$7,1)))))","v":false},null,null,null,{"$f":"IF(M72='Look-up Tables'!$C$3,5,IF(M72='Look-up Tables'!$C$4,4,IF(M72='Look-up Tables'!$C$5,3,IF(M72='Look-up Tables'!$C$6,2,IF(M72='Look-up Tables'!$C$7,1)))))","v":false},{"$f":"IFERROR(VLOOKUP(P72,'Look-up Tables'!$D$3:$E$127,2),\"\")","v":""},0,null,null,null,null,null,{"$f":"IF(U72='Look-up Tables'!$A$3,5,IF(U72='Look-up Tables'!$A$4,4,IF(U72='Look-up Tables'!$A$5,3,IF(U72='Look-up Tables'!$A$6,2,IF(U72='Look-up Tables'!$A$7,1)))))","v":false},null,{"$f":"IF(W72='Look-up Tables'!$B$3,5,IF(W72='Look-up Tables'!$B$4,4,IF(W72='Look-up Tables'!$B$5,3,IF(W72='Look-up Tables'!$B$6,2,IF(W72='Look-up Tables'!$B$7,1)))))","v":false},null,{"$f":"IF(Y72='Look-up Tables'!$C$3,5,IF(Y72='Look-up Tables'!$C$4,4,IF(Y72='Look-up Tables'!$C$5,3,IF(Y72='Look-up Tables'!$C$6,2,IF(Y72='Look-up Tables'!$C$7,1)))))","v":false},{"$f":"IFERROR(VLOOKUP(AB72,'Look-up Tables'!$D$3:$E$127,2),\"\")","v":""},0]
[null,null,null,null,null,null,{"$f":"IF(F73='Look-up Tables'!$A$3,5,IF(F73='Look-up Tables'!$A$4,4,IF(F73='Look-up Tables'!$A$5,3,IF(F73='Look-up Tables'!$A$6,2,IF(F73='Look-up Tables'!$A$7,1)))))","v":false},null,null,{"$f":"IF(I73='Look-up Tables'!$B$3,5,IF(I73='Look-up Tables'!$B$4,4,IF(I73='Look-up Tables'!$B$5,3,IF(I73='Look-up Tables'!$B$6,2,IF(I73='Look-up Tables'!$B$7,1)))))","v":false},null,null,null,{"$f":"IF(M73='Look-up Tables'!$C$3,5,IF(M73='Look-up Tables'!$C$4,4,IF(M73='Look-up Tables'!$C$5,3,IF(M73='Look-up Tables'!$C$6,2,IF(M73='Look-up Tables'!$C$7,1)))))","v":false},{"$f":"IFERROR(VLOOKUP(P73,'Look-up Tables'!$D$3:$E$127,2),\"\")","v":""},0,null,null,null,null,null,{"$f":"IF(U73='Look-up Tables'!$A$3,5,IF(U73='Look-up Tables'!$A$4,4,IF(U73='Look-up Tables'!$A$5,3,IF(U73='Look-up Tables'!$A$6,2,IF(U73='Look-up Tables'!$A$7,1)))))","v":false},null,{"$f":"IF(W73='Look-up Tables'!$B$3,5,IF(W73='Look-up Tables'!$B$4,4,IF(W73='Look-up Tables'!$B$5,3,IF(W73='Look-up Tables'!$B$6,2,IF(W73='Look-up Tables'!$B$7,1)))))","v":false},null,{"$f":"IF(Y73='Look-up Tables'!$C$3,5,IF(Y73='Look-up Tables'!$C$4,4,IF(Y73='Look-up Tables'!$C$5,3,IF(Y73='Look-up Tables'!$C$6,2,IF(Y73='Look-up Tables'!$C$7,1)))))","v":false},{"$f":"IFERROR(VLOOKUP(AB73,'Look-up Tables'!$D$3:$E$127,2),\"\")","v":""},0]
[null,null,null,null,null,null,{"$f":"IF(F74='Look-up Tables'!$A$3,5,IF(F74='Look-up Tables'!$A$4,4,IF(F74='Look-up Tables'!$A$5,3,IF(F74='Look-up Tables'!$A$6,2,IF(F74='Look-up Tables'!$A$7,1)))))","v":false},null,null,{"$f":"IF(I74='Look-up Tables'!$B$3,5,IF(I74='Look-up Tables'!$B$4,4,IF(I74='Look-up Tables'!$B$5,3,IF(I74='Look-up Tables'!$B$6,2,IF(I74='Look-up Tables'!$B$7,1)))))","v":false},null,null,null,{"$f":"IF(M74='Look-up Tables'!$C$3,5,IF(M74='Look-up Tables'!$C$4,4,IF(M74='Look-up Tables'!$C$5,3,IF(M74='Look-up Tables'!$C$6,2,IF(M74='Look-up Tables'!$C$7,1)))))","v":false},{"$f":"IFERROR(VLOOKUP(P74,'Look-up Tables'!$D$3:$E$127,2),\"\")","v":""},0,null,null,null,null,null,{"$f":"IF(U74='Look-up Tables'!$A$3,5,IF(U74='Look-up Tables'!$A$4,4,IF(U74='Look-up Tables'!$A$5,3,IF(U74='Look-up Tables'!$A$6,2,IF(U74='Look-up Tables'!$A$7,1)))))","v":false},null,{"$f":"IF(W74='Look-up Tables'!$B$3,5,IF(W74='Look-up Tables'!$B$4,4,IF(W74='Look-up Tables'!$B$5,3,IF(W74='Look-up Tables'!$B$6,2,IF(W74='Look-up Tables'!$B$7,1)))))","v":false},null,{"$f":"IF(Y74='Look-up Tables'!$C$3,5,IF(Y74='Look-up Tables'!$C$4,4,IF(Y74='Look-up Tables'!$C$5,3,IF(Y74='Look-up Tables'!$C$6,2,IF(Y74='Look-up Tables'!$C$7,1)))))","v":false},{"$f":"IFERROR(VLOOKUP(AB74,'Look-up Tables'!$D$3:$E$127,2),\"\")","v":""},0]
[null,null,null,null,null,null,{"$f":"IF(F75='Look-up Tables'!$A$3,5,IF(F75='Look-up Tables'!$A$4,4,IF(F75='Look-up Tables'!$A$5,3,IF(F75='Look-up Tables'!$A$6,2,IF(F75='Look-up Tables'!$A$7,1)))))","v":false},null,null,{"$f":"IF(I75='Look-up Tables'!$B$3,5,IF(I75='Look-up Tables'!$B$4,4,IF(I75='Look-up Tables'!$B$5,3,IF(I75='Look-up Tables'!$B$6,2,IF(I75='Look-up Tables'!$B$7,1)))))","v":false},null,null,null,{"$f":"IF(M75='Look-up Tables'!$C$3,5,IF(M75='Look-up Tables'!$C$4,4,IF(M75='Look-up Tables'!$C$5,3,IF(M75='Look-up Tables'!$C$6,2,IF(M75='Look-up Tables'!$C$7,1)))))","v":false},{"$f":"IFERROR(VLOOKUP(P75,'Look-up Tables'!$D$3:$E$127,2),\"\")","v":""},0,null,null,null,null,null,{"$f":"IF(U75='Look-up Tables'!$A$3,5,IF(U75='Look-up Tables'!$A$4,4,IF(U75='Look-up Tables'!$A$5,3,IF(U75='Look-up Tables'!$A$6,2,IF(U75='Look-up Tables'!$A$7,1)))))","v":false},null,{"$f":"IF(W75='Look-up Tables'!$B$3,5,IF(W75='Look-up Tables'!$B$4,4,IF(W75='Look-up Tables'!$B$5,3,IF(W75='Look-up Tables'!$B$6,2,IF(W75='Look-up Tables'!$B$7,1)))))","v":false},null,{"$f":"IF(Y75='Look-up Tables'!$C$3,5,IF(Y75='Look-up Tables'!$C$4,4,IF(Y75='Look-up Tables'!$C$5,3,IF(Y75='Look-up Tables'!$C$6,2,IF(Y75='Look-up Tables'!$C$7,1)))))","v":false},{"$f":"IFERROR(VLOOKUP(AB75,'Look-up Tables'!$D$3:$E$127,2),\"\")","v":""},0]
[null,null,null,null,null,null,{"$f":"IF(F76='Look-up Tables'!$A$3,5,IF(F76='Look-up Tables'!$A$4,4,IF(F76='Look-up Tables'!$A$5,3,IF(F76='Look-up Tables'!$A$6,2,IF(F76='Look-up Tables'!$A$7,1)))))","v":false},null,null,{"$f":"IF(I76='Look-up Tables'!$B$3,5,IF(I76='Look-up Tables'!$B$4,4,IF(I76='Look-up Tables'!$B$5,3,IF(I76='Look-up Tables'!$B$6,2,IF(I76='Look-up Tables'!$B$7,1)))))","v":false},null,null,null,{"$f":"IF(M76='Look-up Tables'!$C$3,5,IF(M76='Look-up Tables'!$C$4,4,IF(M76='Look-up Tables'!$C$5,3,IF(M76='Look-up Tables'!$C$6,2,IF(M76='Look-up Tables'!$C$7,1)))))","v":false},{"$f":"IFERROR(VLOOKUP(P76,'Look-up Tables'!$D$3:$E$127,2),\"\")","v":""},0,null,null,null,null,null,{"$f":"IF(U76='Look-up Tables'!$A$3,5,IF(U76='Look-up Tables'!$A$4,4,IF(U76='Look-up Tables'!$A$5,3,IF(U76='Look-up Tables'!$A$6,2,IF(U76='Look-up Tables'!$A$7,1)))))","v":false},null,{"$f":"IF(W76='Look-up Tables'!$B$3,5,IF(W76='Look-up Tables'!$B$4,4,IF(W76='Look-up Tables'!$B$5,3,IF(W76='Look-up Tables'!$B$6,2,IF(W76='Look-up Tables'!$B$7,1)))))","v":false},null,{"$f":"IF(Y76='Look-up Tables'!$C$3,5,IF(Y76='Look-up Tables'!$C$4,4,IF(Y76='Look-up Tables'!$C$5,3,IF(Y76='Look-up Tables'!$C$6,2,IF(Y76='Look-up Tables'!$C$7,1)))))","v":false},{"$f":"IFERROR(VLOOKUP(AB76,'Look-up Tables'!$D$3:$E$127,2),\"\")","v":""},0]
[null,null,null,null,null,null,{"$f":"IF(F77='Look-up Tables'!$A$3,5,IF(F77='Look-up Tables'!$A$4,4,IF(F77='Look-up Tables'!$A$5,3,IF(F77='Look-up Tables'!$A$6,2,IF(F77='Look-up Tables'!$A$7,1)))))","v":false},null,null,{"$f":"IF(I77='Look-up Tables'!$B$3,5,IF(I77='Look-up Tables'!$B$4,4,IF(I77='Look-up Tables'!$B$5,3,IF(I77='Look-up Tables'!$B$6,2,IF(I77='Look-up Tables'!$B$7,1)))))","v":false},null,null,null,{"$f":"IF(M77='Look-up Tables'!$C$3,5,IF(M77='Look-up Tables'!$C$4,4,IF(M77='Look-up Tables'!$C$5,3,IF(M77='Look-up Tables'!$C$6,2,IF(M77='Look-up Tables'!$C$7,1)))))","v":false},{"$f":"IFERROR(VLOOKUP(P77,'Look-up Tables'!$D$3:$E$127,2),\"\")","v":""},0,null,null,null,null,null,{"$f":"IF(U77='Look-up Tables'!$A$3,5,IF(U77='Look-up Tables'!$A$4,4,IF(U77='Look-up Tables'!$A$5,3,IF(U77='Look-up Tables'!$A$6,2,IF(U77='Look-up Tables'!$A$7,1)))))","v":false},null,{"$f":"IF(W77='Look-up Tables'!$B$3,5,IF(W77='Look-up Tables'!$B$4,4,IF(W77='Look-up Tables'!$B$5,3,IF(W77='Look-up Tables'!$B$6,2,IF(W77='Look-up Tables'!$B$7,1)))))","v":false},null,{"$f":"IF(Y77='Look-up Tables'!$C$3,5,IF(Y77='Look-up Tables'!$C$4,4,IF(Y77='Look-up Tables'!$C$5,3,IF(Y77='Look-up Tables'!$C$6,2,IF(Y77='Look-up Tables'!$C$7,1)))))","v":false},{"$f":"IFERROR(VLOOKUP(AB77,'Look-up Tables'!$D$3:$E$127,2),\"\")","v":""},0]
[null,null,null,null,null,null,{"$f":"IF(F78='Look-up Tables'!$A$3,5,IF(F78='Look-up Tables'!$A$4,4,IF(F78='Look-up Tables'!$A$5,3,IF(F78='Look-up Tables'!$A$6,2,IF(F78='Look-up Tables'!$A$7,1)))))","v":false},null,null,{"$f":"IF(I78='Look-up Tables'!$B$3,5,IF(I78='Look-up Tables'!$B$4,4,IF(I78='Look-up Tables'!$B$5,3,IF(I78='Look-up Tables'!$B$6,2,IF(I78='Look-up Tables'!$B$7,1)))))","v":false},null,null,null,{"$f":"IF(M78='Look-up Tables'!$C$3,5,IF(M78='Look-up Tables'!$C$4,4,IF(M78='Look-up Tables'!$C$5,3,IF(M78='Look-up Tables'!$C$6,2,IF(M78='Look-up Tables'!$C$7,1)))))","v":false},{"$f":"IFERROR(VLOOKUP(P78,'Look-up Tables'!$D$3:$E$127,2),\"\")","v":""},0,null,null,null,null,null,{"$f":"IF(U78='Look-up Tables'!$A$3,5,IF(U78='Look-up Tables'!$A$4,4,IF(U78='Look-up Tables'!$A$5,3,IF(U78='Look-up Tables'!$A$6,2,IF(U78='Look-up Tables'!$A$7,1)))))","v":false},null,{"$f":"IF(W78='Look-up Tables'!$B$3,5,IF(W78='Look-up Tables'!$B$4,4,IF(W78='Look-up Tables'!$B$5,3,IF(W78='Look-up Tables'!$B$6,2,IF(W78='Look-up Tables'!$B$7,1)))))","v":false},null,{"$f":"IF(Y78='Look-up Tables'!$C$3,5,IF(Y78='Look-up Tables'!$C$4,4,IF(Y78='Look-up Tables'!$C$5,3,IF(Y78='Look-up Tables'!$C$6,2,IF(Y78='Look-up Tables'!$C$7,1)))))","v":false},{"$f":"IFERROR(VLOOKUP(AB78,'Look-up Tables'!$D$3:$E$127,2),\"\")","v":""},0]
[null,null,null,null,null,null,{"$f":"IF(F79='Look-up Tables'!$A$3,5,IF(F79='Look-up Tables'!$A$4,4,IF(F79='Look-up Tables'!$A$5,3,IF(F79='Look-up Tables'!$A$6,2,IF(F79='Look-up Tables'!$A$7,1)))))","v":false},null,null,{"$f":"IF(I79='Look-up Tables'!$B$3,5,IF(I79='Look-up Tables'!$B$4,4,IF(I79='Look-up Tables'!$B$5,3,IF(I79='Look-up Tables'!$B$6,2,IF(I79='Look-up Tables'!$B$7,1)))))","v":false},null,null,null,{"$f":"IF(M79='Look-up Tables'!$C$3,5,IF(M79='Look-up Tables'!$C$4,4,IF(M79='Look-up Tables'!$C$5,3,IF(M79='Look-up Tables'!$C$6,2,IF(M79='Look-up Tables'!$C$7,1)))))","v":false},{"$f":"IFERROR(VLOOKUP(P79,'Look-up Tables'!$D$3:$E$127,2),\"\")","v":""},0,null,null,null,null,null,{"$f":"IF(U79='Look-up Tables'!$A$3,5,IF(U79='Look-up Tables'!$A$4,4,IF(U79='Look-up Tables'!$A$5,3,IF(U79='Look-up Tables'!$A$6,2,IF(U79='Look-up Tables'!$A$7,1)))))","v":false},null,{"$f":"IF(W79='Look-up Tables'!$B$3,5,IF(W79='Look-up Tables'!$B$4,4,IF(W79='Look-up Tables'!$B$5,3,IF(W79='Look-up Tables'!$B$6,2,IF(W79='Look-up Tables'!$B$7,1)))))","v":false},null,{"$f":"IF(Y79='Look-up Tables'!$C$3,5,IF(Y79='Look-up Tables'!$C$4,4,IF(Y79='Look-up Tables'!$C$5,3,IF(Y79='Look-up Tables'!$C$6,2,IF(Y79='Look-up Tables'!$C$7,1)))))","v":false},{"$f":"IFERROR(VLOOKUP(AB79,'Look-up Tables'!$D$3:$E$127,2),\"\")","v":""},0]
[null,null,null,null,null,null,{"$f":"IF(F80='Look-up Tables'!$A$3,5,IF(F80='Look-up Tables'!$A$4,4,IF(F80='Look-up Tables'!$A$5,3,IF(F80='Look-up Tables'!$A$6,2,IF(F80='Look-up Tables'!$A$7,1)))))","v":false},null,null,{"$f":"IF(I80='Look-up Tables'!$B$3,5,IF(I80='Look-up Tables'!$B$4,4,IF(I80='Look-up Tables'!$B$5,3,IF(I80='Look-up Tables'!$B$6,2,IF(I80='Look-up Tables'!$B$7,1)))))","v":false},null,null,null,{"$f":"IF(M80='Look-up Tables'!$C$3,5,IF(M80='Look-up Tables'!$C$4,4,IF(M80='Look-up Tables'!$C$5,3,IF(M80='Look-up Tables'!$C$6,2,IF(M80='Look-up Tables'!$C$7,1)))))","v":false},{"$f":"IFERROR(VLOOKUP(P80,'Look-up Tables'!$D$3:$E$127,2),\"\")","v":""},0,null,null,null,null,null,{"$f":"IF(U80='Look-up Tables'!$A$3,5,IF(U80='Look-up Tables'!$A$4,4,IF(U80='Look-up Tables'!$A$5,3,IF(U80='Look-up Tables'!$A$6,2,IF(U80='Look-up Tables'!$A$7,1)))))","v":false},null,{"$f":"IF(W80='Look-up Tables'!$B$3,5,IF(W80='Look-up Tables'!$B$4,4,IF(W80='Look-up Tables'!$B$5,3,IF(W80='Look-up Tables'!$B$6,2,IF(W80='Look-up Tables'!$B$7,1)))))","v":false},null,{"$f":"IF(Y80='Look-up Tables'!$C$3,5,IF(Y80='Look-up Tables'!$C$4,4,IF(Y80='Look-up Tables'!$C$5,3,IF(Y80='Look-up Tables'!$C$6,2,IF(Y80='Look-up Tables'!$C$7,1)))))","v":false},{"$f":"IFERROR(VLOOKUP(AB80,'Look-up Tables'!$D$3:$E$127,2),\"\")","v":""},0]
[null,null,null,null,null,null,{"$f":"IF(F81='Look-up Tables'!$A$3,5,IF(F81='Look-up Tables'!$A$4,4,IF(F81='Look-up Tables'!$A$5,3,IF(F81='Look-up Tables'!$A$6,2,IF(F81='Look-up Tables'!$A$7,1)))))","v":false},null,null,{"$f":"IF(I81='Look-up Tables'!$B$3,5,IF(I81='Look-up Tables'!$B$4,4,IF(I81='Look-up Tables'!$B$5,3,IF(I81='Look-up Tables'!$B$6,2,IF(I81='Look-up Tables'!$B$7,1)))))","v":false},null,null,null,{"$f":"IF(M81='Look-up Tables'!$C$3,5,IF(M81='Look-up Tables'!$C$4,4,IF(M81='Look-up Tables'!$C$5,3,IF(M81='Look-up Tables'!$C$6,2,IF(M81='Look-up Tables'!$C$7,1)))))","v":false},{"$f":"IFERROR(VLOOKUP(P81,'Look-up Tables'!$D$3:$E$127,2),\"\")","v":""},0,null,null,null,null,null,{"$f":"IF(U81='Look-up Tables'!$A$3,5,IF(U81='Look-up Tables'!$A$4,4,IF(U81='Look-up Tables'!$A$5,3,IF(U81='Look-up Tables'!$A$6,2,IF(U81='Look-up Tables'!$A$7,1)))))","v":false},null,{"$f":"IF(W81='Look-up Tables'!$B$3,5,IF(W81='Look-up Tables'!$B$4,4,IF(W81='Look-up Tables'!$B$5,3,IF(W81='Look-up Tables'!$B$6,2,IF(W81='Look-up Tables'!$B$7,1)))))","v":false},null,{"$f":"IF(Y81='Look-up Tables'!$C$3,5,IF(Y81='Look-up Tables'!$C$4,4,IF(Y81='Look-up Tables'!$C$5,3,IF(Y81='Look-up Tables'!$C$6,2,IF(Y81='Look-up Tables'!$C$7,1)))))","v":false},{"$f":"IFERROR(VLOOKUP(AB81,'Look-up Tables'!$D$3:$E$127,2),\"\")","v":""},0]
[null,null,null,null,null,null,{"$f":"IF(F82='Look-up Tables'!$A$3,5,IF(F82='Look-up Tables'!$A$4,4,IF(F82='Look-up Tables'!$A$5,3,IF(F82='Look-up Tables'!$A$6,2,IF(F82='Look-up Tables'!$A$7,1)))))","v":false},null,null,{"$f":"IF(I82='Look-up Tables'!$B$3,5,IF(I82='Look-up Tables'!$B$4,4,IF(I82='Look-up Tables'!$B$5,3,IF(I82='Look-up Tables'!$B$6,2,IF(I82='Look-up Tables'!$B$7,1)))))","v":false},null,null,null,{"$f":"IF(M82='Look-up Tables'!$C$3,5,IF(M82='Look-up Tables'!$C$4,4,IF(M82='Look-up Tables'!$C$5,3,IF(M82='Look-up Tables'!$C$6,2,IF(M82='Look-up Tables'!$C$7,1)))))","v":false},{"$f":"IFERROR(VLOOKUP(P82,'Look-up Tables'!$D$3:$E$127,2),\"\")","v":""},0,null,null,null,null,null,{"$f":"IF(U82='Look-up Tables'!$A$3,5,IF(U82='Look-up Tables'!$A$4,4,IF(U82='Look-up Tables'!$A$5,3,IF(U82='Look-up Tables'!$A$6,2,IF(U82='Look-up Tables'!$A$7,1)))))","v":false},null,{"$f":"IF(W82='Look-up Tables'!$B$3,5,IF(W82='Look-up Tables'!$B$4,4,IF(W82='Look-up Tables'!$B$5,3,IF(W82='Look-up Tables'!$B$6,2,IF(W82='Look-up Tables'!$B$7,1)))))","v":false},null,{"$f":"IF(Y82='Look-up Tables'!$C$3,5,IF(Y82='Look-up Tables'!$C$4,4,IF(Y82='Look-up Tables'!$C$5,3,IF(Y82='Look-up Tables'!$C$6,2,IF(Y82='Look-up Tables'!$C$7,1)))))","v":false},{"$f":"IFERROR(VLOOKUP(AB82,'Look-up Tables'!$D$3:$E$127,2),\"\")","v":""},0]
[null,null,null,null,null,null,{"$f":"IF(F83='Look-up Tables'!$A$3,5,IF(F83='Look-up Tables'!$A$4,4,IF(F83='Look-up Tables'!$A$5,3,IF(F83='Look-up Tables'!$A$6,2,IF(F83='Look-up Tables'!$A$7,1)))))","v":false},null,null,{"$f":"IF(I83='Look-up Tables'!$B$3,5,IF(I83='Look-up Tables'!$B$4,4,IF(I83='Look-up Tables'!$B$5,3,IF(I83='Look-up Tables'!$B$6,2,IF(I83='Look-up Tables'!$B$7,1)))))","v":false},null,null,null,{"$f":"IF(M83='Look-up Tables'!$C$3,5,IF(M83='Look-up Tables'!$C$4,4,IF(M83='Look-up Tables'!$C$5,3,IF(M83='Look-up Tables'!$C$6,2,IF(M83='Look-up Tables'!$C$7,1)))))","v":false},{"$f":"IFERROR(VLOOKUP(P83,'Look-up Tables'!$D$3:$E$127,2),\"\")","v":""},0,null,null,null,null,null,{"$f":"IF(U83='Look-up Tables'!$A$3,5,IF(U83='Look-up Tables'!$A$4,4,IF(U83='Look-up Tables'!$A$5,3,IF(U83='Look-up Tables'!$A$6,2,IF(U83='Look-up Tables'!$A$7,1)))))","v":false},null,{"$f":"IF(W83='Look-up Tables'!$B$3,5,IF(W83='Look-up Tables'!$B$4,4,IF(W83='Look-up Tables'!$B$5,3,IF(W83='Look-up Tables'!$B$6,2,IF(W83='Look-up Tables'!$B$7,1)))))","v":false},null,{"$f":"IF(Y83='Look-up Tables'!$C$3,5,IF(Y83='Look-up Tables'!$C$4,4,IF(Y83='Look-up Tables'!$C$5,3,IF(Y83='Look-up Tables'!$C$6,2,IF(Y83='Look-up Tables'!$C$7,1)))))","v":false},{"$f":"IFERROR(VLOOKUP(AB83,'Look-up Tables'!$D$3:$E$127,2),\"\")","v":""},0]
[null,null,null,null,null,null,{"$f":"IF(F84='Look-up Tables'!$A$3,5,IF(F84='Look-up Tables'!$A$4,4,IF(F84='Look-up Tables'!$A$5,3,IF(F84='Look-up Tables'!$A$6,2,IF(F84='Look-up Tables'!$A$7,1)))))","v":false},null,null,{"$f":"IF(I84='Look-up Tables'!$B$3,5,IF(I84='Look-up Tables'!$B$4,4,IF(I84='Look-up Tables'!$B$5,3,IF(I84='Look-up Tables'!$B$6,2,IF(I84='Look-up Tables'!$B$7,1)))))","v":false},null,null,null,{"$f":"IF(M84='Look-up Tables'!$C$3,5,IF(M84='Look-up Tables'!$C$4,4,IF(M84='Look-up Tables'!$C$5,3,IF(M84='Look-up Tables'!$C$6,2,IF(M84='Look-up Tables'!$C$7,1)))))","v":false},{"$f":"IFERROR(VLOOKUP(P84,'Look-up Tables'!$D$3:$E$127,2),\"\")","v":""},0,null,null,null,null,null,{"$f":"IF(U84='Look-up Tables'!$A$3,5,IF(U84='Look-up Tables'!$A$4,4,IF(U84='Look-up Tables'!$A$5,3,IF(U84='Look-up Tables'!$A$6,2,IF(U84='Look-up Tables'!$A$7,1)))))","v":false},null,{"$f":"IF(W84='Look-up Tables'!$B$3,5,IF(W84='Look-up Tables'!$B$4,4,IF(W84='Look-up Tables'!$B$5,3,IF(W84='Look-up Tables'!$B$6,2,IF(W84='Look-up Tables'!$B$7,1)))))","v":false},null,{"$f":"IF(Y84='Look-up Tables'!$C$3,5,IF(Y84='Look-up Tables'!$C$4,4,IF(Y84='Look-up Tables'!$C$5,3,IF(Y84='Look-up Tables'!$C$6,2,IF(Y84='Look-up Tables'!$C$7,1)))))","v":false},{"$f":"IFERROR(VLOOKUP(AB84,'Look-up Tables'!$D$3:$E$127,2),\"\")","v":""},0]
[null,null,null,null,null,null,{"$f":"IF(F85='Look-up Tables'!$A$3,5,IF(F85='Look-up Tables'!$A$4,4,IF(F85='Look-up Tables'!$A$5,3,IF(F85='Look-up Tables'!$A$6,2,IF(F85='Look-up Tables'!$A$7,1)))))","v":false},null,null,{"$f":"IF(I85='Look-up Tables'!$B$3,5,IF(I85='Look-up Tables'!$B$4,4,IF(I85='Look-up Tables'!$B$5,3,IF(I85='Look-up Tables'!$B$6,2,IF(I85='Look-up Tables'!$B$7,1)))))","v":false},null,null,null,{"$f":"IF(M85='Look-up Tables'!$C$3,5,IF(M85='Look-up Tables'!$C$4,4,IF(M85='Look-up Tables'!$C$5,3,IF(M85='Look-up Tables'!$C$6,2,IF(M85='Look-up Tables'!$C$7,1)))))","v":false},{"$f":"IFERROR(VLOOKUP(P85,'Look-up Tables'!$D$3:$E$127,2),\"\")","v":""},0,null,null,null,null,null,{"$f":"IF(U85='Look-up Tables'!$A$3,5,IF(U85='Look-up Tables'!$A$4,4,IF(U85='Look-up Tables'!$A$5,3,IF(U85='Look-up Tables'!$A$6,2,IF(U85='Look-up Tables'!$A$7,1)))))","v":false},null,{"$f":"IF(W85='Look-up Tables'!$B$3,5,IF(W85='Look-up Tables'!$B$4,4,IF(W85='Look-up Tables'!$B$5,3,IF(W85='Look-up Tables'!$B$6,2,IF(W85='Look-up Tables'!$B$7,1)))))","v":false},null,{"$f":"IF(Y85='Look-up Tables'!$C$3,5,IF(Y85='Look-up Tables'!$C$4,4,IF(Y85='Look-up Tables'!$C$5,3,IF(Y85='Look-up Tables'!$C$6,2,IF(Y85='Look-up Tables'!$C$7,1)))))","v":false},{"$f":"IFERROR(VLOOKUP(AB85,'Look-up Tables'!$D$3:$E$127,2),\"\")","v":""},0]
[null,null,null,null,null,null,{"$f":"IF(F86='Look-up Tables'!$A$3,5,IF(F86='Look-up Tables'!$A$4,4,IF(F86='Look-up Tables'!$A$5,3,IF(F86='Look-up Tables'!$A$6,2,IF(F86='Look-up Tables'!$A$7,1)))))","v":false},null,null,{"$f":"IF(I86='Look-up Tables'!$B$3,5,IF(I86='Look-up Tables'!$B$4,4,IF(I86='Look-up Tables'!$B$5,3,IF(I86='Look-up Tables'!$B$6,2,IF(I86='Look-up Tables'!$B$7,1)))))","v":false},null,null,null,{"$f":"IF(M86='Look-up Tables'!$C$3,5,IF(M86='Look-up Tables'!$C$4,4,IF(M86='Look-up Tables'!$C$5,3,IF(M86='Look-up Tables'!$C$6,2,IF(M86='Look-up Tables'!$C$7,1)))))","v":false},{"$f":"IFERROR(VLOOKUP(P86,'Look-up Tables'!$D$3:$E$127,2),\"\")","v":""},0,null,null,null,null,null,{"$f":"IF(U86='Look-up Tables'!$A$3,5,IF(U86='Look-up Tables'!$A$4,4,IF(U86='Look-up Tables'!$A$5,3,IF(U86='Look-up Tables'!$A$6,2,IF(U86='Look-up Tables'!$A$7,1)))))","v":false},null,{"$f":"IF(W86='Look-up Tables'!$B$3,5,IF(W86='Look-up Tables'!$B$4,4,IF(W86='Look-up Tables'!$B$5,3,IF(W86='Look-up Tables'!$B$6,2,IF(W86='Look-up Tables'!$B$7,1)))))","v":false},null,{"$f":"IF(Y86='Look-up Tables'!$C$3,5,IF(Y86='Look-up Tables'!$C$4,4,IF(Y86='Look-up Tables'!$C$5,3,IF(Y86='Look-up Tables'!$C$6,2,IF(Y86='Look-up Tables'!$C$7,1)))))","v":false},{"$f":"IFERROR(VLOOKUP(AB86,'Look-up Tables'!$D$3:$E$127,2),\"\")","v":""},0]
[null,null,null,null,null,null,{"$f":"IF(F87='Look-up Tables'!$A$3,5,IF(F87='Look-up Tables'!$A$4,4,IF(F87='Look-up Tables'!$A$5,3,IF(F87='Look-up Tables'!$A$6,2,IF(F87='Look-up Tables'!$A$7,1)))))","v":false},null,null,{"$f":"IF(I87='Look-up Tables'!$B$3,5,IF(I87='Look-up Tables'!$B$4,4,IF(I87='Look-up Tables'!$B$5,3,IF(I87='Look-up Tables'!$B$6,2,IF(I87='Look-up Tables'!$B$7,1)))))","v":false},null,null,null,{"$f":"IF(M87='Look-up Tables'!$C$3,5,IF(M87='Look-up Tables'!$C$4,4,IF(M87='Look-up Tables'!$C$5,3,IF(M87='Look-up Tables'!$C$6,2,IF(M87='Look-up Tables'!$C$7,1)))))","v":false},{"$f":"IFERROR(VLOOKUP(P87,'Look-up Tables'!$D$3:$E$127,2),\"\")","v":""},0,null,null,null,null,null,{"$f":"IF(U87='Look-up Tables'!$A$3,5,IF(U87='Look-up Tables'!$A$4,4,IF(U87='Look-up Tables'!$A$5,3,IF(U87='Look-up Tables'!$A$6,2,IF(U87='Look-up Tables'!$A$7,1)))))","v":false},null,{"$f":"IF(W87='Look-up Tables'!$B$3,5,IF(W87='Look-up Tables'!$B$4,4,IF(W87='Look-up Tables'!$B$5,3,IF(W87='Look-up Tables'!$B$6,2,IF(W87='Look-up Tables'!$B$7,1)))))","v":false},null,{"$f":"IF(Y87='Look-up Tables'!$C$3,5,IF(Y87='Look-up Tables'!$C$4,4,IF(Y87='Look-up Tables'!$C$5,3,IF(Y87='Look-up Tables'!$C$6,2,IF(Y87='Look-up Tables'!$C$7,1)))))","v":false},{"$f":"IFERROR(VLOOKUP(AB87,'Look-up Tables'!$D$3:$E$127,2),\"\")","v":""},0]
[null,null,null,null,null,null,{"$f":"IF(F88='Look-up Tables'!$A$3,5,IF(F88='Look-up Tables'!$A$4,4,IF(F88='Look-up Tables'!$A$5,3,IF(F88='Look-up Tables'!$A$6,2,IF(F88='Look-up Tables'!$A$7,1)))))","v":false},null,null,{"$f":"IF(I88='Look-up Tables'!$B$3,5,IF(I88='Look-up Tables'!$B$4,4,IF(I88='Look-up Tables'!$B$5,3,IF(I88='Look-up Tables'!$B$6,2,IF(I88='Look-up Tables'!$B$7,1)))))","v":false},null,null,null,{"$f":"IF(M88='Look-up Tables'!$C$3,5,IF(M88='Look-up Tables'!$C$4,4,IF(M88='Look-up Tables'!$C$5,3,IF(M88='Look-up Tables'!$C$6,2,IF(M88='Look-up Tables'!$C$7,1)))))","v":false},{"$f":"IFERROR(VLOOKUP(P88,'Look-up Tables'!$D$3:$E$127,2),\"\")","v":""},0,null,null,null,null,null,{"$f":"IF(U88='Look-up Tables'!$A$3,5,IF(U88='Look-up Tables'!$A$4,4,IF(U88='Look-up Tables'!$A$5,3,IF(U88='Look-up Tables'!$A$6,2,IF(U88='Look-up Tables'!$A$7,1)))))","v":false},null,{"$f":"IF(W88='Look-up Tables'!$B$3,5,IF(W88='Look-up Tables'!$B$4,4,IF(W88='Look-up Tables'!$B$5,3,IF(W88='Look-up Tables'!$B$6,2,IF(W88='Look-up Tables'!$B$7,1)))))","v":false},null,{"$f":"IF(Y88='Look-up Tables'!$C$3,5,IF(Y88='Look-up Tables'!$C$4,4,IF(Y88='Look-up Tables'!$C$5,3,IF(Y88='Look-up Tables'!$C$6,2,IF(Y88='Look-up Tables'!$C$7,1)))))","v":false},{"$f":"IFERROR(VLOOKUP(AB88,'Look-up Tables'!$D$3:$E$127,2),\"\")","v":""},0]
[null,null,null,null,null,null,{"$f":"IF(F89='Look-up Tables'!$A$3,5,IF(F89='Look-up Tables'!$A$4,4,IF(F89='Look-up Tables'!$A$5,3,IF(F89='Look-up Tables'!$A$6,2,IF(F89='Look-up Tables'!$A$7,1)))))","v":false},null,null,{"$f":"IF(I89='Look-up Tables'!$B$3,5,IF(I89='Look-up Tables'!$B$4,4,IF(I89='Look-up Tables'!$B$5,3,IF(I89='Look-up Tables'!$B$6,2,IF(I89='Look-up Tables'!$B$7,1)))))","v":false},null,null,null,{"$f":"IF(M89='Look-up Tables'!$C$3,5,IF(M89='Look-up Tables'!$C$4,4,IF(M89='Look-up Tables'!$C$5,3,IF(M89='Look-up Tables'!$C$6,2,IF(M89='Look-up Tables'!$C$7,1)))))","v":false},{"$f":"IFERROR(VLOOKUP(P89,'Look-up Tables'!$D$3:$E$127,2),\"\")","v":""},0,null,null,null,null,null,{"$f":"IF(U89='Look-up Tables'!$A$3,5,IF(U89='Look-up Tables'!$A$4,4,IF(U89='Look-up Tables'!$A$5,3,IF(U89='Look-up Tables'!$A$6,2,IF(U89='Look-up Tables'!$A$7,1)))))","v":false},null,{"$f":"IF(W89='Look-up Tables'!$B$3,5,IF(W89='Look-up Tables'!$B$4,4,IF(W89='Look-up Tables'!$B$5,3,IF(W89='Look-up Tables'!$B$6,2,IF(W89='Look-up Tables'!$B$7,1)))))","v":false},null,{"$f":"IF(Y89='Look-up Tables'!$C$3,5,IF(Y89='Look-up Tables'!$C$4,4,IF(Y89='Look-up Tables'!$C$5,3,IF(Y89='Look-up Tables'!$C$6,2,IF(Y89='Look-up Tables'!$C$7,1)))))","v":false},{"$f":"IFERROR(VLOOKUP(AB89,'Look-up Tables'!$D$3:$E$127,2),\"\")","v":""},0]
[null,null,null,null,null,null,{"$f":"IF(F90='Look-up Tables'!$A$3,5,IF(F90='Look-up Tables'!$A$4,4,IF(F90='Look-up Tables'!$A$5,3,IF(F90='Look-up Tables'!$A$6,2,IF(F90='Look-up Tables'!$A$7,1)))))","v":false},null,null,{"$f":"IF(I90='Look-up Tables'!$B$3,5,IF(I90='Look-up Tables'!$B$4,4,IF(I90='Look-up Tables'!$B$5,3,IF(I90='Look-up Tables'!$B$6,2,IF(I90='Look-up Tables'!$B$7,1)))))","v":false},null,null,null,{"$f":"IF(M90='Look-up Tables'!$C$3,5,IF(M90='Look-up Tables'!$C$4,4,IF(M90='Look-up Tables'!$C$5,3,IF(M90='Look-up Tables'!$C$6,2,IF(M90='Look-up Tables'!$C$7,1)))))","v":false},{"$f":"IFERROR(VLOOKUP(P90,'Look-up Tables'!$D$3:$E$127,2),\"\")","v":""},0,null,null,null,null,null,{"$f":"IF(U90='Look-up Tables'!$A$3,5,IF(U90='Look-up Tables'!$A$4,4,IF(U90='Look-up Tables'!$A$5,3,IF(U90='Look-up Tables'!$A$6,2,IF(U90='Look-up Tables'!$A$7,1)))))","v":false},null,{"$f":"IF(W90='Look-up Tables'!$B$3,5,IF(W90='Look-up Tables'!$B$4,4,IF(W90='Look-up Tables'!$B$5,3,IF(W90='Look-up Tables'!$B$6,2,IF(W90='Look-up Tables'!$B$7,1)))))","v":false},null,{"$f":"IF(Y90='Look-up Tables'!$C$3,5,IF(Y90='Look-up Tables'!$C$4,4,IF(Y90='Look-up Tables'!$C$5,3,IF(Y90='Look-up Tables'!$C$6,2,IF(Y90='Look-up Tables'!$C$7,1)))))","v":false},{"$f":"IFERROR(VLOOKUP(AB90,'Look-up Tables'!$D$3:$E$127,2),\"\")","v":""},0]
[null,null,null,null,null,null,{"$f":"IF(F91='Look-up Tables'!$A$3,5,IF(F91='Look-up Tables'!$A$4,4,IF(F91='Look-up Tables'!$A$5,3,IF(F91='Look-up Tables'!$A$6,2,IF(F91='Look-up Tables'!$A$7,1)))))","v":false},null,null,{"$f":"IF(I91='Look-up Tables'!$B$3,5,IF(I91='Look-up Tables'!$B$4,4,IF(I91='Look-up Tables'!$B$5,3,IF(I91='Look-up Tables'!$B$6,2,IF(I91='Look-up Tables'!$B$7,1)))))","v":false},null,null,null,{"$f":"IF(M91='Look-up Tables'!$C$3,5,IF(M91='Look-up Tables'!$C$4,4,IF(M91='Look-up Tables'!$C$5,3,IF(M91='Look-up Tables'!$C$6,2,IF(M91='Look-up Tables'!$C$7,1)))))","v":false},{"$f":"IFERROR(VLOOKUP(P91,'Look-up Tables'!$D$3:$E$127,2),\"\")","v":""},0,null,null,null,null,null,{"$f":"IF(U91='Look-up Tables'!$A$3,5,IF(U91='Look-up Tables'!$A$4,4,IF(U91='Look-up Tables'!$A$5,3,IF(U91='Look-up Tables'!$A$6,2,IF(U91='Look-up Tables'!$A$7,1)))))","v":false},null,{"$f":"IF(W91='Look-up Tables'!$B$3,5,IF(W91='Look-up Tables'!$B$4,4,IF(W91='Look-up Tables'!$B$5,3,IF(W91='Look-up Tables'!$B$6,2,IF(W91='Look-up Tables'!$B$7,1)))))","v":false},null,{"$f":"IF(Y91='Look-up Tables'!$C$3,5,IF(Y91='Look-up Tables'!$C$4,4,IF(Y91='Look-up Tables'!$C$5,3,IF(Y91='Look-up Tables'!$C$6,2,IF(Y91='Look-up Tables'!$C$7,1)))))","v":false},{"$f":"IFERROR(VLOOKUP(AB91,'Look-up Tables'!$D$3:$E$127,2),\"\")","v":""},0]
[null,null,null,null,null,null,{"$f":"IF(F92='Look-up Tables'!$A$3,5,IF(F92='Look-up Tables'!$A$4,4,IF(F92='Look-up Tables'!$A$5,3,IF(F92='Look-up Tables'!$A$6,2,IF(F92='Look-up Tables'!$A$7,1)))))","v":false},null,null,{"$f":"IF(I92='Look-up Tables'!$B$3,5,IF(I92='Look-up Tables'!$B$4,4,IF(I92='Look-up Tables'!$B$5,3,IF(I92='Look-up Tables'!$B$6,2,IF(I92='Look-up Tables'!$B$7,1)))))","v":false},null,null,null,{"$f":"IF(M92='Look-up Tables'!$C$3,5,IF(M92='Look-up Tables'!$C$4,4,IF(M92='Look-up Tables'!$C$5,3,IF(M92='Look-up Tables'!$C$6,2,IF(M92='Look-up Tables'!$C$7,1)))))","v":false},{"$f":"IFERROR(VLOOKUP(P92,'Look-up Tables'!$D$3:$E$127,2),\"\")","v":""},0,null,null,null,null,null,{"$f":"IF(U92='Look-up Tables'!$A$3,5,IF(U92='Look-up Tables'!$A$4,4,IF(U92='Look-up Tables'!$A$5,3,IF(U92='Look-up Tables'!$A$6,2,IF(U92='Look-up Tables'!$A$7,1)))))","v":false},null,{"$f":"IF(W92='Look-up Tables'!$B$3,5,IF(W92='Look-up Tables'!$B$4,4,IF(W92='Look-up Tables'!$B$5,3,IF(W92='Look-up Tables'!$B$6,2,IF(W92='Look-up Tables'!$B$7,1)))))","v":false},null,{"$f":"IF(Y92='Look-up Tables'!$C$3,5,IF(Y92='Look-up Tables'!$C$4,4,IF(Y92='Look-up Tables'!$C$5,3,IF(Y92='Look-up Tables'!$C$6,2,IF(Y92='Look-up Tables'!$C$7,1)))))","v":false},{"$f":"IFERROR(VLOOKUP(AB92,'Look-up Tables'!$D$3:$E$127,2),\"\")","v":""},0]
[null,null,null,null,null,null,{"$f":"IF(F93='Look-up Tables'!$A$3,5,IF(F93='Look-up Tables'!$A$4,4,IF(F93='Look-up Tables'!$A$5,3,IF(F93='Look-up Tables'!$A$6,2,IF(F93='Look-up Tables'!$A$7,1)))))","v":false},null,null,{"$f":"IF(I93='Look-up Tables'!$B$3,5,IF(I93='Look-up Tables'!$B$4,4,IF(I93='Look-up Tables'!$B$5,3,IF(I93='Look-up Tables'!$B$6,2,IF(I93='Look-up Tables'!$B$7,1)))))","v":false},null,null,null,{"$f":"IF(M93='Look-up Tables'!$C$3,5,IF(M93='Look-up Tables'!$C$4,4,IF(M93='Look-up Tables'!$C$5,3,IF(M93='Look-up Tables'!$C$6,2,IF(M93='Look-up Tables'!$C$7,1)))))","v":false},{"$f":"IFERROR(VLOOKUP(P93,'Look-up Tables'!$D$3:$E$127,2),\"\")","v":""},0,null,null,null,null,null,{"$f":"IF(U93='Look-up Tables'!$A$3,5,IF(U93='Look-up Tables'!$A$4,4,IF(U93='Look-up Tables'!$A$5,3,IF(U93='Look-up Tables'!$A$6,2,IF(U93='Look-up Tables'!$A$7,1)))))","v":false},null,{"$f":"IF(W93='Look-up Tables'!$B$3,5,IF(W93='Look-up Tables'!$B$4,4,IF(W93='Look-up Tables'!$B$5,3,IF(W93='Look-up Tables'!$B$6,2,IF(W93='Look-up Tables'!$B$7,1)))))","v":false},null,{"$f":"IF(Y93='Look-up Tables'!$C$3,5,IF(Y93='Look-up Tables'!$C$4,4,IF(Y93='Look-up Tables'!$C$5,3,IF(Y93='Look-up Tables'!$C$6,2,IF(Y93='Look-up Tables'!$C$7,1)))))","v":false},{"$f":"IFERROR(VLOOKUP(AB93,'Look-up Tables'!$D$3:$E$127,2),\"\")","v":""},0]
[null,null,null,null,null,null,{"$f":"IF(F94='Look-up Tables'!$A$3,5,IF(F94='Look-up Tables'!$A$4,4,IF(F94='Look-up Tables'!$A$5,3,IF(F94='Look-up Tables'!$A$6,2,IF(F94='Look-up Tables'!$A$7,1)))))","v":false},null,null,{"$f":"IF(I94='Look-up Tables'!$B$3,5,IF(I94='Look-up Tables'!$B$4,4,IF(I94='Look-up Tables'!$B$5,3,IF(I94='Look-up Tables'!$B$6,2,IF(I94='Look-up Tables'!$B$7,1)))))","v":false},null,null,null,{"$f":"IF(M94='Look-up Tables'!$C$3,5,IF(M94='Look-up Tables'!$C$4,4,IF(M94='Look-up Tables'!$C$5,3,IF(M94='Look-up Tables'!$C$6,2,IF(M94='Look-up Tables'!$C$7,1)))))","v":false},{"$f":"IFERROR(VLOOKUP(P94,'Look-up Tables'!$D$3:$E$127,2),\"\")","v":""},0,null,null,null,null,null,{"$f":"IF(U94='Look-up Tables'!$A$3,5,IF(U94='Look-up Tables'!$A$4,4,IF(U94='Look-up Tables'!$A$5,3,IF(U94='Look-up Tables'!$A$6,2,IF(U94='Look-up Tables'!$A$7,1)))))","v":false},null,{"$f":"IF(W94='Look-up Tables'!$B$3,5,IF(W94='Look-up Tables'!$B$4,4,IF(W94='Look-up Tables'!$B$5,3,IF(W94='Look-up Tables'!$B$6,2,IF(W94='Look-up Tables'!$B$7,1)))))","v":false},null,{"$f":"IF(Y94='Look-up Tables'!$C$3,5,IF(Y94='Look-up Tables'!$C$4,4,IF(Y94='Look-up Tables'!$C$5,3,IF(Y94='Look-up Tables'!$C$6,2,IF(Y94='Look-up Tables'!$C$7,1)))))","v":false},{"$f":"IFERROR(VLOOKUP(AB94,'Look-up Tables'!$D$3:$E$127,2),\"\")","v":""},0]
[null,null,null,null,null,null,{"$f":"IF(F95='Look-up Tables'!$A$3,5,IF(F95='Look-up Tables'!$A$4,4,IF(F95='Look-up Tables'!$A$5,3,IF(F95='Look-up Tables'!$A$6,2,IF(F95='Look-up Tables'!$A$7,1)))))","v":false},null,null,{"$f":"IF(I95='Look-up Tables'!$B$3,5,IF(I95='Look-up Tables'!$B$4,4,IF(I95='Look-up Tables'!$B$5,3,IF(I95='Look-up Tables'!$B$6,2,IF(I95='Look-up Tables'!$B$7,1)))))","v":false},null,null,null,{"$f":"IF(M95='Look-up Tables'!$C$3,5,IF(M95='Look-up Tables'!$C$4,4,IF(M95='Look-up Tables'!$C$5,3,IF(M95='Look-up Tables'!$C$6,2,IF(M95='Look-up Tables'!$C$7,1)))))","v":false},{"$f":"IFERROR(VLOOKUP(P95,'Look-up Tables'!$D$3:$E$127,2),\"\")","v":""},0,null,null,null,null,null,{"$f":"IF(U95='Look-up Tables'!$A$3,5,IF(U95='Look-up Tables'!$A$4,4,IF(U95='Look-up Tables'!$A$5,3,IF(U95='Look-up Tables'!$A$6,2,IF(U95='Look-up Tables'!$A$7,1)))))","v":false},null,{"$f":"IF(W95='Look-up Tables'!$B$3,5,IF(W95='Look-up Tables'!$B$4,4,IF(W95='Look-up Tables'!$B$5,3,IF(W95='Look-up Tables'!$B$6,2,IF(W95='Look-up Tables'!$B$7,1)))))","v":false},null,{"$f":"IF(Y95='Look-up Tables'!$C$3,5,IF(Y95='Look-up Tables'!$C$4,4,IF(Y95='Look-up Tables'!$C$5,3,IF(Y95='Look-up Tables'!$C$6,2,IF(Y95='Look-up Tables'!$C$7,1)))))","v":false},{"$f":"IFERROR(VLOOKUP(AB95,'Look-up Tables'!$D$3:$E$127,2),\"\")","v":""},0]
[null,null,null,null,null,null,{"$f":"IF(F96='Look-up Tables'!$A$3,5,IF(F96='Look-up Tables'!$A$4,4,IF(F96='Look-up Tables'!$A$5,3,IF(F96='Look-up Tables'!$A$6,2,IF(F96='Look-up Tables'!$A$7,1)))))","v":false},null,null,{"$f":"IF(I96='Look-up Tables'!$B$3,5,IF(I96='Look-up Tables'!$B$4,4,IF(I96='Look-up Tables'!$B$5,3,IF(I96='Look-up Tables'!$B$6,2,IF(I96='Look-up Tables'!$B$7,1)))))","v":false},null,null,null,{"$f":"IF(M96='Look-up Tables'!$C$3,5,IF(M96='Look-up Tables'!$C$4,4,IF(M96='Look-up Tables'!$C$5,3,IF(M96='Look-up Tables'!$C$6,2,IF(M96='Look-up Tables'!$C$7,1)))))","v":false},{"$f":"IFERROR(VLOOKUP(P96,'Look-up Tables'!$D$3:$E$127,2),\"\")","v":""},0,null,null,null,null,null,{"$f":"IF(U96='Look-up Tables'!$A$3,5,IF(U96='Look-up Tables'!$A$4,4,IF(U96='Look-up Tables'!$A$5,3,IF(U96='Look-up Tables'!$A$6,2,IF(U96='Look-up Tables'!$A$7,1)))))","v":false},null,{"$f":"IF(W96='Look-up Tables'!$B$3,5,IF(W96='Look-up Tables'!$B$4,4,IF(W96='Look-up Tables'!$B$5,3,IF(W96='Look-up Tables'!$B$6,2,IF(W96='Look-up Tables'!$B$7,1)))))","v":false},null,{"$f":"IF(Y96='Look-up Tables'!$C$3,5,IF(Y96='Look-up Tables'!$C$4,4,IF(Y96='Look-up Tables'!$C$5,3,IF(Y96='Look-up Tables'!$C$6,2,IF(Y96='Look-up Tables'!$C$7,1)))))","v":false},{"$f":"IFERROR(VLOOKUP(AB96,'Look-up Tables'!$D$3:$E$127,2),\"\")","v":""},0]
[null,null,null,null,null,null,{"$f":"IF(F97='Look-up Tables'!$A$3,5,IF(F97='Look-up Tables'!$A$4,4,IF(F97='Look-up Tables'!$A$5,3,IF(F97='Look-up Tables'!$A$6,2,IF(F97='Look-up Tables'!$A$7,1)))))","v":false},null,null,{"$f":"IF(I97='Look-up Tables'!$B$3,5,IF(I97='Look-up Tables'!$B$4,4,IF(I97='Look-up Tables'!$B$5,3,IF(I97='Look-up Tables'!$B$6,2,IF(I97='Look-up Tables'!$B$7,1)))))","v":false},null,null,null,{"$f":"IF(M97='Look-up Tables'!$C$3,5,IF(M97='Look-up Tables'!$C$4,4,IF(M97='Look-up Tables'!$C$5,3,IF(M97='Look-up Tables'!$C$6,2,IF(M97='Look-up Tables'!$C$7,1)))))","v":false},{"$f":"IFERROR(VLOOKUP(P97,'Look-up Tables'!$D$3:$E$127,2),\"\")","v":""},0,null,null,null,null,null,{"$f":"IF(U97='Look-up Tables'!$A$3,5,IF(U97='Look-up Tables'!$A$4,4,IF(U97='Look-up Tables'!$A$5,3,IF(U97='Look-up Tables'!$A$6,2,IF(U97='Look-up Tables'!$A$7,1)))))","v":false},null,{"$f":"IF(W97='Look-up Tables'!$B$3,5,IF(W97='Look-up Tables'!$B$4,4,IF(W97='Look-up Tables'!$B$5,3,IF(W97='Look-up Tables'!$B$6,2,IF(W97='Look-up Tables'!$B$7,1)))))","v":false},null,{"$f":"IF(Y97='Look-up Tables'!$C$3,5,IF(Y97='Look-up Tables'!$C$4,4,IF(Y97='Look-up Tables'!$C$5,3,IF(Y97='Look-up Tables'!$C$6,2,IF(Y97='Look-up Tables'!$C$7,1)))))","v":false},{"$f":"IFERROR(VLOOKUP(AB97,'Look-up Tables'!$D$3:$E$127,2),\"\")","v":""},0]
[null,null,null,null,null,null,{"$f":"IF(F98='Look-up Tables'!$A$3,5,IF(F98='Look-up Tables'!$A$4,4,IF(F98='Look-up Tables'!$A$5,3,IF(F98='Look-up Tables'!$A$6,2,IF(F98='Look-up Tables'!$A$7,1)))))","v":false},null,null,{"$f":"IF(I98='Look-up Tables'!$B$3,5,IF(I98='Look-up Tables'!$B$4,4,IF(I98='Look-up Tables'!$B$5,3,IF(I98='Look-up Tables'!$B$6,2,IF(I98='Look-up Tables'!$B$7,1)))))","v":false},null,null,null,{"$f":"IF(M98='Look-up Tables'!$C$3,5,IF(M98='Look-up Tables'!$C$4,4,IF(M98='Look-up Tables'!$C$5,3,IF(M98='Look-up Tables'!$C$6,2,IF(M98='Look-up Tables'!$C$7,1)))))","v":false},{"$f":"IFERROR(VLOOKUP(P98,'Look-up Tables'!$D$3:$E$127,2),\"\")","v":""},0,null,null,null,null,null,{"$f":"IF(U98='Look-up Tables'!$A$3,5,IF(U98='Look-up Tables'!$A$4,4,IF(U98='Look-up Tables'!$A$5,3,IF(U98='Look-up Tables'!$A$6,2,IF(U98='Look-up Tables'!$A$7,1)))))","v":false},null,{"$f":"IF(W98='Look-up Tables'!$B$3,5,IF(W98='Look-up Tables'!$B$4,4,IF(W98='Look-up Tables'!$B$5,3,IF(W98='Look-up Tables'!$B$6,2,IF(W98='Look-up Tables'!$B$7,1)))))","v":false},null,{"$f":"IF(Y98='Look-up Tables'!$C$3,5,IF(Y98='Look-up Tables'!$C$4,4,IF(Y98='Look-up Tables'!$C$5,3,IF(Y98='Look-up Tables'!$C$6,2,IF(Y98='Look-up Tables'!$C$7,1)))))","v":false},{"$f":"IFERROR(VLOOKUP(AB98,'Look-up Tables'!$D$3:$E$127,2),\"\")","v":""},0]
[null,null,null,null,null,null,{"$f":"IF(F99='Look-up Tables'!$A$3,5,IF(F99='Look-up Tables'!$A$4,4,IF(F99='Look-up Tables'!$A$5,3,IF(F99='Look-up Tables'!$A$6,2,IF(F99='Look-up Tables'!$A$7,1)))))","v":false},null,null,{"$f":"IF(I99='Look-up Tables'!$B$3,5,IF(I99='Look-up Tables'!$B$4,4,IF(I99='Look-up Tables'!$B$5,3,IF(I99='Look-up Tables'!$B$6,2,IF(I99='Look-up Tables'!$B$7,1)))))","v":false},null,null,null,{"$f":"IF(M99='Look-up Tables'!$C$3,5,IF(M99='Look-up Tables'!$C$4,4,IF(M99='Look-up Tables'!$C$5,3,IF(M99='Look-up Tables'!$C$6,2,IF(M99='Look-up Tables'!$C$7,1)))))","v":false},{"$f":"IFERROR(VLOOKUP(P99,'Look-up Tables'!$D$3:$E$127,2),\"\")","v":""},0,null,null,null,null,null,{"$f":"IF(U99='Look-up Tables'!$A$3,5,IF(U99='Look-up Tables'!$A$4,4,IF(U99='Look-up Tables'!$A$5,3,IF(U99='Look-up Tables'!$A$6,2,IF(U99='Look-up Tables'!$A$7,1)))))","v":false},null,{"$f":"IF(W99='Look-up Tables'!$B$3,5,IF(W99='Look-up Tables'!$B$4,4,IF(W99='Look-up Tables'!$B$5,3,IF(W99='Look-up Tables'!$B$6,2,IF(W99='Look-up Tables'!$B$7,1)))))","v":false},null,{"$f":"IF(Y99='Look-up Tables'!$C$3,5,IF(Y99='Look-up Tables'!$C$4,4,IF(Y99='Look-up Tables'!$C$5,3,IF(Y99='Look-up Tables'!$C$6,2,IF(Y99='Look-up Tables'!$C$7,1)))))","v":false},{"$f":"IFERROR(VLOOKUP(AB99,'Look-up Tables'!$D$3:$E$127,2),\"\")","v":""},0]
[null,null,null,null,null,null,{"$f":"IF(F100='Look-up Tables'!$A$3,5,IF(F100='Look-up Tables'!$A$4,4,IF(F100='Look-up Tables'!$A$5,3,IF(F100='Look-up Tables'!$A$6,2,IF(F100='Look-up Tables'!$A$7,1)))))","v":false},null,null,{"$f":"IF(I100='Look-up Tables'!$B$3,5,IF(I100='Look-up Tables'!$B$4,4,IF(I100='Look-up Tables'!$B$5,3,IF(I100='Look-up Tables'!$B$6,2,IF(I100='Look-up Tables'!$B$7,1)))))","v":false},null,null,null,{"$f":"IF(M100='Look-up Tables'!$C$3,5,IF(M100='Look-up Tables'!$C$4,4,IF(M100='Look-up Tables'!$C$5,3,IF(M100='Look-up Tables'!$C$6,2,IF(M100='Look-up Tables'!$C$7,1)))))","v":false},{"$f":"IFERROR(VLOOKUP(P100,'Look-up Tables'!$D$3:$E$127,2),\"\")","v":""},0,null,null,null,null,null,{"$f":"IF(U100='Look-up Tables'!$A$3,5,IF(U100='Look-up Tables'!$A$4,4,IF(U100='Look-up Tables'!$A$5,3,IF(U100='Look-up Tables'!$A$6,2,IF(U100='Look-up Tables'!$A$7,1)))))","v":false},null,{"$f":"IF(W100='Look-up Tables'!$B$3,5,IF(W100='Look-up Tables'!$B$4,4,IF(W100='Look-up Tables'!$B$5,3,IF(W100='Look-up Tables'!$B$6,2,IF(W100='Look-up Tables'!$B$7,1)))))","v":false},null,{"$f":"IF(Y100='Look-up Tables'!$C$3,5,IF(Y100='Look-up Tables'!$C$4,4,IF(Y100='Look-up Tables'!$C$5,3,IF(Y100='Look-up Tables'!$C$6,2,IF(Y100='Look-up Tables'!$C$7,1)))))","v":false},{"$f":"IFERROR(VLOOKUP(AB100,'Look-up Tables'!$D$3:$E$127,2),\"\")","v":""},0]
[null,null,null,null,null,null,{"$f":"IF(F101='Look-up Tables'!$A$3,5,IF(F101='Look-up Tables'!$A$4,4,IF(F101='Look-up Tables'!$A$5,3,IF(F101='Look-up Tables'!$A$6,2,IF(F101='Look-up Tables'!$A$7,1)))))","v":false},null,null,{"$f":"IF(I101='Look-up Tables'!$B$3,5,IF(I101='Look-up Tables'!$B$4,4,IF(I101='Look-up Tables'!$B$5,3,IF(I101='Look-up Tables'!$B$6,2,IF(I101='Look-up Tables'!$B$7,1)))))","v":false},null,null,null,{"$f":"IF(M101='Look-up Tables'!$C$3,5,IF(M101='Look-up Tables'!$C$4,4,IF(M101='Look-up Tables'!$C$5,3,IF(M101='Look-up Tables'!$C$6,2,IF(M101='Look-up Tables'!$C$7,1)))))","v":false},{"$f":"IFERROR(VLOOKUP(P101,'Look-up Tables'!$D$3:$E$127,2),\"\")","v":""},0,null,null,null,null,null,{"$f":"IF(U101='Look-up Tables'!$A$3,5,IF(U101='Look-up Tables'!$A$4,4,IF(U101='Look-up Tables'!$A$5,3,IF(U101='Look-up Tables'!$A$6,2,IF(U101='Look-up Tables'!$A$7,1)))))","v":false},null,{"$f":"IF(W101='Look-up Tables'!$B$3,5,IF(W101='Look-up Tables'!$B$4,4,IF(W101='Look-up Tables'!$B$5,3,IF(W101='Look-up Tables'!$B$6,2,IF(W101='Look-up Tables'!$B$7,1)))))","v":false},null,{"$f":"IF(Y101='Look-up Tables'!$C$3,5,IF(Y101='Look-up Tables'!$C$4,4,IF(Y101='Look-up Tables'!$C$5,3,IF(Y101='Look-up Tables'!$C$6,2,IF(Y101='Look-up Tables'!$C$7,1)))))","v":false},{"$f":"IFERROR(VLOOKUP(AB101,'Look-up Tables'!$D$3:$E$127,2),\"\")","v":""},0]
[null,null,null,null,null,null,{"$f":"IF(F102='Look-up Tables'!$A$3,5,IF(F102='Look-up Tables'!$A$4,4,IF(F102='Look-up Tables'!$A$5,3,IF(F102='Look-up Tables'!$A$6,2,IF(F102='Look-up Tables'!$A$7,1)))))","v":false},null,null,{"$f":"IF(I102='Look-up Tables'!$B$3,5,IF(I102='Look-up Tables'!$B$4,4,IF(I102='Look-up Tables'!$B$5,3,IF(I102='Look-up Tables'!$B$6,2,IF(I102='Look-up Tables'!$B$7,1)))))","v":false},null,null,null,{"$f":"IF(M102='Look-up Tables'!$C$3,5,IF(M102='Look-up Tables'!$C$4,4,IF(M102='Look-up Tables'!$C$5,3,IF(M102='Look-up Tables'!$C$6,2,IF(M102='Look-up Tables'!$C$7,1)))))","v":false},{"$f":"IFERROR(VLOOKUP(P102,'Look-up Tables'!$D$3:$E$127,2),\"\")","v":""},0,null,null,null,null,null,{"$f":"IF(U102='Look-up Tables'!$A$3,5,IF(U102='Look-up Tables'!$A$4,4,IF(U102='Look-up Tables'!$A$5,3,IF(U102='Look-up Tables'!$A$6,2,IF(U102='Look-up Tables'!$A$7,1)))))","v":false},null,{"$f":"IF(W102='Look-up Tables'!$B$3,5,IF(W102='Look-up Tables'!$B$4,4,IF(W102='Look-up Tables'!$B$5,3,IF(W102='Look-up Tables'!$B$6,2,IF(W102='Look-up Tables'!$B$7,1)))))","v":false},null,{"$f":"IF(Y102='Look-up Tables'!$C$3,5,IF(Y102='Look-up Tables'!$C$4,4,IF(Y102='Look-up Tables'!$C$5,3,IF(Y102='Look-up Tables'!$C$6,2,IF(Y102='Look-up Tables'!$C$7,1)))))","v":false},{"$f":"IFERROR(VLOOKUP(AB102,'Look-up Tables'!$D$3:$E$127,2),\"\")","v":""},0]
[null,null,null,null,null,null,{"$f":"IF(F103='Look-up Tables'!$A$3,5,IF(F103='Look-up Tables'!$A$4,4,IF(F103='Look-up Tables'!$A$5,3,IF(F103='Look-up Tables'!$A$6,2,IF(F103='Look-up Tables'!$A$7,1)))))","v":false},null,null,{"$f":"IF(I103='Look-up Tables'!$B$3,5,IF(I103='Look-up Tables'!$B$4,4,IF(I103='Look-up Tables'!$B$5,3,IF(I103='Look-up Tables'!$B$6,2,IF(I103='Look-up Tables'!$B$7,1)))))","v":false},null,null,null,{"$f":"IF(M103='Look-up Tables'!$C$3,5,IF(M103='Look-up Tables'!$C$4,4,IF(M103='Look-up Tables'!$C$5,3,IF(M103='Look-up Tables'!$C$6,2,IF(M103='Look-up Tables'!$C$7,1)))))","v":false},{"$f":"IFERROR(VLOOKUP(P103,'Look-up Tables'!$D$3:$E$127,2),\"\")","v":""},0,null,null,null,null,null,{"$f":"IF(U103='Look-up Tables'!$A$3,5,IF(U103='Look-up Tables'!$A$4,4,IF(U103='Look-up Tables'!$A$5,3,IF(U103='Look-up Tables'!$A$6,2,IF(U103='Look-up Tables'!$A$7,1)))))","v":false},null,{"$f":"IF(W103='Look-up Tables'!$B$3,5,IF(W103='Look-up Tables'!$B$4,4,IF(W103='Look-up Tables'!$B$5,3,IF(W103='Look-up Tables'!$B$6,2,IF(W103='Look-up Tables'!$B$7,1)))))","v":false},null,{"$f":"IF(Y103='Look-up Tables'!$C$3,5,IF(Y103='Look-up Tables'!$C$4,4,IF(Y103='Look-up Tables'!$C$5,3,IF(Y103='Look-up Tables'!$C$6,2,IF(Y103='Look-up Tables'!$C$7,1)))))","v":false},{"$f":"IFERROR(VLOOKUP(AB103,'Look-up Tables'!$D$3:$E$127,2),\"\")","v":""},0]
[null,null,null,null,null,null,{"$f":"IF(F104='Look-up Tables'!$A$3,5,IF(F104='Look-up Tables'!$A$4,4,IF(F104='Look-up Tables'!$A$5,3,IF(F104='Look-up Tables'!$A$6,2,IF(F104='Look-up Tables'!$A$7,1)))))","v":false},null,null,{"$f":"IF(I104='Look-up Tables'!$B$3,5,IF(I104='Look-up Tables'!$B$4,4,IF(I104='Look-up Tables'!$B$5,3,IF(I104='Look-up Tables'!$B$6,2,IF(I104='Look-up Tables'!$B$7,1)))))","v":false},null,null,null,{"$f":"IF(M104='Look-up Tables'!$C$3,5,IF(M104='Look-up Tables'!$C$4,4,IF(M104='Look-up Tables'!$C$5,3,IF(M104='Look-up Tables'!$C$6,2,IF(M104='Look-up Tables'!$C$7,1)))))","v":false},{"$f":"IFERROR(VLOOKUP(P104,'Look-up Tables'!$D$3:$E$127,2),\"\")","v":""},0,null,null,null,null,null,{"$f":"IF(U104='Look-up Tables'!$A$3,5,IF(U104='Look-up Tables'!$A$4,4,IF(U104='Look-up Tables'!$A$5,3,IF(U104='Look-up Tables'!$A$6,2,IF(U104='Look-up Tables'!$A$7,1)))))","v":false},null,{"$f":"IF(W104='Look-up Tables'!$B$3,5,IF(W104='Look-up Tables'!$B$4,4,IF(W104='Look-up Tables'!$B$5,3,IF(W104='Look-up Tables'!$B$6,2,IF(W104='Look-up Tables'!$B$7,1)))))","v":false},null,{"$f":"IF(Y104='Look-up Tables'!$C$3,5,IF(Y104='Look-up Tables'!$C$4,4,IF(Y104='Look-up Tables'!$C$5,3,IF(Y104='Look-up Tables'!$C$6,2,IF(Y104='Look-up Tables'!$C$7,1)))))","v":false},{"$f":"IFERROR(VLOOKUP(AB104,'Look-up Tables'!$D$3:$E$127,2),\"\")","v":""},0]
[null,null,null,null,null,null,{"$f":"IF(F105='Look-up Tables'!$A$3,5,IF(F105='Look-up Tables'!$A$4,4,IF(F105='Look-up Tables'!$A$5,3,IF(F105='Look-up Tables'!$A$6,2,IF(F105='Look-up Tables'!$A$7,1)))))","v":false},null,null,{"$f":"IF(I105='Look-up Tables'!$B$3,5,IF(I105='Look-up Tables'!$B$4,4,IF(I105='Look-up Tables'!$B$5,3,IF(I105='Look-up Tables'!$B$6,2,IF(I105='Look-up Tables'!$B$7,1)))))","v":false},null,null,null,{"$f":"IF(M105='Look-up Tables'!$C$3,5,IF(M105='Look-up Tables'!$C$4,4,IF(M105='Look-up Tables'!$C$5,3,IF(M105='Look-up Tables'!$C$6,2,IF(M105='Look-up Tables'!$C$7,1)))))","v":false},{"$f":"IFERROR(VLOOKUP(P105,'Look-up Tables'!$D$3:$E$127,2),\"\")","v":""},0,null,null,null,null,null,{"$f":"IF(U105='Look-up Tables'!$A$3,5,IF(U105='Look-up Tables'!$A$4,4,IF(U105='Look-up Tables'!$A$5,3,IF(U105='Look-up Tables'!$A$6,2,IF(U105='Look-up Tables'!$A$7,1)))))","v":false},null,{"$f":"IF(W105='Look-up Tables'!$B$3,5,IF(W105='Look-up Tables'!$B$4,4,IF(W105='Look-up Tables'!$B$5,3,IF(W105='Look-up Tables'!$B$6,2,IF(W105='Look-up Tables'!$B$7,1)))))","v":false},null,{"$f":"IF(Y105='Look-up Tables'!$C$3,5,IF(Y105='Look-up Tables'!$C$4,4,IF(Y105='Look-up Tables'!$C$5,3,IF(Y105='Look-up Tables'!$C$6,2,IF(Y105='Look-up Tables'!$C$7,1)))))","v":false},{"$f":"IFERROR(VLOOKUP(AB105,'Look-up Tables'!$D$3:$E$127,2),\"\")","v":""},0]
[null,null,null,null,null,null,{"$f":"IF(F106='Look-up Tables'!$A$3,5,IF(F106='Look-up Tables'!$A$4,4,IF(F106='Look-up Tables'!$A$5,3,IF(F106='Look-up Tables'!$A$6,2,IF(F106='Look-up Tables'!$A$7,1)))))","v":false},null,null,{"$f":"IF(I106='Look-up Tables'!$B$3,5,IF(I106='Look-up Tables'!$B$4,4,IF(I106='Look-up Tables'!$B$5,3,IF(I106='Look-up Tables'!$B$6,2,IF(I106='Look-up Tables'!$B$7,1)))))","v":false},null,null,null,{"$f":"IF(M106='Look-up Tables'!$C$3,5,IF(M106='Look-up Tables'!$C$4,4,IF(M106='Look-up Tables'!$C$5,3,IF(M106='Look-up Tables'!$C$6,2,IF(M106='Look-up Tables'!$C$7,1)))))","v":false},{"$f":"IFERROR(VLOOKUP(P106,'Look-up Tables'!$D$3:$E$127,2),\"\")","v":""},0,null,null,null,null,null,{"$f":"IF(U106='Look-up Tables'!$A$3,5,IF(U106='Look-up Tables'!$A$4,4,IF(U106='Look-up Tables'!$A$5,3,IF(U106='Look-up Tables'!$A$6,2,IF(U106='Look-up Tables'!$A$7,1)))))","v":false},null,{"$f":"IF(W106='Look-up Tables'!$B$3,5,IF(W106='Look-up Tables'!$B$4,4,IF(W106='Look-up Tables'!$B$5,3,IF(W106='Look-up Tables'!$B$6,2,IF(W106='Look-up Tables'!$B$7,1)))))","v":false},null,{"$f":"IF(Y106='Look-up Tables'!$C$3,5,IF(Y106='Look-up Tables'!$C$4,4,IF(Y106='Look-up Tables'!$C$5,3,IF(Y106='Look-up Tables'!$C$6,2,IF(Y106='Look-up Tables'!$C$7,1)))))","v":false},{"$f":"IFERROR(VLOOKUP(AB106,'Look-up Tables'!$D$3:$E$127,2),\"\")","v":""},0]
[null,null,null,null,null,null,{"$f":"IF(F107='Look-up Tables'!$A$3,5,IF(F107='Look-up Tables'!$A$4,4,IF(F107='Look-up Tables'!$A$5,3,IF(F107='Look-up Tables'!$A$6,2,IF(F107='Look-up Tables'!$A$7,1)))))","v":false},null,null,{"$f":"IF(I107='Look-up Tables'!$B$3,5,IF(I107='Look-up Tables'!$B$4,4,IF(I107='Look-up Tables'!$B$5,3,IF(I107='Look-up Tables'!$B$6,2,IF(I107='Look-up Tables'!$B$7,1)))))","v":false},null,null,null,{"$f":"IF(M107='Look-up Tables'!$C$3,5,IF(M107='Look-up Tables'!$C$4,4,IF(M107='Look-up Tables'!$C$5,3,IF(M107='Look-up Tables'!$C$6,2,IF(M107='Look-up Tables'!$C$7,1)))))","v":false},{"$f":"IFERROR(VLOOKUP(P107,'Look-up Tables'!$D$3:$E$127,2),\"\")","v":""},0,null,null,null,null,null,{"$f":"IF(U107='Look-up Tables'!$A$3,5,IF(U107='Look-up Tables'!$A$4,4,IF(U107='Look-up Tables'!$A$5,3,IF(U107='Look-up Tables'!$A$6,2,IF(U107='Look-up Tables'!$A$7,1)))))","v":false},null,{"$f":"IF(W107='Look-up Tables'!$B$3,5,IF(W107='Look-up Tables'!$B$4,4,IF(W107='Look-up Tables'!$B$5,3,IF(W107='Look-up Tables'!$B$6,2,IF(W107='Look-up Tables'!$B$7,1)))))","v":false},null,{"$f":"IF(Y107='Look-up Tables'!$C$3,5,IF(Y107='Look-up Tables'!$C$4,4,IF(Y107='Look-up Tables'!$C$5,3,IF(Y107='Look-up Tables'!$C$6,2,IF(Y107='Look-up Tables'!$C$7,1)))))","v":false},{"$f":"IFERROR(VLOOKUP(AB107,'Look-up Tables'!$D$3:$E$127,2),\"\")","v":""},0]
[null,null,null,null,null,null,{"$f":"IF(F108='Look-up Tables'!$A$3,5,IF(F108='Look-up Tables'!$A$4,4,IF(F108='Look-up Tables'!$A$5,3,IF(F108='Look-up Tables'!$A$6,2,IF(F108='Look-up Tables'!$A$7,1)))))","v":false},null,null,{"$f":"IF(I108='Look-up Tables'!$B$3,5,IF(I108='Look-up Tables'!$B$4,4,IF(I108='Look-up Tables'!$B$5,3,IF(I108='Look-up Tables'!$B$6,2,IF(I108='Look-up Tables'!$B$7,1)))))","v":false},null,null,null,{"$f":"IF(M108='Look-up Tables'!$C$3,5,IF(M108='Look-up Tables'!$C$4,4,IF(M108='Look-up Tables'!$C$5,3,IF(M108='Look-up Tables'!$C$6,2,IF(M108='Look-up Tables'!$C$7,1)))))","v":false},{"$f":"IFERROR(VLOOKUP(P108,'Look-up Tables'!$D$3:$E$127,2),\"\")","v":""},0,null,null,null,null,null,{"$f":"IF(U108='Look-up Tables'!$A$3,5,IF(U108='Look-up Tables'!$A$4,4,IF(U108='Look-up Tables'!$A$5,3,IF(U108='Look-up Tables'!$A$6,2,IF(U108='Look-up Tables'!$A$7,1)))))","v":false},null,{"$f":"IF(W108='Look-up Tables'!$B$3,5,IF(W108='Look-up Tables'!$B$4,4,IF(W108='Look-up Tables'!$B$5,3,IF(W108='Look-up Tables'!$B$6,2,IF(W108='Look-up Tables'!$B$7,1)))))","v":false},null,{"$f":"IF(Y108='Look-up Tables'!$C$3,5,IF(Y108='Look-up Tables'!$C$4,4,IF(Y108='Look-up Tables'!$C$5,3,IF(Y108='Look-up Tables'!$C$6,2,IF(Y108='Look-up Tables'!$C$7,1)))))","v":false},{"$f":"IFERROR(VLOOKUP(AB108,'Look-up Tables'!$D$3:$E$127,2),\"\")","v":""},0]
[null,null,null,null,null,null,{"$f":"IF(F109='Look-up Tables'!$A$3,5,IF(F109='Look-up Tables'!$A$4,4,IF(F109='Look-up Tables'!$A$5,3,IF(F109='Look-up Tables'!$A$6,2,IF(F109='Look-up Tables'!$A$7,1)))))","v":false},null,null,{"$f":"IF(I109='Look-up Tables'!$B$3,5,IF(I109='Look-up Tables'!$B$4,4,IF(I109='Look-up Tables'!$B$5,3,IF(I109='Look-up Tables'!$B$6,2,IF(I109='Look-up Tables'!$B$7,1)))))","v":false},null,null,null,{"$f":"IF(M109='Look-up Tables'!$C$3,5,IF(M109='Look-up Tables'!$C$4,4,IF(M109='Look-up Tables'!$C$5,3,IF(M109='Look-up Tables'!$C$6,2,IF(M109='Look-up Tables'!$C$7,1)))))","v":false},{"$f":"IFERROR(VLOOKUP(P109,'Look-up Tables'!$D$3:$E$127,2),\"\")","v":""},0,null,null,null,null,null,{"$f":"IF(U109='Look-up Tables'!$A$3,5,IF(U109='Look-up Tables'!$A$4,4,IF(U109='Look-up Tables'!$A$5,3,IF(U109='Look-up Tables'!$A$6,2,IF(U109='Look-up Tables'!$A$7,1)))))","v":false},null,{"$f":"IF(W109='Look-up Tables'!$B$3,5,IF(W109='Look-up Tables'!$B$4,4,IF(W109='Look-up Tables'!$B$5,3,IF(W109='Look-up Tables'!$B$6,2,IF(W109='Look-up Tables'!$B$7,1)))))","v":false},null,{"$f":"IF(Y109='Look-up Tables'!$C$3,5,IF(Y109='Look-up Tables'!$C$4,4,IF(Y109='Look-up Tables'!$C$5,3,IF(Y109='Look-up Tables'!$C$6,2,IF(Y109='Look-up Tables'!$C$7,1)))))","v":false},{"$f":"IFERROR(VLOOKUP(AB109,'Look-up Tables'!$D$3:$E$127,2),\"\")","v":""},0]
[null,null,null,null,null,null,{"$f":"IF(F110='Look-up Tables'!$A$3,5,IF(F110='Look-up Tables'!$A$4,4,IF(F110='Look-up Tables'!$A$5,3,IF(F110='Look-up Tables'!$A$6,2,IF(F110='Look-up Tables'!$A$7,1)))))","v":false},null,null,{"$f":"IF(I110='Look-up Tables'!$B$3,5,IF(I110='Look-up Tables'!$B$4,4,IF(I110='Look-up Tables'!$B$5,3,IF(I110='Look-up Tables'!$B$6,2,IF(I110='Look-up Tables'!$B$7,1)))))","v":false},null,null,null,{"$f":"IF(M110='Look-up Tables'!$C$3,5,IF(M110='Look-up Tables'!$C$4,4,IF(M110='Look-up Tables'!$C$5,3,IF(M110='Look-up Tables'!$C$6,2,IF(M110='Look-up Tables'!$C$7,1)))))","v":false},{"$f":"IFERROR(VLOOKUP(P110,'Look-up Tables'!$D$3:$E$127,2),\"\")","v":""},0,null,null,null,null,null,{"$f":"IF(U110='Look-up Tables'!$A$3,5,IF(U110='Look-up Tables'!$A$4,4,IF(U110='Look-up Tables'!$A$5,3,IF(U110='Look-up Tables'!$A$6,2,IF(U110='Look-up Tables'!$A$7,1)))))","v":false},null,{"$f":"IF(W110='Look-up Tables'!$B$3,5,IF(W110='Look-up Tables'!$B$4,4,IF(W110='Look-up Tables'!$B$5,3,IF(W110='Look-up Tables'!$B$6,2,IF(W110='Look-up Tables'!$B$7,1)))))","v":false},null,{"$f":"IF(Y110='Look-up Tables'!$C$3,5,IF(Y110='Look-up Tables'!$C$4,4,IF(Y110='Look-up Tables'!$C$5,3,IF(Y110='Look-up Tables'!$C$6,2,IF(Y110='Look-up Tables'!$C$7,1)))))","v":false},{"$f":"IFERROR(VLOOKUP(AB110,'Look-up Tables'!$D$3:$E$127,2),\"\")","v":""},0]
[null,null,null,null,null,null,{"$f":"IF(F111='Look-up Tables'!$A$3,5,IF(F111='Look-up Tables'!$A$4,4,IF(F111='Look-up Tables'!$A$5,3,IF(F111='Look-up Tables'!$A$6,2,IF(F111='Look-up Tables'!$A$7,1)))))","v":false},null,null,{"$f":"IF(I111='Look-up Tables'!$B$3,5,IF(I111='Look-up Tables'!$B$4,4,IF(I111='Look-up Tables'!$B$5,3,IF(I111='Look-up Tables'!$B$6,2,IF(I111='Look-up Tables'!$B$7,1)))))","v":false},null,null,null,{"$f":"IF(M111='Look-up Tables'!$C$3,5,IF(M111='Look-up Tables'!$C$4,4,IF(M111='Look-up Tables'!$C$5,3,IF(M111='Look-up Tables'!$C$6,2,IF(M111='Look-up Tables'!$C$7,1)))))","v":false},{"$f":"IFERROR(VLOOKUP(P111,'Look-up Tables'!$D$3:$E$127,2),\"\")","v":""},0,null,null,null,null,null,{"$f":"IF(U111='Look-up Tables'!$A$3,5,IF(U111='Look-up Tables'!$A$4,4,IF(U111='Look-up Tables'!$A$5,3,IF(U111='Look-up Tables'!$A$6,2,IF(U111='Look-up Tables'!$A$7,1)))))","v":false},null,{"$f":"IF(W111='Look-up Tables'!$B$3,5,IF(W111='Look-up Tables'!$B$4,4,IF(W111='Look-up Tables'!$B$5,3,IF(W111='Look-up Tables'!$B$6,2,IF(W111='Look-up Tables'!$B$7,1)))))","v":false},null,{"$f":"IF(Y111='Look-up Tables'!$C$3,5,IF(Y111='Look-up Tables'!$C$4,4,IF(Y111='Look-up Tables'!$C$5,3,IF(Y111='Look-up Tables'!$C$6,2,IF(Y111='Look-up Tables'!$C$7,1)))))","v":false},{"$f":"IFERROR(VLOOKUP(AB111,'Look-up Tables'!$D$3:$E$127,2),\"\")","v":""},0]
[null,null,null,null,null,null,{"$f":"IF(F112='Look-up Tables'!$A$3,5,IF(F112='Look-up Tables'!$A$4,4,IF(F112='Look-up Tables'!$A$5,3,IF(F112='Look-up Tables'!$A$6,2,IF(F112='Look-up Tables'!$A$7,1)))))","v":false},null,null,{"$f":"IF(I112='Look-up Tables'!$B$3,5,IF(I112='Look-up Tables'!$B$4,4,IF(I112='Look-up Tables'!$B$5,3,IF(I112='Look-up Tables'!$B$6,2,IF(I112='Look-up Tables'!$B$7,1)))))","v":false},null,null,null,{"$f":"IF(M112='Look-up Tables'!$C$3,5,IF(M112='Look-up Tables'!$C$4,4,IF(M112='Look-up Tables'!$C$5,3,IF(M112='Look-up Tables'!$C$6,2,IF(M112='Look-up Tables'!$C$7,1)))))","v":false},{"$f":"IFERROR(VLOOKUP(P112,'Look-up Tables'!$D$3:$E$127,2),\"\")","v":""},0,null,null,null,null,null,{"$f":"IF(U112='Look-up Tables'!$A$3,5,IF(U112='Look-up Tables'!$A$4,4,IF(U112='Look-up Tables'!$A$5,3,IF(U112='Look-up Tables'!$A$6,2,IF(U112='Look-up Tables'!$A$7,1)))))","v":false},null,{"$f":"IF(W112='Look-up Tables'!$B$3,5,IF(W112='Look-up Tables'!$B$4,4,IF(W112='Look-up Tables'!$B$5,3,IF(W112='Look-up Tables'!$B$6,2,IF(W112='Look-up Tables'!$B$7,1)))))","v":false},null,{"$f":"IF(Y112='Look-up Tables'!$C$3,5,IF(Y112='Look-up Tables'!$C$4,4,IF(Y112='Look-up Tables'!$C$5,3,IF(Y112='Look-up Tables'!$C$6,2,IF(Y112='Look-up Tables'!$C$7,1)))))","v":false},{"$f":"IFERROR(VLOOKUP(AB112,'Look-up Tables'!$D$3:$E$127,2),\"\")","v":""},0]
[null,null,null,null,null,null,{"$f":"IF(F113='Look-up Tables'!$A$3,5,IF(F113='Look-up Tables'!$A$4,4,IF(F113='Look-up Tables'!$A$5,3,IF(F113='Look-up Tables'!$A$6,2,IF(F113='Look-up Tables'!$A$7,1)))))","v":false},null,null,{"$f":"IF(I113='Look-up Tables'!$B$3,5,IF(I113='Look-up Tables'!$B$4,4,IF(I113='Look-up Tables'!$B$5,3,IF(I113='Look-up Tables'!$B$6,2,IF(I113='Look-up Tables'!$B$7,1)))))","v":false},null,null,null,{"$f":"IF(M113='Look-up Tables'!$C$3,5,IF(M113='Look-up Tables'!$C$4,4,IF(M113='Look-up Tables'!$C$5,3,IF(M113='Look-up Tables'!$C$6,2,IF(M113='Look-up Tables'!$C$7,1)))))","v":false},{"$f":"IFERROR(VLOOKUP(P113,'Look-up Tables'!$D$3:$E$127,2),\"\")","v":""},0,null,null,null,null,null,{"$f":"IF(U113='Look-up Tables'!$A$3,5,IF(U113='Look-up Tables'!$A$4,4,IF(U113='Look-up Tables'!$A$5,3,IF(U113='Look-up Tables'!$A$6,2,IF(U113='Look-up Tables'!$A$7,1)))))","v":false},null,{"$f":"IF(W113='Look-up Tables'!$B$3,5,IF(W113='Look-up Tables'!$B$4,4,IF(W113='Look-up Tables'!$B$5,3,IF(W113='Look-up Tables'!$B$6,2,IF(W113='Look-up Tables'!$B$7,1)))))","v":false},null,{"$f":"IF(Y113='Look-up Tables'!$C$3,5,IF(Y113='Look-up Tables'!$C$4,4,IF(Y113='Look-up Tables'!$C$5,3,IF(Y113='Look-up Tables'!$C$6,2,IF(Y113='Look-up Tables'!$C$7,1)))))","v":false},{"$f":"IFERROR(VLOOKUP(AB113,'Look-up Tables'!$D$3:$E$127,2),\"\")","v":""},0]
[null,null,null,null,null,null,{"$f":"IF(F114='Look-up Tables'!$A$3,5,IF(F114='Look-up Tables'!$A$4,4,IF(F114='Look-up Tables'!$A$5,3,IF(F114='Look-up Tables'!$A$6,2,IF(F114='Look-up Tables'!$A$7,1)))))","v":false},null,null,{"$f":"IF(I114='Look-up Tables'!$B$3,5,IF(I114='Look-up Tables'!$B$4,4,IF(I114='Look-up Tables'!$B$5,3,IF(I114='Look-up Tables'!$B$6,2,IF(I114='Look-up Tables'!$B$7,1)))))","v":false},null,null,null,{"$f":"IF(M114='Look-up Tables'!$C$3,5,IF(M114='Look-up Tables'!$C$4,4,IF(M114='Look-up Tables'!$C$5,3,IF(M114='Look-up Tables'!$C$6,2,IF(M114='Look-up Tables'!$C$7,1)))))","v":false},{"$f":"IFERROR(VLOOKUP(P114,'Look-up Tables'!$D$3:$E$127,2),\"\")","v":""},0,null,null,null,null,null,{"$f":"IF(U114='Look-up Tables'!$A$3,5,IF(U114='Look-up Tables'!$A$4,4,IF(U114='Look-up Tables'!$A$5,3,IF(U114='Look-up Tables'!$A$6,2,IF(U114='Look-up Tables'!$A$7,1)))))","v":false},null,{"$f":"IF(W114='Look-up Tables'!$B$3,5,IF(W114='Look-up Tables'!$B$4,4,IF(W114='Look-up Tables'!$B$5,3,IF(W114='Look-up Tables'!$B$6,2,IF(W114='Look-up Tables'!$B$7,1)))))","v":false},null,{"$f":"IF(Y114='Look-up Tables'!$C$3,5,IF(Y114='Look-up Tables'!$C$4,4,IF(Y114='Look-up Tables'!$C$5,3,IF(Y114='Look-up Tables'!$C$6,2,IF(Y114='Look-up Tables'!$C$7,1)))))","v":false},{"$f":"IFERROR(VLOOKUP(AB114,'Look-up Tables'!$D$3:$E$127,2),\"\")","v":""},0]
[null,null,null,null,null,null,{"$f":"IF(F115='Look-up Tables'!$A$3,5,IF(F115='Look-up Tables'!$A$4,4,IF(F115='Look-up Tables'!$A$5,3,IF(F115='Look-up Tables'!$A$6,2,IF(F115='Look-up Tables'!$A$7,1)))))","v":false},null,null,{"$f":"IF(I115='Look-up Tables'!$B$3,5,IF(I115='Look-up Tables'!$B$4,4,IF(I115='Look-up Tables'!$B$5,3,IF(I115='Look-up Tables'!$B$6,2,IF(I115='Look-up Tables'!$B$7,1)))))","v":false},null,null,null,{"$f":"IF(M115='Look-up Tables'!$C$3,5,IF(M115='Look-up Tables'!$C$4,4,IF(M115='Look-up Tables'!$C$5,3,IF(M115='Look-up Tables'!$C$6,2,IF(M115='Look-up Tables'!$C$7,1)))))","v":false},{"$f":"IFERROR(VLOOKUP(P115,'Look-up Tables'!$D$3:$E$127,2),\"\")","v":""},0,null,null,null,null,null,{"$f":"IF(U115='Look-up Tables'!$A$3,5,IF(U115='Look-up Tables'!$A$4,4,IF(U115='Look-up Tables'!$A$5,3,IF(U115='Look-up Tables'!$A$6,2,IF(U115='Look-up Tables'!$A$7,1)))))","v":false},null,{"$f":"IF(W115='Look-up Tables'!$B$3,5,IF(W115='Look-up Tables'!$B$4,4,IF(W115='Look-up Tables'!$B$5,3,IF(W115='Look-up Tables'!$B$6,2,IF(W115='Look-up Tables'!$B$7,1)))))","v":false},null,{"$f":"IF(Y115='Look-up Tables'!$C$3,5,IF(Y115='Look-up Tables'!$C$4,4,IF(Y115='Look-up Tables'!$C$5,3,IF(Y115='Look-up Tables'!$C$6,2,IF(Y115='Look-up Tables'!$C$7,1)))))","v":false},{"$f":"IFERROR(VLOOKUP(AB115,'Look-up Tables'!$D$3:$E$127,2),\"\")","v":""},0]
[null,null,null,null,null,null,{"$f":"IF(F116='Look-up Tables'!$A$3,5,IF(F116='Look-up Tables'!$A$4,4,IF(F116='Look-up Tables'!$A$5,3,IF(F116='Look-up Tables'!$A$6,2,IF(F116='Look-up Tables'!$A$7,1)))))","v":false},null,null,{"$f":"IF(I116='Look-up Tables'!$B$3,5,IF(I116='Look-up Tables'!$B$4,4,IF(I116='Look-up Tables'!$B$5,3,IF(I116='Look-up Tables'!$B$6,2,IF(I116='Look-up Tables'!$B$7,1)))))","v":false},null,null,null,{"$f":"IF(M116='Look-up Tables'!$C$3,5,IF(M116='Look-up Tables'!$C$4,4,IF(M116='Look-up Tables'!$C$5,3,IF(M116='Look-up Tables'!$C$6,2,IF(M116='Look-up Tables'!$C$7,1)))))","v":false},{"$f":"IFERROR(VLOOKUP(P116,'Look-up Tables'!$D$3:$E$127,2),\"\")","v":""},0,null,null,null,null,null,{"$f":"IF(U116='Look-up Tables'!$A$3,5,IF(U116='Look-up Tables'!$A$4,4,IF(U116='Look-up Tables'!$A$5,3,IF(U116='Look-up Tables'!$A$6,2,IF(U116='Look-up Tables'!$A$7,1)))))","v":false},null,{"$f":"IF(W116='Look-up Tables'!$B$3,5,IF(W116='Look-up Tables'!$B$4,4,IF(W116='Look-up Tables'!$B$5,3,IF(W116='Look-up Tables'!$B$6,2,IF(W116='Look-up Tables'!$B$7,1)))))","v":false},null,{"$f":"IF(Y116='Look-up Tables'!$C$3,5,IF(Y116='Look-up Tables'!$C$4,4,IF(Y116='Look-up Tables'!$C$5,3,IF(Y116='Look-up Tables'!$C$6,2,IF(Y116='Look-up Tables'!$C$7,1)))))","v":false},{"$f":"IFERROR(VLOOKUP(AB116,'Look-up Tables'!$D$3:$E$127,2),\"\")","v":""},0]
[null,null,null,null,null,null,{"$f":"IF(F117='Look-up Tables'!$A$3,5,IF(F117='Look-up Tables'!$A$4,4,IF(F117='Look-up Tables'!$A$5,3,IF(F117='Look-up Tables'!$A$6,2,IF(F117='Look-up Tables'!$A$7,1)))))","v":false},null,null,{"$f":"IF(I117='Look-up Tables'!$B$3,5,IF(I117='Look-up Tables'!$B$4,4,IF(I117='Look-up Tables'!$B$5,3,IF(I117='Look-up Tables'!$B$6,2,IF(I117='Look-up Tables'!$B$7,1)))))","v":false},null,null,null,{"$f":"IF(M117='Look-up Tables'!$C$3,5,IF(M117='Look-up Tables'!$C$4,4,IF(M117='Look-up Tables'!$C$5,3,IF(M117='Look-up Tables'!$C$6,2,IF(M117='Look-up Tables'!$C$7,1)))))","v":false},{"$f":"IFERROR(VLOOKUP(P117,'Look-up Tables'!$D$3:$E$127,2),\"\")","v":""},0,null,null,null,null,null,{"$f":"IF(U117='Look-up Tables'!$A$3,5,IF(U117='Look-up Tables'!$A$4,4,IF(U117='Look-up Tables'!$A$5,3,IF(U117='Look-up Tables'!$A$6,2,IF(U117='Look-up Tables'!$A$7,1)))))","v":false},null,{"$f":"IF(W117='Look-up Tables'!$B$3,5,IF(W117='Look-up Tables'!$B$4,4,IF(W117='Look-up Tables'!$B$5,3,IF(W117='Look-up Tables'!$B$6,2,IF(W117='Look-up Tables'!$B$7,1)))))","v":false},null,{"$f":"IF(Y117='Look-up Tables'!$C$3,5,IF(Y117='Look-up Tables'!$C$4,4,IF(Y117='Look-up Tables'!$C$5,3,IF(Y117='Look-up Tables'!$C$6,2,IF(Y117='Look-up Tables'!$C$7,1)))))","v":false},{"$f":"IFERROR(VLOOKUP(AB117,'Look-up Tables'!$D$3:$E$127,2),\"\")","v":""},0]
[null,null,null,null,null,null,{"$f":"IF(F118='Look-up Tables'!$A$3,5,IF(F118='Look-up Tables'!$A$4,4,IF(F118='Look-up Tables'!$A$5,3,IF(F118='Look-up Tables'!$A$6,2,IF(F118='Look-up Tables'!$A$7,1)))))","v":false},null,null,{"$f":"IF(I118='Look-up Tables'!$B$3,5,IF(I118='Look-up Tables'!$B$4,4,IF(I118='Look-up Tables'!$B$5,3,IF(I118='Look-up Tables'!$B$6,2,IF(I118='Look-up Tables'!$B$7,1)))))","v":false},null,null,null,{"$f":"IF(M118='Look-up Tables'!$C$3,5,IF(M118='Look-up Tables'!$C$4,4,IF(M118='Look-up Tables'!$C$5,3,IF(M118='Look-up Tables'!$C$6,2,IF(M118='Look-up Tables'!$C$7,1)))))","v":false},{"$f":"IFERROR(VLOOKUP(P118,'Look-up Tables'!$D$3:$E$127,2),\"\")","v":""},0,null,null,null,null,null,{"$f":"IF(U118='Look-up Tables'!$A$3,5,IF(U118='Look-up Tables'!$A$4,4,IF(U118='Look-up Tables'!$A$5,3,IF(U118='Look-up Tables'!$A$6,2,IF(U118='Look-up Tables'!$A$7,1)))))","v":false},null,{"$f":"IF(W118='Look-up Tables'!$B$3,5,IF(W118='Look-up Tables'!$B$4,4,IF(W118='Look-up Tables'!$B$5,3,IF(W118='Look-up Tables'!$B$6,2,IF(W118='Look-up Tables'!$B$7,1)))))","v":false},null,{"$f":"IF(Y118='Look-up Tables'!$C$3,5,IF(Y118='Look-up Tables'!$C$4,4,IF(Y118='Look-up Tables'!$C$5,3,IF(Y118='Look-up Tables'!$C$6,2,IF(Y118='Look-up Tables'!$C$7,1)))))","v":false},{"$f":"IFERROR(VLOOKUP(AB118,'Look-up Tables'!$D$3:$E$127,2),\"\")","v":""},0]
[null,null,null,null,null,null,{"$f":"IF(F119='Look-up Tables'!$A$3,5,IF(F119='Look-up Tables'!$A$4,4,IF(F119='Look-up Tables'!$A$5,3,IF(F119='Look-up Tables'!$A$6,2,IF(F119='Look-up Tables'!$A$7,1)))))","v":false},null,null,{"$f":"IF(I119='Look-up Tables'!$B$3,5,IF(I119='Look-up Tables'!$B$4,4,IF(I119='Look-up Tables'!$B$5,3,IF(I119='Look-up Tables'!$B$6,2,IF(I119='Look-up Tables'!$B$7,1)))))","v":false},null,null,null,{"$f":"IF(M119='Look-up Tables'!$C$3,5,IF(M119='Look-up Tables'!$C$4,4,IF(M119='Look-up Tables'!$C$5,3,IF(M119='Look-up Tables'!$C$6,2,IF(M119='Look-up Tables'!$C$7,1)))))","v":false},{"$f":"IFERROR(VLOOKUP(P119,'Look-up Tables'!$D$3:$E$127,2),\"\")","v":""},0,null,null,null,null,null,{"$f":"IF(U119='Look-up Tables'!$A$3,5,IF(U119='Look-up Tables'!$A$4,4,IF(U119='Look-up Tables'!$A$5,3,IF(U119='Look-up Tables'!$A$6,2,IF(U119='Look-up Tables'!$A$7,1)))))","v":false},null,{"$f":"IF(W119='Look-up Tables'!$B$3,5,IF(W119='Look-up Tables'!$B$4,4,IF(W119='Look-up Tables'!$B$5,3,IF(W119='Look-up Tables'!$B$6,2,IF(W119='Look-up Tables'!$B$7,1)))))","v":false},null,{"$f":"IF(Y119='Look-up Tables'!$C$3,5,IF(Y119='Look-up Tables'!$C$4,4,IF(Y119='Look-up Tables'!$C$5,3,IF(Y119='Look-up Tables'!$C$6,2,IF(Y119='Look-up Tables'!$C$7,1)))))","v":false},{"$f":"IFERROR(VLOOKUP(AB119,'Look-up Tables'!$D$3:$E$127,2),\"\")","v":""},0]
[null,null,null,null,null,null,{"$f":"IF(F120='Look-up Tables'!$A$3,5,IF(F120='Look-up Tables'!$A$4,4,IF(F120='Look-up Tables'!$A$5,3,IF(F120='Look-up Tables'!$A$6,2,IF(F120='Look-up Tables'!$A$7,1)))))","v":false},null,null,{"$f":"IF(I120='Look-up Tables'!$B$3,5,IF(I120='Look-up Tables'!$B$4,4,IF(I120='Look-up Tables'!$B$5,3,IF(I120='Look-up Tables'!$B$6,2,IF(I120='Look-up Tables'!$B$7,1)))))","v":false},null,null,null,{"$f":"IF(M120='Look-up Tables'!$C$3,5,IF(M120='Look-up Tables'!$C$4,4,IF(M120='Look-up Tables'!$C$5,3,IF(M120='Look-up Tables'!$C$6,2,IF(M120='Look-up Tables'!$C$7,1)))))","v":false},{"$f":"IFERROR(VLOOKUP(P120,'Look-up Tables'!$D$3:$E$127,2),\"\")","v":""},{"$f":"G120*J120*N120","v":0},null,null,null,null,null,{"$f":"IF(U120='Look-up Tables'!$A$3,5,IF(U120='Look-up Tables'!$A$4,4,IF(U120='Look-up Tables'!$A$5,3,IF(U120='Look-up Tables'!$A$6,2,IF(U120='Look-up Tables'!$A$7,1)))))","v":false},null,{"$f":"IF(W120='Look-up Tables'!$B$3,5,IF(W120='Look-up Tables'!$B$4,4,IF(W120='Look-up Tables'!$B$5,3,IF(W120='Look-up Tables'!$B$6,2,IF(W120='Look-up Tables'!$B$7,1)))))","v":false},null,{"$f":"IF(Y120='Look-up Tables'!$C$3,5,IF(Y120='Look-up Tables'!$C$4,4,IF(Y120='Look-up Tables'!$C$5,3,IF(Y120='Look-up Tables'!$C$6,2,IF(Y120='Look-up Tables'!$C$7,1)))))","v":false},{"$f":"IFERROR(VLOOKUP(AB120,'Look-up Tables'!$D$3:$E$127,2),\"\")","v":""},{"$f":"V120*X120*Z120","v":0}]
[null,null,null,null,null,null,{"$f":"IF(F121='Look-up Tables'!$A$3,5,IF(F121='Look-up Tables'!$A$4,4,IF(F121='Look-up Tables'!$A$5,3,IF(F121='Look-up Tables'!$A$6,2,IF(F121='Look-up Tables'!$A$7,1)))))","v":false},null,null,{"$f":"IF(I121='Look-up Tables'!$B$3,5,IF(I121='Look-up Tables'!$B$4,4,IF(I121='Look-up Tables'!$B$5,3,IF(I121='Look-up Tables'!$B$6,2,IF(I121='Look-up Tables'!$B$7,1)))))","v":false},null,null,null,{"$f":"IF(M121='Look-up Tables'!$C$3,5,IF(M121='Look-up Tables'!$C$4,4,IF(M121='Look-up Tables'!$C$5,3,IF(M121='Look-up Tables'!$C$6,2,IF(M121='Look-up Tables'!$C$7,1)))))","v":false},{"$f":"IFERROR(VLOOKUP(P121,'Look-up Tables'!$D$3:$E$127,2),\"\")","v":""},0,null,null,null,null,null,{"$f":"IF(U121='Look-up Tables'!$A$3,5,IF(U121='Look-up Tables'!$A$4,4,IF(U121='Look-up Tables'!$A$5,3,IF(U121='Look-up Tables'!$A$6,2,IF(U121='Look-up Tables'!$A$7,1)))))","v":false},null,{"$f":"IF(W121='Look-up Tables'!$B$3,5,IF(W121='Look-up Tables'!$B$4,4,IF(W121='Look-up Tables'!$B$5,3,IF(W121='Look-up Tables'!$B$6,2,IF(W121='Look-up Tables'!$B$7,1)))))","v":false},null,{"$f":"IF(Y121='Look-up Tables'!$C$3,5,IF(Y121='Look-up Tables'!$C$4,4,IF(Y121='Look-up Tables'!$C$5,3,IF(Y121='Look-up Tables'!$C$6,2,IF(Y121='Look-up Tables'!$C$7,1)))))","v":false},{"$f":"IFERROR(VLOOKUP(AB121,'Look-up Tables'!$D$3:$E$127,2),\"\")","v":""},0]
[null,null,null,null,null,null,{"$f":"IF(F122='Look-up Tables'!$A$3,5,IF(F122='Look-up Tables'!$A$4,4,IF(F122='Look-up Tables'!$A$5,3,IF(F122='Look-up Tables'!$A$6,2,IF(F122='Look-up Tables'!$A$7,1)))))","v":false},null,null,{"$f":"IF(I122='Look-up Tables'!$B$3,5,IF(I122='Look-up Tables'!$B$4,4,IF(I122='Look-up Tables'!$B$5,3,IF(I122='Look-up Tables'!$B$6,2,IF(I122='Look-up Tables'!$B$7,1)))))","v":false},null,null,null,{"$f":"IF(M122='Look-up Tables'!$C$3,5,IF(M122='Look-up Tables'!$C$4,4,IF(M122='Look-up Tables'!$C$5,3,IF(M122='Look-up Tables'!$C$6,2,IF(M122='Look-up Tables'!$C$7,1)))))","v":false},{"$f":"IFERROR(VLOOKUP(P122,'Look-up Tables'!$D$3:$E$127,2),\"\")","v":""},0,null,null,null,null,null,{"$f":"IF(U122='Look-up Tables'!$A$3,5,IF(U122='Look-up Tables'!$A$4,4,IF(U122='Look-up Tables'!$A$5,3,IF(U122='Look-up Tables'!$A$6,2,IF(U122='Look-up Tables'!$A$7,1)))))","v":false},null,{"$f":"IF(W122='Look-up Tables'!$B$3,5,IF(W122='Look-up Tables'!$B$4,4,IF(W122='Look-up Tables'!$B$5,3,IF(W122='Look-up Tables'!$B$6,2,IF(W122='Look-up Tables'!$B$7,1)))))","v":false},null,{"$f":"IF(Y122='Look-up Tables'!$C$3,5,IF(Y122='Look-up Tables'!$C$4,4,IF(Y122='Look-up Tables'!$C$5,3,IF(Y122='Look-up Tables'!$C$6,2,IF(Y122='Look-up Tables'!$C$7,1)))))","v":false},{"$f":"IFERROR(VLOOKUP(AB122,'Look-up Tables'!$D$3:$E$127,2),\"\")","v":""},0]
[null,null,null,null,null,null,{"$f":"IF(F123='Look-up Tables'!$A$3,5,IF(F123='Look-up Tables'!$A$4,4,IF(F123='Look-up Tables'!$A$5,3,IF(F123='Look-up Tables'!$A$6,2,IF(F123='Look-up Tables'!$A$7,1)))))","v":false},null,null,{"$f":"IF(I123='Look-up Tables'!$B$3,5,IF(I123='Look-up Tables'!$B$4,4,IF(I123='Look-up Tables'!$B$5,3,IF(I123='Look-up Tables'!$B$6,2,IF(I123='Look-up Tables'!$B$7,1)))))","v":false},null,null,null,{"$f":"IF(M123='Look-up Tables'!$C$3,5,IF(M123='Look-up Tables'!$C$4,4,IF(M123='Look-up Tables'!$C$5,3,IF(M123='Look-up Tables'!$C$6,2,IF(M123='Look-up Tables'!$C$7,1)))))","v":false},{"$f":"IFERROR(VLOOKUP(P123,'Look-up Tables'!$D$3:$E$127,2),\"\")","v":""},0,null,null,null,null,null,{"$f":"IF(U123='Look-up Tables'!$A$3,5,IF(U123='Look-up Tables'!$A$4,4,IF(U123='Look-up Tables'!$A$5,3,IF(U123='Look-up Tables'!$A$6,2,IF(U123='Look-up Tables'!$A$7,1)))))","v":false},null,{"$f":"IF(W123='Look-up Tables'!$B$3,5,IF(W123='Look-up Tables'!$B$4,4,IF(W123='Look-up Tables'!$B$5,3,IF(W123='Look-up Tables'!$B$6,2,IF(W123='Look-up Tables'!$B$7,1)))))","v":false},null,{"$f":"IF(Y123='Look-up Tables'!$C$3,5,IF(Y123='Look-up Tables'!$C$4,4,IF(Y123='Look-up Tables'!$C$5,3,IF(Y123='Look-up Tables'!$C$6,2,IF(Y123='Look-up Tables'!$C$7,1)))))","v":false},{"$f":"IFERROR(VLOOKUP(AB123,'Look-up Tables'!$D$3:$E$127,2),\"\")","v":""},0]
[null,null,null,null,null,null,{"$f":"IF(F124='Look-up Tables'!$A$3,5,IF(F124='Look-up Tables'!$A$4,4,IF(F124='Look-up Tables'!$A$5,3,IF(F124='Look-up Tables'!$A$6,2,IF(F124='Look-up Tables'!$A$7,1)))))","v":false},null,null,{"$f":"IF(I124='Look-up Tables'!$B$3,5,IF(I124='Look-up Tables'!$B$4,4,IF(I124='Look-up Tables'!$B$5,3,IF(I124='Look-up Tables'!$B$6,2,IF(I124='Look-up Tables'!$B$7,1)))))","v":false},null,null,null,{"$f":"IF(M124='Look-up Tables'!$C$3,5,IF(M124='Look-up Tables'!$C$4,4,IF(M124='Look-up Tables'!$C$5,3,IF(M124='Look-up Tables'!$C$6,2,IF(M124='Look-up Tables'!$C$7,1)))))","v":false},{"$f":"IFERROR(VLOOKUP(P124,'Look-up Tables'!$D$3:$E$127,2),\"\")","v":""},0,null,null,null,null,null,{"$f":"IF(U124='Look-up Tables'!$A$3,5,IF(U124='Look-up Tables'!$A$4,4,IF(U124='Look-up Tables'!$A$5,3,IF(U124='Look-up Tables'!$A$6,2,IF(U124='Look-up Tables'!$A$7,1)))))","v":false},null,{"$f":"IF(W124='Look-up Tables'!$B$3,5,IF(W124='Look-up Tables'!$B$4,4,IF(W124='Look-up Tables'!$B$5,3,IF(W124='Look-up Tables'!$B$6,2,IF(W124='Look-up Tables'!$B$7,1)))))","v":false},null,{"$f":"IF(Y124='Look-up Tables'!$C$3,5,IF(Y124='Look-up Tables'!$C$4,4,IF(Y124='Look-up Tables'!$C$5,3,IF(Y124='Look-up Tables'!$C$6,2,IF(Y124='Look-up Tables'!$C$7,1)))))","v":false},{"$f":"IFERROR(VLOOKUP(AB124,'Look-up Tables'!$D$3:$E$127,2),\"\")","v":""},0]
[null,null,null,null,null,null,{"$f":"IF(F125='Look-up Tables'!$A$3,5,IF(F125='Look-up Tables'!$A$4,4,IF(F125='Look-up Tables'!$A$5,3,IF(F125='Look-up Tables'!$A$6,2,IF(F125='Look-up Tables'!$A$7,1)))))","v":false},null,null,{"$f":"IF(I125='Look-up Tables'!$B$3,5,IF(I125='Look-up Tables'!$B$4,4,IF(I125='Look-up Tables'!$B$5,3,IF(I125='Look-up Tables'!$B$6,2,IF(I125='Look-up Tables'!$B$7,1)))))","v":false},null,null,null,{"$f":"IF(M125='Look-up Tables'!$C$3,5,IF(M125='Look-up Tables'!$C$4,4,IF(M125='Look-up Tables'!$C$5,3,IF(M125='Look-up Tables'!$C$6,2,IF(M125='Look-up Tables'!$C$7,1)))))","v":false},{"$f":"IFERROR(VLOOKUP(P125,'Look-up Tables'!$D$3:$E$127,2),\"\")","v":""},0,null,null,null,null,null,{"$f":"IF(U125='Look-up Tables'!$A$3,5,IF(U125='Look-up Tables'!$A$4,4,IF(U125='Look-up Tables'!$A$5,3,IF(U125='Look-up Tables'!$A$6,2,IF(U125='Look-up Tables'!$A$7,1)))))","v":false},null,{"$f":"IF(W125='Look-up Tables'!$B$3,5,IF(W125='Look-up Tables'!$B$4,4,IF(W125='Look-up Tables'!$B$5,3,IF(W125='Look-up Tables'!$B$6,2,IF(W125='Look-up Tables'!$B$7,1)))))","v":false},null,{"$f":"IF(Y125='Look-up Tables'!$C$3,5,IF(Y125='Look-up Tables'!$C$4,4,IF(Y125='Look-up Tables'!$C$5,3,IF(Y125='Look-up Tables'!$C$6,2,IF(Y125='Look-up Tables'!$C$7,1)))))","v":false},{"$f":"IFERROR(VLOOKUP(AB125,'Look-up Tables'!$D$3:$E$127,2),\"\")","v":""},0]
[null,null,null,null,null,null,{"$f":"IF(F126='Look-up Tables'!$A$3,5,IF(F126='Look-up Tables'!$A$4,4,IF(F126='Look-up Tables'!$A$5,3,IF(F126='Look-up Tables'!$A$6,2,IF(F126='Look-up Tables'!$A$7,1)))))","v":false},null,null,{"$f":"IF(I126='Look-up Tables'!$B$3,5,IF(I126='Look-up Tables'!$B$4,4,IF(I126='Look-up Tables'!$B$5,3,IF(I126='Look-up Tables'!$B$6,2,IF(I126='Look-up Tables'!$B$7,1)))))","v":false},null,null,null,{"$f":"IF(M126='Look-up Tables'!$C$3,5,IF(M126='Look-up Tables'!$C$4,4,IF(M126='Look-up Tables'!$C$5,3,IF(M126='Look-up Tables'!$C$6,2,IF(M126='Look-up Tables'!$C$7,1)))))","v":false},{"$f":"IFERROR(VLOOKUP(P126,'Look-up Tables'!$D$3:$E$127,2),\"\")","v":""},0,null,null,null,null,null,{"$f":"IF(U126='Look-up Tables'!$A$3,5,IF(U126='Look-up Tables'!$A$4,4,IF(U126='Look-up Tables'!$A$5,3,IF(U126='Look-up Tables'!$A$6,2,IF(U126='Look-up Tables'!$A$7,1)))))","v":false},null,{"$f":"IF(W126='Look-up Tables'!$B$3,5,IF(W126='Look-up Tables'!$B$4,4,IF(W126='Look-up Tables'!$B$5,3,IF(W126='Look-up Tables'!$B$6,2,IF(W126='Look-up Tables'!$B$7,1)))))","v":false},null,{"$f":"IF(Y126='Look-up Tables'!$C$3,5,IF(Y126='Look-up Tables'!$C$4,4,IF(Y126='Look-up Tables'!$C$5,3,IF(Y126='Look-up Tables'!$C$6,2,IF(Y126='Look-up Tables'!$C$7,1)))))","v":false},{"$f":"IFERROR(VLOOKUP(AB126,'Look-up Tables'!$D$3:$E$127,2),\"\")","v":""},0]
[null,null,null,null,null,null,{"$f":"IF(F127='Look-up Tables'!$A$3,5,IF(F127='Look-up Tables'!$A$4,4,IF(F127='Look-up Tables'!$A$5,3,IF(F127='Look-up Tables'!$A$6,2,IF(F127='Look-up Tables'!$A$7,1)))))","v":false},null,null,{"$f":"IF(I127='Look-up Tables'!$B$3,5,IF(I127='Look-up Tables'!$B$4,4,IF(I127='Look-up Tables'!$B$5,3,IF(I127='Look-up Tables'!$B$6,2,IF(I127='Look-up Tables'!$B$7,1)))))","v":false},null,null,null,{"$f":"IF(M127='Look-up Tables'!$C$3,5,IF(M127='Look-up Tables'!$C$4,4,IF(M127='Look-up Tables'!$C$5,3,IF(M127='Look-up Tables'!$C$6,2,IF(M127='Look-up Tables'!$C$7,1)))))","v":false},{"$f":"IFERROR(VLOOKUP(P127,'Look-up Tables'!$D$3:$E$127,2),\"\")","v":""},0,null,null,null,null,null,{"$f":"IF(U127='Look-up Tables'!$A$3,5,IF(U127='Look-up Tables'!$A$4,4,IF(U127='Look-up Tables'!$A$5,3,IF(U127='Look-up Tables'!$A$6,2,IF(U127='Look-up Tables'!$A$7,1)))))","v":false},null,{"$f":"IF(W127='Look-up Tables'!$B$3,5,IF(W127='Look-up Tables'!$B$4,4,IF(W127='Look-up Tables'!$B$5,3,IF(W127='Look-up Tables'!$B$6,2,IF(W127='Look-up Tables'!$B$7,1)))))","v":false},null,{"$f":"IF(Y127='Look-up Tables'!$C$3,5,IF(Y127='Look-up Tables'!$C$4,4,IF(Y127='Look-up Tables'!$C$5,3,IF(Y127='Look-up Tables'!$C$6,2,IF(Y127='Look-up Tables'!$C$7,1)))))","v":false},{"$f":"IFERROR(VLOOKUP(AB127,'Look-up Tables'!$D$3:$E$127,2),\"\")","v":""},0]
[null,null,null,null,null,null,{"$f":"IF(F128='Look-up Tables'!$A$3,5,IF(F128='Look-up Tables'!$A$4,4,IF(F128='Look-up Tables'!$A$5,3,IF(F128='Look-up Tables'!$A$6,2,IF(F128='Look-up Tables'!$A$7,1)))))","v":false},null,null,{"$f":"IF(I128='Look-up Tables'!$B$3,5,IF(I128='Look-up Tables'!$B$4,4,IF(I128='Look-up Tables'!$B$5,3,IF(I128='Look-up Tables'!$B$6,2,IF(I128='Look-up Tables'!$B$7,1)))))","v":false},null,null,null,{"$f":"IF(M128='Look-up Tables'!$C$3,5,IF(M128='Look-up Tables'!$C$4,4,IF(M128='Look-up Tables'!$C$5,3,IF(M128='Look-up Tables'!$C$6,2,IF(M128='Look-up Tables'!$C$7,1)))))","v":false},{"$f":"IFERROR(VLOOKUP(P128,'Look-up Tables'!$D$3:$E$127,2),\"\")","v":""},0,null,null,null,null,null,{"$f":"IF(U128='Look-up Tables'!$A$3,5,IF(U128='Look-up Tables'!$A$4,4,IF(U128='Look-up Tables'!$A$5,3,IF(U128='Look-up Tables'!$A$6,2,IF(U128='Look-up Tables'!$A$7,1)))))","v":false},null,{"$f":"IF(W128='Look-up Tables'!$B$3,5,IF(W128='Look-up Tables'!$B$4,4,IF(W128='Look-up Tables'!$B$5,3,IF(W128='Look-up Tables'!$B$6,2,IF(W128='Look-up Tables'!$B$7,1)))))","v":false},null,{"$f":"IF(Y128='Look-up Tables'!$C$3,5,IF(Y128='Look-up Tables'!$C$4,4,IF(Y128='Look-up Tables'!$C$5,3,IF(Y128='Look-up Tables'!$C$6,2,IF(Y128='Look-up Tables'!$C$7,1)))))","v":false},{"$f":"IFERROR(VLOOKUP(AB128,'Look-up Tables'!$D$3:$E$127,2),\"\")","v":""},0]
[null,null,null,null,null,null,{"$f":"IF(F129='Look-up Tables'!$A$3,5,IF(F129='Look-up Tables'!$A$4,4,IF(F129='Look-up Tables'!$A$5,3,IF(F129='Look-up Tables'!$A$6,2,IF(F129='Look-up Tables'!$A$7,1)))))","v":false},null,null,{"$f":"IF(I129='Look-up Tables'!$B$3,5,IF(I129='Look-up Tables'!$B$4,4,IF(I129='Look-up Tables'!$B$5,3,IF(I129='Look-up Tables'!$B$6,2,IF(I129='Look-up Tables'!$B$7,1)))))","v":false},null,null,null,{"$f":"IF(M129='Look-up Tables'!$C$3,5,IF(M129='Look-up Tables'!$C$4,4,IF(M129='Look-up Tables'!$C$5,3,IF(M129='Look-up Tables'!$C$6,2,IF(M129='Look-up Tables'!$C$7,1)))))","v":false},{"$f":"IFERROR(VLOOKUP(P129,'Look-up Tables'!$D$3:$E$127,2),\"\")","v":""},0,null,null,null,null,null,{"$f":"IF(U129='Look-up Tables'!$A$3,5,IF(U129='Look-up Tables'!$A$4,4,IF(U129='Look-up Tables'!$A$5,3,IF(U129='Look-up Tables'!$A$6,2,IF(U129='Look-up Tables'!$A$7,1)))))","v":false},null,{"$f":"IF(W129='Look-up Tables'!$B$3,5,IF(W129='Look-up Tables'!$B$4,4,IF(W129='Look-up Tables'!$B$5,3,IF(W129='Look-up Tables'!$B$6,2,IF(W129='Look-up Tables'!$B$7,1)))))","v":false},null,{"$f":"IF(Y129='Look-up Tables'!$C$3,5,IF(Y129='Look-up Tables'!$C$4,4,IF(Y129='Look-up Tables'!$C$5,3,IF(Y129='Look-up Tables'!$C$6,2,IF(Y129='Look-up Tables'!$C$7,1)))))","v":false},{"$f":"IFERROR(VLOOKUP(AB129,'Look-up Tables'!$D$3:$E$127,2),\"\")","v":""},0]
[null,null,null,null,null,null,{"$f":"IF(F130='Look-up Tables'!$A$3,5,IF(F130='Look-up Tables'!$A$4,4,IF(F130='Look-up Tables'!$A$5,3,IF(F130='Look-up Tables'!$A$6,2,IF(F130='Look-up Tables'!$A$7,1)))))","v":false},null,null,{"$f":"IF(I130='Look-up Tables'!$B$3,5,IF(I130='Look-up Tables'!$B$4,4,IF(I130='Look-up Tables'!$B$5,3,IF(I130='Look-up Tables'!$B$6,2,IF(I130='Look-up Tables'!$B$7,1)))))","v":false},null,null,null,{"$f":"IF(M130='Look-up Tables'!$C$3,5,IF(M130='Look-up Tables'!$C$4,4,IF(M130='Look-up Tables'!$C$5,3,IF(M130='Look-up Tables'!$C$6,2,IF(M130='Look-up Tables'!$C$7,1)))))","v":false},{"$f":"IFERROR(VLOOKUP(P130,'Look-up Tables'!$D$3:$E$127,2),\"\")","v":""},0,null,null,null,null,null,{"$f":"IF(U130='Look-up Tables'!$A$3,5,IF(U130='Look-up Tables'!$A$4,4,IF(U130='Look-up Tables'!$A$5,3,IF(U130='Look-up Tables'!$A$6,2,IF(U130='Look-up Tables'!$A$7,1)))))","v":false},null,{"$f":"IF(W130='Look-up Tables'!$B$3,5,IF(W130='Look-up Tables'!$B$4,4,IF(W130='Look-up Tables'!$B$5,3,IF(W130='Look-up Tables'!$B$6,2,IF(W130='Look-up Tables'!$B$7,1)))))","v":false},null,{"$f":"IF(Y130='Look-up Tables'!$C$3,5,IF(Y130='Look-up Tables'!$C$4,4,IF(Y130='Look-up Tables'!$C$5,3,IF(Y130='Look-up Tables'!$C$6,2,IF(Y130='Look-up Tables'!$C$7,1)))))","v":false},{"$f":"IFERROR(VLOOKUP(AB130,'Look-up Tables'!$D$3:$E$127,2),\"\")","v":""},0]
[null,null,null,null,null,null,{"$f":"IF(F131='Look-up Tables'!$A$3,5,IF(F131='Look-up Tables'!$A$4,4,IF(F131='Look-up Tables'!$A$5,3,IF(F131='Look-up Tables'!$A$6,2,IF(F131='Look-up Tables'!$A$7,1)))))","v":false},null,null,{"$f":"IF(I131='Look-up Tables'!$B$3,5,IF(I131='Look-up Tables'!$B$4,4,IF(I131='Look-up Tables'!$B$5,3,IF(I131='Look-up Tables'!$B$6,2,IF(I131='Look-up Tables'!$B$7,1)))))","v":false},null,null,null,{"$f":"IF(M131='Look-up Tables'!$C$3,5,IF(M131='Look-up Tables'!$C$4,4,IF(M131='Look-up Tables'!$C$5,3,IF(M131='Look-up Tables'!$C$6,2,IF(M131='Look-up Tables'!$C$7,1)))))","v":false},{"$f":"IFERROR(VLOOKUP(P131,'Look-up Tables'!$D$3:$E$127,2),\"\")","v":""},0,null,null,null,null,null,{"$f":"IF(U131='Look-up Tables'!$A$3,5,IF(U131='Look-up Tables'!$A$4,4,IF(U131='Look-up Tables'!$A$5,3,IF(U131='Look-up Tables'!$A$6,2,IF(U131='Look-up Tables'!$A$7,1)))))","v":false},null,{"$f":"IF(W131='Look-up Tables'!$B$3,5,IF(W131='Look-up Tables'!$B$4,4,IF(W131='Look-up Tables'!$B$5,3,IF(W131='Look-up Tables'!$B$6,2,IF(W131='Look-up Tables'!$B$7,1)))))","v":false},null,{"$f":"IF(Y131='Look-up Tables'!$C$3,5,IF(Y131='Look-up Tables'!$C$4,4,IF(Y131='Look-up Tables'!$C$5,3,IF(Y131='Look-up Tables'!$C$6,2,IF(Y131='Look-up Tables'!$C$7,1)))))","v":false},{"$f":"IFERROR(VLOOKUP(AB131,'Look-up Tables'!$D$3:$E$127,2),\"\")","v":""},0]
[null,null,null,null,null,null,{"$f":"IF(F132='Look-up Tables'!$A$3,5,IF(F132='Look-up Tables'!$A$4,4,IF(F132='Look-up Tables'!$A$5,3,IF(F132='Look-up Tables'!$A$6,2,IF(F132='Look-up Tables'!$A$7,1)))))","v":false},null,null,{"$f":"IF(I132='Look-up Tables'!$B$3,5,IF(I132='Look-up Tables'!$B$4,4,IF(I132='Look-up Tables'!$B$5,3,IF(I132='Look-up Tables'!$B$6,2,IF(I132='Look-up Tables'!$B$7,1)))))","v":false},null,null,null,{"$f":"IF(M132='Look-up Tables'!$C$3,5,IF(M132='Look-up Tables'!$C$4,4,IF(M132='Look-up Tables'!$C$5,3,IF(M132='Look-up Tables'!$C$6,2,IF(M132='Look-up Tables'!$C$7,1)))))","v":false},{"$f":"IFERROR(VLOOKUP(P132,'Look-up Tables'!$D$3:$E$127,2),\"\")","v":""},0,null,null,null,null,null,{"$f":"IF(U132='Look-up Tables'!$A$3,5,IF(U132='Look-up Tables'!$A$4,4,IF(U132='Look-up Tables'!$A$5,3,IF(U132='Look-up Tables'!$A$6,2,IF(U132='Look-up Tables'!$A$7,1)))))","v":false},null,{"$f":"IF(W132='Look-up Tables'!$B$3,5,IF(W132='Look-up Tables'!$B$4,4,IF(W132='Look-up Tables'!$B$5,3,IF(W132='Look-up Tables'!$B$6,2,IF(W132='Look-up Tables'!$B$7,1)))))","v":false},null,{"$f":"IF(Y132='Look-up Tables'!$C$3,5,IF(Y132='Look-up Tables'!$C$4,4,IF(Y132='Look-up Tables'!$C$5,3,IF(Y132='Look-up Tables'!$C$6,2,IF(Y132='Look-up Tables'!$C$7,1)))))","v":false},{"$f":"IFERROR(VLOOKUP(AB132,'Look-up Tables'!$D$3:$E$127,2),\"\")","v":""},0]
[null,null,null,null,null,null,{"$f":"IF(F133='Look-up Tables'!$A$3,5,IF(F133='Look-up Tables'!$A$4,4,IF(F133='Look-up Tables'!$A$5,3,IF(F133='Look-up Tables'!$A$6,2,IF(F133='Look-up Tables'!$A$7,1)))))","v":false},null,null,{"$f":"IF(I133='Look-up Tables'!$B$3,5,IF(I133='Look-up Tables'!$B$4,4,IF(I133='Look-up Tables'!$B$5,3,IF(I133='Look-up Tables'!$B$6,2,IF(I133='Look-up Tables'!$B$7,1)))))","v":false},null,null,null,{"$f":"IF(M133='Look-up Tables'!$C$3,5,IF(M133='Look-up Tables'!$C$4,4,IF(M133='Look-up Tables'!$C$5,3,IF(M133='Look-up Tables'!$C$6,2,IF(M133='Look-up Tables'!$C$7,1)))))","v":false},{"$f":"IFERROR(VLOOKUP(P133,'Look-up Tables'!$D$3:$E$127,2),\"\")","v":""},0,null,null,null,null,null,{"$f":"IF(U133='Look-up Tables'!$A$3,5,IF(U133='Look-up Tables'!$A$4,4,IF(U133='Look-up Tables'!$A$5,3,IF(U133='Look-up Tables'!$A$6,2,IF(U133='Look-up Tables'!$A$7,1)))))","v":false},null,{"$f":"IF(W133='Look-up Tables'!$B$3,5,IF(W133='Look-up Tables'!$B$4,4,IF(W133='Look-up Tables'!$B$5,3,IF(W133='Look-up Tables'!$B$6,2,IF(W133='Look-up Tables'!$B$7,1)))))","v":false},null,{"$f":"IF(Y133='Look-up Tables'!$C$3,5,IF(Y133='Look-up Tables'!$C$4,4,IF(Y133='Look-up Tables'!$C$5,3,IF(Y133='Look-up Tables'!$C$6,2,IF(Y133='Look-up Tables'!$C$7,1)))))","v":false},{"$f":"IFERROR(VLOOKUP(AB133,'Look-up Tables'!$D$3:$E$127,2),\"\")","v":""},0]
[null,null,null,null,null,null,{"$f":"IF(F134='Look-up Tables'!$A$3,5,IF(F134='Look-up Tables'!$A$4,4,IF(F134='Look-up Tables'!$A$5,3,IF(F134='Look-up Tables'!$A$6,2,IF(F134='Look-up Tables'!$A$7,1)))))","v":false},null,null,{"$f":"IF(I134='Look-up Tables'!$B$3,5,IF(I134='Look-up Tables'!$B$4,4,IF(I134='Look-up Tables'!$B$5,3,IF(I134='Look-up Tables'!$B$6,2,IF(I134='Look-up Tables'!$B$7,1)))))","v":false},null,null,null,{"$f":"IF(M134='Look-up Tables'!$C$3,5,IF(M134='Look-up Tables'!$C$4,4,IF(M134='Look-up Tables'!$C$5,3,IF(M134='Look-up Tables'!$C$6,2,IF(M134='Look-up Tables'!$C$7,1)))))","v":false},{"$f":"IFERROR(VLOOKUP(P134,'Look-up Tables'!$D$3:$E$127,2),\"\")","v":""},0,null,null,null,null,null,{"$f":"IF(U134='Look-up Tables'!$A$3,5,IF(U134='Look-up Tables'!$A$4,4,IF(U134='Look-up Tables'!$A$5,3,IF(U134='Look-up Tables'!$A$6,2,IF(U134='Look-up Tables'!$A$7,1)))))","v":false},null,{"$f":"IF(W134='Look-up Tables'!$B$3,5,IF(W134='Look-up Tables'!$B$4,4,IF(W134='Look-up Tables'!$B$5,3,IF(W134='Look-up Tables'!$B$6,2,IF(W134='Look-up Tables'!$B$7,1)))))","v":false},null,{"$f":"IF(Y134='Look-up Tables'!$C$3,5,IF(Y134='Look-up Tables'!$C$4,4,IF(Y134='Look-up Tables'!$C$5,3,IF(Y134='Look-up Tables'!$C$6,2,IF(Y134='Look-up Tables'!$C$7,1)))))","v":false},{"$f":"IFERROR(VLOOKUP(AB134,'Look-up Tables'!$D$3:$E$127,2),\"\")","v":""},0]
[null,null,null,null,null,null,{"$f":"IF(F135='Look-up Tables'!$A$3,5,IF(F135='Look-up Tables'!$A$4,4,IF(F135='Look-up Tables'!$A$5,3,IF(F135='Look-up Tables'!$A$6,2,IF(F135='Look-up Tables'!$A$7,1)))))","v":false},null,null,{"$f":"IF(I135='Look-up Tables'!$B$3,5,IF(I135='Look-up Tables'!$B$4,4,IF(I135='Look-up Tables'!$B$5,3,IF(I135='Look-up Tables'!$B$6,2,IF(I135='Look-up Tables'!$B$7,1)))))","v":false},null,null,null,{"$f":"IF(M135='Look-up Tables'!$C$3,5,IF(M135='Look-up Tables'!$C$4,4,IF(M135='Look-up Tables'!$C$5,3,IF(M135='Look-up Tables'!$C$6,2,IF(M135='Look-up Tables'!$C$7,1)))))","v":false},{"$f":"IFERROR(VLOOKUP(P135,'Look-up Tables'!$D$3:$E$127,2),\"\")","v":""},0,null,null,null,null,null,{"$f":"IF(U135='Look-up Tables'!$A$3,5,IF(U135='Look-up Tables'!$A$4,4,IF(U135='Look-up Tables'!$A$5,3,IF(U135='Look-up Tables'!$A$6,2,IF(U135='Look-up Tables'!$A$7,1)))))","v":false},null,{"$f":"IF(W135='Look-up Tables'!$B$3,5,IF(W135='Look-up Tables'!$B$4,4,IF(W135='Look-up Tables'!$B$5,3,IF(W135='Look-up Tables'!$B$6,2,IF(W135='Look-up Tables'!$B$7,1)))))","v":false},null,{"$f":"IF(Y135='Look-up Tables'!$C$3,5,IF(Y135='Look-up Tables'!$C$4,4,IF(Y135='Look-up Tables'!$C$5,3,IF(Y135='Look-up Tables'!$C$6,2,IF(Y135='Look-up Tables'!$C$7,1)))))","v":false},{"$f":"IFERROR(VLOOKUP(AB135,'Look-up Tables'!$D$3:$E$127,2),\"\")","v":""},0]
[null,null,null,null,null,null,{"$f":"IF(F136='Look-up Tables'!$A$3,5,IF(F136='Look-up Tables'!$A$4,4,IF(F136='Look-up Tables'!$A$5,3,IF(F136='Look-up Tables'!$A$6,2,IF(F136='Look-up Tables'!$A$7,1)))))","v":false},null,null,{"$f":"IF(I136='Look-up Tables'!$B$3,5,IF(I136='Look-up Tables'!$B$4,4,IF(I136='Look-up Tables'!$B$5,3,IF(I136='Look-up Tables'!$B$6,2,IF(I136='Look-up Tables'!$B$7,1)))))","v":false},null,null,null,{"$f":"IF(M136='Look-up Tables'!$C$3,5,IF(M136='Look-up Tables'!$C$4,4,IF(M136='Look-up Tables'!$C$5,3,IF(M136='Look-up Tables'!$C$6,2,IF(M136='Look-up Tables'!$C$7,1)))))","v":false},{"$f":"IFERROR(VLOOKUP(P136,'Look-up Tables'!$D$3:$E$127,2),\"\")","v":""},0,null,null,null,null,null,{"$f":"IF(U136='Look-up Tables'!$A$3,5,IF(U136='Look-up Tables'!$A$4,4,IF(U136='Look-up Tables'!$A$5,3,IF(U136='Look-up Tables'!$A$6,2,IF(U136='Look-up Tables'!$A$7,1)))))","v":false},null,{"$f":"IF(W136='Look-up Tables'!$B$3,5,IF(W136='Look-up Tables'!$B$4,4,IF(W136='Look-up Tables'!$B$5,3,IF(W136='Look-up Tables'!$B$6,2,IF(W136='Look-up Tables'!$B$7,1)))))","v":false},null,{"$f":"IF(Y136='Look-up Tables'!$C$3,5,IF(Y136='Look-up Tables'!$C$4,4,IF(Y136='Look-up Tables'!$C$5,3,IF(Y136='Look-up Tables'!$C$6,2,IF(Y136='Look-up Tables'!$C$7,1)))))","v":false},{"$f":"IFERROR(VLOOKUP(AB136,'Look-up Tables'!$D$3:$E$127,2),\"\")","v":""},0]
[null,null,null,null,null,null,{"$f":"IF(F137='Look-up Tables'!$A$3,5,IF(F137='Look-up Tables'!$A$4,4,IF(F137='Look-up Tables'!$A$5,3,IF(F137='Look-up Tables'!$A$6,2,IF(F137='Look-up Tables'!$A$7,1)))))","v":false},null,null,{"$f":"IF(I137='Look-up Tables'!$B$3,5,IF(I137='Look-up Tables'!$B$4,4,IF(I137='Look-up Tables'!$B$5,3,IF(I137='Look-up Tables'!$B$6,2,IF(I137='Look-up Tables'!$B$7,1)))))","v":false},null,null,null,{"$f":"IF(M137='Look-up Tables'!$C$3,5,IF(M137='Look-up Tables'!$C$4,4,IF(M137='Look-up Tables'!$C$5,3,IF(M137='Look-up Tables'!$C$6,2,IF(M137='Look-up Tables'!$C$7,1)))))","v":false},{"$f":"IFERROR(VLOOKUP(P137,'Look-up Tables'!$D$3:$E$127,2),\"\")","v":""},0,null,null,null,null,null,{"$f":"IF(U137='Look-up Tables'!$A$3,5,IF(U137='Look-up Tables'!$A$4,4,IF(U137='Look-up Tables'!$A$5,3,IF(U137='Look-up Tables'!$A$6,2,IF(U137='Look-up Tables'!$A$7,1)))))","v":false},null,{"$f":"IF(W137='Look-up Tables'!$B$3,5,IF(W137='Look-up Tables'!$B$4,4,IF(W137='Look-up Tables'!$B$5,3,IF(W137='Look-up Tables'!$B$6,2,IF(W137='Look-up Tables'!$B$7,1)))))","v":false},null,{"$f":"IF(Y137='Look-up Tables'!$C$3,5,IF(Y137='Look-up Tables'!$C$4,4,IF(Y137='Look-up Tables'!$C$5,3,IF(Y137='Look-up Tables'!$C$6,2,IF(Y137='Look-up Tables'!$C$7,1)))))","v":false},{"$f":"IFERROR(VLOOKUP(AB137,'Look-up Tables'!$D$3:$E$127,2),\"\")","v":""},0]
[null,null,null,null,null,null,{"$f":"IF(F138='Look-up Tables'!$A$3,5,IF(F138='Look-up Tables'!$A$4,4,IF(F138='Look-up Tables'!$A$5,3,IF(F138='Look-up Tables'!$A$6,2,IF(F138='Look-up Tables'!$A$7,1)))))","v":false},null,null,{"$f":"IF(I138='Look-up Tables'!$B$3,5,IF(I138='Look-up Tables'!$B$4,4,IF(I138='Look-up Tables'!$B$5,3,IF(I138='Look-up Tables'!$B$6,2,IF(I138='Look-up Tables'!$B$7,1)))))","v":false},null,null,null,{"$f":"IF(M138='Look-up Tables'!$C$3,5,IF(M138='Look-up Tables'!$C$4,4,IF(M138='Look-up Tables'!$C$5,3,IF(M138='Look-up Tables'!$C$6,2,IF(M138='Look-up Tables'!$C$7,1)))))","v":false},{"$f":"IFERROR(VLOOKUP(P138,'Look-up Tables'!$D$3:$E$127,2),\"\")","v":""},0,null,null,null,null,null,{"$f":"IF(U138='Look-up Tables'!$A$3,5,IF(U138='Look-up Tables'!$A$4,4,IF(U138='Look-up Tables'!$A$5,3,IF(U138='Look-up Tables'!$A$6,2,IF(U138='Look-up Tables'!$A$7,1)))))","v":false},null,{"$f":"IF(W138='Look-up Tables'!$B$3,5,IF(W138='Look-up Tables'!$B$4,4,IF(W138='Look-up Tables'!$B$5,3,IF(W138='Look-up Tables'!$B$6,2,IF(W138='Look-up Tables'!$B$7,1)))))","v":false},null,{"$f":"IF(Y138='Look-up Tables'!$C$3,5,IF(Y138='Look-up Tables'!$C$4,4,IF(Y138='Look-up Tables'!$C$5,3,IF(Y138='Look-up Tables'!$C$6,2,IF(Y138='Look-up Tables'!$C$7,1)))))","v":false},{"$f":"IFERROR(VLOOKUP(AB138,'Look-up Tables'!$D$3:$E$127,2),\"\")","v":""},0]
[null,null,null,null,null,null,{"$f":"IF(F139='Look-up Tables'!$A$3,5,IF(F139='Look-up Tables'!$A$4,4,IF(F139='Look-up Tables'!$A$5,3,IF(F139='Look-up Tables'!$A$6,2,IF(F139='Look-up Tables'!$A$7,1)))))","v":false},null,null,{"$f":"IF(I139='Look-up Tables'!$B$3,5,IF(I139='Look-up Tables'!$B$4,4,IF(I139='Look-up Tables'!$B$5,3,IF(I139='Look-up Tables'!$B$6,2,IF(I139='Look-up Tables'!$B$7,1)))))","v":false},null,null,null,{"$f":"IF(M139='Look-up Tables'!$C$3,5,IF(M139='Look-up Tables'!$C$4,4,IF(M139='Look-up Tables'!$C$5,3,IF(M139='Look-up Tables'!$C$6,2,IF(M139='Look-up Tables'!$C$7,1)))))","v":false},{"$f":"IFERROR(VLOOKUP(P139,'Look-up Tables'!$D$3:$E$127,2),\"\")","v":""},0,null,null,null,null,null,{"$f":"IF(U139='Look-up Tables'!$A$3,5,IF(U139='Look-up Tables'!$A$4,4,IF(U139='Look-up Tables'!$A$5,3,IF(U139='Look-up Tables'!$A$6,2,IF(U139='Look-up Tables'!$A$7,1)))))","v":false},null,{"$f":"IF(W139='Look-up Tables'!$B$3,5,IF(W139='Look-up Tables'!$B$4,4,IF(W139='Look-up Tables'!$B$5,3,IF(W139='Look-up Tables'!$B$6,2,IF(W139='Look-up Tables'!$B$7,1)))))","v":false},null,{"$f":"IF(Y139='Look-up Tables'!$C$3,5,IF(Y139='Look-up Tables'!$C$4,4,IF(Y139='Look-up Tables'!$C$5,3,IF(Y139='Look-up Tables'!$C$6,2,IF(Y139='Look-up Tables'!$C$7,1)))))","v":false},{"$f":"IFERROR(VLOOKUP(AB139,'Look-up Tables'!$D$3:$E$127,2),\"\")","v":""},0]
[null,null,null,null,null,null,{"$f":"IF(F140='Look-up Tables'!$A$3,5,IF(F140='Look-up Tables'!$A$4,4,IF(F140='Look-up Tables'!$A$5,3,IF(F140='Look-up Tables'!$A$6,2,IF(F140='Look-up Tables'!$A$7,1)))))","v":false},null,null,{"$f":"IF(I140='Look-up Tables'!$B$3,5,IF(I140='Look-up Tables'!$B$4,4,IF(I140='Look-up Tables'!$B$5,3,IF(I140='Look-up Tables'!$B$6,2,IF(I140='Look-up Tables'!$B$7,1)))))","v":false},null,null,null,{"$f":"IF(M140='Look-up Tables'!$C$3,5,IF(M140='Look-up Tables'!$C$4,4,IF(M140='Look-up Tables'!$C$5,3,IF(M140='Look-up Tables'!$C$6,2,IF(M140='Look-up Tables'!$C$7,1)))))","v":false},{"$f":"IFERROR(VLOOKUP(P140,'Look-up Tables'!$D$3:$E$127,2),\"\")","v":""},0,null,null,null,null,null,{"$f":"IF(U140='Look-up Tables'!$A$3,5,IF(U140='Look-up Tables'!$A$4,4,IF(U140='Look-up Tables'!$A$5,3,IF(U140='Look-up Tables'!$A$6,2,IF(U140='Look-up Tables'!$A$7,1)))))","v":false},null,{"$f":"IF(W140='Look-up Tables'!$B$3,5,IF(W140='Look-up Tables'!$B$4,4,IF(W140='Look-up Tables'!$B$5,3,IF(W140='Look-up Tables'!$B$6,2,IF(W140='Look-up Tables'!$B$7,1)))))","v":false},null,{"$f":"IF(Y140='Look-up Tables'!$C$3,5,IF(Y140='Look-up Tables'!$C$4,4,IF(Y140='Look-up Tables'!$C$5,3,IF(Y140='Look-up Tables'!$C$6,2,IF(Y140='Look-up Tables'!$C$7,1)))))","v":false},{"$f":"IFERROR(VLOOKUP(AB140,'Look-up Tables'!$D$3:$E$127,2),\"\")","v":""},0]
[null,null,null,null,null,null,{"$f":"IF(F141='Look-up Tables'!$A$3,5,IF(F141='Look-up Tables'!$A$4,4,IF(F141='Look-up Tables'!$A$5,3,IF(F141='Look-up Tables'!$A$6,2,IF(F141='Look-up Tables'!$A$7,1)))))","v":false},null,null,{"$f":"IF(I141='Look-up Tables'!$B$3,5,IF(I141='Look-up Tables'!$B$4,4,IF(I141='Look-up Tables'!$B$5,3,IF(I141='Look-up Tables'!$B$6,2,IF(I141='Look-up Tables'!$B$7,1)))))","v":false},null,null,null,{"$f":"IF(M141='Look-up Tables'!$C$3,5,IF(M141='Look-up Tables'!$C$4,4,IF(M141='Look-up Tables'!$C$5,3,IF(M141='Look-up Tables'!$C$6,2,IF(M141='Look-up Tables'!$C$7,1)))))","v":false},{"$f":"IFERROR(VLOOKUP(P141,'Look-up Tables'!$D$3:$E$127,2),\"\")","v":""},0,null,null,null,null,null,{"$f":"IF(U141='Look-up Tables'!$A$3,5,IF(U141='Look-up Tables'!$A$4,4,IF(U141='Look-up Tables'!$A$5,3,IF(U141='Look-up Tables'!$A$6,2,IF(U141='Look-up Tables'!$A$7,1)))))","v":false},null,{"$f":"IF(W141='Look-up Tables'!$B$3,5,IF(W141='Look-up Tables'!$B$4,4,IF(W141='Look-up Tables'!$B$5,3,IF(W141='Look-up Tables'!$B$6,2,IF(W141='Look-up Tables'!$B$7,1)))))","v":false},null,{"$f":"IF(Y141='Look-up Tables'!$C$3,5,IF(Y141='Look-up Tables'!$C$4,4,IF(Y141='Look-up Tables'!$C$5,3,IF(Y141='Look-up Tables'!$C$6,2,IF(Y141='Look-up Tables'!$C$7,1)))))","v":false},{"$f":"IFERROR(VLOOKUP(AB141,'Look-up Tables'!$D$3:$E$127,2),\"\")","v":""},0]
[null,null,null,null,null,null,{"$f":"IF(F142='Look-up Tables'!$A$3,5,IF(F142='Look-up Tables'!$A$4,4,IF(F142='Look-up Tables'!$A$5,3,IF(F142='Look-up Tables'!$A$6,2,IF(F142='Look-up Tables'!$A$7,1)))))","v":false},null,null,{"$f":"IF(I142='Look-up Tables'!$B$3,5,IF(I142='Look-up Tables'!$B$4,4,IF(I142='Look-up Tables'!$B$5,3,IF(I142='Look-up Tables'!$B$6,2,IF(I142='Look-up Tables'!$B$7,1)))))","v":false},null,null,null,{"$f":"IF(M142='Look-up Tables'!$C$3,5,IF(M142='Look-up Tables'!$C$4,4,IF(M142='Look-up Tables'!$C$5,3,IF(M142='Look-up Tables'!$C$6,2,IF(M142='Look-up Tables'!$C$7,1)))))","v":false},{"$f":"IFERROR(VLOOKUP(P142,'Look-up Tables'!$D$3:$E$127,2),\"\")","v":""},0,null,null,null,null,null,{"$f":"IF(U142='Look-up Tables'!$A$3,5,IF(U142='Look-up Tables'!$A$4,4,IF(U142='Look-up Tables'!$A$5,3,IF(U142='Look-up Tables'!$A$6,2,IF(U142='Look-up Tables'!$A$7,1)))))","v":false},null,{"$f":"IF(W142='Look-up Tables'!$B$3,5,IF(W142='Look-up Tables'!$B$4,4,IF(W142='Look-up Tables'!$B$5,3,IF(W142='Look-up Tables'!$B$6,2,IF(W142='Look-up Tables'!$B$7,1)))))","v":false},null,{"$f":"IF(Y142='Look-up Tables'!$C$3,5,IF(Y142='Look-up Tables'!$C$4,4,IF(Y142='Look-up Tables'!$C$5,3,IF(Y142='Look-up Tables'!$C$6,2,IF(Y142='Look-up Tables'!$C$7,1)))))","v":false},{"$f":"IFERROR(VLOOKUP(AB142,'Look-up Tables'!$D$3:$E$127,2),\"\")","v":""},0]
[null,null,null,null,null,null,{"$f":"IF(F143='Look-up Tables'!$A$3,5,IF(F143='Look-up Tables'!$A$4,4,IF(F143='Look-up Tables'!$A$5,3,IF(F143='Look-up Tables'!$A$6,2,IF(F143='Look-up Tables'!$A$7,1)))))","v":false},null,null,{"$f":"IF(I143='Look-up Tables'!$B$3,5,IF(I143='Look-up Tables'!$B$4,4,IF(I143='Look-up Tables'!$B$5,3,IF(I143='Look-up Tables'!$B$6,2,IF(I143='Look-up Tables'!$B$7,1)))))","v":false},null,null,null,{"$f":"IF(M143='Look-up Tables'!$C$3,5,IF(M143='Look-up Tables'!$C$4,4,IF(M143='Look-up Tables'!$C$5,3,IF(M143='Look-up Tables'!$C$6,2,IF(M143='Look-up Tables'!$C$7,1)))))","v":false},{"$f":"IFERROR(VLOOKUP(P143,'Look-up Tables'!$D$3:$E$127,2),\"\")","v":""},0,null,null,null,null,null,{"$f":"IF(U143='Look-up Tables'!$A$3,5,IF(U143='Look-up Tables'!$A$4,4,IF(U143='Look-up Tables'!$A$5,3,IF(U143='Look-up Tables'!$A$6,2,IF(U143='Look-up Tables'!$A$7,1)))))","v":false},null,{"$f":"IF(W143='Look-up Tables'!$B$3,5,IF(W143='Look-up Tables'!$B$4,4,IF(W143='Look-up Tables'!$B$5,3,IF(W143='Look-up Tables'!$B$6,2,IF(W143='Look-up Tables'!$B$7,1)))))","v":false},null,{"$f":"IF(Y143='Look-up Tables'!$C$3,5,IF(Y143='Look-up Tables'!$C$4,4,IF(Y143='Look-up Tables'!$C$5,3,IF(Y143='Look-up Tables'!$C$6,2,IF(Y143='Look-up Tables'!$C$7,1)))))","v":false},{"$f":"IFERROR(VLOOKUP(AB143,'Look-up Tables'!$D$3:$E$127,2),\"\")","v":""},0]
[null,null,null,null,null,null,{"$f":"IF(F144='Look-up Tables'!$A$3,5,IF(F144='Look-up Tables'!$A$4,4,IF(F144='Look-up Tables'!$A$5,3,IF(F144='Look-up Tables'!$A$6,2,IF(F144='Look-up Tables'!$A$7,1)))))","v":false},null,null,{"$f":"IF(I144='Look-up Tables'!$B$3,5,IF(I144='Look-up Tables'!$B$4,4,IF(I144='Look-up Tables'!$B$5,3,IF(I144='Look-up Tables'!$B$6,2,IF(I144='Look-up Tables'!$B$7,1)))))","v":false},null,null,null,{"$f":"IF(M144='Look-up Tables'!$C$3,5,IF(M144='Look-up Tables'!$C$4,4,IF(M144='Look-up Tables'!$C$5,3,IF(M144='Look-up Tables'!$C$6,2,IF(M144='Look-up Tables'!$C$7,1)))))","v":false},{"$f":"IFERROR(VLOOKUP(P144,'Look-up Tables'!$D$3:$E$127,2),\"\")","v":""},0,null,null,null,null,null,{"$f":"IF(U144='Look-up Tables'!$A$3,5,IF(U144='Look-up Tables'!$A$4,4,IF(U144='Look-up Tables'!$A$5,3,IF(U144='Look-up Tables'!$A$6,2,IF(U144='Look-up Tables'!$A$7,1)))))","v":false},null,{"$f":"IF(W144='Look-up Tables'!$B$3,5,IF(W144='Look-up Tables'!$B$4,4,IF(W144='Look-up Tables'!$B$5,3,IF(W144='Look-up Tables'!$B$6,2,IF(W144='Look-up Tables'!$B$7,1)))))","v":false},null,{"$f":"IF(Y144='Look-up Tables'!$C$3,5,IF(Y144='Look-up Tables'!$C$4,4,IF(Y144='Look-up Tables'!$C$5,3,IF(Y144='Look-up Tables'!$C$6,2,IF(Y144='Look-up Tables'!$C$7,1)))))","v":false},{"$f":"IFERROR(VLOOKUP(AB144,'Look-up Tables'!$D$3:$E$127,2),\"\")","v":""},0]
[null,null,null,null,null,null,{"$f":"IF(F145='Look-up Tables'!$A$3,5,IF(F145='Look-up Tables'!$A$4,4,IF(F145='Look-up Tables'!$A$5,3,IF(F145='Look-up Tables'!$A$6,2,IF(F145='Look-up Tables'!$A$7,1)))))","v":false},null,null,{"$f":"IF(I145='Look-up Tables'!$B$3,5,IF(I145='Look-up Tables'!$B$4,4,IF(I145='Look-up Tables'!$B$5,3,IF(I145='Look-up Tables'!$B$6,2,IF(I145='Look-up Tables'!$B$7,1)))))","v":false},null,null,null,{"$f":"IF(M145='Look-up Tables'!$C$3,5,IF(M145='Look-up Tables'!$C$4,4,IF(M145='Look-up Tables'!$C$5,3,IF(M145='Look-up Tables'!$C$6,2,IF(M145='Look-up Tables'!$C$7,1)))))","v":false},{"$f":"IFERROR(VLOOKUP(P145,'Look-up Tables'!$D$3:$E$127,2),\"\")","v":""},0,null,null,null,null,null,{"$f":"IF(U145='Look-up Tables'!$A$3,5,IF(U145='Look-up Tables'!$A$4,4,IF(U145='Look-up Tables'!$A$5,3,IF(U145='Look-up Tables'!$A$6,2,IF(U145='Look-up Tables'!$A$7,1)))))","v":false},null,{"$f":"IF(W145='Look-up Tables'!$B$3,5,IF(W145='Look-up Tables'!$B$4,4,IF(W145='Look-up Tables'!$B$5,3,IF(W145='Look-up Tables'!$B$6,2,IF(W145='Look-up Tables'!$B$7,1)))))","v":false},null,{"$f":"IF(Y145='Look-up Tables'!$C$3,5,IF(Y145='Look-up Tables'!$C$4,4,IF(Y145='Look-up Tables'!$C$5,3,IF(Y145='Look-up Tables'!$C$6,2,IF(Y145='Look-up Tables'!$C$7,1)))))","v":false},{"$f":"IFERROR(VLOOKUP(AB145,'Look-up Tables'!$D$3:$E$127,2),\"\")","v":""},0]
[null,null,null,null,null,null,{"$f":"IF(F146='Look-up Tables'!$A$3,5,IF(F146='Look-up Tables'!$A$4,4,IF(F146='Look-up Tables'!$A$5,3,IF(F146='Look-up Tables'!$A$6,2,IF(F146='Look-up Tables'!$A$7,1)))))","v":false},null,null,{"$f":"IF(I146='Look-up Tables'!$B$3,5,IF(I146='Look-up Tables'!$B$4,4,IF(I146='Look-up Tables'!$B$5,3,IF(I146='Look-up Tables'!$B$6,2,IF(I146='Look-up Tables'!$B$7,1)))))","v":false},null,null,null,{"$f":"IF(M146='Look-up Tables'!$C$3,5,IF(M146='Look-up Tables'!$C$4,4,IF(M146='Look-up Tables'!$C$5,3,IF(M146='Look-up Tables'!$C$6,2,IF(M146='Look-up Tables'!$C$7,1)))))","v":false},{"$f":"IFERROR(VLOOKUP(P146,'Look-up Tables'!$D$3:$E$127,2),\"\")","v":""},0,null,null,null,null,null,{"$f":"IF(U146='Look-up Tables'!$A$3,5,IF(U146='Look-up Tables'!$A$4,4,IF(U146='Look-up Tables'!$A$5,3,IF(U146='Look-up Tables'!$A$6,2,IF(U146='Look-up Tables'!$A$7,1)))))","v":false},null,{"$f":"IF(W146='Look-up Tables'!$B$3,5,IF(W146='Look-up Tables'!$B$4,4,IF(W146='Look-up Tables'!$B$5,3,IF(W146='Look-up Tables'!$B$6,2,IF(W146='Look-up Tables'!$B$7,1)))))","v":false},null,{"$f":"IF(Y146='Look-up Tables'!$C$3,5,IF(Y146='Look-up Tables'!$C$4,4,IF(Y146='Look-up Tables'!$C$5,3,IF(Y146='Look-up Tables'!$C$6,2,IF(Y146='Look-up Tables'!$C$7,1)))))","v":false},{"$f":"IFERROR(VLOOKUP(AB146,'Look-up Tables'!$D$3:$E$127,2),\"\")","v":""},0]
[null,null,null,null,null,null,{"$f":"IF(F147='Look-up Tables'!$A$3,5,IF(F147='Look-up Tables'!$A$4,4,IF(F147='Look-up Tables'!$A$5,3,IF(F147='Look-up Tables'!$A$6,2,IF(F147='Look-up Tables'!$A$7,1)))))","v":false},null,null,{"$f":"IF(I147='Look-up Tables'!$B$3,5,IF(I147='Look-up Tables'!$B$4,4,IF(I147='Look-up Tables'!$B$5,3,IF(I147='Look-up Tables'!$B$6,2,IF(I147='Look-up Tables'!$B$7,1)))))","v":false},null,null,null,{"$f":"IF(M147='Look-up Tables'!$C$3,5,IF(M147='Look-up Tables'!$C$4,4,IF(M147='Look-up Tables'!$C$5,3,IF(M147='Look-up Tables'!$C$6,2,IF(M147='Look-up Tables'!$C$7,1)))))","v":false},{"$f":"IFERROR(VLOOKUP(P147,'Look-up Tables'!$D$3:$E$127,2),\"\")","v":""},0,null,null,null,null,null,{"$f":"IF(U147='Look-up Tables'!$A$3,5,IF(U147='Look-up Tables'!$A$4,4,IF(U147='Look-up Tables'!$A$5,3,IF(U147='Look-up Tables'!$A$6,2,IF(U147='Look-up Tables'!$A$7,1)))))","v":false},null,{"$f":"IF(W147='Look-up Tables'!$B$3,5,IF(W147='Look-up Tables'!$B$4,4,IF(W147='Look-up Tables'!$B$5,3,IF(W147='Look-up Tables'!$B$6,2,IF(W147='Look-up Tables'!$B$7,1)))))","v":false},null,{"$f":"IF(Y147='Look-up Tables'!$C$3,5,IF(Y147='Look-up Tables'!$C$4,4,IF(Y147='Look-up Tables'!$C$5,3,IF(Y147='Look-up Tables'!$C$6,2,IF(Y147='Look-up Tables'!$C$7,1)))))","v":false},{"$f":"IFERROR(VLOOKUP(AB147,'Look-up Tables'!$D$3:$E$127,2),\"\")","v":""},0]
[null,null,null,null,null,null,{"$f":"IF(F148='Look-up Tables'!$A$3,5,IF(F148='Look-up Tables'!$A$4,4,IF(F148='Look-up Tables'!$A$5,3,IF(F148='Look-up Tables'!$A$6,2,IF(F148='Look-up Tables'!$A$7,1)))))","v":false},null,null,{"$f":"IF(I148='Look-up Tables'!$B$3,5,IF(I148='Look-up Tables'!$B$4,4,IF(I148='Look-up Tables'!$B$5,3,IF(I148='Look-up Tables'!$B$6,2,IF(I148='Look-up Tables'!$B$7,1)))))","v":false},null,null,null,{"$f":"IF(M148='Look-up Tables'!$C$3,5,IF(M148='Look-up Tables'!$C$4,4,IF(M148='Look-up Tables'!$C$5,3,IF(M148='Look-up Tables'!$C$6,2,IF(M148='Look-up Tables'!$C$7,1)))))","v":false},{"$f":"IFERROR(VLOOKUP(P148,'Look-up Tables'!$D$3:$E$127,2),\"\")","v":""},0,null,null,null,null,null,{"$f":"IF(U148='Look-up Tables'!$A$3,5,IF(U148='Look-up Tables'!$A$4,4,IF(U148='Look-up Tables'!$A$5,3,IF(U148='Look-up Tables'!$A$6,2,IF(U148='Look-up Tables'!$A$7,1)))))","v":false},null,{"$f":"IF(W148='Look-up Tables'!$B$3,5,IF(W148='Look-up Tables'!$B$4,4,IF(W148='Look-up Tables'!$B$5,3,IF(W148='Look-up Tables'!$B$6,2,IF(W148='Look-up Tables'!$B$7,1)))))","v":false},null,{"$f":"IF(Y148='Look-up Tables'!$C$3,5,IF(Y148='Look-up Tables'!$C$4,4,IF(Y148='Look-up Tables'!$C$5,3,IF(Y148='Look-up Tables'!$C$6,2,IF(Y148='Look-up Tables'!$C$7,1)))))","v":false},{"$f":"IFERROR(VLOOKUP(AB148,'Look-up Tables'!$D$3:$E$127,2),\"\")","v":""},0]
[null,null,null,null,null,null,{"$f":"IF(F149='Look-up Tables'!$A$3,5,IF(F149='Look-up Tables'!$A$4,4,IF(F149='Look-up Tables'!$A$5,3,IF(F149='Look-up Tables'!$A$6,2,IF(F149='Look-up Tables'!$A$7,1)))))","v":false},null,null,{"$f":"IF(I149='Look-up Tables'!$B$3,5,IF(I149='Look-up Tables'!$B$4,4,IF(I149='Look-up Tables'!$B$5,3,IF(I149='Look-up Tables'!$B$6,2,IF(I149='Look-up Tables'!$B$7,1)))))","v":false},null,null,null,{"$f":"IF(M149='Look-up Tables'!$C$3,5,IF(M149='Look-up Tables'!$C$4,4,IF(M149='Look-up Tables'!$C$5,3,IF(M149='Look-up Tables'!$C$6,2,IF(M149='Look-up Tables'!$C$7,1)))))","v":false},{"$f":"IFERROR(VLOOKUP(P149,'Look-up Tables'!$D$3:$E$127,2),\"\")","v":""},0,null,null,null,null,null,{"$f":"IF(U149='Look-up Tables'!$A$3,5,IF(U149='Look-up Tables'!$A$4,4,IF(U149='Look-up Tables'!$A$5,3,IF(U149='Look-up Tables'!$A$6,2,IF(U149='Look-up Tables'!$A$7,1)))))","v":false},null,{"$f":"IF(W149='Look-up Tables'!$B$3,5,IF(W149='Look-up Tables'!$B$4,4,IF(W149='Look-up Tables'!$B$5,3,IF(W149='Look-up Tables'!$B$6,2,IF(W149='Look-up Tables'!$B$7,1)))))","v":false},null,{"$f":"IF(Y149='Look-up Tables'!$C$3,5,IF(Y149='Look-up Tables'!$C$4,4,IF(Y149='Look-up Tables'!$C$5,3,IF(Y149='Look-up Tables'!$C$6,2,IF(Y149='Look-up Tables'!$C$7,1)))))","v":false},{"$f":"IFERROR(VLOOKUP(AB149,'Look-up Tables'!$D$3:$E$127,2),\"\")","v":""},0]
[null,null,null,null,null,null,{"$f":"IF(F150='Look-up Tables'!$A$3,5,IF(F150='Look-up Tables'!$A$4,4,IF(F150='Look-up Tables'!$A$5,3,IF(F150='Look-up Tables'!$A$6,2,IF(F150='Look-up Tables'!$A$7,1)))))","v":false},null,null,{"$f":"IF(I150='Look-up Tables'!$B$3,5,IF(I150='Look-up Tables'!$B$4,4,IF(I150='Look-up Tables'!$B$5,3,IF(I150='Look-up Tables'!$B$6,2,IF(I150='Look-up Tables'!$B$7,1)))))","v":false},null,null,null,{"$f":"IF(M150='Look-up Tables'!$C$3,5,IF(M150='Look-up Tables'!$C$4,4,IF(M150='Look-up Tables'!$C$5,3,IF(M150='Look-up Tables'!$C$6,2,IF(M150='Look-up Tables'!$C$7,1)))))","v":false},{"$f":"IFERROR(VLOOKUP(P150,'Look-up Tables'!$D$3:$E$127,2),\"\")","v":""},0,null,null,null,null,null,{"$f":"IF(U150='Look-up Tables'!$A$3,5,IF(U150='Look-up Tables'!$A$4,4,IF(U150='Look-up Tables'!$A$5,3,IF(U150='Look-up Tables'!$A$6,2,IF(U150='Look-up Tables'!$A$7,1)))))","v":false},null,{"$f":"IF(W150='Look-up Tables'!$B$3,5,IF(W150='Look-up Tables'!$B$4,4,IF(W150='Look-up Tables'!$B$5,3,IF(W150='Look-up Tables'!$B$6,2,IF(W150='Look-up Tables'!$B$7,1)))))","v":false},null,{"$f":"IF(Y150='Look-up Tables'!$C$3,5,IF(Y150='Look-up Tables'!$C$4,4,IF(Y150='Look-up Tables'!$C$5,3,IF(Y150='Look-up Tables'!$C$6,2,IF(Y150='Look-up Tables'!$C$7,1)))))","v":false},{"$f":"IFERROR(VLOOKUP(AB150,'Look-up Tables'!$D$3:$E$127,2),\"\")","v":""},0]
[null,null,null,null,null,null,{"$f":"IF(F151='Look-up Tables'!$A$3,5,IF(F151='Look-up Tables'!$A$4,4,IF(F151='Look-up Tables'!$A$5,3,IF(F151='Look-up Tables'!$A$6,2,IF(F151='Look-up Tables'!$A$7,1)))))","v":false},null,null,{"$f":"IF(I151='Look-up Tables'!$B$3,5,IF(I151='Look-up Tables'!$B$4,4,IF(I151='Look-up Tables'!$B$5,3,IF(I151='Look-up Tables'!$B$6,2,IF(I151='Look-up Tables'!$B$7,1)))))","v":false},null,null,null,{"$f":"IF(M151='Look-up Tables'!$C$3,5,IF(M151='Look-up Tables'!$C$4,4,IF(M151='Look-up Tables'!$C$5,3,IF(M151='Look-up Tables'!$C$6,2,IF(M151='Look-up Tables'!$C$7,1)))))","v":false},{"$f":"IFERROR(VLOOKUP(P151,'Look-up Tables'!$D$3:$E$127,2),\"\")","v":""},0,null,null,null,null,null,{"$f":"IF(U151='Look-up Tables'!$A$3,5,IF(U151='Look-up Tables'!$A$4,4,IF(U151='Look-up Tables'!$A$5,3,IF(U151='Look-up Tables'!$A$6,2,IF(U151='Look-up Tables'!$A$7,1)))))","v":false},null,{"$f":"IF(W151='Look-up Tables'!$B$3,5,IF(W151='Look-up Tables'!$B$4,4,IF(W151='Look-up Tables'!$B$5,3,IF(W151='Look-up Tables'!$B$6,2,IF(W151='Look-up Tables'!$B$7,1)))))","v":false},null,{"$f":"IF(Y151='Look-up Tables'!$C$3,5,IF(Y151='Look-up Tables'!$C$4,4,IF(Y151='Look-up Tables'!$C$5,3,IF(Y151='Look-up Tables'!$C$6,2,IF(Y151='Look-up Tables'!$C$7,1)))))","v":false},{"$f":"IFERROR(VLOOKUP(AB151,'Look-up Tables'!$D$3:$E$127,2),\"\")","v":""},0]
[null,null,null,null,null,null,{"$f":"IF(F152='Look-up Tables'!$A$3,5,IF(F152='Look-up Tables'!$A$4,4,IF(F152='Look-up Tables'!$A$5,3,IF(F152='Look-up Tables'!$A$6,2,IF(F152='Look-up Tables'!$A$7,1)))))","v":false},null,null,{"$f":"IF(I152='Look-up Tables'!$B$3,5,IF(I152='Look-up Tables'!$B$4,4,IF(I152='Look-up Tables'!$B$5,3,IF(I152='Look-up Tables'!$B$6,2,IF(I152='Look-up Tables'!$B$7,1)))))","v":false},null,null,null,{"$f":"IF(M152='Look-up Tables'!$C$3,5,IF(M152='Look-up Tables'!$C$4,4,IF(M152='Look-up Tables'!$C$5,3,IF(M152='Look-up Tables'!$C$6,2,IF(M152='Look-up Tables'!$C$7,1)))))","v":false},{"$f":"IFERROR(VLOOKUP(P152,'Look-up Tables'!$D$3:$E$127,2),\"\")","v":""},0,null,null,null,null,null,{"$f":"IF(U152='Look-up Tables'!$A$3,5,IF(U152='Look-up Tables'!$A$4,4,IF(U152='Look-up Tables'!$A$5,3,IF(U152='Look-up Tables'!$A$6,2,IF(U152='Look-up Tables'!$A$7,1)))))","v":false},null,{"$f":"IF(W152='Look-up Tables'!$B$3,5,IF(W152='Look-up Tables'!$B$4,4,IF(W152='Look-up Tables'!$B$5,3,IF(W152='Look-up Tables'!$B$6,2,IF(W152='Look-up Tables'!$B$7,1)))))","v":false},null,{"$f":"IF(Y152='Look-up Tables'!$C$3,5,IF(Y152='Look-up Tables'!$C$4,4,IF(Y152='Look-up Tables'!$C$5,3,IF(Y152='Look-up Tables'!$C$6,2,IF(Y152='Look-up Tables'!$C$7,1)))))","v":false},{"$f":"IFERROR(VLOOKUP(AB152,'Look-up Tables'!$D$3:$E$127,2),\"\")","v":""},0]
[null,null,null,null,null,null,{"$f":"IF(F153='Look-up Tables'!$A$3,5,IF(F153='Look-up Tables'!$A$4,4,IF(F153='Look-up Tables'!$A$5,3,IF(F153='Look-up Tables'!$A$6,2,IF(F153='Look-up Tables'!$A$7,1)))))","v":false},null,null,{"$f":"IF(I153='Look-up Tables'!$B$3,5,IF(I153='Look-up Tables'!$B$4,4,IF(I153='Look-up Tables'!$B$5,3,IF(I153='Look-up Tables'!$B$6,2,IF(I153='Look-up Tables'!$B$7,1)))))","v":false},null,null,null,{"$f":"IF(M153='Look-up Tables'!$C$3,5,IF(M153='Look-up Tables'!$C$4,4,IF(M153='Look-up Tables'!$C$5,3,IF(M153='Look-up Tables'!$C$6,2,IF(M153='Look-up Tables'!$C$7,1)))))","v":false},{"$f":"IFERROR(VLOOKUP(P153,'Look-up Tables'!$D$3:$E$127,2),\"\")","v":""},0,null,null,null,null,null,{"$f":"IF(U153='Look-up Tables'!$A$3,5,IF(U153='Look-up Tables'!$A$4,4,IF(U153='Look-up Tables'!$A$5,3,IF(U153='Look-up Tables'!$A$6,2,IF(U153='Look-up Tables'!$A$7,1)))))","v":false},null,{"$f":"IF(W153='Look-up Tables'!$B$3,5,IF(W153='Look-up Tables'!$B$4,4,IF(W153='Look-up Tables'!$B$5,3,IF(W153='Look-up Tables'!$B$6,2,IF(W153='Look-up Tables'!$B$7,1)))))","v":false},null,{"$f":"IF(Y153='Look-up Tables'!$C$3,5,IF(Y153='Look-up Tables'!$C$4,4,IF(Y153='Look-up Tables'!$C$5,3,IF(Y153='Look-up Tables'!$C$6,2,IF(Y153='Look-up Tables'!$C$7,1)))))","v":false},{"$f":"IFERROR(VLOOKUP(AB153,'Look-up Tables'!$D$3:$E$127,2),\"\")","v":""},0]
[null,null,null,null,null,null,{"$f":"IF(F154='Look-up Tables'!$A$3,5,IF(F154='Look-up Tables'!$A$4,4,IF(F154='Look-up Tables'!$A$5,3,IF(F154='Look-up Tables'!$A$6,2,IF(F154='Look-up Tables'!$A$7,1)))))","v":false},null,null,{"$f":"IF(I154='Look-up Tables'!$B$3,5,IF(I154='Look-up Tables'!$B$4,4,IF(I154='Look-up Tables'!$B$5,3,IF(I154='Look-up Tables'!$B$6,2,IF(I154='Look-up Tables'!$B$7,1)))))","v":false},null,null,null,{"$f":"IF(M154='Look-up Tables'!$C$3,5,IF(M154='Look-up Tables'!$C$4,4,IF(M154='Look-up Tables'!$C$5,3,IF(M154='Look-up Tables'!$C$6,2,IF(M154='Look-up Tables'!$C$7,1)))))","v":false},{"$f":"IFERROR(VLOOKUP(P154,'Look-up Tables'!$D$3:$E$127,2),\"\")","v":""},0,null,null,null,null,null,{"$f":"IF(U154='Look-up Tables'!$A$3,5,IF(U154='Look-up Tables'!$A$4,4,IF(U154='Look-up Tables'!$A$5,3,IF(U154='Look-up Tables'!$A$6,2,IF(U154='Look-up Tables'!$A$7,1)))))","v":false},null,{"$f":"IF(W154='Look-up Tables'!$B$3,5,IF(W154='Look-up Tables'!$B$4,4,IF(W154='Look-up Tables'!$B$5,3,IF(W154='Look-up Tables'!$B$6,2,IF(W154='Look-up Tables'!$B$7,1)))))","v":false},null,{"$f":"IF(Y154='Look-up Tables'!$C$3,5,IF(Y154='Look-up Tables'!$C$4,4,IF(Y154='Look-up Tables'!$C$5,3,IF(Y154='Look-up Tables'!$C$6,2,IF(Y154='Look-up Tables'!$C$7,1)))))","v":false},{"$f":"IFERROR(VLOOKUP(AB154,'Look-up Tables'!$D$3:$E$127,2),\"\")","v":""},0]
[null,null,null,null,null,null,{"$f":"IF(F155='Look-up Tables'!$A$3,5,IF(F155='Look-up Tables'!$A$4,4,IF(F155='Look-up Tables'!$A$5,3,IF(F155='Look-up Tables'!$A$6,2,IF(F155='Look-up Tables'!$A$7,1)))))","v":false},null,null,{"$f":"IF(I155='Look-up Tables'!$B$3,5,IF(I155='Look-up Tables'!$B$4,4,IF(I155='Look-up Tables'!$B$5,3,IF(I155='Look-up Tables'!$B$6,2,IF(I155='Look-up Tables'!$B$7,1)))))","v":false},null,null,null,{"$f":"IF(M155='Look-up Tables'!$C$3,5,IF(M155='Look-up Tables'!$C$4,4,IF(M155='Look-up Tables'!$C$5,3,IF(M155='Look-up Tables'!$C$6,2,IF(M155='Look-up Tables'!$C$7,1)))))","v":false},{"$f":"IFERROR(VLOOKUP(P155,'Look-up Tables'!$D$3:$E$127,2),\"\")","v":""},0,null,null,null,null,null,{"$f":"IF(U155='Look-up Tables'!$A$3,5,IF(U155='Look-up Tables'!$A$4,4,IF(U155='Look-up Tables'!$A$5,3,IF(U155='Look-up Tables'!$A$6,2,IF(U155='Look-up Tables'!$A$7,1)))))","v":false},null,{"$f":"IF(W155='Look-up Tables'!$B$3,5,IF(W155='Look-up Tables'!$B$4,4,IF(W155='Look-up Tables'!$B$5,3,IF(W155='Look-up Tables'!$B$6,2,IF(W155='Look-up Tables'!$B$7,1)))))","v":false},null,{"$f":"IF(Y155='Look-up Tables'!$C$3,5,IF(Y155='Look-up Tables'!$C$4,4,IF(Y155='Look-up Tables'!$C$5,3,IF(Y155='Look-up Tables'!$C$6,2,IF(Y155='Look-up Tables'!$C$7,1)))))","v":false},{"$f":"IFERROR(VLOOKUP(AB155,'Look-up Tables'!$D$3:$E$127,2),\"\")","v":""},0]
[null,null,null,null,null,null,{"$f":"IF(F156='Look-up Tables'!$A$3,5,IF(F156='Look-up Tables'!$A$4,4,IF(F156='Look-up Tables'!$A$5,3,IF(F156='Look-up Tables'!$A$6,2,IF(F156='Look-up Tables'!$A$7,1)))))","v":false},null,null,{"$f":"IF(I156='Look-up Tables'!$B$3,5,IF(I156='Look-up Tables'!$B$4,4,IF(I156='Look-up Tables'!$B$5,3,IF(I156='Look-up Tables'!$B$6,2,IF(I156='Look-up Tables'!$B$7,1)))))","v":false},null,null,null,{"$f":"IF(M156='Look-up Tables'!$C$3,5,IF(M156='Look-up Tables'!$C$4,4,IF(M156='Look-up Tables'!$C$5,3,IF(M156='Look-up Tables'!$C$6,2,IF(M156='Look-up Tables'!$C$7,1)))))","v":false},{"$f":"IFERROR(VLOOKUP(P156,'Look-up Tables'!$D$3:$E$127,2),\"\")","v":""},0,null,null,null,null,null,{"$f":"IF(U156='Look-up Tables'!$A$3,5,IF(U156='Look-up Tables'!$A$4,4,IF(U156='Look-up Tables'!$A$5,3,IF(U156='Look-up Tables'!$A$6,2,IF(U156='Look-up Tables'!$A$7,1)))))","v":false},null,{"$f":"IF(W156='Look-up Tables'!$B$3,5,IF(W156='Look-up Tables'!$B$4,4,IF(W156='Look-up Tables'!$B$5,3,IF(W156='Look-up Tables'!$B$6,2,IF(W156='Look-up Tables'!$B$7,1)))))","v":false},null,{"$f":"IF(Y156='Look-up Tables'!$C$3,5,IF(Y156='Look-up Tables'!$C$4,4,IF(Y156='Look-up Tables'!$C$5,3,IF(Y156='Look-up Tables'!$C$6,2,IF(Y156='Look-up Tables'!$C$7,1)))))","v":false},{"$f":"IFERROR(VLOOKUP(AB156,'Look-up Tables'!$D$3:$E$127,2),\"\")","v":""},0]
[null,null,null,null,null,null,{"$f":"IF(F157='Look-up Tables'!$A$3,5,IF(F157='Look-up Tables'!$A$4,4,IF(F157='Look-up Tables'!$A$5,3,IF(F157='Look-up Tables'!$A$6,2,IF(F157='Look-up Tables'!$A$7,1)))))","v":false},null,null,{"$f":"IF(I157='Look-up Tables'!$B$3,5,IF(I157='Look-up Tables'!$B$4,4,IF(I157='Look-up Tables'!$B$5,3,IF(I157='Look-up Tables'!$B$6,2,IF(I157='Look-up Tables'!$B$7,1)))))","v":false},null,null,null,{"$f":"IF(M157='Look-up Tables'!$C$3,5,IF(M157='Look-up Tables'!$C$4,4,IF(M157='Look-up Tables'!$C$5,3,IF(M157='Look-up Tables'!$C$6,2,IF(M157='Look-up Tables'!$C$7,1)))))","v":false},{"$f":"IFERROR(VLOOKUP(P157,'Look-up Tables'!$D$3:$E$127,2),\"\")","v":""},0,null,null,null,null,null,{"$f":"IF(U157='Look-up Tables'!$A$3,5,IF(U157='Look-up Tables'!$A$4,4,IF(U157='Look-up Tables'!$A$5,3,IF(U157='Look-up Tables'!$A$6,2,IF(U157='Look-up Tables'!$A$7,1)))))","v":false},null,{"$f":"IF(W157='Look-up Tables'!$B$3,5,IF(W157='Look-up Tables'!$B$4,4,IF(W157='Look-up Tables'!$B$5,3,IF(W157='Look-up Tables'!$B$6,2,IF(W157='Look-up Tables'!$B$7,1)))))","v":false},null,{"$f":"IF(Y157='Look-up Tables'!$C$3,5,IF(Y157='Look-up Tables'!$C$4,4,IF(Y157='Look-up Tables'!$C$5,3,IF(Y157='Look-up Tables'!$C$6,2,IF(Y157='Look-up Tables'!$C$7,1)))))","v":false},{"$f":"IFERROR(VLOOKUP(AB157,'Look-up Tables'!$D$3:$E$127,2),\"\")","v":""},0]
[null,null,null,null,null,null,{"$f":"IF(F158='Look-up Tables'!$A$3,5,IF(F158='Look-up Tables'!$A$4,4,IF(F158='Look-up Tables'!$A$5,3,IF(F158='Look-up Tables'!$A$6,2,IF(F158='Look-up Tables'!$A$7,1)))))","v":false},null,null,{"$f":"IF(I158='Look-up Tables'!$B$3,5,IF(I158='Look-up Tables'!$B$4,4,IF(I158='Look-up Tables'!$B$5,3,IF(I158='Look-up Tables'!$B$6,2,IF(I158='Look-up Tables'!$B$7,1)))))","v":false},null,null,null,{"$f":"IF(M158='Look-up Tables'!$C$3,5,IF(M158='Look-up Tables'!$C$4,4,IF(M158='Look-up Tables'!$C$5,3,IF(M158='Look-up Tables'!$C$6,2,IF(M158='Look-up Tables'!$C$7,1)))))","v":false},{"$f":"IFERROR(VLOOKUP(P158,'Look-up Tables'!$D$3:$E$127,2),\"\")","v":""},0,null,null,null,null,null,{"$f":"IF(U158='Look-up Tables'!$A$3,5,IF(U158='Look-up Tables'!$A$4,4,IF(U158='Look-up Tables'!$A$5,3,IF(U158='Look-up Tables'!$A$6,2,IF(U158='Look-up Tables'!$A$7,1)))))","v":false},null,{"$f":"IF(W158='Look-up Tables'!$B$3,5,IF(W158='Look-up Tables'!$B$4,4,IF(W158='Look-up Tables'!$B$5,3,IF(W158='Look-up Tables'!$B$6,2,IF(W158='Look-up Tables'!$B$7,1)))))","v":false},null,{"$f":"IF(Y158='Look-up Tables'!$C$3,5,IF(Y158='Look-up Tables'!$C$4,4,IF(Y158='Look-up Tables'!$C$5,3,IF(Y158='Look-up Tables'!$C$6,2,IF(Y158='Look-up Tables'!$C$7,1)))))","v":false},{"$f":"IFERROR(VLOOKUP(AB158,'Look-up Tables'!$D$3:$E$127,2),\"\")","v":""},0]
[null,null,null,null,null,null,{"$f":"IF(F159='Look-up Tables'!$A$3,5,IF(F159='Look-up Tables'!$A$4,4,IF(F159='Look-up Tables'!$A$5,3,IF(F159='Look-up Tables'!$A$6,2,IF(F159='Look-up Tables'!$A$7,1)))))","v":false},null,null,{"$f":"IF(I159='Look-up Tables'!$B$3,5,IF(I159='Look-up Tables'!$B$4,4,IF(I159='Look-up Tables'!$B$5,3,IF(I159='Look-up Tables'!$B$6,2,IF(I159='Look-up Tables'!$B$7,1)))))","v":false},null,null,null,{"$f":"IF(M159='Look-up Tables'!$C$3,5,IF(M159='Look-up Tables'!$C$4,4,IF(M159='Look-up Tables'!$C$5,3,IF(M159='Look-up Tables'!$C$6,2,IF(M159='Look-up Tables'!$C$7,1)))))","v":false},{"$f":"IFERROR(VLOOKUP(P159,'Look-up Tables'!$D$3:$E$127,2),\"\")","v":""},0,null,null,null,null,null,{"$f":"IF(U159='Look-up Tables'!$A$3,5,IF(U159='Look-up Tables'!$A$4,4,IF(U159='Look-up Tables'!$A$5,3,IF(U159='Look-up Tables'!$A$6,2,IF(U159='Look-up Tables'!$A$7,1)))))","v":false},null,{"$f":"IF(W159='Look-up Tables'!$B$3,5,IF(W159='Look-up Tables'!$B$4,4,IF(W159='Look-up Tables'!$B$5,3,IF(W159='Look-up Tables'!$B$6,2,IF(W159='Look-up Tables'!$B$7,1)))))","v":false},null,{"$f":"IF(Y159='Look-up Tables'!$C$3,5,IF(Y159='Look-up Tables'!$C$4,4,IF(Y159='Look-up Tables'!$C$5,3,IF(Y159='Look-up Tables'!$C$6,2,IF(Y159='Look-up Tables'!$C$7,1)))))","v":false},{"$f":"IFERROR(VLOOKUP(AB159,'Look-up Tables'!$D$3:$E$127,2),\"\")","v":""},0]
[null,null,null,null,null,null,{"$f":"IF(F160='Look-up Tables'!$A$3,5,IF(F160='Look-up Tables'!$A$4,4,IF(F160='Look-up Tables'!$A$5,3,IF(F160='Look-up Tables'!$A$6,2,IF(F160='Look-up Tables'!$A$7,1)))))","v":false},null,null,{"$f":"IF(I160='Look-up Tables'!$B$3,5,IF(I160='Look-up Tables'!$B$4,4,IF(I160='Look-up Tables'!$B$5,3,IF(I160='Look-up Tables'!$B$6,2,IF(I160='Look-up Tables'!$B$7,1)))))","v":false},null,null,null,{"$f":"IF(M160='Look-up Tables'!$C$3,5,IF(M160='Look-up Tables'!$C$4,4,IF(M160='Look-up Tables'!$C$5,3,IF(M160='Look-up Tables'!$C$6,2,IF(M160='Look-up Tables'!$C$7,1)))))","v":false},{"$f":"IFERROR(VLOOKUP(P160,'Look-up Tables'!$D$3:$E$127,2),\"\")","v":""},0,null,null,null,null,null,{"$f":"IF(U160='Look-up Tables'!$A$3,5,IF(U160='Look-up Tables'!$A$4,4,IF(U160='Look-up Tables'!$A$5,3,IF(U160='Look-up Tables'!$A$6,2,IF(U160='Look-up Tables'!$A$7,1)))))","v":false},null,{"$f":"IF(W160='Look-up Tables'!$B$3,5,IF(W160='Look-up Tables'!$B$4,4,IF(W160='Look-up Tables'!$B$5,3,IF(W160='Look-up Tables'!$B$6,2,IF(W160='Look-up Tables'!$B$7,1)))))","v":false},null,{"$f":"IF(Y160='Look-up Tables'!$C$3,5,IF(Y160='Look-up Tables'!$C$4,4,IF(Y160='Look-up Tables'!$C$5,3,IF(Y160='Look-up Tables'!$C$6,2,IF(Y160='Look-up Tables'!$C$7,1)))))","v":false},{"$f":"IFERROR(VLOOKUP(AB160,'Look-up Tables'!$D$3:$E$127,2),\"\")","v":""},0]
[null,null,null,null,null,null,{"$f":"IF(F161='Look-up Tables'!$A$3,5,IF(F161='Look-up Tables'!$A$4,4,IF(F161='Look-up Tables'!$A$5,3,IF(F161='Look-up Tables'!$A$6,2,IF(F161='Look-up Tables'!$A$7,1)))))","v":false},null,null,{"$f":"IF(I161='Look-up Tables'!$B$3,5,IF(I161='Look-up Tables'!$B$4,4,IF(I161='Look-up Tables'!$B$5,3,IF(I161='Look-up Tables'!$B$6,2,IF(I161='Look-up Tables'!$B$7,1)))))","v":false},null,null,null,{"$f":"IF(M161='Look-up Tables'!$C$3,5,IF(M161='Look-up Tables'!$C$4,4,IF(M161='Look-up Tables'!$C$5,3,IF(M161='Look-up Tables'!$C$6,2,IF(M161='Look-up Tables'!$C$7,1)))))","v":false},{"$f":"IFERROR(VLOOKUP(P161,'Look-up Tables'!$D$3:$E$127,2),\"\")","v":""},0,null,null,null,null,null,{"$f":"IF(U161='Look-up Tables'!$A$3,5,IF(U161='Look-up Tables'!$A$4,4,IF(U161='Look-up Tables'!$A$5,3,IF(U161='Look-up Tables'!$A$6,2,IF(U161='Look-up Tables'!$A$7,1)))))","v":false},null,{"$f":"IF(W161='Look-up Tables'!$B$3,5,IF(W161='Look-up Tables'!$B$4,4,IF(W161='Look-up Tables'!$B$5,3,IF(W161='Look-up Tables'!$B$6,2,IF(W161='Look-up Tables'!$B$7,1)))))","v":false},null,{"$f":"IF(Y161='Look-up Tables'!$C$3,5,IF(Y161='Look-up Tables'!$C$4,4,IF(Y161='Look-up Tables'!$C$5,3,IF(Y161='Look-up Tables'!$C$6,2,IF(Y161='Look-up Tables'!$C$7,1)))))","v":false},{"$f":"IFERROR(VLOOKUP(AB161,'Look-up Tables'!$D$3:$E$127,2),\"\")","v":""},0]
[null,null,null,null,null,null,{"$f":"IF(F162='Look-up Tables'!$A$3,5,IF(F162='Look-up Tables'!$A$4,4,IF(F162='Look-up Tables'!$A$5,3,IF(F162='Look-up Tables'!$A$6,2,IF(F162='Look-up Tables'!$A$7,1)))))","v":false},null,null,{"$f":"IF(I162='Look-up Tables'!$B$3,5,IF(I162='Look-up Tables'!$B$4,4,IF(I162='Look-up Tables'!$B$5,3,IF(I162='Look-up Tables'!$B$6,2,IF(I162='Look-up Tables'!$B$7,1)))))","v":false},null,null,null,{"$f":"IF(M162='Look-up Tables'!$C$3,5,IF(M162='Look-up Tables'!$C$4,4,IF(M162='Look-up Tables'!$C$5,3,IF(M162='Look-up Tables'!$C$6,2,IF(M162='Look-up Tables'!$C$7,1)))))","v":false},{"$f":"IFERROR(VLOOKUP(P162,'Look-up Tables'!$D$3:$E$127,2),\"\")","v":""},0,null,null,null,null,null,{"$f":"IF(U162='Look-up Tables'!$A$3,5,IF(U162='Look-up Tables'!$A$4,4,IF(U162='Look-up Tables'!$A$5,3,IF(U162='Look-up Tables'!$A$6,2,IF(U162='Look-up Tables'!$A$7,1)))))","v":false},null,{"$f":"IF(W162='Look-up Tables'!$B$3,5,IF(W162='Look-up Tables'!$B$4,4,IF(W162='Look-up Tables'!$B$5,3,IF(W162='Look-up Tables'!$B$6,2,IF(W162='Look-up Tables'!$B$7,1)))))","v":false},null,{"$f":"IF(Y162='Look-up Tables'!$C$3,5,IF(Y162='Look-up Tables'!$C$4,4,IF(Y162='Look-up Tables'!$C$5,3,IF(Y162='Look-up Tables'!$C$6,2,IF(Y162='Look-up Tables'!$C$7,1)))))","v":false},{"$f":"IFERROR(VLOOKUP(AB162,'Look-up Tables'!$D$3:$E$127,2),\"\")","v":""},0]
[null,null,null,null,null,null,{"$f":"IF(F163='Look-up Tables'!$A$3,5,IF(F163='Look-up Tables'!$A$4,4,IF(F163='Look-up Tables'!$A$5,3,IF(F163='Look-up Tables'!$A$6,2,IF(F163='Look-up Tables'!$A$7,1)))))","v":false},null,null,{"$f":"IF(I163='Look-up Tables'!$B$3,5,IF(I163='Look-up Tables'!$B$4,4,IF(I163='Look-up Tables'!$B$5,3,IF(I163='Look-up Tables'!$B$6,2,IF(I163='Look-up Tables'!$B$7,1)))))","v":false},null,null,null,{"$f":"IF(M163='Look-up Tables'!$C$3,5,IF(M163='Look-up Tables'!$C$4,4,IF(M163='Look-up Tables'!$C$5,3,IF(M163='Look-up Tables'!$C$6,2,IF(M163='Look-up Tables'!$C$7,1)))))","v":false},{"$f":"IFERROR(VLOOKUP(P163,'Look-up Tables'!$D$3:$E$127,2),\"\")","v":""},0,null,null,null,null,null,{"$f":"IF(U163='Look-up Tables'!$A$3,5,IF(U163='Look-up Tables'!$A$4,4,IF(U163='Look-up Tables'!$A$5,3,IF(U163='Look-up Tables'!$A$6,2,IF(U163='Look-up Tables'!$A$7,1)))))","v":false},null,{"$f":"IF(W163='Look-up Tables'!$B$3,5,IF(W163='Look-up Tables'!$B$4,4,IF(W163='Look-up Tables'!$B$5,3,IF(W163='Look-up Tables'!$B$6,2,IF(W163='Look-up Tables'!$B$7,1)))))","v":false},null,{"$f":"IF(Y163='Look-up Tables'!$C$3,5,IF(Y163='Look-up Tables'!$C$4,4,IF(Y163='Look-up Tables'!$C$5,3,IF(Y163='Look-up Tables'!$C$6,2,IF(Y163='Look-up Tables'!$C$7,1)))))","v":false},{"$f":"IFERROR(VLOOKUP(AB163,'Look-up Tables'!$D$3:$E$127,2),\"\")","v":""},0]
[null,null,null,null,null,null,{"$f":"IF(F164='Look-up Tables'!$A$3,5,IF(F164='Look-up Tables'!$A$4,4,IF(F164='Look-up Tables'!$A$5,3,IF(F164='Look-up Tables'!$A$6,2,IF(F164='Look-up Tables'!$A$7,1)))))","v":false},null,null,{"$f":"IF(I164='Look-up Tables'!$B$3,5,IF(I164='Look-up Tables'!$B$4,4,IF(I164='Look-up Tables'!$B$5,3,IF(I164='Look-up Tables'!$B$6,2,IF(I164='Look-up Tables'!$B$7,1)))))","v":false},null,null,null,{"$f":"IF(M164='Look-up Tables'!$C$3,5,IF(M164='Look-up Tables'!$C$4,4,IF(M164='Look-up Tables'!$C$5,3,IF(M164='Look-up Tables'!$C$6,2,IF(M164='Look-up Tables'!$C$7,1)))))","v":false},{"$f":"IFERROR(VLOOKUP(P164,'Look-up Tables'!$D$3:$E$127,2),\"\")","v":""},0,null,null,null,null,null,{"$f":"IF(U164='Look-up Tables'!$A$3,5,IF(U164='Look-up Tables'!$A$4,4,IF(U164='Look-up Tables'!$A$5,3,IF(U164='Look-up Tables'!$A$6,2,IF(U164='Look-up Tables'!$A$7,1)))))","v":false},null,{"$f":"IF(W164='Look-up Tables'!$B$3,5,IF(W164='Look-up Tables'!$B$4,4,IF(W164='Look-up Tables'!$B$5,3,IF(W164='Look-up Tables'!$B$6,2,IF(W164='Look-up Tables'!$B$7,1)))))","v":false},null,{"$f":"IF(Y164='Look-up Tables'!$C$3,5,IF(Y164='Look-up Tables'!$C$4,4,IF(Y164='Look-up Tables'!$C$5,3,IF(Y164='Look-up Tables'!$C$6,2,IF(Y164='Look-up Tables'!$C$7,1)))))","v":false},{"$f":"IFERROR(VLOOKUP(AB164,'Look-up Tables'!$D$3:$E$127,2),\"\")","v":""},0]
[null,null,null,null,null,null,{"$f":"IF(F165='Look-up Tables'!$A$3,5,IF(F165='Look-up Tables'!$A$4,4,IF(F165='Look-up Tables'!$A$5,3,IF(F165='Look-up Tables'!$A$6,2,IF(F165='Look-up Tables'!$A$7,1)))))","v":false},null,null,{"$f":"IF(I165='Look-up Tables'!$B$3,5,IF(I165='Look-up Tables'!$B$4,4,IF(I165='Look-up Tables'!$B$5,3,IF(I165='Look-up Tables'!$B$6,2,IF(I165='Look-up Tables'!$B$7,1)))))","v":false},null,null,null,{"$f":"IF(M165='Look-up Tables'!$C$3,5,IF(M165='Look-up Tables'!$C$4,4,IF(M165='Look-up Tables'!$C$5,3,IF(M165='Look-up Tables'!$C$6,2,IF(M165='Look-up Tables'!$C$7,1)))))","v":false},{"$f":"IFERROR(VLOOKUP(P165,'Look-up Tables'!$D$3:$E$127,2),\"\")","v":""},0,null,null,null,null,null,{"$f":"IF(U165='Look-up Tables'!$A$3,5,IF(U165='Look-up Tables'!$A$4,4,IF(U165='Look-up Tables'!$A$5,3,IF(U165='Look-up Tables'!$A$6,2,IF(U165='Look-up Tables'!$A$7,1)))))","v":false},null,{"$f":"IF(W165='Look-up Tables'!$B$3,5,IF(W165='Look-up Tables'!$B$4,4,IF(W165='Look-up Tables'!$B$5,3,IF(W165='Look-up Tables'!$B$6,2,IF(W165='Look-up Tables'!$B$7,1)))))","v":false},null,{"$f":"IF(Y165='Look-up Tables'!$C$3,5,IF(Y165='Look-up Tables'!$C$4,4,IF(Y165='Look-up Tables'!$C$5,3,IF(Y165='Look-up Tables'!$C$6,2,IF(Y165='Look-up Tables'!$C$7,1)))))","v":false},{"$f":"IFERROR(VLOOKUP(AB165,'Look-up Tables'!$D$3:$E$127,2),\"\")","v":""},0]
[null,null,null,null,null,null,{"$f":"IF(F166='Look-up Tables'!$A$3,5,IF(F166='Look-up Tables'!$A$4,4,IF(F166='Look-up Tables'!$A$5,3,IF(F166='Look-up Tables'!$A$6,2,IF(F166='Look-up Tables'!$A$7,1)))))","v":false},null,null,{"$f":"IF(I166='Look-up Tables'!$B$3,5,IF(I166='Look-up Tables'!$B$4,4,IF(I166='Look-up Tables'!$B$5,3,IF(I166='Look-up Tables'!$B$6,2,IF(I166='Look-up Tables'!$B$7,1)))))","v":false},null,null,null,{"$f":"IF(M166='Look-up Tables'!$C$3,5,IF(M166='Look-up Tables'!$C$4,4,IF(M166='Look-up Tables'!$C$5,3,IF(M166='Look-up Tables'!$C$6,2,IF(M166='Look-up Tables'!$C$7,1)))))","v":false},{"$f":"IFERROR(VLOOKUP(P166,'Look-up Tables'!$D$3:$E$127,2),\"\")","v":""},0,null,null,null,null,null,{"$f":"IF(U166='Look-up Tables'!$A$3,5,IF(U166='Look-up Tables'!$A$4,4,IF(U166='Look-up Tables'!$A$5,3,IF(U166='Look-up Tables'!$A$6,2,IF(U166='Look-up Tables'!$A$7,1)))))","v":false},null,{"$f":"IF(W166='Look-up Tables'!$B$3,5,IF(W166='Look-up Tables'!$B$4,4,IF(W166='Look-up Tables'!$B$5,3,IF(W166='Look-up Tables'!$B$6,2,IF(W166='Look-up Tables'!$B$7,1)))))","v":false},null,{"$f":"IF(Y166='Look-up Tables'!$C$3,5,IF(Y166='Look-up Tables'!$C$4,4,IF(Y166='Look-up Tables'!$C$5,3,IF(Y166='Look-up Tables'!$C$6,2,IF(Y166='Look-up Tables'!$C$7,1)))))","v":false},{"$f":"IFERROR(VLOOKUP(AB166,'Look-up Tables'!$D$3:$E$127,2),\"\")","v":""},0]
[null,null,null,null,null,null,{"$f":"IF(F167='Look-up Tables'!$A$3,5,IF(F167='Look-up Tables'!$A$4,4,IF(F167='Look-up Tables'!$A$5,3,IF(F167='Look-up Tables'!$A$6,2,IF(F167='Look-up Tables'!$A$7,1)))))","v":false},null,null,{"$f":"IF(I167='Look-up Tables'!$B$3,5,IF(I167='Look-up Tables'!$B$4,4,IF(I167='Look-up Tables'!$B$5,3,IF(I167='Look-up Tables'!$B$6,2,IF(I167='Look-up Tables'!$B$7,1)))))","v":false},null,null,null,{"$f":"IF(M167='Look-up Tables'!$C$3,5,IF(M167='Look-up Tables'!$C$4,4,IF(M167='Look-up Tables'!$C$5,3,IF(M167='Look-up Tables'!$C$6,2,IF(M167='Look-up Tables'!$C$7,1)))))","v":false},{"$f":"IFERROR(VLOOKUP(P167,'Look-up Tables'!$D$3:$E$127,2),\"\")","v":""},0,null,null,null,null,null,{"$f":"IF(U167='Look-up Tables'!$A$3,5,IF(U167='Look-up Tables'!$A$4,4,IF(U167='Look-up Tables'!$A$5,3,IF(U167='Look-up Tables'!$A$6,2,IF(U167='Look-up Tables'!$A$7,1)))))","v":false},null,{"$f":"IF(W167='Look-up Tables'!$B$3,5,IF(W167='Look-up Tables'!$B$4,4,IF(W167='Look-up Tables'!$B$5,3,IF(W167='Look-up Tables'!$B$6,2,IF(W167='Look-up Tables'!$B$7,1)))))","v":false},null,{"$f":"IF(Y167='Look-up Tables'!$C$3,5,IF(Y167='Look-up Tables'!$C$4,4,IF(Y167='Look-up Tables'!$C$5,3,IF(Y167='Look-up Tables'!$C$6,2,IF(Y167='Look-up Tables'!$C$7,1)))))","v":false},{"$f":"IFERROR(VLOOKUP(AB167,'Look-up Tables'!$D$3:$E$127,2),\"\")","v":""},0]
[null,null,null,null,null,null,{"$f":"IF(F168='Look-up Tables'!$A$3,5,IF(F168='Look-up Tables'!$A$4,4,IF(F168='Look-up Tables'!$A$5,3,IF(F168='Look-up Tables'!$A$6,2,IF(F168='Look-up Tables'!$A$7,1)))))","v":false},null,null,{"$f":"IF(I168='Look-up Tables'!$B$3,5,IF(I168='Look-up Tables'!$B$4,4,IF(I168='Look-up Tables'!$B$5,3,IF(I168='Look-up Tables'!$B$6,2,IF(I168='Look-up Tables'!$B$7,1)))))","v":false},null,null,null,{"$f":"IF(M168='Look-up Tables'!$C$3,5,IF(M168='Look-up Tables'!$C$4,4,IF(M168='Look-up Tables'!$C$5,3,IF(M168='Look-up Tables'!$C$6,2,IF(M168='Look-up Tables'!$C$7,1)))))","v":false},{"$f":"IFERROR(VLOOKUP(P168,'Look-up Tables'!$D$3:$E$127,2),\"\")","v":""},0,null,null,null,null,null,{"$f":"IF(U168='Look-up Tables'!$A$3,5,IF(U168='Look-up Tables'!$A$4,4,IF(U168='Look-up Tables'!$A$5,3,IF(U168='Look-up Tables'!$A$6,2,IF(U168='Look-up Tables'!$A$7,1)))))","v":false},null,{"$f":"IF(W168='Look-up Tables'!$B$3,5,IF(W168='Look-up Tables'!$B$4,4,IF(W168='Look-up Tables'!$B$5,3,IF(W168='Look-up Tables'!$B$6,2,IF(W168='Look-up Tables'!$B$7,1)))))","v":false},null,{"$f":"IF(Y168='Look-up Tables'!$C$3,5,IF(Y168='Look-up Tables'!$C$4,4,IF(Y168='Look-up Tables'!$C$5,3,IF(Y168='Look-up Tables'!$C$6,2,IF(Y168='Look-up Tables'!$C$7,1)))))","v":false},{"$f":"IFERROR(VLOOKUP(AB168,'Look-up Tables'!$D$3:$E$127,2),\"\")","v":""},0]
[null,null,null,null,null,null,{"$f":"IF(F169='Look-up Tables'!$A$3,5,IF(F169='Look-up Tables'!$A$4,4,IF(F169='Look-up Tables'!$A$5,3,IF(F169='Look-up Tables'!$A$6,2,IF(F169='Look-up Tables'!$A$7,1)))))","v":false},null,null,{"$f":"IF(I169='Look-up Tables'!$B$3,5,IF(I169='Look-up Tables'!$B$4,4,IF(I169='Look-up Tables'!$B$5,3,IF(I169='Look-up Tables'!$B$6,2,IF(I169='Look-up Tables'!$B$7,1)))))","v":false},null,null,null,{"$f":"IF(M169='Look-up Tables'!$C$3,5,IF(M169='Look-up Tables'!$C$4,4,IF(M169='Look-up Tables'!$C$5,3,IF(M169='Look-up Tables'!$C$6,2,IF(M169='Look-up Tables'!$C$7,1)))))","v":false},{"$f":"IFERROR(VLOOKUP(P169,'Look-up Tables'!$D$3:$E$127,2),\"\")","v":""},0,null,null,null,null,null,{"$f":"IF(U169='Look-up Tables'!$A$3,5,IF(U169='Look-up Tables'!$A$4,4,IF(U169='Look-up Tables'!$A$5,3,IF(U169='Look-up Tables'!$A$6,2,IF(U169='Look-up Tables'!$A$7,1)))))","v":false},null,{"$f":"IF(W169='Look-up Tables'!$B$3,5,IF(W169='Look-up Tables'!$B$4,4,IF(W169='Look-up Tables'!$B$5,3,IF(W169='Look-up Tables'!$B$6,2,IF(W169='Look-up Tables'!$B$7,1)))))","v":false},null,{"$f":"IF(Y169='Look-up Tables'!$C$3,5,IF(Y169='Look-up Tables'!$C$4,4,IF(Y169='Look-up Tables'!$C$5,3,IF(Y169='Look-up Tables'!$C$6,2,IF(Y169='Look-up Tables'!$C$7,1)))))","v":false},{"$f":"IFERROR(VLOOKUP(AB169,'Look-up Tables'!$D$3:$E$127,2),\"\")","v":""},0]
[null,null,null,null,null,null,{"$f":"IF(F170='Look-up Tables'!$A$3,5,IF(F170='Look-up Tables'!$A$4,4,IF(F170='Look-up Tables'!$A$5,3,IF(F170='Look-up Tables'!$A$6,2,IF(F170='Look-up Tables'!$A$7,1)))))","v":false},null,null,{"$f":"IF(I170='Look-up Tables'!$B$3,5,IF(I170='Look-up Tables'!$B$4,4,IF(I170='Look-up Tables'!$B$5,3,IF(I170='Look-up Tables'!$B$6,2,IF(I170='Look-up Tables'!$B$7,1)))))","v":false},null,null,null,{"$f":"IF(M170='Look-up Tables'!$C$3,5,IF(M170='Look-up Tables'!$C$4,4,IF(M170='Look-up Tables'!$C$5,3,IF(M170='Look-up Tables'!$C$6,2,IF(M170='Look-up Tables'!$C$7,1)))))","v":false},{"$f":"IFERROR(VLOOKUP(P170,'Look-up Tables'!$D$3:$E$127,2),\"\")","v":""},0,null,null,null,null,null,{"$f":"IF(U170='Look-up Tables'!$A$3,5,IF(U170='Look-up Tables'!$A$4,4,IF(U170='Look-up Tables'!$A$5,3,IF(U170='Look-up Tables'!$A$6,2,IF(U170='Look-up Tables'!$A$7,1)))))","v":false},null,{"$f":"IF(W170='Look-up Tables'!$B$3,5,IF(W170='Look-up Tables'!$B$4,4,IF(W170='Look-up Tables'!$B$5,3,IF(W170='Look-up Tables'!$B$6,2,IF(W170='Look-up Tables'!$B$7,1)))))","v":false},null,{"$f":"IF(Y170='Look-up Tables'!$C$3,5,IF(Y170='Look-up Tables'!$C$4,4,IF(Y170='Look-up Tables'!$C$5,3,IF(Y170='Look-up Tables'!$C$6,2,IF(Y170='Look-up Tables'!$C$7,1)))))","v":false},{"$f":"IFERROR(VLOOKUP(AB170,'Look-up Tables'!$D$3:$E$127,2),\"\")","v":""},0]
[null,null,null,null,null,null,{"$f":"IF(F171='Look-up Tables'!$A$3,5,IF(F171='Look-up Tables'!$A$4,4,IF(F171='Look-up Tables'!$A$5,3,IF(F171='Look-up Tables'!$A$6,2,IF(F171='Look-up Tables'!$A$7,1)))))","v":false},null,null,{"$f":"IF(I171='Look-up Tables'!$B$3,5,IF(I171='Look-up Tables'!$B$4,4,IF(I171='Look-up Tables'!$B$5,3,IF(I171='Look-up Tables'!$B$6,2,IF(I171='Look-up Tables'!$B$7,1)))))","v":false},null,null,null,{"$f":"IF(M171='Look-up Tables'!$C$3,5,IF(M171='Look-up Tables'!$C$4,4,IF(M171='Look-up Tables'!$C$5,3,IF(M171='Look-up Tables'!$C$6,2,IF(M171='Look-up Tables'!$C$7,1)))))","v":false},{"$f":"IFERROR(VLOOKUP(P171,'Look-up Tables'!$D$3:$E$127,2),\"\")","v":""},0,null,null,null,null,null,{"$f":"IF(U171='Look-up Tables'!$A$3,5,IF(U171='Look-up Tables'!$A$4,4,IF(U171='Look-up Tables'!$A$5,3,IF(U171='Look-up Tables'!$A$6,2,IF(U171='Look-up Tables'!$A$7,1)))))","v":false},null,{"$f":"IF(W171='Look-up Tables'!$B$3,5,IF(W171='Look-up Tables'!$B$4,4,IF(W171='Look-up Tables'!$B$5,3,IF(W171='Look-up Tables'!$B$6,2,IF(W171='Look-up Tables'!$B$7,1)))))","v":false},null,{"$f":"IF(Y171='Look-up Tables'!$C$3,5,IF(Y171='Look-up Tables'!$C$4,4,IF(Y171='Look-up Tables'!$C$5,3,IF(Y171='Look-up Tables'!$C$6,2,IF(Y171='Look-up Tables'!$C$7,1)))))","v":false},{"$f":"IFERROR(VLOOKUP(AB171,'Look-up Tables'!$D$3:$E$127,2),\"\")","v":""},0]
[null,null,null,null,null,null,{"$f":"IF(F172='Look-up Tables'!$A$3,5,IF(F172='Look-up Tables'!$A$4,4,IF(F172='Look-up Tables'!$A$5,3,IF(F172='Look-up Tables'!$A$6,2,IF(F172='Look-up Tables'!$A$7,1)))))","v":false},null,null,{"$f":"IF(I172='Look-up Tables'!$B$3,5,IF(I172='Look-up Tables'!$B$4,4,IF(I172='Look-up Tables'!$B$5,3,IF(I172='Look-up Tables'!$B$6,2,IF(I172='Look-up Tables'!$B$7,1)))))","v":false},null,null,null,{"$f":"IF(M172='Look-up Tables'!$C$3,5,IF(M172='Look-up Tables'!$C$4,4,IF(M172='Look-up Tables'!$C$5,3,IF(M172='Look-up Tables'!$C$6,2,IF(M172='Look-up Tables'!$C$7,1)))))","v":false},{"$f":"IFERROR(VLOOKUP(P172,'Look-up Tables'!$D$3:$E$127,2),\"\")","v":""},0,null,null,null,null,null,{"$f":"IF(U172='Look-up Tables'!$A$3,5,IF(U172='Look-up Tables'!$A$4,4,IF(U172='Look-up Tables'!$A$5,3,IF(U172='Look-up Tables'!$A$6,2,IF(U172='Look-up Tables'!$A$7,1)))))","v":false},null,{"$f":"IF(W172='Look-up Tables'!$B$3,5,IF(W172='Look-up Tables'!$B$4,4,IF(W172='Look-up Tables'!$B$5,3,IF(W172='Look-up Tables'!$B$6,2,IF(W172='Look-up Tables'!$B$7,1)))))","v":false},null,{"$f":"IF(Y172='Look-up Tables'!$C$3,5,IF(Y172='Look-up Tables'!$C$4,4,IF(Y172='Look-up Tables'!$C$5,3,IF(Y172='Look-up Tables'!$C$6,2,IF(Y172='Look-up Tables'!$C$7,1)))))","v":false},{"$f":"IFERROR(VLOOKUP(AB172,'Look-up Tables'!$D$3:$E$127,2),\"\")","v":""},0]
[null,null,null,null,null,null,{"$f":"IF(F173='Look-up Tables'!$A$3,5,IF(F173='Look-up Tables'!$A$4,4,IF(F173='Look-up Tables'!$A$5,3,IF(F173='Look-up Tables'!$A$6,2,IF(F173='Look-up Tables'!$A$7,1)))))","v":false},null,null,{"$f":"IF(I173='Look-up Tables'!$B$3,5,IF(I173='Look-up Tables'!$B$4,4,IF(I173='Look-up Tables'!$B$5,3,IF(I173='Look-up Tables'!$B$6,2,IF(I173='Look-up Tables'!$B$7,1)))))","v":false},null,null,null,{"$f":"IF(M173='Look-up Tables'!$C$3,5,IF(M173='Look-up Tables'!$C$4,4,IF(M173='Look-up Tables'!$C$5,3,IF(M173='Look-up Tables'!$C$6,2,IF(M173='Look-up Tables'!$C$7,1)))))","v":false},{"$f":"IFERROR(VLOOKUP(P173,'Look-up Tables'!$D$3:$E$127,2),\"\")","v":""},0,null,null,null,null,null,{"$f":"IF(U173='Look-up Tables'!$A$3,5,IF(U173='Look-up Tables'!$A$4,4,IF(U173='Look-up Tables'!$A$5,3,IF(U173='Look-up Tables'!$A$6,2,IF(U173='Look-up Tables'!$A$7,1)))))","v":false},null,{"$f":"IF(W173='Look-up Tables'!$B$3,5,IF(W173='Look-up Tables'!$B$4,4,IF(W173='Look-up Tables'!$B$5,3,IF(W173='Look-up Tables'!$B$6,2,IF(W173='Look-up Tables'!$B$7,1)))))","v":false},null,{"$f":"IF(Y173='Look-up Tables'!$C$3,5,IF(Y173='Look-up Tables'!$C$4,4,IF(Y173='Look-up Tables'!$C$5,3,IF(Y173='Look-up Tables'!$C$6,2,IF(Y173='Look-up Tables'!$C$7,1)))))","v":false},{"$f":"IFERROR(VLOOKUP(AB173,'Look-up Tables'!$D$3:$E$127,2),\"\")","v":""},0]
[null,null,null,null,null,null,{"$f":"IF(F174='Look-up Tables'!$A$3,5,IF(F174='Look-up Tables'!$A$4,4,IF(F174='Look-up Tables'!$A$5,3,IF(F174='Look-up Tables'!$A$6,2,IF(F174='Look-up Tables'!$A$7,1)))))","v":false},null,null,{"$f":"IF(I174='Look-up Tables'!$B$3,5,IF(I174='Look-up Tables'!$B$4,4,IF(I174='Look-up Tables'!$B$5,3,IF(I174='Look-up Tables'!$B$6,2,IF(I174='Look-up Tables'!$B$7,1)))))","v":false},null,null,null,{"$f":"IF(M174='Look-up Tables'!$C$3,5,IF(M174='Look-up Tables'!$C$4,4,IF(M174='Look-up Tables'!$C$5,3,IF(M174='Look-up Tables'!$C$6,2,IF(M174='Look-up Tables'!$C$7,1)))))","v":false},{"$f":"IFERROR(VLOOKUP(P174,'Look-up Tables'!$D$3:$E$127,2),\"\")","v":""},0,null,null,null,null,null,{"$f":"IF(U174='Look-up Tables'!$A$3,5,IF(U174='Look-up Tables'!$A$4,4,IF(U174='Look-up Tables'!$A$5,3,IF(U174='Look-up Tables'!$A$6,2,IF(U174='Look-up Tables'!$A$7,1)))))","v":false},null,{"$f":"IF(W174='Look-up Tables'!$B$3,5,IF(W174='Look-up Tables'!$B$4,4,IF(W174='Look-up Tables'!$B$5,3,IF(W174='Look-up Tables'!$B$6,2,IF(W174='Look-up Tables'!$B$7,1)))))","v":false},null,{"$f":"IF(Y174='Look-up Tables'!$C$3,5,IF(Y174='Look-up Tables'!$C$4,4,IF(Y174='Look-up Tables'!$C$5,3,IF(Y174='Look-up Tables'!$C$6,2,IF(Y174='Look-up Tables'!$C$7,1)))))","v":false},{"$f":"IFERROR(VLOOKUP(AB174,'Look-up Tables'!$D$3:$E$127,2),\"\")","v":""},0]
[null,null,null,null,null,null,{"$f":"IF(F175='Look-up Tables'!$A$3,5,IF(F175='Look-up Tables'!$A$4,4,IF(F175='Look-up Tables'!$A$5,3,IF(F175='Look-up Tables'!$A$6,2,IF(F175='Look-up Tables'!$A$7,1)))))","v":false},null,null,{"$f":"IF(I175='Look-up Tables'!$B$3,5,IF(I175='Look-up Tables'!$B$4,4,IF(I175='Look-up Tables'!$B$5,3,IF(I175='Look-up Tables'!$B$6,2,IF(I175='Look-up Tables'!$B$7,1)))))","v":false},null,null,null,{"$f":"IF(M175='Look-up Tables'!$C$3,5,IF(M175='Look-up Tables'!$C$4,4,IF(M175='Look-up Tables'!$C$5,3,IF(M175='Look-up Tables'!$C$6,2,IF(M175='Look-up Tables'!$C$7,1)))))","v":false},{"$f":"IFERROR(VLOOKUP(P175,'Look-up Tables'!$D$3:$E$127,2),\"\")","v":""},0,null,null,null,null,null,{"$f":"IF(U175='Look-up Tables'!$A$3,5,IF(U175='Look-up Tables'!$A$4,4,IF(U175='Look-up Tables'!$A$5,3,IF(U175='Look-up Tables'!$A$6,2,IF(U175='Look-up Tables'!$A$7,1)))))","v":false},null,{"$f":"IF(W175='Look-up Tables'!$B$3,5,IF(W175='Look-up Tables'!$B$4,4,IF(W175='Look-up Tables'!$B$5,3,IF(W175='Look-up Tables'!$B$6,2,IF(W175='Look-up Tables'!$B$7,1)))))","v":false},null,{"$f":"IF(Y175='Look-up Tables'!$C$3,5,IF(Y175='Look-up Tables'!$C$4,4,IF(Y175='Look-up Tables'!$C$5,3,IF(Y175='Look-up Tables'!$C$6,2,IF(Y175='Look-up Tables'!$C$7,1)))))","v":false},{"$f":"IFERROR(VLOOKUP(AB175,'Look-up Tables'!$D$3:$E$127,2),\"\")","v":""},0]
[null,null,null,null,null,null,{"$f":"IF(F176='Look-up Tables'!$A$3,5,IF(F176='Look-up Tables'!$A$4,4,IF(F176='Look-up Tables'!$A$5,3,IF(F176='Look-up Tables'!$A$6,2,IF(F176='Look-up Tables'!$A$7,1)))))","v":false},null,null,{"$f":"IF(I176='Look-up Tables'!$B$3,5,IF(I176='Look-up Tables'!$B$4,4,IF(I176='Look-up Tables'!$B$5,3,IF(I176='Look-up Tables'!$B$6,2,IF(I176='Look-up Tables'!$B$7,1)))))","v":false},null,null,null,{"$f":"IF(M176='Look-up Tables'!$C$3,5,IF(M176='Look-up Tables'!$C$4,4,IF(M176='Look-up Tables'!$C$5,3,IF(M176='Look-up Tables'!$C$6,2,IF(M176='Look-up Tables'!$C$7,1)))))","v":false},{"$f":"IFERROR(VLOOKUP(P176,'Look-up Tables'!$D$3:$E$127,2),\"\")","v":""},0,null,null,null,null,null,{"$f":"IF(U176='Look-up Tables'!$A$3,5,IF(U176='Look-up Tables'!$A$4,4,IF(U176='Look-up Tables'!$A$5,3,IF(U176='Look-up Tables'!$A$6,2,IF(U176='Look-up Tables'!$A$7,1)))))","v":false},null,{"$f":"IF(W176='Look-up Tables'!$B$3,5,IF(W176='Look-up Tables'!$B$4,4,IF(W176='Look-up Tables'!$B$5,3,IF(W176='Look-up Tables'!$B$6,2,IF(W176='Look-up Tables'!$B$7,1)))))","v":false},null,{"$f":"IF(Y176='Look-up Tables'!$C$3,5,IF(Y176='Look-up Tables'!$C$4,4,IF(Y176='Look-up Tables'!$C$5,3,IF(Y176='Look-up Tables'!$C$6,2,IF(Y176='Look-up Tables'!$C$7,1)))))","v":false},{"$f":"IFERROR(VLOOKUP(AB176,'Look-up Tables'!$D$3:$E$127,2),\"\")","v":""},0]
[null,null,null,null,null,null,{"$f":"IF(F177='Look-up Tables'!$A$3,5,IF(F177='Look-up Tables'!$A$4,4,IF(F177='Look-up Tables'!$A$5,3,IF(F177='Look-up Tables'!$A$6,2,IF(F177='Look-up Tables'!$A$7,1)))))","v":false},null,null,{"$f":"IF(I177='Look-up Tables'!$B$3,5,IF(I177='Look-up Tables'!$B$4,4,IF(I177='Look-up Tables'!$B$5,3,IF(I177='Look-up Tables'!$B$6,2,IF(I177='Look-up Tables'!$B$7,1)))))","v":false},null,null,null,{"$f":"IF(M177='Look-up Tables'!$C$3,5,IF(M177='Look-up Tables'!$C$4,4,IF(M177='Look-up Tables'!$C$5,3,IF(M177='Look-up Tables'!$C$6,2,IF(M177='Look-up Tables'!$C$7,1)))))","v":false},{"$f":"IFERROR(VLOOKUP(P177,'Look-up Tables'!$D$3:$E$127,2),\"\")","v":""},0,null,null,null,null,null,{"$f":"IF(U177='Look-up Tables'!$A$3,5,IF(U177='Look-up Tables'!$A$4,4,IF(U177='Look-up Tables'!$A$5,3,IF(U177='Look-up Tables'!$A$6,2,IF(U177='Look-up Tables'!$A$7,1)))))","v":false},null,{"$f":"IF(W177='Look-up Tables'!$B$3,5,IF(W177='Look-up Tables'!$B$4,4,IF(W177='Look-up Tables'!$B$5,3,IF(W177='Look-up Tables'!$B$6,2,IF(W177='Look-up Tables'!$B$7,1)))))","v":false},null,{"$f":"IF(Y177='Look-up Tables'!$C$3,5,IF(Y177='Look-up Tables'!$C$4,4,IF(Y177='Look-up Tables'!$C$5,3,IF(Y177='Look-up Tables'!$C$6,2,IF(Y177='Look-up Tables'!$C$7,1)))))","v":false},{"$f":"IFERROR(VLOOKUP(AB177,'Look-up Tables'!$D$3:$E$127,2),\"\")","v":""},0]
[null,null,null,null,null,null,{"$f":"IF(F178='Look-up Tables'!$A$3,5,IF(F178='Look-up Tables'!$A$4,4,IF(F178='Look-up Tables'!$A$5,3,IF(F178='Look-up Tables'!$A$6,2,IF(F178='Look-up Tables'!$A$7,1)))))","v":false},null,null,{"$f":"IF(I178='Look-up Tables'!$B$3,5,IF(I178='Look-up Tables'!$B$4,4,IF(I178='Look-up Tables'!$B$5,3,IF(I178='Look-up Tables'!$B$6,2,IF(I178='Look-up Tables'!$B$7,1)))))","v":false},null,null,null,{"$f":"IF(M178='Look-up Tables'!$C$3,5,IF(M178='Look-up Tables'!$C$4,4,IF(M178='Look-up Tables'!$C$5,3,IF(M178='Look-up Tables'!$C$6,2,IF(M178='Look-up Tables'!$C$7,1)))))","v":false},{"$f":"IFERROR(VLOOKUP(P178,'Look-up Tables'!$D$3:$E$127,2),\"\")","v":""},0,null,null,null,null,null,{"$f":"IF(U178='Look-up Tables'!$A$3,5,IF(U178='Look-up Tables'!$A$4,4,IF(U178='Look-up Tables'!$A$5,3,IF(U178='Look-up Tables'!$A$6,2,IF(U178='Look-up Tables'!$A$7,1)))))","v":false},null,{"$f":"IF(W178='Look-up Tables'!$B$3,5,IF(W178='Look-up Tables'!$B$4,4,IF(W178='Look-up Tables'!$B$5,3,IF(W178='Look-up Tables'!$B$6,2,IF(W178='Look-up Tables'!$B$7,1)))))","v":false},null,{"$f":"IF(Y178='Look-up Tables'!$C$3,5,IF(Y178='Look-up Tables'!$C$4,4,IF(Y178='Look-up Tables'!$C$5,3,IF(Y178='Look-up Tables'!$C$6,2,IF(Y178='Look-up Tables'!$C$7,1)))))","v":false},{"$f":"IFERROR(VLOOKUP(AB178,'Look-up Tables'!$D$3:$E$127,2),\"\")","v":""},0]
[null,null,null,null,null,null,{"$f":"IF(F179='Look-up Tables'!$A$3,5,IF(F179='Look-up Tables'!$A$4,4,IF(F179='Look-up Tables'!$A$5,3,IF(F179='Look-up Tables'!$A$6,2,IF(F179='Look-up Tables'!$A$7,1)))))","v":false},null,null,{"$f":"IF(I179='Look-up Tables'!$B$3,5,IF(I179='Look-up Tables'!$B$4,4,IF(I179='Look-up Tables'!$B$5,3,IF(I179='Look-up Tables'!$B$6,2,IF(I179='Look-up Tables'!$B$7,1)))))","v":false},null,null,null,{"$f":"IF(M179='Look-up Tables'!$C$3,5,IF(M179='Look-up Tables'!$C$4,4,IF(M179='Look-up Tables'!$C$5,3,IF(M179='Look-up Tables'!$C$6,2,IF(M179='Look-up Tables'!$C$7,1)))))","v":false},{"$f":"IFERROR(VLOOKUP(P179,'Look-up Tables'!$D$3:$E$127,2),\"\")","v":""},0,null,null,null,null,null,{"$f":"IF(U179='Look-up Tables'!$A$3,5,IF(U179='Look-up Tables'!$A$4,4,IF(U179='Look-up Tables'!$A$5,3,IF(U179='Look-up Tables'!$A$6,2,IF(U179='Look-up Tables'!$A$7,1)))))","v":false},null,{"$f":"IF(W179='Look-up Tables'!$B$3,5,IF(W179='Look-up Tables'!$B$4,4,IF(W179='Look-up Tables'!$B$5,3,IF(W179='Look-up Tables'!$B$6,2,IF(W179='Look-up Tables'!$B$7,1)))))","v":false},null,{"$f":"IF(Y179='Look-up Tables'!$C$3,5,IF(Y179='Look-up Tables'!$C$4,4,IF(Y179='Look-up Tables'!$C$5,3,IF(Y179='Look-up Tables'!$C$6,2,IF(Y179='Look-up Tables'!$C$7,1)))))","v":false},{"$f":"IFERROR(VLOOKUP(AB179,'Look-up Tables'!$D$3:$E$127,2),\"\")","v":""},0]
[null,null,null,null,null,null,{"$f":"IF(F180='Look-up Tables'!$A$3,5,IF(F180='Look-up Tables'!$A$4,4,IF(F180='Look-up Tables'!$A$5,3,IF(F180='Look-up Tables'!$A$6,2,IF(F180='Look-up Tables'!$A$7,1)))))","v":false},null,null,{"$f":"IF(I180='Look-up Tables'!$B$3,5,IF(I180='Look-up Tables'!$B$4,4,IF(I180='Look-up Tables'!$B$5,3,IF(I180='Look-up Tables'!$B$6,2,IF(I180='Look-up Tables'!$B$7,1)))))","v":false},null,null,null,{"$f":"IF(M180='Look-up Tables'!$C$3,5,IF(M180='Look-up Tables'!$C$4,4,IF(M180='Look-up Tables'!$C$5,3,IF(M180='Look-up Tables'!$C$6,2,IF(M180='Look-up Tables'!$C$7,1)))))","v":false},{"$f":"IFERROR(VLOOKUP(P180,'Look-up Tables'!$D$3:$E$127,2),\"\")","v":""},0,null,null,null,null,null,{"$f":"IF(U180='Look-up Tables'!$A$3,5,IF(U180='Look-up Tables'!$A$4,4,IF(U180='Look-up Tables'!$A$5,3,IF(U180='Look-up Tables'!$A$6,2,IF(U180='Look-up Tables'!$A$7,1)))))","v":false},null,{"$f":"IF(W180='Look-up Tables'!$B$3,5,IF(W180='Look-up Tables'!$B$4,4,IF(W180='Look-up Tables'!$B$5,3,IF(W180='Look-up Tables'!$B$6,2,IF(W180='Look-up Tables'!$B$7,1)))))","v":false},null,{"$f":"IF(Y180='Look-up Tables'!$C$3,5,IF(Y180='Look-up Tables'!$C$4,4,IF(Y180='Look-up Tables'!$C$5,3,IF(Y180='Look-up Tables'!$C$6,2,IF(Y180='Look-up Tables'!$C$7,1)))))","v":false},{"$f":"IFERROR(VLOOKUP(AB180,'Look-up Tables'!$D$3:$E$127,2),\"\")","v":""},0]
[null,null,null,null,null,null,{"$f":"IF(F181='Look-up Tables'!$A$3,5,IF(F181='Look-up Tables'!$A$4,4,IF(F181='Look-up Tables'!$A$5,3,IF(F181='Look-up Tables'!$A$6,2,IF(F181='Look-up Tables'!$A$7,1)))))","v":false},null,null,{"$f":"IF(I181='Look-up Tables'!$B$3,5,IF(I181='Look-up Tables'!$B$4,4,IF(I181='Look-up Tables'!$B$5,3,IF(I181='Look-up Tables'!$B$6,2,IF(I181='Look-up Tables'!$B$7,1)))))","v":false},null,null,null,{"$f":"IF(M181='Look-up Tables'!$C$3,5,IF(M181='Look-up Tables'!$C$4,4,IF(M181='Look-up Tables'!$C$5,3,IF(M181='Look-up Tables'!$C$6,2,IF(M181='Look-up Tables'!$C$7,1)))))","v":false},{"$f":"IFERROR(VLOOKUP(P181,'Look-up Tables'!$D$3:$E$127,2),\"\")","v":""},0,null,null,null,null,null,{"$f":"IF(U181='Look-up Tables'!$A$3,5,IF(U181='Look-up Tables'!$A$4,4,IF(U181='Look-up Tables'!$A$5,3,IF(U181='Look-up Tables'!$A$6,2,IF(U181='Look-up Tables'!$A$7,1)))))","v":false},null,{"$f":"IF(W181='Look-up Tables'!$B$3,5,IF(W181='Look-up Tables'!$B$4,4,IF(W181='Look-up Tables'!$B$5,3,IF(W181='Look-up Tables'!$B$6,2,IF(W181='Look-up Tables'!$B$7,1)))))","v":false},null,{"$f":"IF(Y181='Look-up Tables'!$C$3,5,IF(Y181='Look-up Tables'!$C$4,4,IF(Y181='Look-up Tables'!$C$5,3,IF(Y181='Look-up Tables'!$C$6,2,IF(Y181='Look-up Tables'!$C$7,1)))))","v":false},{"$f":"IFERROR(VLOOKUP(AB181,'Look-up Tables'!$D$3:$E$127,2),\"\")","v":""},0]
[null,null,null,null,null,null,{"$f":"IF(F182='Look-up Tables'!$A$3,5,IF(F182='Look-up Tables'!$A$4,4,IF(F182='Look-up Tables'!$A$5,3,IF(F182='Look-up Tables'!$A$6,2,IF(F182='Look-up Tables'!$A$7,1)))))","v":false},null,null,{"$f":"IF(I182='Look-up Tables'!$B$3,5,IF(I182='Look-up Tables'!$B$4,4,IF(I182='Look-up Tables'!$B$5,3,IF(I182='Look-up Tables'!$B$6,2,IF(I182='Look-up Tables'!$B$7,1)))))","v":false},null,null,null,{"$f":"IF(M182='Look-up Tables'!$C$3,5,IF(M182='Look-up Tables'!$C$4,4,IF(M182='Look-up Tables'!$C$5,3,IF(M182='Look-up Tables'!$C$6,2,IF(M182='Look-up Tables'!$C$7,1)))))","v":false},{"$f":"IFERROR(VLOOKUP(P182,'Look-up Tables'!$D$3:$E$127,2),\"\")","v":""},0,null,null,null,null,null,{"$f":"IF(U182='Look-up Tables'!$A$3,5,IF(U182='Look-up Tables'!$A$4,4,IF(U182='Look-up Tables'!$A$5,3,IF(U182='Look-up Tables'!$A$6,2,IF(U182='Look-up Tables'!$A$7,1)))))","v":false},null,{"$f":"IF(W182='Look-up Tables'!$B$3,5,IF(W182='Look-up Tables'!$B$4,4,IF(W182='Look-up Tables'!$B$5,3,IF(W182='Look-up Tables'!$B$6,2,IF(W182='Look-up Tables'!$B$7,1)))))","v":false},null,{"$f":"IF(Y182='Look-up Tables'!$C$3,5,IF(Y182='Look-up Tables'!$C$4,4,IF(Y182='Look-up Tables'!$C$5,3,IF(Y182='Look-up Tables'!$C$6,2,IF(Y182='Look-up Tables'!$C$7,1)))))","v":false},{"$f":"IFERROR(VLOOKUP(AB182,'Look-up Tables'!$D$3:$E$127,2),\"\")","v":""},0]
[null,null,null,null,null,null,{"$f":"IF(F183='Look-up Tables'!$A$3,5,IF(F183='Look-up Tables'!$A$4,4,IF(F183='Look-up Tables'!$A$5,3,IF(F183='Look-up Tables'!$A$6,2,IF(F183='Look-up Tables'!$A$7,1)))))","v":false},null,null,{"$f":"IF(I183='Look-up Tables'!$B$3,5,IF(I183='Look-up Tables'!$B$4,4,IF(I183='Look-up Tables'!$B$5,3,IF(I183='Look-up Tables'!$B$6,2,IF(I183='Look-up Tables'!$B$7,1)))))","v":false},null,null,null,{"$f":"IF(M183='Look-up Tables'!$C$3,5,IF(M183='Look-up Tables'!$C$4,4,IF(M183='Look-up Tables'!$C$5,3,IF(M183='Look-up Tables'!$C$6,2,IF(M183='Look-up Tables'!$C$7,1)))))","v":false},{"$f":"IFERROR(VLOOKUP(P183,'Look-up Tables'!$D$3:$E$127,2),\"\")","v":""},0,null,null,null,null,null,{"$f":"IF(U183='Look-up Tables'!$A$3,5,IF(U183='Look-up Tables'!$A$4,4,IF(U183='Look-up Tables'!$A$5,3,IF(U183='Look-up Tables'!$A$6,2,IF(U183='Look-up Tables'!$A$7,1)))))","v":false},null,{"$f":"IF(W183='Look-up Tables'!$B$3,5,IF(W183='Look-up Tables'!$B$4,4,IF(W183='Look-up Tables'!$B$5,3,IF(W183='Look-up Tables'!$B$6,2,IF(W183='Look-up Tables'!$B$7,1)))))","v":false},null,{"$f":"IF(Y183='Look-up Tables'!$C$3,5,IF(Y183='Look-up Tables'!$C$4,4,IF(Y183='Look-up Tables'!$C$5,3,IF(Y183='Look-up Tables'!$C$6,2,IF(Y183='Look-up Tables'!$C$7,1)))))","v":false},{"$f":"IFERROR(VLOOKUP(AB183,'Look-up Tables'!$D$3:$E$127,2),\"\")","v":""},0]
[null,null,null,null,null,null,{"$f":"IF(F184='Look-up Tables'!$A$3,5,IF(F184='Look-up Tables'!$A$4,4,IF(F184='Look-up Tables'!$A$5,3,IF(F184='Look-up Tables'!$A$6,2,IF(F184='Look-up Tables'!$A$7,1)))))","v":false},null,null,{"$f":"IF(I184='Look-up Tables'!$B$3,5,IF(I184='Look-up Tables'!$B$4,4,IF(I184='Look-up Tables'!$B$5,3,IF(I184='Look-up Tables'!$B$6,2,IF(I184='Look-up Tables'!$B$7,1)))))","v":false},null,null,null,{"$f":"IF(M184='Look-up Tables'!$C$3,5,IF(M184='Look-up Tables'!$C$4,4,IF(M184='Look-up Tables'!$C$5,3,IF(M184='Look-up Tables'!$C$6,2,IF(M184='Look-up Tables'!$C$7,1)))))","v":false},{"$f":"IFERROR(VLOOKUP(P184,'Look-up Tables'!$D$3:$E$127,2),\"\")","v":""},{"$f":"G184*J184*N184","v":0},null,null,null,null,null,{"$f":"IF(U184='Look-up Tables'!$A$3,5,IF(U184='Look-up Tables'!$A$4,4,IF(U184='Look-up Tables'!$A$5,3,IF(U184='Look-up Tables'!$A$6,2,IF(U184='Look-up Tables'!$A$7,1)))))","v":false},null,{"$f":"IF(W184='Look-up Tables'!$B$3,5,IF(W184='Look-up Tables'!$B$4,4,IF(W184='Look-up Tables'!$B$5,3,IF(W184='Look-up Tables'!$B$6,2,IF(W184='Look-up Tables'!$B$7,1)))))","v":false},null,{"$f":"IF(Y184='Look-up Tables'!$C$3,5,IF(Y184='Look-up Tables'!$C$4,4,IF(Y184='Look-up Tables'!$C$5,3,IF(Y184='Look-up Tables'!$C$6,2,IF(Y184='Look-up Tables'!$C$7,1)))))","v":false},{"$f":"IFERROR(VLOOKUP(AB184,'Look-up Tables'!$D$3:$E$127,2),\"\")","v":""},{"$f":"V184*X184*Z184","v":0}]
[null,null,null,null,null,null,{"$f":"IF(F185='Look-up Tables'!$A$3,5,IF(F185='Look-up Tables'!$A$4,4,IF(F185='Look-up Tables'!$A$5,3,IF(F185='Look-up Tables'!$A$6,2,IF(F185='Look-up Tables'!$A$7,1)))))","v":false},null,null,{"$f":"IF(I185='Look-up Tables'!$B$3,5,IF(I185='Look-up Tables'!$B$4,4,IF(I185='Look-up Tables'!$B$5,3,IF(I185='Look-up Tables'!$B$6,2,IF(I185='Look-up Tables'!$B$7,1)))))","v":false},null,null,null,{"$f":"IF(M185='Look-up Tables'!$C$3,5,IF(M185='Look-up Tables'!$C$4,4,IF(M185='Look-up Tables'!$C$5,3,IF(M185='Look-up Tables'!$C$6,2,IF(M185='Look-up Tables'!$C$7,1)))))","v":false},{"$f":"IFERROR(VLOOKUP(P185,'Look-up Tables'!$D$3:$E$127,2),\"\")","v":""},0,null,null,null,null,null,{"$f":"IF(U185='Look-up Tables'!$A$3,5,IF(U185='Look-up Tables'!$A$4,4,IF(U185='Look-up Tables'!$A$5,3,IF(U185='Look-up Tables'!$A$6,2,IF(U185='Look-up Tables'!$A$7,1)))))","v":false},null,{"$f":"IF(W185='Look-up Tables'!$B$3,5,IF(W185='Look-up Tables'!$B$4,4,IF(W185='Look-up Tables'!$B$5,3,IF(W185='Look-up Tables'!$B$6,2,IF(W185='Look-up Tables'!$B$7,1)))))","v":false},null,{"$f":"IF(Y185='Look-up Tables'!$C$3,5,IF(Y185='Look-up Tables'!$C$4,4,IF(Y185='Look-up Tables'!$C$5,3,IF(Y185='Look-up Tables'!$C$6,2,IF(Y185='Look-up Tables'!$C$7,1)))))","v":false},{"$f":"IFERROR(VLOOKUP(AB185,'Look-up Tables'!$D$3:$E$127,2),\"\")","v":""},0]
[null,null,null,null,null,null,{"$f":"IF(F186='Look-up Tables'!$A$3,5,IF(F186='Look-up Tables'!$A$4,4,IF(F186='Look-up Tables'!$A$5,3,IF(F186='Look-up Tables'!$A$6,2,IF(F186='Look-up Tables'!$A$7,1)))))","v":false},null,null,{"$f":"IF(I186='Look-up Tables'!$B$3,5,IF(I186='Look-up Tables'!$B$4,4,IF(I186='Look-up Tables'!$B$5,3,IF(I186='Look-up Tables'!$B$6,2,IF(I186='Look-up Tables'!$B$7,1)))))","v":false},null,null,null,{"$f":"IF(M186='Look-up Tables'!$C$3,5,IF(M186='Look-up Tables'!$C$4,4,IF(M186='Look-up Tables'!$C$5,3,IF(M186='Look-up Tables'!$C$6,2,IF(M186='Look-up Tables'!$C$7,1)))))","v":false},{"$f":"IFERROR(VLOOKUP(P186,'Look-up Tables'!$D$3:$E$127,2),\"\")","v":""},0,null,null,null,null,null,{"$f":"IF(U186='Look-up Tables'!$A$3,5,IF(U186='Look-up Tables'!$A$4,4,IF(U186='Look-up Tables'!$A$5,3,IF(U186='Look-up Tables'!$A$6,2,IF(U186='Look-up Tables'!$A$7,1)))))","v":false},null,{"$f":"IF(W186='Look-up Tables'!$B$3,5,IF(W186='Look-up Tables'!$B$4,4,IF(W186='Look-up Tables'!$B$5,3,IF(W186='Look-up Tables'!$B$6,2,IF(W186='Look-up Tables'!$B$7,1)))))","v":false},null,{"$f":"IF(Y186='Look-up Tables'!$C$3,5,IF(Y186='Look-up Tables'!$C$4,4,IF(Y186='Look-up Tables'!$C$5,3,IF(Y186='Look-up Tables'!$C$6,2,IF(Y186='Look-up Tables'!$C$7,1)))))","v":false},{"$f":"IFERROR(VLOOKUP(AB186,'Look-up Tables'!$D$3:$E$127,2),\"\")","v":""},0]
[null,null,null,null,null,null,{"$f":"IF(F187='Look-up Tables'!$A$3,5,IF(F187='Look-up Tables'!$A$4,4,IF(F187='Look-up Tables'!$A$5,3,IF(F187='Look-up Tables'!$A$6,2,IF(F187='Look-up Tables'!$A$7,1)))))","v":false},null,null,{"$f":"IF(I187='Look-up Tables'!$B$3,5,IF(I187='Look-up Tables'!$B$4,4,IF(I187='Look-up Tables'!$B$5,3,IF(I187='Look-up Tables'!$B$6,2,IF(I187='Look-up Tables'!$B$7,1)))))","v":false},null,null,null,{"$f":"IF(M187='Look-up Tables'!$C$3,5,IF(M187='Look-up Tables'!$C$4,4,IF(M187='Look-up Tables'!$C$5,3,IF(M187='Look-up Tables'!$C$6,2,IF(M187='Look-up Tables'!$C$7,1)))))","v":false},{"$f":"IFERROR(VLOOKUP(P187,'Look-up Tables'!$D$3:$E$127,2),\"\")","v":""},0,null,null,null,null,null,{"$f":"IF(U187='Look-up Tables'!$A$3,5,IF(U187='Look-up Tables'!$A$4,4,IF(U187='Look-up Tables'!$A$5,3,IF(U187='Look-up Tables'!$A$6,2,IF(U187='Look-up Tables'!$A$7,1)))))","v":false},null,{"$f":"IF(W187='Look-up Tables'!$B$3,5,IF(W187='Look-up Tables'!$B$4,4,IF(W187='Look-up Tables'!$B$5,3,IF(W187='Look-up Tables'!$B$6,2,IF(W187='Look-up Tables'!$B$7,1)))))","v":false},null,{"$f":"IF(Y187='Look-up Tables'!$C$3,5,IF(Y187='Look-up Tables'!$C$4,4,IF(Y187='Look-up Tables'!$C$5,3,IF(Y187='Look-up Tables'!$C$6,2,IF(Y187='Look-up Tables'!$C$7,1)))))","v":false},{"$f":"IFERROR(VLOOKUP(AB187,'Look-up Tables'!$D$3:$E$127,2),\"\")","v":""},0]
[null,null,null,null,null,null,{"$f":"IF(F188='Look-up Tables'!$A$3,5,IF(F188='Look-up Tables'!$A$4,4,IF(F188='Look-up Tables'!$A$5,3,IF(F188='Look-up Tables'!$A$6,2,IF(F188='Look-up Tables'!$A$7,1)))))","v":false},null,null,{"$f":"IF(I188='Look-up Tables'!$B$3,5,IF(I188='Look-up Tables'!$B$4,4,IF(I188='Look-up Tables'!$B$5,3,IF(I188='Look-up Tables'!$B$6,2,IF(I188='Look-up Tables'!$B$7,1)))))","v":false},null,null,null,{"$f":"IF(M188='Look-up Tables'!$C$3,5,IF(M188='Look-up Tables'!$C$4,4,IF(M188='Look-up Tables'!$C$5,3,IF(M188='Look-up Tables'!$C$6,2,IF(M188='Look-up Tables'!$C$7,1)))))","v":false},{"$f":"IFERROR(VLOOKUP(P188,'Look-up Tables'!$D$3:$E$127,2),\"\")","v":""},0,null,null,null,null,null,{"$f":"IF(U188='Look-up Tables'!$A$3,5,IF(U188='Look-up Tables'!$A$4,4,IF(U188='Look-up Tables'!$A$5,3,IF(U188='Look-up Tables'!$A$6,2,IF(U188='Look-up Tables'!$A$7,1)))))","v":false},null,{"$f":"IF(W188='Look-up Tables'!$B$3,5,IF(W188='Look-up Tables'!$B$4,4,IF(W188='Look-up Tables'!$B$5,3,IF(W188='Look-up Tables'!$B$6,2,IF(W188='Look-up Tables'!$B$7,1)))))","v":false},null,{"$f":"IF(Y188='Look-up Tables'!$C$3,5,IF(Y188='Look-up Tables'!$C$4,4,IF(Y188='Look-up Tables'!$C$5,3,IF(Y188='Look-up Tables'!$C$6,2,IF(Y188='Look-up Tables'!$C$7,1)))))","v":false},{"$f":"IFERROR(VLOOKUP(AB188,'Look-up Tables'!$D$3:$E$127,2),\"\")","v":""},0]
[null,null,null,null,null,null,{"$f":"IF(F189='Look-up Tables'!$A$3,5,IF(F189='Look-up Tables'!$A$4,4,IF(F189='Look-up Tables'!$A$5,3,IF(F189='Look-up Tables'!$A$6,2,IF(F189='Look-up Tables'!$A$7,1)))))","v":false},null,null,{"$f":"IF(I189='Look-up Tables'!$B$3,5,IF(I189='Look-up Tables'!$B$4,4,IF(I189='Look-up Tables'!$B$5,3,IF(I189='Look-up Tables'!$B$6,2,IF(I189='Look-up Tables'!$B$7,1)))))","v":false},null,null,null,{"$f":"IF(M189='Look-up Tables'!$C$3,5,IF(M189='Look-up Tables'!$C$4,4,IF(M189='Look-up Tables'!$C$5,3,IF(M189='Look-up Tables'!$C$6,2,IF(M189='Look-up Tables'!$C$7,1)))))","v":false},{"$f":"IFERROR(VLOOKUP(P189,'Look-up Tables'!$D$3:$E$127,2),\"\")","v":""},0,null,null,null,null,null,{"$f":"IF(U189='Look-up Tables'!$A$3,5,IF(U189='Look-up Tables'!$A$4,4,IF(U189='Look-up Tables'!$A$5,3,IF(U189='Look-up Tables'!$A$6,2,IF(U189='Look-up Tables'!$A$7,1)))))","v":false},null,{"$f":"IF(W189='Look-up Tables'!$B$3,5,IF(W189='Look-up Tables'!$B$4,4,IF(W189='Look-up Tables'!$B$5,3,IF(W189='Look-up Tables'!$B$6,2,IF(W189='Look-up Tables'!$B$7,1)))))","v":false},null,{"$f":"IF(Y189='Look-up Tables'!$C$3,5,IF(Y189='Look-up Tables'!$C$4,4,IF(Y189='Look-up Tables'!$C$5,3,IF(Y189='Look-up Tables'!$C$6,2,IF(Y189='Look-up Tables'!$C$7,1)))))","v":false},{"$f":"IFERROR(VLOOKUP(AB189,'Look-up Tables'!$D$3:$E$127,2),\"\")","v":""},0]
[null,null,null,null,null,null,{"$f":"IF(F190='Look-up Tables'!$A$3,5,IF(F190='Look-up Tables'!$A$4,4,IF(F190='Look-up Tables'!$A$5,3,IF(F190='Look-up Tables'!$A$6,2,IF(F190='Look-up Tables'!$A$7,1)))))","v":false},null,null,{"$f":"IF(I190='Look-up Tables'!$B$3,5,IF(I190='Look-up Tables'!$B$4,4,IF(I190='Look-up Tables'!$B$5,3,IF(I190='Look-up Tables'!$B$6,2,IF(I190='Look-up Tables'!$B$7,1)))))","v":false},null,null,null,{"$f":"IF(M190='Look-up Tables'!$C$3,5,IF(M190='Look-up Tables'!$C$4,4,IF(M190='Look-up Tables'!$C$5,3,IF(M190='Look-up Tables'!$C$6,2,IF(M190='Look-up Tables'!$C$7,1)))))","v":false},{"$f":"IFERROR(VLOOKUP(P190,'Look-up Tables'!$D$3:$E$127,2),\"\")","v":""},0,null,null,null,null,null,{"$f":"IF(U190='Look-up Tables'!$A$3,5,IF(U190='Look-up Tables'!$A$4,4,IF(U190='Look-up Tables'!$A$5,3,IF(U190='Look-up Tables'!$A$6,2,IF(U190='Look-up Tables'!$A$7,1)))))","v":false},null,{"$f":"IF(W190='Look-up Tables'!$B$3,5,IF(W190='Look-up Tables'!$B$4,4,IF(W190='Look-up Tables'!$B$5,3,IF(W190='Look-up Tables'!$B$6,2,IF(W190='Look-up Tables'!$B$7,1)))))","v":false},null,{"$f":"IF(Y190='Look-up Tables'!$C$3,5,IF(Y190='Look-up Tables'!$C$4,4,IF(Y190='Look-up Tables'!$C$5,3,IF(Y190='Look-up Tables'!$C$6,2,IF(Y190='Look-up Tables'!$C$7,1)))))","v":false},{"$f":"IFERROR(VLOOKUP(AB190,'Look-up Tables'!$D$3:$E$127,2),\"\")","v":""},0]
[null,null,null,null,null,null,{"$f":"IF(F191='Look-up Tables'!$A$3,5,IF(F191='Look-up Tables'!$A$4,4,IF(F191='Look-up Tables'!$A$5,3,IF(F191='Look-up Tables'!$A$6,2,IF(F191='Look-up Tables'!$A$7,1)))))","v":false},null,null,{"$f":"IF(I191='Look-up Tables'!$B$3,5,IF(I191='Look-up Tables'!$B$4,4,IF(I191='Look-up Tables'!$B$5,3,IF(I191='Look-up Tables'!$B$6,2,IF(I191='Look-up Tables'!$B$7,1)))))","v":false},null,null,null,{"$f":"IF(M191='Look-up Tables'!$C$3,5,IF(M191='Look-up Tables'!$C$4,4,IF(M191='Look-up Tables'!$C$5,3,IF(M191='Look-up Tables'!$C$6,2,IF(M191='Look-up Tables'!$C$7,1)))))","v":false},{"$f":"IFERROR(VLOOKUP(P191,'Look-up Tables'!$D$3:$E$127,2),\"\")","v":""},0,null,null,null,null,null,{"$f":"IF(U191='Look-up Tables'!$A$3,5,IF(U191='Look-up Tables'!$A$4,4,IF(U191='Look-up Tables'!$A$5,3,IF(U191='Look-up Tables'!$A$6,2,IF(U191='Look-up Tables'!$A$7,1)))))","v":false},null,{"$f":"IF(W191='Look-up Tables'!$B$3,5,IF(W191='Look-up Tables'!$B$4,4,IF(W191='Look-up Tables'!$B$5,3,IF(W191='Look-up Tables'!$B$6,2,IF(W191='Look-up Tables'!$B$7,1)))))","v":false},null,{"$f":"IF(Y191='Look-up Tables'!$C$3,5,IF(Y191='Look-up Tables'!$C$4,4,IF(Y191='Look-up Tables'!$C$5,3,IF(Y191='Look-up Tables'!$C$6,2,IF(Y191='Look-up Tables'!$C$7,1)))))","v":false},{"$f":"IFERROR(VLOOKUP(AB191,'Look-up Tables'!$D$3:$E$127,2),\"\")","v":""},0]
[null,null,null,null,null,null,{"$f":"IF(F192='Look-up Tables'!$A$3,5,IF(F192='Look-up Tables'!$A$4,4,IF(F192='Look-up Tables'!$A$5,3,IF(F192='Look-up Tables'!$A$6,2,IF(F192='Look-up Tables'!$A$7,1)))))","v":false},null,null,{"$f":"IF(I192='Look-up Tables'!$B$3,5,IF(I192='Look-up Tables'!$B$4,4,IF(I192='Look-up Tables'!$B$5,3,IF(I192='Look-up Tables'!$B$6,2,IF(I192='Look-up Tables'!$B$7,1)))))","v":false},null,null,null,{"$f":"IF(M192='Look-up Tables'!$C$3,5,IF(M192='Look-up Tables'!$C$4,4,IF(M192='Look-up Tables'!$C$5,3,IF(M192='Look-up Tables'!$C$6,2,IF(M192='Look-up Tables'!$C$7,1)))))","v":false},{"$f":"IFERROR(VLOOKUP(P192,'Look-up Tables'!$D$3:$E$127,2),\"\")","v":""},0,null,null,null,null,null,{"$f":"IF(U192='Look-up Tables'!$A$3,5,IF(U192='Look-up Tables'!$A$4,4,IF(U192='Look-up Tables'!$A$5,3,IF(U192='Look-up Tables'!$A$6,2,IF(U192='Look-up Tables'!$A$7,1)))))","v":false},null,{"$f":"IF(W192='Look-up Tables'!$B$3,5,IF(W192='Look-up Tables'!$B$4,4,IF(W192='Look-up Tables'!$B$5,3,IF(W192='Look-up Tables'!$B$6,2,IF(W192='Look-up Tables'!$B$7,1)))))","v":false},null,{"$f":"IF(Y192='Look-up Tables'!$C$3,5,IF(Y192='Look-up Tables'!$C$4,4,IF(Y192='Look-up Tables'!$C$5,3,IF(Y192='Look-up Tables'!$C$6,2,IF(Y192='Look-up Tables'!$C$7,1)))))","v":false},{"$f":"IFERROR(VLOOKUP(AB192,'Look-up Tables'!$D$3:$E$127,2),\"\")","v":""},0]
[null,null,null,null,null,null,{"$f":"IF(F193='Look-up Tables'!$A$3,5,IF(F193='Look-up Tables'!$A$4,4,IF(F193='Look-up Tables'!$A$5,3,IF(F193='Look-up Tables'!$A$6,2,IF(F193='Look-up Tables'!$A$7,1)))))","v":false},null,null,{"$f":"IF(I193='Look-up Tables'!$B$3,5,IF(I193='Look-up Tables'!$B$4,4,IF(I193='Look-up Tables'!$B$5,3,IF(I193='Look-up Tables'!$B$6,2,IF(I193='Look-up Tables'!$B$7,1)))))","v":false},null,null,null,{"$f":"IF(M193='Look-up Tables'!$C$3,5,IF(M193='Look-up Tables'!$C$4,4,IF(M193='Look-up Tables'!$C$5,3,IF(M193='Look-up Tables'!$C$6,2,IF(M193='Look-up Tables'!$C$7,1)))))","v":false},{"$f":"IFERROR(VLOOKUP(P193,'Look-up Tables'!$D$3:$E$127,2),\"\")","v":""},0,null,null,null,null,null,{"$f":"IF(U193='Look-up Tables'!$A$3,5,IF(U193='Look-up Tables'!$A$4,4,IF(U193='Look-up Tables'!$A$5,3,IF(U193='Look-up Tables'!$A$6,2,IF(U193='Look-up Tables'!$A$7,1)))))","v":false},null,{"$f":"IF(W193='Look-up Tables'!$B$3,5,IF(W193='Look-up Tables'!$B$4,4,IF(W193='Look-up Tables'!$B$5,3,IF(W193='Look-up Tables'!$B$6,2,IF(W193='Look-up Tables'!$B$7,1)))))","v":false},null,{"$f":"IF(Y193='Look-up Tables'!$C$3,5,IF(Y193='Look-up Tables'!$C$4,4,IF(Y193='Look-up Tables'!$C$5,3,IF(Y193='Look-up Tables'!$C$6,2,IF(Y193='Look-up Tables'!$C$7,1)))))","v":false},{"$f":"IFERROR(VLOOKUP(AB193,'Look-up Tables'!$D$3:$E$127,2),\"\")","v":""},0]
[null,null,null,null,null,null,{"$f":"IF(F194='Look-up Tables'!$A$3,5,IF(F194='Look-up Tables'!$A$4,4,IF(F194='Look-up Tables'!$A$5,3,IF(F194='Look-up Tables'!$A$6,2,IF(F194='Look-up Tables'!$A$7,1)))))","v":false},null,null,{"$f":"IF(I194='Look-up Tables'!$B$3,5,IF(I194='Look-up Tables'!$B$4,4,IF(I194='Look-up Tables'!$B$5,3,IF(I194='Look-up Tables'!$B$6,2,IF(I194='Look-up Tables'!$B$7,1)))))","v":false},null,null,null,{"$f":"IF(M194='Look-up Tables'!$C$3,5,IF(M194='Look-up Tables'!$C$4,4,IF(M194='Look-up Tables'!$C$5,3,IF(M194='Look-up Tables'!$C$6,2,IF(M194='Look-up Tables'!$C$7,1)))))","v":false},{"$f":"IFERROR(VLOOKUP(P194,'Look-up Tables'!$D$3:$E$127,2),\"\")","v":""},0,null,null,null,null,null,{"$f":"IF(U194='Look-up Tables'!$A$3,5,IF(U194='Look-up Tables'!$A$4,4,IF(U194='Look-up Tables'!$A$5,3,IF(U194='Look-up Tables'!$A$6,2,IF(U194='Look-up Tables'!$A$7,1)))))","v":false},null,{"$f":"IF(W194='Look-up Tables'!$B$3,5,IF(W194='Look-up Tables'!$B$4,4,IF(W194='Look-up Tables'!$B$5,3,IF(W194='Look-up Tables'!$B$6,2,IF(W194='Look-up Tables'!$B$7,1)))))","v":false},null,{"$f":"IF(Y194='Look-up Tables'!$C$3,5,IF(Y194='Look-up Tables'!$C$4,4,IF(Y194='Look-up Tables'!$C$5,3,IF(Y194='Look-up Tables'!$C$6,2,IF(Y194='Look-up Tables'!$C$7,1)))))","v":false},{"$f":"IFERROR(VLOOKUP(AB194,'Look-up Tables'!$D$3:$E$127,2),\"\")","v":""},0]
[null,null,null,null,null,null,{"$f":"IF(F195='Look-up Tables'!$A$3,5,IF(F195='Look-up Tables'!$A$4,4,IF(F195='Look-up Tables'!$A$5,3,IF(F195='Look-up Tables'!$A$6,2,IF(F195='Look-up Tables'!$A$7,1)))))","v":false},null,null,{"$f":"IF(I195='Look-up Tables'!$B$3,5,IF(I195='Look-up Tables'!$B$4,4,IF(I195='Look-up Tables'!$B$5,3,IF(I195='Look-up Tables'!$B$6,2,IF(I195='Look-up Tables'!$B$7,1)))))","v":false},null,null,null,{"$f":"IF(M195='Look-up Tables'!$C$3,5,IF(M195='Look-up Tables'!$C$4,4,IF(M195='Look-up Tables'!$C$5,3,IF(M195='Look-up Tables'!$C$6,2,IF(M195='Look-up Tables'!$C$7,1)))))","v":false},{"$f":"IFERROR(VLOOKUP(P195,'Look-up Tables'!$D$3:$E$127,2),\"\")","v":""},0,null,null,null,null,null,{"$f":"IF(U195='Look-up Tables'!$A$3,5,IF(U195='Look-up Tables'!$A$4,4,IF(U195='Look-up Tables'!$A$5,3,IF(U195='Look-up Tables'!$A$6,2,IF(U195='Look-up Tables'!$A$7,1)))))","v":false},null,{"$f":"IF(W195='Look-up Tables'!$B$3,5,IF(W195='Look-up Tables'!$B$4,4,IF(W195='Look-up Tables'!$B$5,3,IF(W195='Look-up Tables'!$B$6,2,IF(W195='Look-up Tables'!$B$7,1)))))","v":false},null,{"$f":"IF(Y195='Look-up Tables'!$C$3,5,IF(Y195='Look-up Tables'!$C$4,4,IF(Y195='Look-up Tables'!$C$5,3,IF(Y195='Look-up Tables'!$C$6,2,IF(Y195='Look-up Tables'!$C$7,1)))))","v":false},{"$f":"IFERROR(VLOOKUP(AB195,'Look-up Tables'!$D$3:$E$127,2),\"\")","v":""},0]
[null,null,null,null,null,null,{"$f":"IF(F196='Look-up Tables'!$A$3,5,IF(F196='Look-up Tables'!$A$4,4,IF(F196='Look-up Tables'!$A$5,3,IF(F196='Look-up Tables'!$A$6,2,IF(F196='Look-up Tables'!$A$7,1)))))","v":false},null,null,{"$f":"IF(I196='Look-up Tables'!$B$3,5,IF(I196='Look-up Tables'!$B$4,4,IF(I196='Look-up Tables'!$B$5,3,IF(I196='Look-up Tables'!$B$6,2,IF(I196='Look-up Tables'!$B$7,1)))))","v":false},null,null,null,{"$f":"IF(M196='Look-up Tables'!$C$3,5,IF(M196='Look-up Tables'!$C$4,4,IF(M196='Look-up Tables'!$C$5,3,IF(M196='Look-up Tables'!$C$6,2,IF(M196='Look-up Tables'!$C$7,1)))))","v":false},{"$f":"IFERROR(VLOOKUP(P196,'Look-up Tables'!$D$3:$E$127,2),\"\")","v":""},0,null,null,null,null,null,{"$f":"IF(U196='Look-up Tables'!$A$3,5,IF(U196='Look-up Tables'!$A$4,4,IF(U196='Look-up Tables'!$A$5,3,IF(U196='Look-up Tables'!$A$6,2,IF(U196='Look-up Tables'!$A$7,1)))))","v":false},null,{"$f":"IF(W196='Look-up Tables'!$B$3,5,IF(W196='Look-up Tables'!$B$4,4,IF(W196='Look-up Tables'!$B$5,3,IF(W196='Look-up Tables'!$B$6,2,IF(W196='Look-up Tables'!$B$7,1)))))","v":false},null,{"$f":"IF(Y196='Look-up Tables'!$C$3,5,IF(Y196='Look-up Tables'!$C$4,4,IF(Y196='Look-up Tables'!$C$5,3,IF(Y196='Look-up Tables'!$C$6,2,IF(Y196='Look-up Tables'!$C$7,1)))))","v":false},{"$f":"IFERROR(VLOOKUP(AB196,'Look-up Tables'!$D$3:$E$127,2),\"\")","v":""},0]
[null,null,null,null,null,null,{"$f":"IF(F197='Look-up Tables'!$A$3,5,IF(F197='Look-up Tables'!$A$4,4,IF(F197='Look-up Tables'!$A$5,3,IF(F197='Look-up Tables'!$A$6,2,IF(F197='Look-up Tables'!$A$7,1)))))","v":false},null,null,{"$f":"IF(I197='Look-up Tables'!$B$3,5,IF(I197='Look-up Tables'!$B$4,4,IF(I197='Look-up Tables'!$B$5,3,IF(I197='Look-up Tables'!$B$6,2,IF(I197='Look-up Tables'!$B$7,1)))))","v":false},null,null,null,{"$f":"IF(M197='Look-up Tables'!$C$3,5,IF(M197='Look-up Tables'!$C$4,4,IF(M197='Look-up Tables'!$C$5,3,IF(M197='Look-up Tables'!$C$6,2,IF(M197='Look-up Tables'!$C$7,1)))))","v":false},{"$f":"IFERROR(VLOOKUP(P197,'Look-up Tables'!$D$3:$E$127,2),\"\")","v":""},0,null,null,null,null,null,{"$f":"IF(U197='Look-up Tables'!$A$3,5,IF(U197='Look-up Tables'!$A$4,4,IF(U197='Look-up Tables'!$A$5,3,IF(U197='Look-up Tables'!$A$6,2,IF(U197='Look-up Tables'!$A$7,1)))))","v":false},null,{"$f":"IF(W197='Look-up Tables'!$B$3,5,IF(W197='Look-up Tables'!$B$4,4,IF(W197='Look-up Tables'!$B$5,3,IF(W197='Look-up Tables'!$B$6,2,IF(W197='Look-up Tables'!$B$7,1)))))","v":false},null,{"$f":"IF(Y197='Look-up Tables'!$C$3,5,IF(Y197='Look-up Tables'!$C$4,4,IF(Y197='Look-up Tables'!$C$5,3,IF(Y197='Look-up Tables'!$C$6,2,IF(Y197='Look-up Tables'!$C$7,1)))))","v":false},{"$f":"IFERROR(VLOOKUP(AB197,'Look-up Tables'!$D$3:$E$127,2),\"\")","v":""},0]
[null,null,null,null,null,null,{"$f":"IF(F198='Look-up Tables'!$A$3,5,IF(F198='Look-up Tables'!$A$4,4,IF(F198='Look-up Tables'!$A$5,3,IF(F198='Look-up Tables'!$A$6,2,IF(F198='Look-up Tables'!$A$7,1)))))","v":false},null,null,{"$f":"IF(I198='Look-up Tables'!$B$3,5,IF(I198='Look-up Tables'!$B$4,4,IF(I198='Look-up Tables'!$B$5,3,IF(I198='Look-up Tables'!$B$6,2,IF(I198='Look-up Tables'!$B$7,1)))))","v":false},null,null,null,{"$f":"IF(M198='Look-up Tables'!$C$3,5,IF(M198='Look-up Tables'!$C$4,4,IF(M198='Look-up Tables'!$C$5,3,IF(M198='Look-up Tables'!$C$6,2,IF(M198='Look-up Tables'!$C$7,1)))))","v":false},{"$f":"IFERROR(VLOOKUP(P198,'Look-up Tables'!$D$3:$E$127,2),\"\")","v":""},0,null,null,null,null,null,{"$f":"IF(U198='Look-up Tables'!$A$3,5,IF(U198='Look-up Tables'!$A$4,4,IF(U198='Look-up Tables'!$A$5,3,IF(U198='Look-up Tables'!$A$6,2,IF(U198='Look-up Tables'!$A$7,1)))))","v":false},null,{"$f":"IF(W198='Look-up Tables'!$B$3,5,IF(W198='Look-up Tables'!$B$4,4,IF(W198='Look-up Tables'!$B$5,3,IF(W198='Look-up Tables'!$B$6,2,IF(W198='Look-up Tables'!$B$7,1)))))","v":false},null,{"$f":"IF(Y198='Look-up Tables'!$C$3,5,IF(Y198='Look-up Tables'!$C$4,4,IF(Y198='Look-up Tables'!$C$5,3,IF(Y198='Look-up Tables'!$C$6,2,IF(Y198='Look-up Tables'!$C$7,1)))))","v":false},{"$f":"IFERROR(VLOOKUP(AB198,'Look-up Tables'!$D$3:$E$127,2),\"\")","v":""},0]
[null,null,null,null,null,null,{"$f":"IF(F199='Look-up Tables'!$A$3,5,IF(F199='Look-up Tables'!$A$4,4,IF(F199='Look-up Tables'!$A$5,3,IF(F199='Look-up Tables'!$A$6,2,IF(F199='Look-up Tables'!$A$7,1)))))","v":false},null,null,{"$f":"IF(I199='Look-up Tables'!$B$3,5,IF(I199='Look-up Tables'!$B$4,4,IF(I199='Look-up Tables'!$B$5,3,IF(I199='Look-up Tables'!$B$6,2,IF(I199='Look-up Tables'!$B$7,1)))))","v":false},null,null,null,{"$f":"IF(M199='Look-up Tables'!$C$3,5,IF(M199='Look-up Tables'!$C$4,4,IF(M199='Look-up Tables'!$C$5,3,IF(M199='Look-up Tables'!$C$6,2,IF(M199='Look-up Tables'!$C$7,1)))))","v":false},{"$f":"IFERROR(VLOOKUP(P199,'Look-up Tables'!$D$3:$E$127,2),\"\")","v":""},0,null,null,null,null,null,{"$f":"IF(U199='Look-up Tables'!$A$3,5,IF(U199='Look-up Tables'!$A$4,4,IF(U199='Look-up Tables'!$A$5,3,IF(U199='Look-up Tables'!$A$6,2,IF(U199='Look-up Tables'!$A$7,1)))))","v":false},null,{"$f":"IF(W199='Look-up Tables'!$B$3,5,IF(W199='Look-up Tables'!$B$4,4,IF(W199='Look-up Tables'!$B$5,3,IF(W199='Look-up Tables'!$B$6,2,IF(W199='Look-up Tables'!$B$7,1)))))","v":false},null,{"$f":"IF(Y199='Look-up Tables'!$C$3,5,IF(Y199='Look-up Tables'!$C$4,4,IF(Y199='Look-up Tables'!$C$5,3,IF(Y199='Look-up Tables'!$C$6,2,IF(Y199='Look-up Tables'!$C$7,1)))))","v":false},{"$f":"IFERROR(VLOOKUP(AB199,'Look-up Tables'!$D$3:$E$127,2),\"\")","v":""},0]
[null,null,null,null,null,null,{"$f":"IF(F200='Look-up Tables'!$A$3,5,IF(F200='Look-up Tables'!$A$4,4,IF(F200='Look-up Tables'!$A$5,3,IF(F200='Look-up Tables'!$A$6,2,IF(F200='Look-up Tables'!$A$7,1)))))","v":false},null,null,{"$f":"IF(I200='Look-up Tables'!$B$3,5,IF(I200='Look-up Tables'!$B$4,4,IF(I200='Look-up Tables'!$B$5,3,IF(I200='Look-up Tables'!$B$6,2,IF(I200='Look-up Tables'!$B$7,1)))))","v":false},null,null,null,{"$f":"IF(M200='Look-up Tables'!$C$3,5,IF(M200='Look-up Tables'!$C$4,4,IF(M200='Look-up Tables'!$C$5,3,IF(M200='Look-up Tables'!$C$6,2,IF(M200='Look-up Tables'!$C$7,1)))))","v":false},{"$f":"IFERROR(VLOOKUP(P200,'Look-up Tables'!$D$3:$E$127,2),\"\")","v":""},0,null,null,null,null,null,{"$f":"IF(U200='Look-up Tables'!$A$3,5,IF(U200='Look-up Tables'!$A$4,4,IF(U200='Look-up Tables'!$A$5,3,IF(U200='Look-up Tables'!$A$6,2,IF(U200='Look-up Tables'!$A$7,1)))))","v":false},null,{"$f":"IF(W200='Look-up Tables'!$B$3,5,IF(W200='Look-up Tables'!$B$4,4,IF(W200='Look-up Tables'!$B$5,3,IF(W200='Look-up Tables'!$B$6,2,IF(W200='Look-up Tables'!$B$7,1)))))","v":false},null,{"$f":"IF(Y200='Look-up Tables'!$C$3,5,IF(Y200='Look-up Tables'!$C$4,4,IF(Y200='Look-up Tables'!$C$5,3,IF(Y200='Look-up Tables'!$C$6,2,IF(Y200='Look-up Tables'!$C$7,1)))))","v":false},{"$f":"IFERROR(VLOOKUP(AB200,'Look-up Tables'!$D$3:$E$127,2),\"\")","v":""},0]
[null,null,null,null,null,null,{"$f":"IF(F201='Look-up Tables'!$A$3,5,IF(F201='Look-up Tables'!$A$4,4,IF(F201='Look-up Tables'!$A$5,3,IF(F201='Look-up Tables'!$A$6,2,IF(F201='Look-up Tables'!$A$7,1)))))","v":false},null,null,{"$f":"IF(I201='Look-up Tables'!$B$3,5,IF(I201='Look-up Tables'!$B$4,4,IF(I201='Look-up Tables'!$B$5,3,IF(I201='Look-up Tables'!$B$6,2,IF(I201='Look-up Tables'!$B$7,1)))))","v":false},null,null,null,{"$f":"IF(M201='Look-up Tables'!$C$3,5,IF(M201='Look-up Tables'!$C$4,4,IF(M201='Look-up Tables'!$C$5,3,IF(M201='Look-up Tables'!$C$6,2,IF(M201='Look-up Tables'!$C$7,1)))))","v":false},{"$f":"IFERROR(VLOOKUP(P201,'Look-up Tables'!$D$3:$E$127,2),\"\")","v":""},0,null,null,null,null,null,{"$f":"IF(U201='Look-up Tables'!$A$3,5,IF(U201='Look-up Tables'!$A$4,4,IF(U201='Look-up Tables'!$A$5,3,IF(U201='Look-up Tables'!$A$6,2,IF(U201='Look-up Tables'!$A$7,1)))))","v":false},null,{"$f":"IF(W201='Look-up Tables'!$B$3,5,IF(W201='Look-up Tables'!$B$4,4,IF(W201='Look-up Tables'!$B$5,3,IF(W201='Look-up Tables'!$B$6,2,IF(W201='Look-up Tables'!$B$7,1)))))","v":false},null,{"$f":"IF(Y201='Look-up Tables'!$C$3,5,IF(Y201='Look-up Tables'!$C$4,4,IF(Y201='Look-up Tables'!$C$5,3,IF(Y201='Look-up Tables'!$C$6,2,IF(Y201='Look-up Tables'!$C$7,1)))))","v":false},{"$f":"IFERROR(VLOOKUP(AB201,'Look-up Tables'!$D$3:$E$127,2),\"\")","v":""},0]
[null,null,null,null,null,null,{"$f":"IF(F202='Look-up Tables'!$A$3,5,IF(F202='Look-up Tables'!$A$4,4,IF(F202='Look-up Tables'!$A$5,3,IF(F202='Look-up Tables'!$A$6,2,IF(F202='Look-up Tables'!$A$7,1)))))","v":false},null,null,{"$f":"IF(I202='Look-up Tables'!$B$3,5,IF(I202='Look-up Tables'!$B$4,4,IF(I202='Look-up Tables'!$B$5,3,IF(I202='Look-up Tables'!$B$6,2,IF(I202='Look-up Tables'!$B$7,1)))))","v":false},null,null,null,{"$f":"IF(M202='Look-up Tables'!$C$3,5,IF(M202='Look-up Tables'!$C$4,4,IF(M202='Look-up Tables'!$C$5,3,IF(M202='Look-up Tables'!$C$6,2,IF(M202='Look-up Tables'!$C$7,1)))))","v":false},{"$f":"IFERROR(VLOOKUP(P202,'Look-up Tables'!$D$3:$E$127,2),\"\")","v":""},0,null,null,null,null,null,{"$f":"IF(U202='Look-up Tables'!$A$3,5,IF(U202='Look-up Tables'!$A$4,4,IF(U202='Look-up Tables'!$A$5,3,IF(U202='Look-up Tables'!$A$6,2,IF(U202='Look-up Tables'!$A$7,1)))))","v":false},null,{"$f":"IF(W202='Look-up Tables'!$B$3,5,IF(W202='Look-up Tables'!$B$4,4,IF(W202='Look-up Tables'!$B$5,3,IF(W202='Look-up Tables'!$B$6,2,IF(W202='Look-up Tables'!$B$7,1)))))","v":false},null,{"$f":"IF(Y202='Look-up Tables'!$C$3,5,IF(Y202='Look-up Tables'!$C$4,4,IF(Y202='Look-up Tables'!$C$5,3,IF(Y202='Look-up Tables'!$C$6,2,IF(Y202='Look-up Tables'!$C$7,1)))))","v":false},{"$f":"IFERROR(VLOOKUP(AB202,'Look-up Tables'!$D$3:$E$127,2),\"\")","v":""},0]
[null,null,null,null,null,null,{"$f":"IF(F203='Look-up Tables'!$A$3,5,IF(F203='Look-up Tables'!$A$4,4,IF(F203='Look-up Tables'!$A$5,3,IF(F203='Look-up Tables'!$A$6,2,IF(F203='Look-up Tables'!$A$7,1)))))","v":false},null,null,{"$f":"IF(I203='Look-up Tables'!$B$3,5,IF(I203='Look-up Tables'!$B$4,4,IF(I203='Look-up Tables'!$B$5,3,IF(I203='Look-up Tables'!$B$6,2,IF(I203='Look-up Tables'!$B$7,1)))))","v":false},null,null,null,{"$f":"IF(M203='Look-up Tables'!$C$3,5,IF(M203='Look-up Tables'!$C$4,4,IF(M203='Look-up Tables'!$C$5,3,IF(M203='Look-up Tables'!$C$6,2,IF(M203='Look-up Tables'!$C$7,1)))))","v":false},{"$f":"IFERROR(VLOOKUP(P203,'Look-up Tables'!$D$3:$E$127,2),\"\")","v":""},0,null,null,null,null,null,{"$f":"IF(U203='Look-up Tables'!$A$3,5,IF(U203='Look-up Tables'!$A$4,4,IF(U203='Look-up Tables'!$A$5,3,IF(U203='Look-up Tables'!$A$6,2,IF(U203='Look-up Tables'!$A$7,1)))))","v":false},null,{"$f":"IF(W203='Look-up Tables'!$B$3,5,IF(W203='Look-up Tables'!$B$4,4,IF(W203='Look-up Tables'!$B$5,3,IF(W203='Look-up Tables'!$B$6,2,IF(W203='Look-up Tables'!$B$7,1)))))","v":false},null,{"$f":"IF(Y203='Look-up Tables'!$C$3,5,IF(Y203='Look-up Tables'!$C$4,4,IF(Y203='Look-up Tables'!$C$5,3,IF(Y203='Look-up Tables'!$C$6,2,IF(Y203='Look-up Tables'!$C$7,1)))))","v":false},{"$f":"IFERROR(VLOOKUP(AB203,'Look-up Tables'!$D$3:$E$127,2),\"\")","v":""},0]
[null,null,null,null,null,null,{"$f":"IF(F204='Look-up Tables'!$A$3,5,IF(F204='Look-up Tables'!$A$4,4,IF(F204='Look-up Tables'!$A$5,3,IF(F204='Look-up Tables'!$A$6,2,IF(F204='Look-up Tables'!$A$7,1)))))","v":false},null,null,{"$f":"IF(I204='Look-up Tables'!$B$3,5,IF(I204='Look-up Tables'!$B$4,4,IF(I204='Look-up Tables'!$B$5,3,IF(I204='Look-up Tables'!$B$6,2,IF(I204='Look-up Tables'!$B$7,1)))))","v":false},null,null,null,{"$f":"IF(M204='Look-up Tables'!$C$3,5,IF(M204='Look-up Tables'!$C$4,4,IF(M204='Look-up Tables'!$C$5,3,IF(M204='Look-up Tables'!$C$6,2,IF(M204='Look-up Tables'!$C$7,1)))))","v":false},{"$f":"IFERROR(VLOOKUP(P204,'Look-up Tables'!$D$3:$E$127,2),\"\")","v":""},0,null,null,null,null,null,{"$f":"IF(U204='Look-up Tables'!$A$3,5,IF(U204='Look-up Tables'!$A$4,4,IF(U204='Look-up Tables'!$A$5,3,IF(U204='Look-up Tables'!$A$6,2,IF(U204='Look-up Tables'!$A$7,1)))))","v":false},null,{"$f":"IF(W204='Look-up Tables'!$B$3,5,IF(W204='Look-up Tables'!$B$4,4,IF(W204='Look-up Tables'!$B$5,3,IF(W204='Look-up Tables'!$B$6,2,IF(W204='Look-up Tables'!$B$7,1)))))","v":false},null,{"$f":"IF(Y204='Look-up Tables'!$C$3,5,IF(Y204='Look-up Tables'!$C$4,4,IF(Y204='Look-up Tables'!$C$5,3,IF(Y204='Look-up Tables'!$C$6,2,IF(Y204='Look-up Tables'!$C$7,1)))))","v":false},{"$f":"IFERROR(VLOOKUP(AB204,'Look-up Tables'!$D$3:$E$127,2),\"\")","v":""},0]
[null,null,null,null,null,null,{"$f":"IF(F205='Look-up Tables'!$A$3,5,IF(F205='Look-up Tables'!$A$4,4,IF(F205='Look-up Tables'!$A$5,3,IF(F205='Look-up Tables'!$A$6,2,IF(F205='Look-up Tables'!$A$7,1)))))","v":false},null,null,{"$f":"IF(I205='Look-up Tables'!$B$3,5,IF(I205='Look-up Tables'!$B$4,4,IF(I205='Look-up Tables'!$B$5,3,IF(I205='Look-up Tables'!$B$6,2,IF(I205='Look-up Tables'!$B$7,1)))))","v":false},null,null,null,{"$f":"IF(M205='Look-up Tables'!$C$3,5,IF(M205='Look-up Tables'!$C$4,4,IF(M205='Look-up Tables'!$C$5,3,IF(M205='Look-up Tables'!$C$6,2,IF(M205='Look-up Tables'!$C$7,1)))))","v":false},{"$f":"IFERROR(VLOOKUP(P205,'Look-up Tables'!$D$3:$E$127,2),\"\")","v":""},0,null,null,null,null,null,{"$f":"IF(U205='Look-up Tables'!$A$3,5,IF(U205='Look-up Tables'!$A$4,4,IF(U205='Look-up Tables'!$A$5,3,IF(U205='Look-up Tables'!$A$6,2,IF(U205='Look-up Tables'!$A$7,1)))))","v":false},null,{"$f":"IF(W205='Look-up Tables'!$B$3,5,IF(W205='Look-up Tables'!$B$4,4,IF(W205='Look-up Tables'!$B$5,3,IF(W205='Look-up Tables'!$B$6,2,IF(W205='Look-up Tables'!$B$7,1)))))","v":false},null,{"$f":"IF(Y205='Look-up Tables'!$C$3,5,IF(Y205='Look-up Tables'!$C$4,4,IF(Y205='Look-up Tables'!$C$5,3,IF(Y205='Look-up Tables'!$C$6,2,IF(Y205='Look-up Tables'!$C$7,1)))))","v":false},{"$f":"IFERROR(VLOOKUP(AB205,'Look-up Tables'!$D$3:$E$127,2),\"\")","v":""},0]
[null,null,null,null,null,null,{"$f":"IF(F206='Look-up Tables'!$A$3,5,IF(F206='Look-up Tables'!$A$4,4,IF(F206='Look-up Tables'!$A$5,3,IF(F206='Look-up Tables'!$A$6,2,IF(F206='Look-up Tables'!$A$7,1)))))","v":false},null,null,{"$f":"IF(I206='Look-up Tables'!$B$3,5,IF(I206='Look-up Tables'!$B$4,4,IF(I206='Look-up Tables'!$B$5,3,IF(I206='Look-up Tables'!$B$6,2,IF(I206='Look-up Tables'!$B$7,1)))))","v":false},null,null,null,{"$f":"IF(M206='Look-up Tables'!$C$3,5,IF(M206='Look-up Tables'!$C$4,4,IF(M206='Look-up Tables'!$C$5,3,IF(M206='Look-up Tables'!$C$6,2,IF(M206='Look-up Tables'!$C$7,1)))))","v":false},{"$f":"IFERROR(VLOOKUP(P206,'Look-up Tables'!$D$3:$E$127,2),\"\")","v":""},0,null,null,null,null,null,{"$f":"IF(U206='Look-up Tables'!$A$3,5,IF(U206='Look-up Tables'!$A$4,4,IF(U206='Look-up Tables'!$A$5,3,IF(U206='Look-up Tables'!$A$6,2,IF(U206='Look-up Tables'!$A$7,1)))))","v":false},null,{"$f":"IF(W206='Look-up Tables'!$B$3,5,IF(W206='Look-up Tables'!$B$4,4,IF(W206='Look-up Tables'!$B$5,3,IF(W206='Look-up Tables'!$B$6,2,IF(W206='Look-up Tables'!$B$7,1)))))","v":false},null,{"$f":"IF(Y206='Look-up Tables'!$C$3,5,IF(Y206='Look-up Tables'!$C$4,4,IF(Y206='Look-up Tables'!$C$5,3,IF(Y206='Look-up Tables'!$C$6,2,IF(Y206='Look-up Tables'!$C$7,1)))))","v":false},{"$f":"IFERROR(VLOOKUP(AB206,'Look-up Tables'!$D$3:$E$127,2),\"\")","v":""},0]
[null,null,null,null,null,null,{"$f":"IF(F207='Look-up Tables'!$A$3,5,IF(F207='Look-up Tables'!$A$4,4,IF(F207='Look-up Tables'!$A$5,3,IF(F207='Look-up Tables'!$A$6,2,IF(F207='Look-up Tables'!$A$7,1)))))","v":false},null,null,{"$f":"IF(I207='Look-up Tables'!$B$3,5,IF(I207='Look-up Tables'!$B$4,4,IF(I207='Look-up Tables'!$B$5,3,IF(I207='Look-up Tables'!$B$6,2,IF(I207='Look-up Tables'!$B$7,1)))))","v":false},null,null,null,{"$f":"IF(M207='Look-up Tables'!$C$3,5,IF(M207='Look-up Tables'!$C$4,4,IF(M207='Look-up Tables'!$C$5,3,IF(M207='Look-up Tables'!$C$6,2,IF(M207='Look-up Tables'!$C$7,1)))))","v":false},{"$f":"IFERROR(VLOOKUP(P207,'Look-up Tables'!$D$3:$E$127,2),\"\")","v":""},0,null,null,null,null,null,{"$f":"IF(U207='Look-up Tables'!$A$3,5,IF(U207='Look-up Tables'!$A$4,4,IF(U207='Look-up Tables'!$A$5,3,IF(U207='Look-up Tables'!$A$6,2,IF(U207='Look-up Tables'!$A$7,1)))))","v":false},null,{"$f":"IF(W207='Look-up Tables'!$B$3,5,IF(W207='Look-up Tables'!$B$4,4,IF(W207='Look-up Tables'!$B$5,3,IF(W207='Look-up Tables'!$B$6,2,IF(W207='Look-up Tables'!$B$7,1)))))","v":false},null,{"$f":"IF(Y207='Look-up Tables'!$C$3,5,IF(Y207='Look-up Tables'!$C$4,4,IF(Y207='Look-up Tables'!$C$5,3,IF(Y207='Look-up Tables'!$C$6,2,IF(Y207='Look-up Tables'!$C$7,1)))))","v":false},{"$f":"IFERROR(VLOOKUP(AB207,'Look-up Tables'!$D$3:$E$127,2),\"\")","v":""},0]
[null,null,null,null,null,null,{"$f":"IF(F208='Look-up Tables'!$A$3,5,IF(F208='Look-up Tables'!$A$4,4,IF(F208='Look-up Tables'!$A$5,3,IF(F208='Look-up Tables'!$A$6,2,IF(F208='Look-up Tables'!$A$7,1)))))","v":false},null,null,{"$f":"IF(I208='Look-up Tables'!$B$3,5,IF(I208='Look-up Tables'!$B$4,4,IF(I208='Look-up Tables'!$B$5,3,IF(I208='Look-up Tables'!$B$6,2,IF(I208='Look-up Tables'!$B$7,1)))))","v":false},null,null,null,{"$f":"IF(M208='Look-up Tables'!$C$3,5,IF(M208='Look-up Tables'!$C$4,4,IF(M208='Look-up Tables'!$C$5,3,IF(M208='Look-up Tables'!$C$6,2,IF(M208='Look-up Tables'!$C$7,1)))))","v":false},{"$f":"IFERROR(VLOOKUP(P208,'Look-up Tables'!$D$3:$E$127,2),\"\")","v":""},0,null,null,null,null,null,{"$f":"IF(U208='Look-up Tables'!$A$3,5,IF(U208='Look-up Tables'!$A$4,4,IF(U208='Look-up Tables'!$A$5,3,IF(U208='Look-up Tables'!$A$6,2,IF(U208='Look-up Tables'!$A$7,1)))))","v":false},null,{"$f":"IF(W208='Look-up Tables'!$B$3,5,IF(W208='Look-up Tables'!$B$4,4,IF(W208='Look-up Tables'!$B$5,3,IF(W208='Look-up Tables'!$B$6,2,IF(W208='Look-up Tables'!$B$7,1)))))","v":false},null,{"$f":"IF(Y208='Look-up Tables'!$C$3,5,IF(Y208='Look-up Tables'!$C$4,4,IF(Y208='Look-up Tables'!$C$5,3,IF(Y208='Look-up Tables'!$C$6,2,IF(Y208='Look-up Tables'!$C$7,1)))))","v":false},{"$f":"IFERROR(VLOOKUP(AB208,'Look-up Tables'!$D$3:$E$127,2),\"\")","v":""},0]
[null,null,null,null,null,null,{"$f":"IF(F209='Look-up Tables'!$A$3,5,IF(F209='Look-up Tables'!$A$4,4,IF(F209='Look-up Tables'!$A$5,3,IF(F209='Look-up Tables'!$A$6,2,IF(F209='Look-up Tables'!$A$7,1)))))","v":false},null,null,{"$f":"IF(I209='Look-up Tables'!$B$3,5,IF(I209='Look-up Tables'!$B$4,4,IF(I209='Look-up Tables'!$B$5,3,IF(I209='Look-up Tables'!$B$6,2,IF(I209='Look-up Tables'!$B$7,1)))))","v":false},null,null,null,{"$f":"IF(M209='Look-up Tables'!$C$3,5,IF(M209='Look-up Tables'!$C$4,4,IF(M209='Look-up Tables'!$C$5,3,IF(M209='Look-up Tables'!$C$6,2,IF(M209='Look-up Tables'!$C$7,1)))))","v":false},{"$f":"IFERROR(VLOOKUP(P209,'Look-up Tables'!$D$3:$E$127,2),\"\")","v":""},0,null,null,null,null,null,{"$f":"IF(U209='Look-up Tables'!$A$3,5,IF(U209='Look-up Tables'!$A$4,4,IF(U209='Look-up Tables'!$A$5,3,IF(U209='Look-up Tables'!$A$6,2,IF(U209='Look-up Tables'!$A$7,1)))))","v":false},null,{"$f":"IF(W209='Look-up Tables'!$B$3,5,IF(W209='Look-up Tables'!$B$4,4,IF(W209='Look-up Tables'!$B$5,3,IF(W209='Look-up Tables'!$B$6,2,IF(W209='Look-up Tables'!$B$7,1)))))","v":false},null,{"$f":"IF(Y209='Look-up Tables'!$C$3,5,IF(Y209='Look-up Tables'!$C$4,4,IF(Y209='Look-up Tables'!$C$5,3,IF(Y209='Look-up Tables'!$C$6,2,IF(Y209='Look-up Tables'!$C$7,1)))))","v":false},{"$f":"IFERROR(VLOOKUP(AB209,'Look-up Tables'!$D$3:$E$127,2),\"\")","v":""},0]
[null,null,null,null,null,null,{"$f":"IF(F210='Look-up Tables'!$A$3,5,IF(F210='Look-up Tables'!$A$4,4,IF(F210='Look-up Tables'!$A$5,3,IF(F210='Look-up Tables'!$A$6,2,IF(F210='Look-up Tables'!$A$7,1)))))","v":false},null,null,{"$f":"IF(I210='Look-up Tables'!$B$3,5,IF(I210='Look-up Tables'!$B$4,4,IF(I210='Look-up Tables'!$B$5,3,IF(I210='Look-up Tables'!$B$6,2,IF(I210='Look-up Tables'!$B$7,1)))))","v":false},null,null,null,{"$f":"IF(M210='Look-up Tables'!$C$3,5,IF(M210='Look-up Tables'!$C$4,4,IF(M210='Look-up Tables'!$C$5,3,IF(M210='Look-up Tables'!$C$6,2,IF(M210='Look-up Tables'!$C$7,1)))))","v":false},{"$f":"IFERROR(VLOOKUP(P210,'Look-up Tables'!$D$3:$E$127,2),\"\")","v":""},0,null,null,null,null,null,{"$f":"IF(U210='Look-up Tables'!$A$3,5,IF(U210='Look-up Tables'!$A$4,4,IF(U210='Look-up Tables'!$A$5,3,IF(U210='Look-up Tables'!$A$6,2,IF(U210='Look-up Tables'!$A$7,1)))))","v":false},null,{"$f":"IF(W210='Look-up Tables'!$B$3,5,IF(W210='Look-up Tables'!$B$4,4,IF(W210='Look-up Tables'!$B$5,3,IF(W210='Look-up Tables'!$B$6,2,IF(W210='Look-up Tables'!$B$7,1)))))","v":false},null,{"$f":"IF(Y210='Look-up Tables'!$C$3,5,IF(Y210='Look-up Tables'!$C$4,4,IF(Y210='Look-up Tables'!$C$5,3,IF(Y210='Look-up Tables'!$C$6,2,IF(Y210='Look-up Tables'!$C$7,1)))))","v":false},{"$f":"IFERROR(VLOOKUP(AB210,'Look-up Tables'!$D$3:$E$127,2),\"\")","v":""},0]
[null,null,null,null,null,null,{"$f":"IF(F211='Look-up Tables'!$A$3,5,IF(F211='Look-up Tables'!$A$4,4,IF(F211='Look-up Tables'!$A$5,3,IF(F211='Look-up Tables'!$A$6,2,IF(F211='Look-up Tables'!$A$7,1)))))","v":false},null,null,{"$f":"IF(I211='Look-up Tables'!$B$3,5,IF(I211='Look-up Tables'!$B$4,4,IF(I211='Look-up Tables'!$B$5,3,IF(I211='Look-up Tables'!$B$6,2,IF(I211='Look-up Tables'!$B$7,1)))))","v":false},null,null,null,{"$f":"IF(M211='Look-up Tables'!$C$3,5,IF(M211='Look-up Tables'!$C$4,4,IF(M211='Look-up Tables'!$C$5,3,IF(M211='Look-up Tables'!$C$6,2,IF(M211='Look-up Tables'!$C$7,1)))))","v":false},{"$f":"IFERROR(VLOOKUP(P211,'Look-up Tables'!$D$3:$E$127,2),\"\")","v":""},0,null,null,null,null,null,{"$f":"IF(U211='Look-up Tables'!$A$3,5,IF(U211='Look-up Tables'!$A$4,4,IF(U211='Look-up Tables'!$A$5,3,IF(U211='Look-up Tables'!$A$6,2,IF(U211='Look-up Tables'!$A$7,1)))))","v":false},null,{"$f":"IF(W211='Look-up Tables'!$B$3,5,IF(W211='Look-up Tables'!$B$4,4,IF(W211='Look-up Tables'!$B$5,3,IF(W211='Look-up Tables'!$B$6,2,IF(W211='Look-up Tables'!$B$7,1)))))","v":false},null,{"$f":"IF(Y211='Look-up Tables'!$C$3,5,IF(Y211='Look-up Tables'!$C$4,4,IF(Y211='Look-up Tables'!$C$5,3,IF(Y211='Look-up Tables'!$C$6,2,IF(Y211='Look-up Tables'!$C$7,1)))))","v":false},{"$f":"IFERROR(VLOOKUP(AB211,'Look-up Tables'!$D$3:$E$127,2),\"\")","v":""},0]
[null,null,null,null,null,null,{"$f":"IF(F212='Look-up Tables'!$A$3,5,IF(F212='Look-up Tables'!$A$4,4,IF(F212='Look-up Tables'!$A$5,3,IF(F212='Look-up Tables'!$A$6,2,IF(F212='Look-up Tables'!$A$7,1)))))","v":false},null,null,{"$f":"IF(I212='Look-up Tables'!$B$3,5,IF(I212='Look-up Tables'!$B$4,4,IF(I212='Look-up Tables'!$B$5,3,IF(I212='Look-up Tables'!$B$6,2,IF(I212='Look-up Tables'!$B$7,1)))))","v":false},null,null,null,{"$f":"IF(M212='Look-up Tables'!$C$3,5,IF(M212='Look-up Tables'!$C$4,4,IF(M212='Look-up Tables'!$C$5,3,IF(M212='Look-up Tables'!$C$6,2,IF(M212='Look-up Tables'!$C$7,1)))))","v":false},{"$f":"IFERROR(VLOOKUP(P212,'Look-up Tables'!$D$3:$E$127,2),\"\")","v":""},0,null,null,null,null,null,{"$f":"IF(U212='Look-up Tables'!$A$3,5,IF(U212='Look-up Tables'!$A$4,4,IF(U212='Look-up Tables'!$A$5,3,IF(U212='Look-up Tables'!$A$6,2,IF(U212='Look-up Tables'!$A$7,1)))))","v":false},null,{"$f":"IF(W212='Look-up Tables'!$B$3,5,IF(W212='Look-up Tables'!$B$4,4,IF(W212='Look-up Tables'!$B$5,3,IF(W212='Look-up Tables'!$B$6,2,IF(W212='Look-up Tables'!$B$7,1)))))","v":false},null,{"$f":"IF(Y212='Look-up Tables'!$C$3,5,IF(Y212='Look-up Tables'!$C$4,4,IF(Y212='Look-up Tables'!$C$5,3,IF(Y212='Look-up Tables'!$C$6,2,IF(Y212='Look-up Tables'!$C$7,1)))))","v":false},{"$f":"IFERROR(VLOOKUP(AB212,'Look-up Tables'!$D$3:$E$127,2),\"\")","v":""},0]
[null,null,null,null,null,null,{"$f":"IF(F213='Look-up Tables'!$A$3,5,IF(F213='Look-up Tables'!$A$4,4,IF(F213='Look-up Tables'!$A$5,3,IF(F213='Look-up Tables'!$A$6,2,IF(F213='Look-up Tables'!$A$7,1)))))","v":false},null,null,{"$f":"IF(I213='Look-up Tables'!$B$3,5,IF(I213='Look-up Tables'!$B$4,4,IF(I213='Look-up Tables'!$B$5,3,IF(I213='Look-up Tables'!$B$6,2,IF(I213='Look-up Tables'!$B$7,1)))))","v":false},null,null,null,{"$f":"IF(M213='Look-up Tables'!$C$3,5,IF(M213='Look-up Tables'!$C$4,4,IF(M213='Look-up Tables'!$C$5,3,IF(M213='Look-up Tables'!$C$6,2,IF(M213='Look-up Tables'!$C$7,1)))))","v":false},{"$f":"IFERROR(VLOOKUP(P213,'Look-up Tables'!$D$3:$E$127,2),\"\")","v":""},0,null,null,null,null,null,{"$f":"IF(U213='Look-up Tables'!$A$3,5,IF(U213='Look-up Tables'!$A$4,4,IF(U213='Look-up Tables'!$A$5,3,IF(U213='Look-up Tables'!$A$6,2,IF(U213='Look-up Tables'!$A$7,1)))))","v":false},null,{"$f":"IF(W213='Look-up Tables'!$B$3,5,IF(W213='Look-up Tables'!$B$4,4,IF(W213='Look-up Tables'!$B$5,3,IF(W213='Look-up Tables'!$B$6,2,IF(W213='Look-up Tables'!$B$7,1)))))","v":false},null,{"$f":"IF(Y213='Look-up Tables'!$C$3,5,IF(Y213='Look-up Tables'!$C$4,4,IF(Y213='Look-up Tables'!$C$5,3,IF(Y213='Look-up Tables'!$C$6,2,IF(Y213='Look-up Tables'!$C$7,1)))))","v":false},{"$f":"IFERROR(VLOOKUP(AB213,'Look-up Tables'!$D$3:$E$127,2),\"\")","v":""},0]
[null,null,null,null,null,null,{"$f":"IF(F214='Look-up Tables'!$A$3,5,IF(F214='Look-up Tables'!$A$4,4,IF(F214='Look-up Tables'!$A$5,3,IF(F214='Look-up Tables'!$A$6,2,IF(F214='Look-up Tables'!$A$7,1)))))","v":false},null,null,{"$f":"IF(I214='Look-up Tables'!$B$3,5,IF(I214='Look-up Tables'!$B$4,4,IF(I214='Look-up Tables'!$B$5,3,IF(I214='Look-up Tables'!$B$6,2,IF(I214='Look-up Tables'!$B$7,1)))))","v":false},null,null,null,{"$f":"IF(M214='Look-up Tables'!$C$3,5,IF(M214='Look-up Tables'!$C$4,4,IF(M214='Look-up Tables'!$C$5,3,IF(M214='Look-up Tables'!$C$6,2,IF(M214='Look-up Tables'!$C$7,1)))))","v":false},{"$f":"IFERROR(VLOOKUP(P214,'Look-up Tables'!$D$3:$E$127,2),\"\")","v":""},0,null,null,null,null,null,{"$f":"IF(U214='Look-up Tables'!$A$3,5,IF(U214='Look-up Tables'!$A$4,4,IF(U214='Look-up Tables'!$A$5,3,IF(U214='Look-up Tables'!$A$6,2,IF(U214='Look-up Tables'!$A$7,1)))))","v":false},null,{"$f":"IF(W214='Look-up Tables'!$B$3,5,IF(W214='Look-up Tables'!$B$4,4,IF(W214='Look-up Tables'!$B$5,3,IF(W214='Look-up Tables'!$B$6,2,IF(W214='Look-up Tables'!$B$7,1)))))","v":false},null,{"$f":"IF(Y214='Look-up Tables'!$C$3,5,IF(Y214='Look-up Tables'!$C$4,4,IF(Y214='Look-up Tables'!$C$5,3,IF(Y214='Look-up Tables'!$C$6,2,IF(Y214='Look-up Tables'!$C$7,1)))))","v":false},{"$f":"IFERROR(VLOOKUP(AB214,'Look-up Tables'!$D$3:$E$127,2),\"\")","v":""},0]
[null,null,null,null,null,null,{"$f":"IF(F215='Look-up Tables'!$A$3,5,IF(F215='Look-up Tables'!$A$4,4,IF(F215='Look-up Tables'!$A$5,3,IF(F215='Look-up Tables'!$A$6,2,IF(F215='Look-up Tables'!$A$7,1)))))","v":false},null,null,{"$f":"IF(I215='Look-up Tables'!$B$3,5,IF(I215='Look-up Tables'!$B$4,4,IF(I215='Look-up Tables'!$B$5,3,IF(I215='Look-up Tables'!$B$6,2,IF(I215='Look-up Tables'!$B$7,1)))))","v":false},null,null,null,{"$f":"IF(M215='Look-up Tables'!$C$3,5,IF(M215='Look-up Tables'!$C$4,4,IF(M215='Look-up Tables'!$C$5,3,IF(M215='Look-up Tables'!$C$6,2,IF(M215='Look-up Tables'!$C$7,1)))))","v":false},{"$f":"IFERROR(VLOOKUP(P215,'Look-up Tables'!$D$3:$E$127,2),\"\")","v":""},0,null,null,null,null,null,{"$f":"IF(U215='Look-up Tables'!$A$3,5,IF(U215='Look-up Tables'!$A$4,4,IF(U215='Look-up Tables'!$A$5,3,IF(U215='Look-up Tables'!$A$6,2,IF(U215='Look-up Tables'!$A$7,1)))))","v":false},null,{"$f":"IF(W215='Look-up Tables'!$B$3,5,IF(W215='Look-up Tables'!$B$4,4,IF(W215='Look-up Tables'!$B$5,3,IF(W215='Look-up Tables'!$B$6,2,IF(W215='Look-up Tables'!$B$7,1)))))","v":false},null,{"$f":"IF(Y215='Look-up Tables'!$C$3,5,IF(Y215='Look-up Tables'!$C$4,4,IF(Y215='Look-up Tables'!$C$5,3,IF(Y215='Look-up Tables'!$C$6,2,IF(Y215='Look-up Tables'!$C$7,1)))))","v":false},{"$f":"IFERROR(VLOOKUP(AB215,'Look-up Tables'!$D$3:$E$127,2),\"\")","v":""},0]
[null,null,null,null,null,null,{"$f":"IF(F216='Look-up Tables'!$A$3,5,IF(F216='Look-up Tables'!$A$4,4,IF(F216='Look-up Tables'!$A$5,3,IF(F216='Look-up Tables'!$A$6,2,IF(F216='Look-up Tables'!$A$7,1)))))","v":false},null,null,{"$f":"IF(I216='Look-up Tables'!$B$3,5,IF(I216='Look-up Tables'!$B$4,4,IF(I216='Look-up Tables'!$B$5,3,IF(I216='Look-up Tables'!$B$6,2,IF(I216='Look-up Tables'!$B$7,1)))))","v":false},null,null,null,{"$f":"IF(M216='Look-up Tables'!$C$3,5,IF(M216='Look-up Tables'!$C$4,4,IF(M216='Look-up Tables'!$C$5,3,IF(M216='Look-up Tables'!$C$6,2,IF(M216='Look-up Tables'!$C$7,1)))))","v":false},{"$f":"IFERROR(VLOOKUP(P216,'Look-up Tables'!$D$3:$E$127,2),\"\")","v":""},0,null,null,null,null,null,{"$f":"IF(U216='Look-up Tables'!$A$3,5,IF(U216='Look-up Tables'!$A$4,4,IF(U216='Look-up Tables'!$A$5,3,IF(U216='Look-up Tables'!$A$6,2,IF(U216='Look-up Tables'!$A$7,1)))))","v":false},null,{"$f":"IF(W216='Look-up Tables'!$B$3,5,IF(W216='Look-up Tables'!$B$4,4,IF(W216='Look-up Tables'!$B$5,3,IF(W216='Look-up Tables'!$B$6,2,IF(W216='Look-up Tables'!$B$7,1)))))","v":false},null,{"$f":"IF(Y216='Look-up Tables'!$C$3,5,IF(Y216='Look-up Tables'!$C$4,4,IF(Y216='Look-up Tables'!$C$5,3,IF(Y216='Look-up Tables'!$C$6,2,IF(Y216='Look-up Tables'!$C$7,1)))))","v":false},{"$f":"IFERROR(VLOOKUP(AB216,'Look-up Tables'!$D$3:$E$127,2),\"\")","v":""},0]
[null,null,null,null,null,null,{"$f":"IF(F217='Look-up Tables'!$A$3,5,IF(F217='Look-up Tables'!$A$4,4,IF(F217='Look-up Tables'!$A$5,3,IF(F217='Look-up Tables'!$A$6,2,IF(F217='Look-up Tables'!$A$7,1)))))","v":false},null,null,{"$f":"IF(I217='Look-up Tables'!$B$3,5,IF(I217='Look-up Tables'!$B$4,4,IF(I217='Look-up Tables'!$B$5,3,IF(I217='Look-up Tables'!$B$6,2,IF(I217='Look-up Tables'!$B$7,1)))))","v":false},null,null,null,{"$f":"IF(M217='Look-up Tables'!$C$3,5,IF(M217='Look-up Tables'!$C$4,4,IF(M217='Look-up Tables'!$C$5,3,IF(M217='Look-up Tables'!$C$6,2,IF(M217='Look-up Tables'!$C$7,1)))))","v":false},{"$f":"IFERROR(VLOOKUP(P217,'Look-up Tables'!$D$3:$E$127,2),\"\")","v":""},0,null,null,null,null,null,{"$f":"IF(U217='Look-up Tables'!$A$3,5,IF(U217='Look-up Tables'!$A$4,4,IF(U217='Look-up Tables'!$A$5,3,IF(U217='Look-up Tables'!$A$6,2,IF(U217='Look-up Tables'!$A$7,1)))))","v":false},null,{"$f":"IF(W217='Look-up Tables'!$B$3,5,IF(W217='Look-up Tables'!$B$4,4,IF(W217='Look-up Tables'!$B$5,3,IF(W217='Look-up Tables'!$B$6,2,IF(W217='Look-up Tables'!$B$7,1)))))","v":false},null,{"$f":"IF(Y217='Look-up Tables'!$C$3,5,IF(Y217='Look-up Tables'!$C$4,4,IF(Y217='Look-up Tables'!$C$5,3,IF(Y217='Look-up Tables'!$C$6,2,IF(Y217='Look-up Tables'!$C$7,1)))))","v":false},{"$f":"IFERROR(VLOOKUP(AB217,'Look-up Tables'!$D$3:$E$127,2),\"\")","v":""},0]
[null,null,null,null,null,null,{"$f":"IF(F218='Look-up Tables'!$A$3,5,IF(F218='Look-up Tables'!$A$4,4,IF(F218='Look-up Tables'!$A$5,3,IF(F218='Look-up Tables'!$A$6,2,IF(F218='Look-up Tables'!$A$7,1)))))","v":false},null,null,{"$f":"IF(I218='Look-up Tables'!$B$3,5,IF(I218='Look-up Tables'!$B$4,4,IF(I218='Look-up Tables'!$B$5,3,IF(I218='Look-up Tables'!$B$6,2,IF(I218='Look-up Tables'!$B$7,1)))))","v":false},null,null,null,{"$f":"IF(M218='Look-up Tables'!$C$3,5,IF(M218='Look-up Tables'!$C$4,4,IF(M218='Look-up Tables'!$C$5,3,IF(M218='Look-up Tables'!$C$6,2,IF(M218='Look-up Tables'!$C$7,1)))))","v":false},{"$f":"IFERROR(VLOOKUP(P218,'Look-up Tables'!$D$3:$E$127,2),\"\")","v":""},0,null,null,null,null,null,{"$f":"IF(U218='Look-up Tables'!$A$3,5,IF(U218='Look-up Tables'!$A$4,4,IF(U218='Look-up Tables'!$A$5,3,IF(U218='Look-up Tables'!$A$6,2,IF(U218='Look-up Tables'!$A$7,1)))))","v":false},null,{"$f":"IF(W218='Look-up Tables'!$B$3,5,IF(W218='Look-up Tables'!$B$4,4,IF(W218='Look-up Tables'!$B$5,3,IF(W218='Look-up Tables'!$B$6,2,IF(W218='Look-up Tables'!$B$7,1)))))","v":false},null,{"$f":"IF(Y218='Look-up Tables'!$C$3,5,IF(Y218='Look-up Tables'!$C$4,4,IF(Y218='Look-up Tables'!$C$5,3,IF(Y218='Look-up Tables'!$C$6,2,IF(Y218='Look-up Tables'!$C$7,1)))))","v":false},{"$f":"IFERROR(VLOOKUP(AB218,'Look-up Tables'!$D$3:$E$127,2),\"\")","v":""},0]
[null,null,null,null,null,null,{"$f":"IF(F219='Look-up Tables'!$A$3,5,IF(F219='Look-up Tables'!$A$4,4,IF(F219='Look-up Tables'!$A$5,3,IF(F219='Look-up Tables'!$A$6,2,IF(F219='Look-up Tables'!$A$7,1)))))","v":false},null,null,{"$f":"IF(I219='Look-up Tables'!$B$3,5,IF(I219='Look-up Tables'!$B$4,4,IF(I219='Look-up Tables'!$B$5,3,IF(I219='Look-up Tables'!$B$6,2,IF(I219='Look-up Tables'!$B$7,1)))))","v":false},null,null,null,{"$f":"IF(M219='Look-up Tables'!$C$3,5,IF(M219='Look-up Tables'!$C$4,4,IF(M219='Look-up Tables'!$C$5,3,IF(M219='Look-up Tables'!$C$6,2,IF(M219='Look-up Tables'!$C$7,1)))))","v":false},{"$f":"IFERROR(VLOOKUP(P219,'Look-up Tables'!$D$3:$E$127,2),\"\")","v":""},0,null,null,null,null,null,{"$f":"IF(U219='Look-up Tables'!$A$3,5,IF(U219='Look-up Tables'!$A$4,4,IF(U219='Look-up Tables'!$A$5,3,IF(U219='Look-up Tables'!$A$6,2,IF(U219='Look-up Tables'!$A$7,1)))))","v":false},null,{"$f":"IF(W219='Look-up Tables'!$B$3,5,IF(W219='Look-up Tables'!$B$4,4,IF(W219='Look-up Tables'!$B$5,3,IF(W219='Look-up Tables'!$B$6,2,IF(W219='Look-up Tables'!$B$7,1)))))","v":false},null,{"$f":"IF(Y219='Look-up Tables'!$C$3,5,IF(Y219='Look-up Tables'!$C$4,4,IF(Y219='Look-up Tables'!$C$5,3,IF(Y219='Look-up Tables'!$C$6,2,IF(Y219='Look-up Tables'!$C$7,1)))))","v":false},{"$f":"IFERROR(VLOOKUP(AB219,'Look-up Tables'!$D$3:$E$127,2),\"\")","v":""},0]
[null,null,null,null,null,null,{"$f":"IF(F220='Look-up Tables'!$A$3,5,IF(F220='Look-up Tables'!$A$4,4,IF(F220='Look-up Tables'!$A$5,3,IF(F220='Look-up Tables'!$A$6,2,IF(F220='Look-up Tables'!$A$7,1)))))","v":false},null,null,{"$f":"IF(I220='Look-up Tables'!$B$3,5,IF(I220='Look-up Tables'!$B$4,4,IF(I220='Look-up Tables'!$B$5,3,IF(I220='Look-up Tables'!$B$6,2,IF(I220='Look-up Tables'!$B$7,1)))))","v":false},null,null,null,{"$f":"IF(M220='Look-up Tables'!$C$3,5,IF(M220='Look-up Tables'!$C$4,4,IF(M220='Look-up Tables'!$C$5,3,IF(M220='Look-up Tables'!$C$6,2,IF(M220='Look-up Tables'!$C$7,1)))))","v":false},{"$f":"IFERROR(VLOOKUP(P220,'Look-up Tables'!$D$3:$E$127,2),\"\")","v":""},0,null,null,null,null,null,{"$f":"IF(U220='Look-up Tables'!$A$3,5,IF(U220='Look-up Tables'!$A$4,4,IF(U220='Look-up Tables'!$A$5,3,IF(U220='Look-up Tables'!$A$6,2,IF(U220='Look-up Tables'!$A$7,1)))))","v":false},null,{"$f":"IF(W220='Look-up Tables'!$B$3,5,IF(W220='Look-up Tables'!$B$4,4,IF(W220='Look-up Tables'!$B$5,3,IF(W220='Look-up Tables'!$B$6,2,IF(W220='Look-up Tables'!$B$7,1)))))","v":false},null,{"$f":"IF(Y220='Look-up Tables'!$C$3,5,IF(Y220='Look-up Tables'!$C$4,4,IF(Y220='Look-up Tables'!$C$5,3,IF(Y220='Look-up Tables'!$C$6,2,IF(Y220='Look-up Tables'!$C$7,1)))))","v":false},{"$f":"IFERROR(VLOOKUP(AB220,'Look-up Tables'!$D$3:$E$127,2),\"\")","v":""},0]
[null,null,null,null,null,null,{"$f":"IF(F221='Look-up Tables'!$A$3,5,IF(F221='Look-up Tables'!$A$4,4,IF(F221='Look-up Tables'!$A$5,3,IF(F221='Look-up Tables'!$A$6,2,IF(F221='Look-up Tables'!$A$7,1)))))","v":false},null,null,{"$f":"IF(I221='Look-up Tables'!$B$3,5,IF(I221='Look-up Tables'!$B$4,4,IF(I221='Look-up Tables'!$B$5,3,IF(I221='Look-up Tables'!$B$6,2,IF(I221='Look-up Tables'!$B$7,1)))))","v":false},null,null,null,{"$f":"IF(M221='Look-up Tables'!$C$3,5,IF(M221='Look-up Tables'!$C$4,4,IF(M221='Look-up Tables'!$C$5,3,IF(M221='Look-up Tables'!$C$6,2,IF(M221='Look-up Tables'!$C$7,1)))))","v":false},{"$f":"IFERROR(VLOOKUP(P221,'Look-up Tables'!$D$3:$E$127,2),\"\")","v":""},0,null,null,null,null,null,{"$f":"IF(U221='Look-up Tables'!$A$3,5,IF(U221='Look-up Tables'!$A$4,4,IF(U221='Look-up Tables'!$A$5,3,IF(U221='Look-up Tables'!$A$6,2,IF(U221='Look-up Tables'!$A$7,1)))))","v":false},null,{"$f":"IF(W221='Look-up Tables'!$B$3,5,IF(W221='Look-up Tables'!$B$4,4,IF(W221='Look-up Tables'!$B$5,3,IF(W221='Look-up Tables'!$B$6,2,IF(W221='Look-up Tables'!$B$7,1)))))","v":false},null,{"$f":"IF(Y221='Look-up Tables'!$C$3,5,IF(Y221='Look-up Tables'!$C$4,4,IF(Y221='Look-up Tables'!$C$5,3,IF(Y221='Look-up Tables'!$C$6,2,IF(Y221='Look-up Tables'!$C$7,1)))))","v":false},{"$f":"IFERROR(VLOOKUP(AB221,'Look-up Tables'!$D$3:$E$127,2),\"\")","v":""},0]
[null,null,null,null,null,null,{"$f":"IF(F222='Look-up Tables'!$A$3,5,IF(F222='Look-up Tables'!$A$4,4,IF(F222='Look-up Tables'!$A$5,3,IF(F222='Look-up Tables'!$A$6,2,IF(F222='Look-up Tables'!$A$7,1)))))","v":false},null,null,{"$f":"IF(I222='Look-up Tables'!$B$3,5,IF(I222='Look-up Tables'!$B$4,4,IF(I222='Look-up Tables'!$B$5,3,IF(I222='Look-up Tables'!$B$6,2,IF(I222='Look-up Tables'!$B$7,1)))))","v":false},null,null,null,{"$f":"IF(M222='Look-up Tables'!$C$3,5,IF(M222='Look-up Tables'!$C$4,4,IF(M222='Look-up Tables'!$C$5,3,IF(M222='Look-up Tables'!$C$6,2,IF(M222='Look-up Tables'!$C$7,1)))))","v":false},{"$f":"IFERROR(VLOOKUP(P222,'Look-up Tables'!$D$3:$E$127,2),\"\")","v":""},0,null,null,null,null,null,{"$f":"IF(U222='Look-up Tables'!$A$3,5,IF(U222='Look-up Tables'!$A$4,4,IF(U222='Look-up Tables'!$A$5,3,IF(U222='Look-up Tables'!$A$6,2,IF(U222='Look-up Tables'!$A$7,1)))))","v":false},null,{"$f":"IF(W222='Look-up Tables'!$B$3,5,IF(W222='Look-up Tables'!$B$4,4,IF(W222='Look-up Tables'!$B$5,3,IF(W222='Look-up Tables'!$B$6,2,IF(W222='Look-up Tables'!$B$7,1)))))","v":false},null,{"$f":"IF(Y222='Look-up Tables'!$C$3,5,IF(Y222='Look-up Tables'!$C$4,4,IF(Y222='Look-up Tables'!$C$5,3,IF(Y222='Look-up Tables'!$C$6,2,IF(Y222='Look-up Tables'!$C$7,1)))))","v":false},{"$f":"IFERROR(VLOOKUP(AB222,'Look-up Tables'!$D$3:$E$127,2),\"\")","v":""},0]
[null,null,null,null,null,null,{"$f":"IF(F223='Look-up Tables'!$A$3,5,IF(F223='Look-up Tables'!$A$4,4,IF(F223='Look-up Tables'!$A$5,3,IF(F223='Look-up Tables'!$A$6,2,IF(F223='Look-up Tables'!$A$7,1)))))","v":false},null,null,{"$f":"IF(I223='Look-up Tables'!$B$3,5,IF(I223='Look-up Tables'!$B$4,4,IF(I223='Look-up Tables'!$B$5,3,IF(I223='Look-up Tables'!$B$6,2,IF(I223='Look-up Tables'!$B$7,1)))))","v":false},null,null,null,{"$f":"IF(M223='Look-up Tables'!$C$3,5,IF(M223='Look-up Tables'!$C$4,4,IF(M223='Look-up Tables'!$C$5,3,IF(M223='Look-up Tables'!$C$6,2,IF(M223='Look-up Tables'!$C$7,1)))))","v":false},{"$f":"IFERROR(VLOOKUP(P223,'Look-up Tables'!$D$3:$E$127,2),\"\")","v":""},0,null,null,null,null,null,{"$f":"IF(U223='Look-up Tables'!$A$3,5,IF(U223='Look-up Tables'!$A$4,4,IF(U223='Look-up Tables'!$A$5,3,IF(U223='Look-up Tables'!$A$6,2,IF(U223='Look-up Tables'!$A$7,1)))))","v":false},null,{"$f":"IF(W223='Look-up Tables'!$B$3,5,IF(W223='Look-up Tables'!$B$4,4,IF(W223='Look-up Tables'!$B$5,3,IF(W223='Look-up Tables'!$B$6,2,IF(W223='Look-up Tables'!$B$7,1)))))","v":false},null,{"$f":"IF(Y223='Look-up Tables'!$C$3,5,IF(Y223='Look-up Tables'!$C$4,4,IF(Y223='Look-up Tables'!$C$5,3,IF(Y223='Look-up Tables'!$C$6,2,IF(Y223='Look-up Tables'!$C$7,1)))))","v":false},{"$f":"IFERROR(VLOOKUP(AB223,'Look-up Tables'!$D$3:$E$127,2),\"\")","v":""},0]
[null,null,null,null,null,null,{"$f":"IF(F224='Look-up Tables'!$A$3,5,IF(F224='Look-up Tables'!$A$4,4,IF(F224='Look-up Tables'!$A$5,3,IF(F224='Look-up Tables'!$A$6,2,IF(F224='Look-up Tables'!$A$7,1)))))","v":false},null,null,{"$f":"IF(I224='Look-up Tables'!$B$3,5,IF(I224='Look-up Tables'!$B$4,4,IF(I224='Look-up Tables'!$B$5,3,IF(I224='Look-up Tables'!$B$6,2,IF(I224='Look-up Tables'!$B$7,1)))))","v":false},null,null,null,{"$f":"IF(M224='Look-up Tables'!$C$3,5,IF(M224='Look-up Tables'!$C$4,4,IF(M224='Look-up Tables'!$C$5,3,IF(M224='Look-up Tables'!$C$6,2,IF(M224='Look-up Tables'!$C$7,1)))))","v":false},{"$f":"IFERROR(VLOOKUP(P224,'Look-up Tables'!$D$3:$E$127,2),\"\")","v":""},0,null,null,null,null,null,{"$f":"IF(U224='Look-up Tables'!$A$3,5,IF(U224='Look-up Tables'!$A$4,4,IF(U224='Look-up Tables'!$A$5,3,IF(U224='Look-up Tables'!$A$6,2,IF(U224='Look-up Tables'!$A$7,1)))))","v":false},null,{"$f":"IF(W224='Look-up Tables'!$B$3,5,IF(W224='Look-up Tables'!$B$4,4,IF(W224='Look-up Tables'!$B$5,3,IF(W224='Look-up Tables'!$B$6,2,IF(W224='Look-up Tables'!$B$7,1)))))","v":false},null,{"$f":"IF(Y224='Look-up Tables'!$C$3,5,IF(Y224='Look-up Tables'!$C$4,4,IF(Y224='Look-up Tables'!$C$5,3,IF(Y224='Look-up Tables'!$C$6,2,IF(Y224='Look-up Tables'!$C$7,1)))))","v":false},{"$f":"IFERROR(VLOOKUP(AB224,'Look-up Tables'!$D$3:$E$127,2),\"\")","v":""},0]
[null,null,null,null,null,null,{"$f":"IF(F225='Look-up Tables'!$A$3,5,IF(F225='Look-up Tables'!$A$4,4,IF(F225='Look-up Tables'!$A$5,3,IF(F225='Look-up Tables'!$A$6,2,IF(F225='Look-up Tables'!$A$7,1)))))","v":false},null,null,{"$f":"IF(I225='Look-up Tables'!$B$3,5,IF(I225='Look-up Tables'!$B$4,4,IF(I225='Look-up Tables'!$B$5,3,IF(I225='Look-up Tables'!$B$6,2,IF(I225='Look-up Tables'!$B$7,1)))))","v":false},null,null,null,{"$f":"IF(M225='Look-up Tables'!$C$3,5,IF(M225='Look-up Tables'!$C$4,4,IF(M225='Look-up Tables'!$C$5,3,IF(M225='Look-up Tables'!$C$6,2,IF(M225='Look-up Tables'!$C$7,1)))))","v":false},{"$f":"IFERROR(VLOOKUP(P225,'Look-up Tables'!$D$3:$E$127,2),\"\")","v":""},0,null,null,null,null,null,{"$f":"IF(U225='Look-up Tables'!$A$3,5,IF(U225='Look-up Tables'!$A$4,4,IF(U225='Look-up Tables'!$A$5,3,IF(U225='Look-up Tables'!$A$6,2,IF(U225='Look-up Tables'!$A$7,1)))))","v":false},null,{"$f":"IF(W225='Look-up Tables'!$B$3,5,IF(W225='Look-up Tables'!$B$4,4,IF(W225='Look-up Tables'!$B$5,3,IF(W225='Look-up Tables'!$B$6,2,IF(W225='Look-up Tables'!$B$7,1)))))","v":false},null,{"$f":"IF(Y225='Look-up Tables'!$C$3,5,IF(Y225='Look-up Tables'!$C$4,4,IF(Y225='Look-up Tables'!$C$5,3,IF(Y225='Look-up Tables'!$C$6,2,IF(Y225='Look-up Tables'!$C$7,1)))))","v":false},{"$f":"IFERROR(VLOOKUP(AB225,'Look-up Tables'!$D$3:$E$127,2),\"\")","v":""},0]
[null,null,null,null,null,null,{"$f":"IF(F226='Look-up Tables'!$A$3,5,IF(F226='Look-up Tables'!$A$4,4,IF(F226='Look-up Tables'!$A$5,3,IF(F226='Look-up Tables'!$A$6,2,IF(F226='Look-up Tables'!$A$7,1)))))","v":false},null,null,{"$f":"IF(I226='Look-up Tables'!$B$3,5,IF(I226='Look-up Tables'!$B$4,4,IF(I226='Look-up Tables'!$B$5,3,IF(I226='Look-up Tables'!$B$6,2,IF(I226='Look-up Tables'!$B$7,1)))))","v":false},null,null,null,{"$f":"IF(M226='Look-up Tables'!$C$3,5,IF(M226='Look-up Tables'!$C$4,4,IF(M226='Look-up Tables'!$C$5,3,IF(M226='Look-up Tables'!$C$6,2,IF(M226='Look-up Tables'!$C$7,1)))))","v":false},{"$f":"IFERROR(VLOOKUP(P226,'Look-up Tables'!$D$3:$E$127,2),\"\")","v":""},0,null,null,null,null,null,{"$f":"IF(U226='Look-up Tables'!$A$3,5,IF(U226='Look-up Tables'!$A$4,4,IF(U226='Look-up Tables'!$A$5,3,IF(U226='Look-up Tables'!$A$6,2,IF(U226='Look-up Tables'!$A$7,1)))))","v":false},null,{"$f":"IF(W226='Look-up Tables'!$B$3,5,IF(W226='Look-up Tables'!$B$4,4,IF(W226='Look-up Tables'!$B$5,3,IF(W226='Look-up Tables'!$B$6,2,IF(W226='Look-up Tables'!$B$7,1)))))","v":false},null,{"$f":"IF(Y226='Look-up Tables'!$C$3,5,IF(Y226='Look-up Tables'!$C$4,4,IF(Y226='Look-up Tables'!$C$5,3,IF(Y226='Look-up Tables'!$C$6,2,IF(Y226='Look-up Tables'!$C$7,1)))))","v":false},{"$f":"IFERROR(VLOOKUP(AB226,'Look-up Tables'!$D$3:$E$127,2),\"\")","v":""},0]
[null,null,null,null,null,null,{"$f":"IF(F227='Look-up Tables'!$A$3,5,IF(F227='Look-up Tables'!$A$4,4,IF(F227='Look-up Tables'!$A$5,3,IF(F227='Look-up Tables'!$A$6,2,IF(F227='Look-up Tables'!$A$7,1)))))","v":false},null,null,{"$f":"IF(I227='Look-up Tables'!$B$3,5,IF(I227='Look-up Tables'!$B$4,4,IF(I227='Look-up Tables'!$B$5,3,IF(I227='Look-up Tables'!$B$6,2,IF(I227='Look-up Tables'!$B$7,1)))))","v":false},null,null,null,{"$f":"IF(M227='Look-up Tables'!$C$3,5,IF(M227='Look-up Tables'!$C$4,4,IF(M227='Look-up Tables'!$C$5,3,IF(M227='Look-up Tables'!$C$6,2,IF(M227='Look-up Tables'!$C$7,1)))))","v":false},{"$f":"IFERROR(VLOOKUP(P227,'Look-up Tables'!$D$3:$E$127,2),\"\")","v":""},0,null,null,null,null,null,{"$f":"IF(U227='Look-up Tables'!$A$3,5,IF(U227='Look-up Tables'!$A$4,4,IF(U227='Look-up Tables'!$A$5,3,IF(U227='Look-up Tables'!$A$6,2,IF(U227='Look-up Tables'!$A$7,1)))))","v":false},null,{"$f":"IF(W227='Look-up Tables'!$B$3,5,IF(W227='Look-up Tables'!$B$4,4,IF(W227='Look-up Tables'!$B$5,3,IF(W227='Look-up Tables'!$B$6,2,IF(W227='Look-up Tables'!$B$7,1)))))","v":false},null,{"$f":"IF(Y227='Look-up Tables'!$C$3,5,IF(Y227='Look-up Tables'!$C$4,4,IF(Y227='Look-up Tables'!$C$5,3,IF(Y227='Look-up Tables'!$C$6,2,IF(Y227='Look-up Tables'!$C$7,1)))))","v":false},{"$f":"IFERROR(VLOOKUP(AB227,'Look-up Tables'!$D$3:$E$127,2),\"\")","v":""},0]
[null,null,null,null,null,null,{"$f":"IF(F228='Look-up Tables'!$A$3,5,IF(F228='Look-up Tables'!$A$4,4,IF(F228='Look-up Tables'!$A$5,3,IF(F228='Look-up Tables'!$A$6,2,IF(F228='Look-up Tables'!$A$7,1)))))","v":false},null,null,{"$f":"IF(I228='Look-up Tables'!$B$3,5,IF(I228='Look-up Tables'!$B$4,4,IF(I228='Look-up Tables'!$B$5,3,IF(I228='Look-up Tables'!$B$6,2,IF(I228='Look-up Tables'!$B$7,1)))))","v":false},null,null,null,{"$f":"IF(M228='Look-up Tables'!$C$3,5,IF(M228='Look-up Tables'!$C$4,4,IF(M228='Look-up Tables'!$C$5,3,IF(M228='Look-up Tables'!$C$6,2,IF(M228='Look-up Tables'!$C$7,1)))))","v":false},{"$f":"IFERROR(VLOOKUP(P228,'Look-up Tables'!$D$3:$E$127,2),\"\")","v":""},0,null,null,null,null,null,{"$f":"IF(U228='Look-up Tables'!$A$3,5,IF(U228='Look-up Tables'!$A$4,4,IF(U228='Look-up Tables'!$A$5,3,IF(U228='Look-up Tables'!$A$6,2,IF(U228='Look-up Tables'!$A$7,1)))))","v":false},null,{"$f":"IF(W228='Look-up Tables'!$B$3,5,IF(W228='Look-up Tables'!$B$4,4,IF(W228='Look-up Tables'!$B$5,3,IF(W228='Look-up Tables'!$B$6,2,IF(W228='Look-up Tables'!$B$7,1)))))","v":false},null,{"$f":"IF(Y228='Look-up Tables'!$C$3,5,IF(Y228='Look-up Tables'!$C$4,4,IF(Y228='Look-up Tables'!$C$5,3,IF(Y228='Look-up Tables'!$C$6,2,IF(Y228='Look-up Tables'!$C$7,1)))))","v":false},{"$f":"IFERROR(VLOOKUP(AB228,'Look-up Tables'!$D$3:$E$127,2),\"\")","v":""},0]
[null,null,null,null,null,null,{"$f":"IF(F229='Look-up Tables'!$A$3,5,IF(F229='Look-up Tables'!$A$4,4,IF(F229='Look-up Tables'!$A$5,3,IF(F229='Look-up Tables'!$A$6,2,IF(F229='Look-up Tables'!$A$7,1)))))","v":false},null,null,{"$f":"IF(I229='Look-up Tables'!$B$3,5,IF(I229='Look-up Tables'!$B$4,4,IF(I229='Look-up Tables'!$B$5,3,IF(I229='Look-up Tables'!$B$6,2,IF(I229='Look-up Tables'!$B$7,1)))))","v":false},null,null,null,{"$f":"IF(M229='Look-up Tables'!$C$3,5,IF(M229='Look-up Tables'!$C$4,4,IF(M229='Look-up Tables'!$C$5,3,IF(M229='Look-up Tables'!$C$6,2,IF(M229='Look-up Tables'!$C$7,1)))))","v":false},{"$f":"IFERROR(VLOOKUP(P229,'Look-up Tables'!$D$3:$E$127,2),\"\")","v":""},0,null,null,null,null,null,{"$f":"IF(U229='Look-up Tables'!$A$3,5,IF(U229='Look-up Tables'!$A$4,4,IF(U229='Look-up Tables'!$A$5,3,IF(U229='Look-up Tables'!$A$6,2,IF(U229='Look-up Tables'!$A$7,1)))))","v":false},null,{"$f":"IF(W229='Look-up Tables'!$B$3,5,IF(W229='Look-up Tables'!$B$4,4,IF(W229='Look-up Tables'!$B$5,3,IF(W229='Look-up Tables'!$B$6,2,IF(W229='Look-up Tables'!$B$7,1)))))","v":false},null,{"$f":"IF(Y229='Look-up Tables'!$C$3,5,IF(Y229='Look-up Tables'!$C$4,4,IF(Y229='Look-up Tables'!$C$5,3,IF(Y229='Look-up Tables'!$C$6,2,IF(Y229='Look-up Tables'!$C$7,1)))))","v":false},{"$f":"IFERROR(VLOOKUP(AB229,'Look-up Tables'!$D$3:$E$127,2),\"\")","v":""},0]
[null,null,null,null,null,null,{"$f":"IF(F230='Look-up Tables'!$A$3,5,IF(F230='Look-up Tables'!$A$4,4,IF(F230='Look-up Tables'!$A$5,3,IF(F230='Look-up Tables'!$A$6,2,IF(F230='Look-up Tables'!$A$7,1)))))","v":false},null,null,{"$f":"IF(I230='Look-up Tables'!$B$3,5,IF(I230='Look-up Tables'!$B$4,4,IF(I230='Look-up Tables'!$B$5,3,IF(I230='Look-up Tables'!$B$6,2,IF(I230='Look-up Tables'!$B$7,1)))))","v":false},null,null,null,{"$f":"IF(M230='Look-up Tables'!$C$3,5,IF(M230='Look-up Tables'!$C$4,4,IF(M230='Look-up Tables'!$C$5,3,IF(M230='Look-up Tables'!$C$6,2,IF(M230='Look-up Tables'!$C$7,1)))))","v":false},{"$f":"IFERROR(VLOOKUP(P230,'Look-up Tables'!$D$3:$E$127,2),\"\")","v":""},0,null,null,null,null,null,{"$f":"IF(U230='Look-up Tables'!$A$3,5,IF(U230='Look-up Tables'!$A$4,4,IF(U230='Look-up Tables'!$A$5,3,IF(U230='Look-up Tables'!$A$6,2,IF(U230='Look-up Tables'!$A$7,1)))))","v":false},null,{"$f":"IF(W230='Look-up Tables'!$B$3,5,IF(W230='Look-up Tables'!$B$4,4,IF(W230='Look-up Tables'!$B$5,3,IF(W230='Look-up Tables'!$B$6,2,IF(W230='Look-up Tables'!$B$7,1)))))","v":false},null,{"$f":"IF(Y230='Look-up Tables'!$C$3,5,IF(Y230='Look-up Tables'!$C$4,4,IF(Y230='Look-up Tables'!$C$5,3,IF(Y230='Look-up Tables'!$C$6,2,IF(Y230='Look-up Tables'!$C$7,1)))))","v":false},{"$f":"IFERROR(VLOOKUP(AB230,'Look-up Tables'!$D$3:$E$127,2),\"\")","v":""},0]
[null,null,null,null,null,null,{"$f":"IF(F231='Look-up Tables'!$A$3,5,IF(F231='Look-up Tables'!$A$4,4,IF(F231='Look-up Tables'!$A$5,3,IF(F231='Look-up Tables'!$A$6,2,IF(F231='Look-up Tables'!$A$7,1)))))","v":false},null,null,{"$f":"IF(I231='Look-up Tables'!$B$3,5,IF(I231='Look-up Tables'!$B$4,4,IF(I231='Look-up Tables'!$B$5,3,IF(I231='Look-up Tables'!$B$6,2,IF(I231='Look-up Tables'!$B$7,1)))))","v":false},null,null,null,{"$f":"IF(M231='Look-up Tables'!$C$3,5,IF(M231='Look-up Tables'!$C$4,4,IF(M231='Look-up Tables'!$C$5,3,IF(M231='Look-up Tables'!$C$6,2,IF(M231='Look-up Tables'!$C$7,1)))))","v":false},{"$f":"IFERROR(VLOOKUP(P231,'Look-up Tables'!$D$3:$E$127,2),\"\")","v":""},0,null,null,null,null,null,{"$f":"IF(U231='Look-up Tables'!$A$3,5,IF(U231='Look-up Tables'!$A$4,4,IF(U231='Look-up Tables'!$A$5,3,IF(U231='Look-up Tables'!$A$6,2,IF(U231='Look-up Tables'!$A$7,1)))))","v":false},null,{"$f":"IF(W231='Look-up Tables'!$B$3,5,IF(W231='Look-up Tables'!$B$4,4,IF(W231='Look-up Tables'!$B$5,3,IF(W231='Look-up Tables'!$B$6,2,IF(W231='Look-up Tables'!$B$7,1)))))","v":false},null,{"$f":"IF(Y231='Look-up Tables'!$C$3,5,IF(Y231='Look-up Tables'!$C$4,4,IF(Y231='Look-up Tables'!$C$5,3,IF(Y231='Look-up Tables'!$C$6,2,IF(Y231='Look-up Tables'!$C$7,1)))))","v":false},{"$f":"IFERROR(VLOOKUP(AB231,'Look-up Tables'!$D$3:$E$127,2),\"\")","v":""},0]
[null,null,null,null,null,null,{"$f":"IF(F232='Look-up Tables'!$A$3,5,IF(F232='Look-up Tables'!$A$4,4,IF(F232='Look-up Tables'!$A$5,3,IF(F232='Look-up Tables'!$A$6,2,IF(F232='Look-up Tables'!$A$7,1)))))","v":false},null,null,{"$f":"IF(I232='Look-up Tables'!$B$3,5,IF(I232='Look-up Tables'!$B$4,4,IF(I232='Look-up Tables'!$B$5,3,IF(I232='Look-up Tables'!$B$6,2,IF(I232='Look-up Tables'!$B$7,1)))))","v":false},null,null,null,{"$f":"IF(M232='Look-up Tables'!$C$3,5,IF(M232='Look-up Tables'!$C$4,4,IF(M232='Look-up Tables'!$C$5,3,IF(M232='Look-up Tables'!$C$6,2,IF(M232='Look-up Tables'!$C$7,1)))))","v":false},{"$f":"IFERROR(VLOOKUP(P232,'Look-up Tables'!$D$3:$E$127,2),\"\")","v":""},0,null,null,null,null,null,{"$f":"IF(U232='Look-up Tables'!$A$3,5,IF(U232='Look-up Tables'!$A$4,4,IF(U232='Look-up Tables'!$A$5,3,IF(U232='Look-up Tables'!$A$6,2,IF(U232='Look-up Tables'!$A$7,1)))))","v":false},null,{"$f":"IF(W232='Look-up Tables'!$B$3,5,IF(W232='Look-up Tables'!$B$4,4,IF(W232='Look-up Tables'!$B$5,3,IF(W232='Look-up Tables'!$B$6,2,IF(W232='Look-up Tables'!$B$7,1)))))","v":false},null,{"$f":"IF(Y232='Look-up Tables'!$C$3,5,IF(Y232='Look-up Tables'!$C$4,4,IF(Y232='Look-up Tables'!$C$5,3,IF(Y232='Look-up Tables'!$C$6,2,IF(Y232='Look-up Tables'!$C$7,1)))))","v":false},{"$f":"IFERROR(VLOOKUP(AB232,'Look-up Tables'!$D$3:$E$127,2),\"\")","v":""},0]
[null,null,null,null,null,null,{"$f":"IF(F233='Look-up Tables'!$A$3,5,IF(F233='Look-up Tables'!$A$4,4,IF(F233='Look-up Tables'!$A$5,3,IF(F233='Look-up Tables'!$A$6,2,IF(F233='Look-up Tables'!$A$7,1)))))","v":false},null,null,{"$f":"IF(I233='Look-up Tables'!$B$3,5,IF(I233='Look-up Tables'!$B$4,4,IF(I233='Look-up Tables'!$B$5,3,IF(I233='Look-up Tables'!$B$6,2,IF(I233='Look-up Tables'!$B$7,1)))))","v":false},null,null,null,{"$f":"IF(M233='Look-up Tables'!$C$3,5,IF(M233='Look-up Tables'!$C$4,4,IF(M233='Look-up Tables'!$C$5,3,IF(M233='Look-up Tables'!$C$6,2,IF(M233='Look-up Tables'!$C$7,1)))))","v":false},{"$f":"IFERROR(VLOOKUP(P233,'Look-up Tables'!$D$3:$E$127,2),\"\")","v":""},0,null,null,null,null,null,{"$f":"IF(U233='Look-up Tables'!$A$3,5,IF(U233='Look-up Tables'!$A$4,4,IF(U233='Look-up Tables'!$A$5,3,IF(U233='Look-up Tables'!$A$6,2,IF(U233='Look-up Tables'!$A$7,1)))))","v":false},null,{"$f":"IF(W233='Look-up Tables'!$B$3,5,IF(W233='Look-up Tables'!$B$4,4,IF(W233='Look-up Tables'!$B$5,3,IF(W233='Look-up Tables'!$B$6,2,IF(W233='Look-up Tables'!$B$7,1)))))","v":false},null,{"$f":"IF(Y233='Look-up Tables'!$C$3,5,IF(Y233='Look-up Tables'!$C$4,4,IF(Y233='Look-up Tables'!$C$5,3,IF(Y233='Look-up Tables'!$C$6,2,IF(Y233='Look-up Tables'!$C$7,1)))))","v":false},{"$f":"IFERROR(VLOOKUP(AB233,'Look-up Tables'!$D$3:$E$127,2),\"\")","v":""},0]
[null,null,null,null,null,null,{"$f":"IF(F234='Look-up Tables'!$A$3,5,IF(F234='Look-up Tables'!$A$4,4,IF(F234='Look-up Tables'!$A$5,3,IF(F234='Look-up Tables'!$A$6,2,IF(F234='Look-up Tables'!$A$7,1)))))","v":false},null,null,{"$f":"IF(I234='Look-up Tables'!$B$3,5,IF(I234='Look-up Tables'!$B$4,4,IF(I234='Look-up Tables'!$B$5,3,IF(I234='Look-up Tables'!$B$6,2,IF(I234='Look-up Tables'!$B$7,1)))))","v":false},null,null,null,{"$f":"IF(M234='Look-up Tables'!$C$3,5,IF(M234='Look-up Tables'!$C$4,4,IF(M234='Look-up Tables'!$C$5,3,IF(M234='Look-up Tables'!$C$6,2,IF(M234='Look-up Tables'!$C$7,1)))))","v":false},{"$f":"IFERROR(VLOOKUP(P234,'Look-up Tables'!$D$3:$E$127,2),\"\")","v":""},0,null,null,null,null,null,{"$f":"IF(U234='Look-up Tables'!$A$3,5,IF(U234='Look-up Tables'!$A$4,4,IF(U234='Look-up Tables'!$A$5,3,IF(U234='Look-up Tables'!$A$6,2,IF(U234='Look-up Tables'!$A$7,1)))))","v":false},null,{"$f":"IF(W234='Look-up Tables'!$B$3,5,IF(W234='Look-up Tables'!$B$4,4,IF(W234='Look-up Tables'!$B$5,3,IF(W234='Look-up Tables'!$B$6,2,IF(W234='Look-up Tables'!$B$7,1)))))","v":false},null,{"$f":"IF(Y234='Look-up Tables'!$C$3,5,IF(Y234='Look-up Tables'!$C$4,4,IF(Y234='Look-up Tables'!$C$5,3,IF(Y234='Look-up Tables'!$C$6,2,IF(Y234='Look-up Tables'!$C$7,1)))))","v":false},{"$f":"IFERROR(VLOOKUP(AB234,'Look-up Tables'!$D$3:$E$127,2),\"\")","v":""},0]
[null,null,null,null,null,null,{"$f":"IF(F235='Look-up Tables'!$A$3,5,IF(F235='Look-up Tables'!$A$4,4,IF(F235='Look-up Tables'!$A$5,3,IF(F235='Look-up Tables'!$A$6,2,IF(F235='Look-up Tables'!$A$7,1)))))","v":false},null,null,{"$f":"IF(I235='Look-up Tables'!$B$3,5,IF(I235='Look-up Tables'!$B$4,4,IF(I235='Look-up Tables'!$B$5,3,IF(I235='Look-up Tables'!$B$6,2,IF(I235='Look-up Tables'!$B$7,1)))))","v":false},null,null,null,{"$f":"IF(M235='Look-up Tables'!$C$3,5,IF(M235='Look-up Tables'!$C$4,4,IF(M235='Look-up Tables'!$C$5,3,IF(M235='Look-up Tables'!$C$6,2,IF(M235='Look-up Tables'!$C$7,1)))))","v":false},{"$f":"IFERROR(VLOOKUP(P235,'Look-up Tables'!$D$3:$E$127,2),\"\")","v":""},0,null,null,null,null,null,{"$f":"IF(U235='Look-up Tables'!$A$3,5,IF(U235='Look-up Tables'!$A$4,4,IF(U235='Look-up Tables'!$A$5,3,IF(U235='Look-up Tables'!$A$6,2,IF(U235='Look-up Tables'!$A$7,1)))))","v":false},null,{"$f":"IF(W235='Look-up Tables'!$B$3,5,IF(W235='Look-up Tables'!$B$4,4,IF(W235='Look-up Tables'!$B$5,3,IF(W235='Look-up Tables'!$B$6,2,IF(W235='Look-up Tables'!$B$7,1)))))","v":false},null,{"$f":"IF(Y235='Look-up Tables'!$C$3,5,IF(Y235='Look-up Tables'!$C$4,4,IF(Y235='Look-up Tables'!$C$5,3,IF(Y235='Look-up Tables'!$C$6,2,IF(Y235='Look-up Tables'!$C$7,1)))))","v":false},{"$f":"IFERROR(VLOOKUP(AB235,'Look-up Tables'!$D$3:$E$127,2),\"\")","v":""},0]
[null,null,null,null,null,null,{"$f":"IF(F236='Look-up Tables'!$A$3,5,IF(F236='Look-up Tables'!$A$4,4,IF(F236='Look-up Tables'!$A$5,3,IF(F236='Look-up Tables'!$A$6,2,IF(F236='Look-up Tables'!$A$7,1)))))","v":false},null,null,{"$f":"IF(I236='Look-up Tables'!$B$3,5,IF(I236='Look-up Tables'!$B$4,4,IF(I236='Look-up Tables'!$B$5,3,IF(I236='Look-up Tables'!$B$6,2,IF(I236='Look-up Tables'!$B$7,1)))))","v":false},null,null,null,{"$f":"IF(M236='Look-up Tables'!$C$3,5,IF(M236='Look-up Tables'!$C$4,4,IF(M236='Look-up Tables'!$C$5,3,IF(M236='Look-up Tables'!$C$6,2,IF(M236='Look-up Tables'!$C$7,1)))))","v":false},{"$f":"IFERROR(VLOOKUP(P236,'Look-up Tables'!$D$3:$E$127,2),\"\")","v":""},0,null,null,null,null,null,{"$f":"IF(U236='Look-up Tables'!$A$3,5,IF(U236='Look-up Tables'!$A$4,4,IF(U236='Look-up Tables'!$A$5,3,IF(U236='Look-up Tables'!$A$6,2,IF(U236='Look-up Tables'!$A$7,1)))))","v":false},null,{"$f":"IF(W236='Look-up Tables'!$B$3,5,IF(W236='Look-up Tables'!$B$4,4,IF(W236='Look-up Tables'!$B$5,3,IF(W236='Look-up Tables'!$B$6,2,IF(W236='Look-up Tables'!$B$7,1)))))","v":false},null,{"$f":"IF(Y236='Look-up Tables'!$C$3,5,IF(Y236='Look-up Tables'!$C$4,4,IF(Y236='Look-up Tables'!$C$5,3,IF(Y236='Look-up Tables'!$C$6,2,IF(Y236='Look-up Tables'!$C$7,1)))))","v":false},{"$f":"IFERROR(VLOOKUP(AB236,'Look-up Tables'!$D$3:$E$127,2),\"\")","v":""},0]
[null,null,null,null,null,null,{"$f":"IF(F237='Look-up Tables'!$A$3,5,IF(F237='Look-up Tables'!$A$4,4,IF(F237='Look-up Tables'!$A$5,3,IF(F237='Look-up Tables'!$A$6,2,IF(F237='Look-up Tables'!$A$7,1)))))","v":false},null,null,{"$f":"IF(I237='Look-up Tables'!$B$3,5,IF(I237='Look-up Tables'!$B$4,4,IF(I237='Look-up Tables'!$B$5,3,IF(I237='Look-up Tables'!$B$6,2,IF(I237='Look-up Tables'!$B$7,1)))))","v":false},null,null,null,{"$f":"IF(M237='Look-up Tables'!$C$3,5,IF(M237='Look-up Tables'!$C$4,4,IF(M237='Look-up Tables'!$C$5,3,IF(M237='Look-up Tables'!$C$6,2,IF(M237='Look-up Tables'!$C$7,1)))))","v":false},{"$f":"IFERROR(VLOOKUP(P237,'Look-up Tables'!$D$3:$E$127,2),\"\")","v":""},0,null,null,null,null,null,{"$f":"IF(U237='Look-up Tables'!$A$3,5,IF(U237='Look-up Tables'!$A$4,4,IF(U237='Look-up Tables'!$A$5,3,IF(U237='Look-up Tables'!$A$6,2,IF(U237='Look-up Tables'!$A$7,1)))))","v":false},null,{"$f":"IF(W237='Look-up Tables'!$B$3,5,IF(W237='Look-up Tables'!$B$4,4,IF(W237='Look-up Tables'!$B$5,3,IF(W237='Look-up Tables'!$B$6,2,IF(W237='Look-up Tables'!$B$7,1)))))","v":false},null,{"$f":"IF(Y237='Look-up Tables'!$C$3,5,IF(Y237='Look-up Tables'!$C$4,4,IF(Y237='Look-up Tables'!$C$5,3,IF(Y237='Look-up Tables'!$C$6,2,IF(Y237='Look-up Tables'!$C$7,1)))))","v":false},{"$f":"IFERROR(VLOOKUP(AB237,'Look-up Tables'!$D$3:$E$127,2),\"\")","v":""},0]
[null,null,null,null,null,null,{"$f":"IF(F238='Look-up Tables'!$A$3,5,IF(F238='Look-up Tables'!$A$4,4,IF(F238='Look-up Tables'!$A$5,3,IF(F238='Look-up Tables'!$A$6,2,IF(F238='Look-up Tables'!$A$7,1)))))","v":false},null,null,{"$f":"IF(I238='Look-up Tables'!$B$3,5,IF(I238='Look-up Tables'!$B$4,4,IF(I238='Look-up Tables'!$B$5,3,IF(I238='Look-up Tables'!$B$6,2,IF(I238='Look-up Tables'!$B$7,1)))))","v":false},null,null,null,{"$f":"IF(M238='Look-up Tables'!$C$3,5,IF(M238='Look-up Tables'!$C$4,4,IF(M238='Look-up Tables'!$C$5,3,IF(M238='Look-up Tables'!$C$6,2,IF(M238='Look-up Tables'!$C$7,1)))))","v":false},{"$f":"IFERROR(VLOOKUP(P238,'Look-up Tables'!$D$3:$E$127,2),\"\")","v":""},0,null,null,null,null,null,{"$f":"IF(U238='Look-up Tables'!$A$3,5,IF(U238='Look-up Tables'!$A$4,4,IF(U238='Look-up Tables'!$A$5,3,IF(U238='Look-up Tables'!$A$6,2,IF(U238='Look-up Tables'!$A$7,1)))))","v":false},null,{"$f":"IF(W238='Look-up Tables'!$B$3,5,IF(W238='Look-up Tables'!$B$4,4,IF(W238='Look-up Tables'!$B$5,3,IF(W238='Look-up Tables'!$B$6,2,IF(W238='Look-up Tables'!$B$7,1)))))","v":false},null,{"$f":"IF(Y238='Look-up Tables'!$C$3,5,IF(Y238='Look-up Tables'!$C$4,4,IF(Y238='Look-up Tables'!$C$5,3,IF(Y238='Look-up Tables'!$C$6,2,IF(Y238='Look-up Tables'!$C$7,1)))))","v":false},{"$f":"IFERROR(VLOOKUP(AB238,'Look-up Tables'!$D$3:$E$127,2),\"\")","v":""},0]
[null,null,null,null,null,null,{"$f":"IF(F239='Look-up Tables'!$A$3,5,IF(F239='Look-up Tables'!$A$4,4,IF(F239='Look-up Tables'!$A$5,3,IF(F239='Look-up Tables'!$A$6,2,IF(F239='Look-up Tables'!$A$7,1)))))","v":false},null,null,{"$f":"IF(I239='Look-up Tables'!$B$3,5,IF(I239='Look-up Tables'!$B$4,4,IF(I239='Look-up Tables'!$B$5,3,IF(I239='Look-up Tables'!$B$6,2,IF(I239='Look-up Tables'!$B$7,1)))))","v":false},null,null,null,{"$f":"IF(M239='Look-up Tables'!$C$3,5,IF(M239='Look-up Tables'!$C$4,4,IF(M239='Look-up Tables'!$C$5,3,IF(M239='Look-up Tables'!$C$6,2,IF(M239='Look-up Tables'!$C$7,1)))))","v":false},{"$f":"IFERROR(VLOOKUP(P239,'Look-up Tables'!$D$3:$E$127,2),\"\")","v":""},0,null,null,null,null,null,{"$f":"IF(U239='Look-up Tables'!$A$3,5,IF(U239='Look-up Tables'!$A$4,4,IF(U239='Look-up Tables'!$A$5,3,IF(U239='Look-up Tables'!$A$6,2,IF(U239='Look-up Tables'!$A$7,1)))))","v":false},null,{"$f":"IF(W239='Look-up Tables'!$B$3,5,IF(W239='Look-up Tables'!$B$4,4,IF(W239='Look-up Tables'!$B$5,3,IF(W239='Look-up Tables'!$B$6,2,IF(W239='Look-up Tables'!$B$7,1)))))","v":false},null,{"$f":"IF(Y239='Look-up Tables'!$C$3,5,IF(Y239='Look-up Tables'!$C$4,4,IF(Y239='Look-up Tables'!$C$5,3,IF(Y239='Look-up Tables'!$C$6,2,IF(Y239='Look-up Tables'!$C$7,1)))))","v":false},{"$f":"IFERROR(VLOOKUP(AB239,'Look-up Tables'!$D$3:$E$127,2),\"\")","v":""},0]
[null,null,null,null,null,null,{"$f":"IF(F240='Look-up Tables'!$A$3,5,IF(F240='Look-up Tables'!$A$4,4,IF(F240='Look-up Tables'!$A$5,3,IF(F240='Look-up Tables'!$A$6,2,IF(F240='Look-up Tables'!$A$7,1)))))","v":false},null,null,{"$f":"IF(I240='Look-up Tables'!$B$3,5,IF(I240='Look-up Tables'!$B$4,4,IF(I240='Look-up Tables'!$B$5,3,IF(I240='Look-up Tables'!$B$6,2,IF(I240='Look-up Tables'!$B$7,1)))))","v":false},null,null,null,{"$f":"IF(M240='Look-up Tables'!$C$3,5,IF(M240='Look-up Tables'!$C$4,4,IF(M240='Look-up Tables'!$C$5,3,IF(M240='Look-up Tables'!$C$6,2,IF(M240='Look-up Tables'!$C$7,1)))))","v":false},{"$f":"IFERROR(VLOOKUP(P240,'Look-up Tables'!$D$3:$E$127,2),\"\")","v":""},0,null,null,null,null,null,{"$f":"IF(U240='Look-up Tables'!$A$3,5,IF(U240='Look-up Tables'!$A$4,4,IF(U240='Look-up Tables'!$A$5,3,IF(U240='Look-up Tables'!$A$6,2,IF(U240='Look-up Tables'!$A$7,1)))))","v":false},null,{"$f":"IF(W240='Look-up Tables'!$B$3,5,IF(W240='Look-up Tables'!$B$4,4,IF(W240='Look-up Tables'!$B$5,3,IF(W240='Look-up Tables'!$B$6,2,IF(W240='Look-up Tables'!$B$7,1)))))","v":false},null,{"$f":"IF(Y240='Look-up Tables'!$C$3,5,IF(Y240='Look-up Tables'!$C$4,4,IF(Y240='Look-up Tables'!$C$5,3,IF(Y240='Look-up Tables'!$C$6,2,IF(Y240='Look-up Tables'!$C$7,1)))))","v":false},{"$f":"IFERROR(VLOOKUP(AB240,'Look-up Tables'!$D$3:$E$127,2),\"\")","v":""},0]

{"sheet":"Severity Matrix","index":3,"n_rows":10,"n_cols":7,"rows_kept":10,"cut":false,"hidden":false,"merged":[[2,1,2,6]]}
[null,null,null,null,"Fermilab QAM 12030TA Table 1"]
[]
[null,"HAZARD SEVERITY"]
[null,"SEVERITY","PEOPLE","ENVIRONMENT","COMPLIANCE","PROPERTY","PROCESS/PROJECT"]
[null,"CRITICAL","Multiple deaths from injury or illness; multiple cases of injuries involving permanent disability; or chronic irreversible illnesses.","Permanent loss of a public resource (e.g. drinking water, air, stream, or river).","Willful disregard for the rules and regulations.","Loss of multiple facilities or program components; (>$5,000,000 total cost*)","Total breakdown identified resulting in loss/shut down of a process or project."]
[null,"HIGH","One death from injury or illness; one case of injury involving permanent disability; or chronic irreversible illnesses.","Long-term loss of a public resource (e.g., drinking water, air, stream, or river).","Major noncompliance that exposes the Lab to significant potential fines and penalties.","Loss of a facility or critical program component; (>$5,000,000 total cost*)","Major breakdown identified resulting in the failure to attain the budget, schedule, key performance indicators or customer expectations."]
[null,"MEDIUM","Injuries or temporary, reversible illnesses resulting in hospitalization of a variable but limited period of disability.","Seriously impair the functioning of a public resource.","Significant noncompliance that requires reporting to DOE or other authorities.","Major property damage or critical program component; \n($1,000,000 - $5,000,000 total cost*)","Significant compromise to the attainment of the budget, schedule, key performance indicators or customer expectations which exposes process/project to potential failure if gap cannot be immediately resolved."]
[null,"LOW","Injuries or temporary, reversible illnesses not resulting in hospitalization with lost time.","Isolated and minor, but measurable, impact(s) on some component(s) of a public resource.","Programmatic noncompliance with the Lab's Work Smart set.","Minor property damage or critical program component; \n($50,000 - $1,000,000 total cost*)","Minor breakdown or gap identified which does not result in significant compromise to the attainment of the budget, schedule, key performance indicators or customer expectations; gaps can be resolved."]
[null,"MINIMAL","Injuries or temporary illnesses requiring only minor supportive treatment and no lost time.","No measurable impact on component(s) of a public resource","Specific instance of a noncompliance with the Lab's Work Smart set.","Standard property damage or critical program component; (<$50,000 total cost*)","Minor gaps identified which do not compromise the attainment of the budget, schedule, key performance indicators or customer expectations; gaps can easily be resolved. "]
[null,null,null,null,null,"* total cost = total dollar value including parts, labor, contingency plans, etc. that is necessary to repair/replace property or program component."]

{"sheet":"Probability Matrix","index":4,"n_rows":9,"n_cols":3,"rows_kept":9,"cut":false,"hidden":false,"merged":[[8,2,8,3],[2,1,2,3],[3,2,3,3],[4,2,4,3],[5,2,5,3],[6,2,6,3],[7,2,7,3]]}
[null,null,"Fermilab QAM 12030TA Table 2"]
[]
[null,"MISHAP PROBABILITY TABLE"]
[null,"PROBABILITY","DESCRIPTION"]
[null,"Almost Certain","Could occur annually"]
[null,"Likely","Could occur once in two years"]
[null,"Possible","Occurring not more than once in ten years"]
[null,"Unlikely","Occurring not more than once in thirty years"]
[null,"Rare","Occurring not more than once in one hundred years."]

{"sheet":"Detection Matrix","index":5,"n_rows":8,"n_cols":9,"rows_kept":8,"cut":false,"hidden":false,"merged":[[1,1,1,2],[1,4,1,5],[1,7,1,8]]}
[]
[null,"Process FMEA Detection Guidance",null,null,"Design FMEA Detection Guidance",null,null,"External FMEA Detection Guidance"]
[null,"Likelihood of Detection","Criteria",null,"Likelihood of Detection","Criteria",null,"Likelihood of Detection","Criteria"]
[null,"Almost Impossible","No current process control, cannot detect.",null,"Absolute Uncertainty","No current design control, cannot detect or is not analyzed.",null,"Absolute Uncertainty","No current methods of detection, cannot detect. "]
[null,"Low","Failure mode detected by an individual through the use of visual/tactile/audible means. ",null,"Low","Design verification after final design with pass/ fail testing (system or sub-system testing with acceptance criteria), test to failure testing (system or sub-system testing until failure occurs), or degradation testing (system or sub-system testing after durability test, e.g., function check). ",null,"Low","Failure mode is detected by an individual through visual/tactile/audible means. "]
[null,"Moderate","Failure mode detected by an individual throuh the use of variable or attribute gauging (calipers, go/no-go, multimeter, torque wrench, etc.)",null,"Moderate","Design validation prior to final design using pass/fail testing (acceptance criteria for performance, function checks, etc.), test to failure testing (until leaks, yields, cracks, etc.), or degradation testing (data trends, before/after values, etc.)",null,"Moderate","Failure mode is detected by an individual through technological aids (e.g. smoke detector)"]
[null,"High","Failure mode detected by automated controls.",null,"High","Design analysis/detection controls have strong detection capability.  Virtual Analysis (e.g. CAE, FEA, etc.) is highly correlated with actual and/or expected operating conditions. ",null,"High","Fialure mode is detected by automated controls. "]
[null,"Almost Certain","Failure mode is prevented as a result of design.  Failure mode will not occur as it has been error-proofed by process/product design. ",null,"Almost Certain","Failure mode cannot occur because it is fully prevented through design solutions (e.g. proven design standard, best practice, etc.)",null,"Almost Certain","Failure mode is detected by automated controls and actions are automatically put into place to remediate (e.g. generator turns on during power outage). "]

{"sheet":"Risk Assessment Actions","index":6,"n_rows":17,"n_cols":18,"rows_kept":17,"cut":false,"hidden":false,"merged":[[0,1,0,2],[1,1,1,3]]}
[null,"Fermilab QAM 12030"]
[null,"Risk Assessment Codes and Actions"]
[null,"Risk Assessment Code","Adjective Rating","Action"]
[null,1,"Critical","Unacceptable. Operation not permissible.  Immediate action necessary."]
[null,2,"Serious","Mitagation action(s) to be given a high priority."]
[null,3,"Moderate","Mitagation action(s) to be taken at an appropriate time. Can be considered an acceptable risk."]
[null,4,"Minor","Mitagation action(s) discretionary. "]
[null,5,"Negligible","No action necessary."]
[]
[]
[]
[]
[]
[]
[]
[]
[null,null,null,null,null,null,null,null,null,null,null,null,null,null,null,null,null,";"]

{"sheet":"Look-up Tables","index":7,"n_rows":127,"n_cols":11,"rows_kept":127,"cut":false,"hidden":false,"merged":[[0,3,0,4],[1,3,1,4]]}
["Severity","Probability"," Detection","Risk (RPN)",null,null,"SRF & Cryo","Accelerator Systems","Accelerator Complex Upgrades","Linac Installation & Commissioning","Conventional Facilities"]
[null,null,null,null,null,null,"Half-wave Cryomodule","MPS","Transfer Line/Beam absorber","WFE","Site Preparation"]
["Critical","Almost Certain","Almost Impossible",1,"Negligible",null,"SSR Cryomodules","HPRF, RF distribution","Beam Transfer Line Installation","Test Infrastructure","Cryoplant Building"]
["High","Likely","Low",2,"Negligible",null,"650 MHz Cryomodules","LLRF","Booster","Building Infrastructure","Utiliity Plant Building"]
["Medium","Possible","Moderate",3,"Negligible",null,"Cryogenic Plant","Magnets/PS","MI/RR","Linac Installation","Linac Complex"]
["Low","Unlikely","High",4,"Negligible",null,"Cryogenic Distribution","Vacuum",null,"Beam Commissioning","Booster Connection"]
["Minimal","Rare","Almost Certain",5,"Negligible",null,null,"Controls",null,"Accelerator Physics"]
[null,null,null,6,"Negligible",null,null,"Safety Systems"]
[null,null,null,7,"Negligible",null,null,"Instrumentation"]
[null,null,null,8,"Minor"]
[null,null,null,9,"Minor"]
[null,null,null,10,"Minor"]
[null,null,null,11,"Minor"]
[null,null,null,12,"Minor"]
[null,null,null,13,"Minor"]
[null,null,null,14,"Minor"]
[null,null,null,15,"Minor"]
[null,null,null,16,"Minor"]
[null,null,null,17,"Minor"]
[null,null,null,18,"Minor"]
[null,null,null,19,"Minor"]
[null,null,null,20,"Minor"]
[null,null,null,21,"Minor"]
[null,null,null,22,"Minor"]
[null,null,null,23,"Minor"]
[null,null,null,24,"Minor"]
[null,null,null,25,"Minor"]
[null,null,null,26,"Minor"]
[null,null,null,27,"Moderate"]
[null,null,null,28,"Moderate"]
[null,null,null,29,"Moderate"]
[null,null,null,30,"Moderate"]
[null,null,null,31,"Moderate"]
[null,null,null,32,"Moderate"]
[null,null,null,33,"Moderate"]
[null,null,null,34,"Moderate"]
[null,null,null,35,"Moderate"]
[null,null,null,36,"Moderate"]
[null,null,null,37,"Moderate"]
[null,null,null,38,"Moderate"]
[null,null,null,39,"Moderate"]
[null,null,null,40,"Moderate"]
[null,null,null,41,"Moderate"]
[null,null,null,42,"Moderate"]
[null,null,null,43,"Moderate"]
[null,null,null,44,"Moderate"]
[null,null,null,45,"Moderate"]
[null,null,null,46,"Moderate"]
[null,null,null,47,"Moderate"]
[null,null,null,48,"Moderate"]
[null,null,null,49,"Moderate"]
[null,null,null,50,"Moderate"]
[null,null,null,51,"Moderate"]
[null,null,null,52,"Moderate"]
[null,null,null,53,"Moderate"]
[null,null,null,54,"Moderate"]
[null,null,null,55,"Moderate"]
[null,null,null,56,"Moderate"]
[null,null,null,57,"Moderate"]
[null,null,null,58,"Moderate"]
[null,null,null,59,"Moderate"]
[null,null,null,60,"Moderate"]
[null,null,null,61,"Moderate"]
[null,null,null,62,"Moderate"]
[null,null,null,63,"Moderate"]
[null,null,null,64,"Serious"]
[null,null,null,65,"Serious"]
[null,null,null,66,"Serious"]
[null,null,null,67,"Serious"]
[null,null,null,68,"Serious"]
[null,null,null,69,"Serious"]
[null,null,null,70,"Serious"]
[null,null,null,71,"Serious"]
[null,null,null,72,"Serious"]
[null,null,null,73,"Serious"]
[null,null,null,74,"Serious"]
[null,null,null,75,"Serious"]
[null,null,null,76,"Serious"]
[null,null,null,77,"Serious"]
[null,null,null,78,"Serious"]
[null,null,null,79,"Serious"]
[null,null,null,80,"Serious"]
[null,null,null,81,"Serious"]
[null,null,null,82,"Serious"]
[null,null,null,83,"Serious"]
[null,null,null,84,"Serious"]
[null,null,null,85,"Serious"]
[null,null,null,86,"Serious"]
[null,null,null,87,"Serious"]
[null,null,null,88,"Serious"]
[null,null,null,89,"Serious"]
[null,null,null,90,"Serious"]
[null,null,null,91,"Serious"]
[null,null,null,92,"Serious"]
[null,null,null,93,"Serious"]
[null,null,null,94,"Serious"]
[null,null,null,95,"Serious"]
[null,null,null,96,"Serious"]
[null,null,null,97,"Serious"]
[null,null,null,98,"Serious"]
[null,null,null,99,"Serious"]
[null,null,null,100,"Critical"]
[null,null,null,101,"Critical"]
[null,null,null,102,"Critical"]
[null,null,null,103,"Critical"]
[null,null,null,104,"Critical"]
[null,null,null,105,"Critical"]
[null,null,null,106,"Critical"]
[null,null,null,107,"Critical"]
[null,null,null,108,"Critical"]
[null,null,null,109,"Critical"]
[null,null,null,110,"Critical"]
[null,null,null,111,"Critical"]
[null,null,null,112,"Critical"]
[null,null,null,113,"Critical"]
[null,null,null,114,"Critical"]
[null,null,null,115,"Critical"]
[null,null,null,116,"Critical"]
[null,null,null,117,"Critical"]
[null,null,null,118,"Critical"]
[null,null,null,119,"Critical"]
[null,null,null,120,"Critical"]
[null,null,null,121,"Critical"]
[null,null,null,122,"Critical"]
[null,null,null,123,"Critical"]
[null,null,null,124,"Critical"]
[null,null,null,125,"Critical"]